{"text_format":"1","workbook":"xlsx","n_sheets":3,"sheets":["Report","info","pqidat"],"not_rendered":{"charts":0,"images":0,"macros":1,"external_links":0,"defined_names":6,"comments":0,"pivot_tables":0},"unopened":[],"bounds":{"document_bytes":16777216,"sheet_cells":100000,"rows_first":2000,"rows_last":500,"rows_between":2000,"halvings":0,"cell_chars":16384,"cell_head_chars":4096},"cells_cut":0,"cells_raw":0,"read":"whole","date_system":"1900"}

{"sheet":"Report","index":0,"n_rows":501,"n_cols":80,"rows_kept":501,"cut":false,"hidden":false,"merged":[[7,2,7,3],[1,0,1,9],[3,2,3,3],[4,2,4,3],[5,2,5,3],[6,2,6,3]]}
["Test No:",{"$f":"info!A2","v":0},{"$f":"info!B2","v":0},null,{"$f":"info!C2","v":0},{"$f":"info!D2","v":0},{"$f":"info!E2","v":0},{"$f":"info!F2","v":0},{"$f":"info!G2","v":0},{"$f":"info!H2","v":0},{"$f":"info!I2","v":0},{"$f":"info!J2","v":0},{"$f":"info!K2","v":0},{"$f":"info!L2","v":0},{"$f":"info!M2","v":0},{"$f":"info!N2","v":0},{"$f":"info!O2","v":0},{"$f":"info!P2","v":0},{"$f":"info!Q2","v":"Pass/Fail"},{"$f":"info!R2","v":0},{"$f":"info!S2","v":0},{"$f":"info!T2","v":0},{"$f":"info!U2","v":0},{"$f":"info!V2","v":0},{"$f":"pqidat!W4","v":0},{"$f":"pqidat!X4","v":0},{"$f":"pqidat!Y4","v":0},{"$f":"pqidat!Z4","v":0},{"$f":"pqidat!AA4","v":0},{"$f":"pqidat!AB4","v":0},{"$f":"pqidat!AC4","v":0},{"$f":"pqidat!AD4","v":0},{"$f":"pqidat!AE4","v":0},{"$f":"pqidat!AF4","v":0},{"$f":"pqidat!AG4","v":0},{"$f":"pqidat!AH4","v":0},{"$f":"pqidat!AI4","v":0},{"$f":"pqidat!AJ4","v":0},{"$f":"pqidat!AK4","v":0},{"$f":"pqidat!AL4","v":0},{"$f":"pqidat!AM4","v":0},{"$f":"pqidat!AN4","v":0},{"$f":"pqidat!AO4","v":0},{"$f":"pqidat!AP4","v":0},{"$f":"pqidat!AQ4","v":0},{"$f":"pqidat!AR4","v":0},{"$f":"pqidat!AS4","v":0},{"$f":"pqidat!AT4","v":0},{"$f":"pqidat!AU4","v":0},{"$f":"pqidat!AV4","v":0},{"$f":"pqidat!AW4","v":0},{"$f":"pqidat!AX4","v":0},{"$f":"pqidat!AY4","v":0},{"$f":"pqidat!AZ4","v":0},{"$f":"pqidat!BA4","v":0},{"$f":"pqidat!BB4","v":0},{"$f":"pqidat!BC4","v":0},{"$f":"pqidat!BD4","v":0},{"$f":"pqidat!BE4","v":0},{"$f":"pqidat!BF4","v":0},{"$f":"pqidat!BG4","v":0},{"$f":"pqidat!BH4","v":0},{"$f":"pqidat!BI4","v":0},{"$f":"pqidat!BJ4","v":0},{"$f":"pqidat!BK4","v":0},{"$f":"pqidat!BL4","v":0},{"$f":"pqidat!BM4","v":0},{"$f":"pqidat!BN4","v":0},{"$f":"pqidat!BO4","v":0},{"$f":"pqidat!BP4","v":0},{"$f":"pqidat!BQ4","v":0},{"$f":"pqidat!BR4","v":0},{"$f":"pqidat!BS4","v":0},{"$f":"pqidat!BT4","v":0},{"$f":"pqidat!BU4","v":0},{"$f":"pqidat!BV4","v":0},{"$f":"pqidat!BW4","v":0},{"$f":"pqidat!BX4","v":0},{"$f":"pqidat!BY4","v":0},{"$f":"pqidat!BZ4","v":0}]
["Protokoll Asphaltdichtemessung mit PQI 380"]
[]
[null,"Projekt:",{"$f":"HLOOKUP(\"Projekt\",pqidat!A$4:BZ$1000,2,FALSE)","v":{"$error":"#N/A"}},null,null,null,null,null,"Datum:","2024-08-12"]
[null,"Kunde:","Eigenkontrolle",null,null,null,null,null,"Proj Nr.:"]
[null,"Baustelle:","B999",null,null,null,null,null,"Report Nr.:"]
[null,"Einbauer:","Musterfirma",null,null,null,null,null,"Wetter:"]
[null,"Bediener:","Müller",null,null,null,null,null,"Dichte Vorgabe:",0.98]
[]
[null,"Test No:","Asphaltsorte","Standort","Station","Dichte [kg/m³]","Verdichtung [%]","Temp. Oberfläche [°C]","GPS Standort","Korrektur  [kg/m³]"]
["1",{"$f":"IF(ISBLANK(HLOOKUP(\"Raumdichte\",pqidat!$A$4:$BZ$500,$A11+1,FALSE)),\"\",A11)","v":"1"},{"$f":"HLOOKUP(\"Asphaltsorte\",pqidat!A$4:BZ$1000,$A11+1,FALSE)","v":{"$error":"#N/A"}},{"$f":"HLOOKUP(\"Standort\",pqidat!A$4:BZ$1000,$A11+1,FALSE)&\" \"&INDEX(pqidat!$A$1:$Z$1000,A11+4,MATCH(\"Standort\",pqidat!$A$4:$Z$4,0)+1)","v":{"$error":"#N/A"}},{"$f":"HLOOKUP(\"Station\",pqidat!A$4:BZ$1000,$A11+1,FALSE)","v":{"$error":"#N/A"}},{"$f":"HLOOKUP(\"Dichte\",pqidat!A$4:BZ$1000,$A11+1,FALSE)","v":{"$error":"#N/A"}},{"$f":"HLOOKUP(\"Verdichtung\",pqidat!A$4:BZ$1000,$A11+1,FALSE)","v":{"$error":"#N/A"}},{"$f":"HLOOKUP(\"Temp. OberflÃ¤che\",pqidat!A$4:BZ$1000,$A11+1,FALSE)","v":{"$error":"#N/A"}},{"$f":"HLOOKUP(\"GPS\",pqidat!A$4:BZ$1000,$A11+1,FALSE)","v":{"$error":"#N/A"}},{"$f":"HLOOKUP(\"Korrektur\",pqidat!A$4:BZ$1000,$A11+1,FALSE)","v":{"$error":"#N/A"}}]
["2",{"$f":"IF(ISBLANK(HLOOKUP(\"Raumdichte\",pqidat!$A$4:$BZ$500,$A12+1,FALSE)),\"\",A12)","v":"2"},{"$f":"HLOOKUP(\"Asphaltsorte\",pqidat!A$4:BZ$1000,$A12+1,FALSE)","v":{"$error":"#N/A"}},{"$f":"HLOOKUP(\"Standort\",pqidat!A$4:BZ$1000,$A12+1,FALSE)&\" \"&INDEX(pqidat!$A$1:$Z$1000,A12+4,MATCH(\"Standort\",pqidat!$A$4:$Z$4,0)+1)","v":{"$error":"#N/A"}},{"$f":"HLOOKUP(\"Station\",pqidat!A$4:BZ$1000,$A12+1,FALSE)","v":{"$error":"#N/A"}},{"$f":"HLOOKUP(\"Dichte\",pqidat!A$4:BZ$1000,$A12+1,FALSE)","v":{"$error":"#N/A"}},{"$f":"HLOOKUP(\"Verdichtung\",pqidat!A$4:BZ$1000,$A12+1,FALSE)","v":{"$error":"#N/A"}},{"$f":"HLOOKUP(\"Temp. OberflÃ¤che\",pqidat!A$4:BZ$1000,$A12+1,FALSE)","v":{"$error":"#N/A"}},{"$f":"HLOOKUP(\"GPS\",pqidat!A$4:BZ$1000,$A12+1,FALSE)","v":{"$error":"#N/A"}},{"$f":"HLOOKUP(\"Korrektur\",pqidat!A$4:BZ$1000,$A12+1,FALSE)","v":{"$error":"#N/A"}}]
["3",{"$f":"IF(ISBLANK(HLOOKUP(\"Raumdichte\",pqidat!$A$4:$BZ$500,$A13+1,FALSE)),\"\",A13)","v":"3"},{"$f":"HLOOKUP(\"Asphaltsorte\",pqidat!A$4:BZ$1000,$A13+1,FALSE)","v":{"$error":"#N/A"}},{"$f":"HLOOKUP(\"Standort\",pqidat!A$4:BZ$1000,$A13+1,FALSE)&\" \"&INDEX(pqidat!$A$1:$Z$1000,A13+4,MATCH(\"Standort\",pqidat!$A$4:$Z$4,0)+1)","v":{"$error":"#N/A"}},{"$f":"HLOOKUP(\"Station\",pqidat!A$4:BZ$1000,$A13+1,FALSE)","v":{"$error":"#N/A"}},{"$f":"HLOOKUP(\"Dichte\",pqidat!A$4:BZ$1000,$A13+1,FALSE)","v":{"$error":"#N/A"}},{"$f":"HLOOKUP(\"Verdichtung\",pqidat!A$4:BZ$1000,$A13+1,FALSE)","v":{"$error":"#N/A"}},{"$f":"HLOOKUP(\"Temp. OberflÃ¤che\",pqidat!A$4:BZ$1000,$A13+1,FALSE)","v":{"$error":"#N/A"}},{"$f":"HLOOKUP(\"GPS\",pqidat!A$4:BZ$1000,$A13+1,FALSE)","v":{"$error":"#N/A"}},{"$f":"HLOOKUP(\"Korrektur\",pqidat!A$4:BZ$1000,$A13+1,FALSE)","v":{"$error":"#N/A"}}]
["4",{"$f":"IF(ISBLANK(HLOOKUP(\"Raumdichte\",pqidat!$A$4:$BZ$500,$A14+1,FALSE)),\"\",A14)","v":"4"},{"$f":"HLOOKUP(\"Asphaltsorte\",pqidat!A$4:BZ$1000,$A14+1,FALSE)","v":{"$error":"#N/A"}},{"$f":"HLOOKUP(\"Standort\",pqidat!A$4:BZ$1000,$A14+1,FALSE)&\" \"&INDEX(pqidat!$A$1:$Z$1000,A14+4,MATCH(\"Standort\",pqidat!$A$4:$Z$4,0)+1)","v":{"$error":"#N/A"}},{"$f":"HLOOKUP(\"Station\",pqidat!A$4:BZ$1000,$A14+1,FALSE)","v":{"$error":"#N/A"}},{"$f":"HLOOKUP(\"Dichte\",pqidat!A$4:BZ$1000,$A14+1,FALSE)","v":{"$error":"#N/A"}},{"$f":"HLOOKUP(\"Verdichtung\",pqidat!A$4:BZ$1000,$A14+1,FALSE)","v":{"$error":"#N/A"}},{"$f":"HLOOKUP(\"Temp. OberflÃ¤che\",pqidat!A$4:BZ$1000,$A14+1,FALSE)","v":{"$error":"#N/A"}},{"$f":"HLOOKUP(\"GPS\",pqidat!A$4:BZ$1000,$A14+1,FALSE)","v":{"$error":"#N/A"}},{"$f":"HLOOKUP(\"Korrektur\",pqidat!A$4:BZ$1000,$A14+1,FALSE)","v":{"$error":"#N/A"}}]
["5",{"$f":"IF(ISBLANK(HLOOKUP(\"Raumdichte\",pqidat!$A$4:$BZ$500,$A15+1,FALSE)),\"\",A15)","v":"5"},{"$f":"HLOOKUP(\"Asphaltsorte\",pqidat!A$4:BZ$1000,$A15+1,FALSE)","v":{"$error":"#N/A"}},{"$f":"HLOOKUP(\"Standort\",pqidat!A$4:BZ$1000,$A15+1,FALSE)&\" \"&INDEX(pqidat!$A$1:$Z$1000,A15+4,MATCH(\"Standort\",pqidat!$A$4:$Z$4,0)+1)","v":{"$error":"#N/A"}},{"$f":"HLOOKUP(\"Station\",pqidat!A$4:BZ$1000,$A15+1,FALSE)","v":{"$error":"#N/A"}},{"$f":"HLOOKUP(\"Dichte\",pqidat!A$4:BZ$1000,$A15+1,FALSE)","v":{"$error":"#N/A"}},{"$f":"HLOOKUP(\"Verdichtung\",pqidat!A$4:BZ$1000,$A15+1,FALSE)","v":{"$error":"#N/A"}},{"$f":"HLOOKUP(\"Temp. OberflÃ¤che\",pqidat!A$4:BZ$1000,$A15+1,FALSE)","v":{"$error":"#N/A"}},{"$f":"HLOOKUP(\"GPS\",pqidat!A$4:BZ$1000,$A15+1,FALSE)","v":{"$error":"#N/A"}},{"$f":"HLOOKUP(\"Korrektur\",pqidat!A$4:BZ$1000,$A15+1,FALSE)","v":{"$error":"#N/A"}}]
["6",{"$f":"IF(ISBLANK(HLOOKUP(\"Raumdichte\",pqidat!$A$4:$BZ$500,$A16+1,FALSE)),\"\",A16)","v":"6"},{"$f":"HLOOKUP(\"Asphaltsorte\",pqidat!A$4:BZ$1000,$A16+1,FALSE)","v":{"$error":"#N/A"}},{"$f":"HLOOKUP(\"Standort\",pqidat!A$4:BZ$1000,$A16+1,FALSE)&\" \"&INDEX(pqidat!$A$1:$Z$1000,A16+4,MATCH(\"Standort\",pqidat!$A$4:$Z$4,0)+1)","v":{"$error":"#N/A"}},{"$f":"HLOOKUP(\"Station\",pqidat!A$4:BZ$1000,$A16+1,FALSE)","v":{"$error":"#N/A"}},{"$f":"HLOOKUP(\"Dichte\",pqidat!A$4:BZ$1000,$A16+1,FALSE)","v":{"$error":"#N/A"}},{"$f":"HLOOKUP(\"Verdichtung\",pqidat!A$4:BZ$1000,$A16+1,FALSE)","v":{"$error":"#N/A"}},{"$f":"HLOOKUP(\"Temp. OberflÃ¤che\",pqidat!A$4:BZ$1000,$A16+1,FALSE)","v":{"$error":"#N/A"}},{"$f":"HLOOKUP(\"GPS\",pqidat!A$4:BZ$1000,$A16+1,FALSE)","v":{"$error":"#N/A"}},{"$f":"HLOOKUP(\"Korrektur\",pqidat!A$4:BZ$1000,$A16+1,FALSE)","v":{"$error":"#N/A"}}]
["7",{"$f":"IF(ISBLANK(HLOOKUP(\"Raumdichte\",pqidat!$A$4:$BZ$500,$A17+1,FALSE)),\"\",A17)","v":"7"},{"$f":"HLOOKUP(\"Asphaltsorte\",pqidat!A$4:BZ$1000,$A17+1,FALSE)","v":{"$error":"#N/A"}},{"$f":"HLOOKUP(\"Standort\",pqidat!A$4:BZ$1000,$A17+1,FALSE)&\" \"&INDEX(pqidat!$A$1:$Z$1000,A17+4,MATCH(\"Standort\",pqidat!$A$4:$Z$4,0)+1)","v":{"$error":"#N/A"}},{"$f":"HLOOKUP(\"Station\",pqidat!A$4:BZ$1000,$A17+1,FALSE)","v":{"$error":"#N/A"}},{"$f":"HLOOKUP(\"Dichte\",pqidat!A$4:BZ$1000,$A17+1,FALSE)","v":{"$error":"#N/A"}},{"$f":"HLOOKUP(\"Verdichtung\",pqidat!A$4:BZ$1000,$A17+1,FALSE)","v":{"$error":"#N/A"}},{"$f":"HLOOKUP(\"Temp. OberflÃ¤che\",pqidat!A$4:BZ$1000,$A17+1,FALSE)","v":{"$error":"#N/A"}},{"$f":"HLOOKUP(\"GPS\",pqidat!A$4:BZ$1000,$A17+1,FALSE)","v":{"$error":"#N/A"}},{"$f":"HLOOKUP(\"Korrektur\",pqidat!A$4:BZ$1000,$A17+1,FALSE)","v":{"$error":"#N/A"}}]
["8",{"$f":"IF(ISBLANK(HLOOKUP(\"Raumdichte\",pqidat!$A$4:$BZ$500,$A18+1,FALSE)),\"\",A18)","v":"8"},{"$f":"HLOOKUP(\"Asphaltsorte\",pqidat!A$4:BZ$1000,$A18+1,FALSE)","v":{"$error":"#N/A"}},{"$f":"HLOOKUP(\"Standort\",pqidat!A$4:BZ$1000,$A18+1,FALSE)&\" \"&INDEX(pqidat!$A$1:$Z$1000,A18+4,MATCH(\"Standort\",pqidat!$A$4:$Z$4,0)+1)","v":{"$error":"#N/A"}},{"$f":"HLOOKUP(\"Station\",pqidat!A$4:BZ$1000,$A18+1,FALSE)","v":{"$error":"#N/A"}},{"$f":"HLOOKUP(\"Dichte\",pqidat!A$4:BZ$1000,$A18+1,FALSE)","v":{"$error":"#N/A"}},{"$f":"HLOOKUP(\"Verdichtung\",pqidat!A$4:BZ$1000,$A18+1,FALSE)","v":{"$error":"#N/A"}},{"$f":"HLOOKUP(\"Temp. OberflÃ¤che\",pqidat!A$4:BZ$1000,$A18+1,FALSE)","v":{"$error":"#N/A"}},{"$f":"HLOOKUP(\"GPS\",pqidat!A$4:BZ$1000,$A18+1,FALSE)","v":{"$error":"#N/A"}},{"$f":"HLOOKUP(\"Korrektur\",pqidat!A$4:BZ$1000,$A18+1,FALSE)","v":{"$error":"#N/A"}}]
["9",{"$f":"IF(ISBLANK(HLOOKUP(\"Raumdichte\",pqidat!$A$4:$BZ$500,$A19+1,FALSE)),\"\",A19)","v":"9"},{"$f":"HLOOKUP(\"Asphaltsorte\",pqidat!A$4:BZ$1000,$A19+1,FALSE)","v":{"$error":"#N/A"}},{"$f":"HLOOKUP(\"Standort\",pqidat!A$4:BZ$1000,$A19+1,FALSE)&\" \"&INDEX(pqidat!$A$1:$Z$1000,A19+4,MATCH(\"Standort\",pqidat!$A$4:$Z$4,0)+1)","v":{"$error":"#N/A"}},{"$f":"HLOOKUP(\"Station\",pqidat!A$4:BZ$1000,$A19+1,FALSE)","v":{"$error":"#N/A"}},{"$f":"HLOOKUP(\"Dichte\",pqidat!A$4:BZ$1000,$A19+1,FALSE)","v":{"$error":"#N/A"}},{"$f":"HLOOKUP(\"Verdichtung\",pqidat!A$4:BZ$1000,$A19+1,FALSE)","v":{"$error":"#N/A"}},{"$f":"HLOOKUP(\"Temp. OberflÃ¤che\",pqidat!A$4:BZ$1000,$A19+1,FALSE)","v":{"$error":"#N/A"}},{"$f":"HLOOKUP(\"GPS\",pqidat!A$4:BZ$1000,$A19+1,FALSE)","v":{"$error":"#N/A"}},{"$f":"HLOOKUP(\"Korrektur\",pqidat!A$4:BZ$1000,$A19+1,FALSE)","v":{"$error":"#N/A"}}]
["10",{"$f":"IF(ISBLANK(HLOOKUP(\"Raumdichte\",pqidat!$A$4:$BZ$500,$A20+1,FALSE)),\"\",A20)","v":"10"},{"$f":"HLOOKUP(\"Asphaltsorte\",pqidat!A$4:BZ$1000,$A20+1,FALSE)","v":{"$error":"#N/A"}},{"$f":"HLOOKUP(\"Standort\",pqidat!A$4:BZ$1000,$A20+1,FALSE)&\" \"&INDEX(pqidat!$A$1:$Z$1000,A20+4,MATCH(\"Standort\",pqidat!$A$4:$Z$4,0)+1)","v":{"$error":"#N/A"}},{"$f":"HLOOKUP(\"Station\",pqidat!A$4:BZ$1000,$A20+1,FALSE)","v":{"$error":"#N/A"}},{"$f":"HLOOKUP(\"Dichte\",pqidat!A$4:BZ$1000,$A20+1,FALSE)","v":{"$error":"#N/A"}},{"$f":"HLOOKUP(\"Verdichtung\",pqidat!A$4:BZ$1000,$A20+1,FALSE)","v":{"$error":"#N/A"}},{"$f":"HLOOKUP(\"Temp. OberflÃ¤che\",pqidat!A$4:BZ$1000,$A20+1,FALSE)","v":{"$error":"#N/A"}},{"$f":"HLOOKUP(\"GPS\",pqidat!A$4:BZ$1000,$A20+1,FALSE)","v":{"$error":"#N/A"}},{"$f":"HLOOKUP(\"Korrektur\",pqidat!A$4:BZ$1000,$A20+1,FALSE)","v":{"$error":"#N/A"}}]
["11",{"$f":"IF(ISBLANK(HLOOKUP(\"Raumdichte\",pqidat!$A$4:$BZ$500,$A21+1,FALSE)),\"\",A21)","v":"11"},{"$f":"HLOOKUP(\"Asphaltsorte\",pqidat!A$4:BZ$1000,$A21+1,FALSE)","v":{"$error":"#N/A"}},{"$f":"HLOOKUP(\"Standort\",pqidat!A$4:BZ$1000,$A21+1,FALSE)&\" \"&INDEX(pqidat!$A$1:$Z$1000,A21+4,MATCH(\"Standort\",pqidat!$A$4:$Z$4,0)+1)","v":{"$error":"#N/A"}},{"$f":"HLOOKUP(\"Station\",pqidat!A$4:BZ$1000,$A21+1,FALSE)","v":{"$error":"#N/A"}},{"$f":"HLOOKUP(\"Dichte\",pqidat!A$4:BZ$1000,$A21+1,FALSE)","v":{"$error":"#N/A"}},{"$f":"HLOOKUP(\"Verdichtung\",pqidat!A$4:BZ$1000,$A21+1,FALSE)","v":{"$error":"#N/A"}},{"$f":"HLOOKUP(\"Temp. OberflÃ¤che\",pqidat!A$4:BZ$1000,$A21+1,FALSE)","v":{"$error":"#N/A"}},{"$f":"HLOOKUP(\"GPS\",pqidat!A$4:BZ$1000,$A21+1,FALSE)","v":{"$error":"#N/A"}},{"$f":"HLOOKUP(\"Korrektur\",pqidat!A$4:BZ$1000,$A21+1,FALSE)","v":{"$error":"#N/A"}}]
["12",{"$f":"IF(ISBLANK(HLOOKUP(\"Raumdichte\",pqidat!$A$4:$BZ$500,$A22+1,FALSE)),\"\",A22)","v":"12"},{"$f":"HLOOKUP(\"Asphaltsorte\",pqidat!A$4:BZ$1000,$A22+1,FALSE)","v":{"$error":"#N/A"}},{"$f":"HLOOKUP(\"Standort\",pqidat!A$4:BZ$1000,$A22+1,FALSE)&\" \"&INDEX(pqidat!$A$1:$Z$1000,A22+4,MATCH(\"Standort\",pqidat!$A$4:$Z$4,0)+1)","v":{"$error":"#N/A"}},{"$f":"HLOOKUP(\"Station\",pqidat!A$4:BZ$1000,$A22+1,FALSE)","v":{"$error":"#N/A"}},{"$f":"HLOOKUP(\"Dichte\",pqidat!A$4:BZ$1000,$A22+1,FALSE)","v":{"$error":"#N/A"}},{"$f":"HLOOKUP(\"Verdichtung\",pqidat!A$4:BZ$1000,$A22+1,FALSE)","v":{"$error":"#N/A"}},{"$f":"HLOOKUP(\"Temp. OberflÃ¤che\",pqidat!A$4:BZ$1000,$A22+1,FALSE)","v":{"$error":"#N/A"}},{"$f":"HLOOKUP(\"GPS\",pqidat!A$4:BZ$1000,$A22+1,FALSE)","v":{"$error":"#N/A"}},{"$f":"HLOOKUP(\"Korrektur\",pqidat!A$4:BZ$1000,$A22+1,FALSE)","v":{"$error":"#N/A"}}]
["13",{"$f":"IF(ISBLANK(HLOOKUP(\"Raumdichte\",pqidat!$A$4:$BZ$500,$A23+1,FALSE)),\"\",A23)","v":"13"},{"$f":"HLOOKUP(\"Asphaltsorte\",pqidat!A$4:BZ$1000,$A23+1,FALSE)","v":{"$error":"#N/A"}},{"$f":"HLOOKUP(\"Standort\",pqidat!A$4:BZ$1000,$A23+1,FALSE)&\" \"&INDEX(pqidat!$A$1:$Z$1000,A23+4,MATCH(\"Standort\",pqidat!$A$4:$Z$4,0)+1)","v":{"$error":"#N/A"}},{"$f":"HLOOKUP(\"Station\",pqidat!A$4:BZ$1000,$A23+1,FALSE)","v":{"$error":"#N/A"}},{"$f":"HLOOKUP(\"Dichte\",pqidat!A$4:BZ$1000,$A23+1,FALSE)","v":{"$error":"#N/A"}},{"$f":"HLOOKUP(\"Verdichtung\",pqidat!A$4:BZ$1000,$A23+1,FALSE)","v":{"$error":"#N/A"}},{"$f":"HLOOKUP(\"Temp. OberflÃ¤che\",pqidat!A$4:BZ$1000,$A23+1,FALSE)","v":{"$error":"#N/A"}},{"$f":"HLOOKUP(\"GPS\",pqidat!A$4:BZ$1000,$A23+1,FALSE)","v":{"$error":"#N/A"}},{"$f":"HLOOKUP(\"Korrektur\",pqidat!A$4:BZ$1000,$A23+1,FALSE)","v":{"$error":"#N/A"}}]
["14",{"$f":"IF(ISBLANK(HLOOKUP(\"Raumdichte\",pqidat!$A$4:$BZ$500,$A24+1,FALSE)),\"\",A24)","v":"14"},{"$f":"HLOOKUP(\"Asphaltsorte\",pqidat!A$4:BZ$1000,$A24+1,FALSE)","v":{"$error":"#N/A"}},{"$f":"HLOOKUP(\"Standort\",pqidat!A$4:BZ$1000,$A24+1,FALSE)&\" \"&INDEX(pqidat!$A$1:$Z$1000,A24+4,MATCH(\"Standort\",pqidat!$A$4:$Z$4,0)+1)","v":{"$error":"#N/A"}},{"$f":"HLOOKUP(\"Station\",pqidat!A$4:BZ$1000,$A24+1,FALSE)","v":{"$error":"#N/A"}},{"$f":"HLOOKUP(\"Dichte\",pqidat!A$4:BZ$1000,$A24+1,FALSE)","v":{"$error":"#N/A"}},{"$f":"HLOOKUP(\"Verdichtung\",pqidat!A$4:BZ$1000,$A24+1,FALSE)","v":{"$error":"#N/A"}},{"$f":"HLOOKUP(\"Temp. OberflÃ¤che\",pqidat!A$4:BZ$1000,$A24+1,FALSE)","v":{"$error":"#N/A"}},{"$f":"HLOOKUP(\"GPS\",pqidat!A$4:BZ$1000,$A24+1,FALSE)","v":{"$error":"#N/A"}},{"$f":"HLOOKUP(\"Korrektur\",pqidat!A$4:BZ$1000,$A24+1,FALSE)","v":{"$error":"#N/A"}}]
["15",{"$f":"IF(ISBLANK(HLOOKUP(\"Raumdichte\",pqidat!$A$4:$BZ$500,$A25+1,FALSE)),\"\",A25)","v":"15"},{"$f":"HLOOKUP(\"Asphaltsorte\",pqidat!A$4:BZ$1000,$A25+1,FALSE)","v":{"$error":"#N/A"}},{"$f":"HLOOKUP(\"Standort\",pqidat!A$4:BZ$1000,$A25+1,FALSE)&\" \"&INDEX(pqidat!$A$1:$Z$1000,A25+4,MATCH(\"Standort\",pqidat!$A$4:$Z$4,0)+1)","v":{"$error":"#N/A"}},{"$f":"HLOOKUP(\"Station\",pqidat!A$4:BZ$1000,$A25+1,FALSE)","v":{"$error":"#N/A"}},{"$f":"HLOOKUP(\"Dichte\",pqidat!A$4:BZ$1000,$A25+1,FALSE)","v":{"$error":"#N/A"}},{"$f":"HLOOKUP(\"Verdichtung\",pqidat!A$4:BZ$1000,$A25+1,FALSE)","v":{"$error":"#N/A"}},{"$f":"HLOOKUP(\"Temp. OberflÃ¤che\",pqidat!A$4:BZ$1000,$A25+1,FALSE)","v":{"$error":"#N/A"}},{"$f":"HLOOKUP(\"GPS\",pqidat!A$4:BZ$1000,$A25+1,FALSE)","v":{"$error":"#N/A"}},{"$f":"HLOOKUP(\"Korrektur\",pqidat!A$4:BZ$1000,$A25+1,FALSE)","v":{"$error":"#N/A"}}]
["16",{"$f":"IF(ISBLANK(HLOOKUP(\"Raumdichte\",pqidat!$A$4:$BZ$500,$A26+1,FALSE)),\"\",A26)","v":"16"},{"$f":"HLOOKUP(\"Asphaltsorte\",pqidat!A$4:BZ$1000,$A26+1,FALSE)","v":{"$error":"#N/A"}},{"$f":"HLOOKUP(\"Standort\",pqidat!A$4:BZ$1000,$A26+1,FALSE)&\" \"&INDEX(pqidat!$A$1:$Z$1000,A26+4,MATCH(\"Standort\",pqidat!$A$4:$Z$4,0)+1)","v":{"$error":"#N/A"}},{"$f":"HLOOKUP(\"Station\",pqidat!A$4:BZ$1000,$A26+1,FALSE)","v":{"$error":"#N/A"}},{"$f":"HLOOKUP(\"Dichte\",pqidat!A$4:BZ$1000,$A26+1,FALSE)","v":{"$error":"#N/A"}},{"$f":"HLOOKUP(\"Verdichtung\",pqidat!A$4:BZ$1000,$A26+1,FALSE)","v":{"$error":"#N/A"}},{"$f":"HLOOKUP(\"Temp. OberflÃ¤che\",pqidat!A$4:BZ$1000,$A26+1,FALSE)","v":{"$error":"#N/A"}},{"$f":"HLOOKUP(\"GPS\",pqidat!A$4:BZ$1000,$A26+1,FALSE)","v":{"$error":"#N/A"}},{"$f":"HLOOKUP(\"Korrektur\",pqidat!A$4:BZ$1000,$A26+1,FALSE)","v":{"$error":"#N/A"}}]
["17",{"$f":"IF(ISBLANK(HLOOKUP(\"Raumdichte\",pqidat!$A$4:$BZ$500,$A27+1,FALSE)),\"\",A27)","v":"17"},{"$f":"HLOOKUP(\"Asphaltsorte\",pqidat!A$4:BZ$1000,$A27+1,FALSE)","v":{"$error":"#N/A"}},{"$f":"HLOOKUP(\"Standort\",pqidat!A$4:BZ$1000,$A27+1,FALSE)&\" \"&INDEX(pqidat!$A$1:$Z$1000,A27+4,MATCH(\"Standort\",pqidat!$A$4:$Z$4,0)+1)","v":{"$error":"#N/A"}},{"$f":"HLOOKUP(\"Station\",pqidat!A$4:BZ$1000,$A27+1,FALSE)","v":{"$error":"#N/A"}},{"$f":"HLOOKUP(\"Dichte\",pqidat!A$4:BZ$1000,$A27+1,FALSE)","v":{"$error":"#N/A"}},{"$f":"HLOOKUP(\"Verdichtung\",pqidat!A$4:BZ$1000,$A27+1,FALSE)","v":{"$error":"#N/A"}},{"$f":"HLOOKUP(\"Temp. OberflÃ¤che\",pqidat!A$4:BZ$1000,$A27+1,FALSE)","v":{"$error":"#N/A"}},{"$f":"HLOOKUP(\"GPS\",pqidat!A$4:BZ$1000,$A27+1,FALSE)","v":{"$error":"#N/A"}},{"$f":"HLOOKUP(\"Korrektur\",pqidat!A$4:BZ$1000,$A27+1,FALSE)","v":{"$error":"#N/A"}}]
["18",{"$f":"IF(ISBLANK(HLOOKUP(\"Raumdichte\",pqidat!$A$4:$BZ$500,$A28+1,FALSE)),\"\",A28)","v":"18"},{"$f":"HLOOKUP(\"Asphaltsorte\",pqidat!A$4:BZ$1000,$A28+1,FALSE)","v":{"$error":"#N/A"}},{"$f":"HLOOKUP(\"Standort\",pqidat!A$4:BZ$1000,$A28+1,FALSE)&\" \"&INDEX(pqidat!$A$1:$Z$1000,A28+4,MATCH(\"Standort\",pqidat!$A$4:$Z$4,0)+1)","v":{"$error":"#N/A"}},{"$f":"HLOOKUP(\"Station\",pqidat!A$4:BZ$1000,$A28+1,FALSE)","v":{"$error":"#N/A"}},{"$f":"HLOOKUP(\"Dichte\",pqidat!A$4:BZ$1000,$A28+1,FALSE)","v":{"$error":"#N/A"}},{"$f":"HLOOKUP(\"Verdichtung\",pqidat!A$4:BZ$1000,$A28+1,FALSE)","v":{"$error":"#N/A"}},{"$f":"HLOOKUP(\"Temp. OberflÃ¤che\",pqidat!A$4:BZ$1000,$A28+1,FALSE)","v":{"$error":"#N/A"}},{"$f":"HLOOKUP(\"GPS\",pqidat!A$4:BZ$1000,$A28+1,FALSE)","v":{"$error":"#N/A"}},{"$f":"HLOOKUP(\"Korrektur\",pqidat!A$4:BZ$1000,$A28+1,FALSE)","v":{"$error":"#N/A"}}]
["19",{"$f":"IF(ISBLANK(HLOOKUP(\"Raumdichte\",pqidat!$A$4:$BZ$500,$A29+1,FALSE)),\"\",A29)","v":"19"},{"$f":"HLOOKUP(\"Asphaltsorte\",pqidat!A$4:BZ$1000,$A29+1,FALSE)","v":{"$error":"#N/A"}},{"$f":"HLOOKUP(\"Standort\",pqidat!A$4:BZ$1000,$A29+1,FALSE)&\" \"&INDEX(pqidat!$A$1:$Z$1000,A29+4,MATCH(\"Standort\",pqidat!$A$4:$Z$4,0)+1)","v":{"$error":"#N/A"}},{"$f":"HLOOKUP(\"Station\",pqidat!A$4:BZ$1000,$A29+1,FALSE)","v":{"$error":"#N/A"}},{"$f":"HLOOKUP(\"Dichte\",pqidat!A$4:BZ$1000,$A29+1,FALSE)","v":{"$error":"#N/A"}},{"$f":"HLOOKUP(\"Verdichtung\",pqidat!A$4:BZ$1000,$A29+1,FALSE)","v":{"$error":"#N/A"}},{"$f":"HLOOKUP(\"Temp. OberflÃ¤che\",pqidat!A$4:BZ$1000,$A29+1,FALSE)","v":{"$error":"#N/A"}},{"$f":"HLOOKUP(\"GPS\",pqidat!A$4:BZ$1000,$A29+1,FALSE)","v":{"$error":"#N/A"}},{"$f":"HLOOKUP(\"Korrektur\",pqidat!A$4:BZ$1000,$A29+1,FALSE)","v":{"$error":"#N/A"}}]
["20",{"$f":"IF(ISBLANK(HLOOKUP(\"Raumdichte\",pqidat!$A$4:$BZ$500,$A30+1,FALSE)),\"\",A30)","v":"20"},{"$f":"HLOOKUP(\"Asphaltsorte\",pqidat!A$4:BZ$1000,$A30+1,FALSE)","v":{"$error":"#N/A"}},{"$f":"HLOOKUP(\"Standort\",pqidat!A$4:BZ$1000,$A30+1,FALSE)&\" \"&INDEX(pqidat!$A$1:$Z$1000,A30+4,MATCH(\"Standort\",pqidat!$A$4:$Z$4,0)+1)","v":{"$error":"#N/A"}},{"$f":"HLOOKUP(\"Station\",pqidat!A$4:BZ$1000,$A30+1,FALSE)","v":{"$error":"#N/A"}},{"$f":"HLOOKUP(\"Dichte\",pqidat!A$4:BZ$1000,$A30+1,FALSE)","v":{"$error":"#N/A"}},{"$f":"HLOOKUP(\"Verdichtung\",pqidat!A$4:BZ$1000,$A30+1,FALSE)","v":{"$error":"#N/A"}},{"$f":"HLOOKUP(\"Temp. OberflÃ¤che\",pqidat!A$4:BZ$1000,$A30+1,FALSE)","v":{"$error":"#N/A"}},{"$f":"HLOOKUP(\"GPS\",pqidat!A$4:BZ$1000,$A30+1,FALSE)","v":{"$error":"#N/A"}},{"$f":"HLOOKUP(\"Korrektur\",pqidat!A$4:BZ$1000,$A30+1,FALSE)","v":{"$error":"#N/A"}}]
["21",{"$f":"IF(ISBLANK(HLOOKUP(\"Raumdichte\",pqidat!$A$4:$BZ$500,$A31+1,FALSE)),\"\",A31)","v":"21"},{"$f":"HLOOKUP(\"Asphaltsorte\",pqidat!A$4:BZ$1000,$A31+1,FALSE)","v":{"$error":"#N/A"}},{"$f":"HLOOKUP(\"Standort\",pqidat!A$4:BZ$1000,$A31+1,FALSE)&\" \"&INDEX(pqidat!$A$1:$Z$1000,A31+4,MATCH(\"Standort\",pqidat!$A$4:$Z$4,0)+1)","v":{"$error":"#N/A"}},{"$f":"HLOOKUP(\"Station\",pqidat!A$4:BZ$1000,$A31+1,FALSE)","v":{"$error":"#N/A"}},{"$f":"HLOOKUP(\"Dichte\",pqidat!A$4:BZ$1000,$A31+1,FALSE)","v":{"$error":"#N/A"}},{"$f":"HLOOKUP(\"Verdichtung\",pqidat!A$4:BZ$1000,$A31+1,FALSE)","v":{"$error":"#N/A"}},{"$f":"HLOOKUP(\"Temp. OberflÃ¤che\",pqidat!A$4:BZ$1000,$A31+1,FALSE)","v":{"$error":"#N/A"}},{"$f":"HLOOKUP(\"GPS\",pqidat!A$4:BZ$1000,$A31+1,FALSE)","v":{"$error":"#N/A"}},{"$f":"HLOOKUP(\"Korrektur\",pqidat!A$4:BZ$1000,$A31+1,FALSE)","v":{"$error":"#N/A"}}]
["22",{"$f":"IF(ISBLANK(HLOOKUP(\"Raumdichte\",pqidat!$A$4:$BZ$500,$A32+1,FALSE)),\"\",A32)","v":"22"},{"$f":"HLOOKUP(\"Asphaltsorte\",pqidat!A$4:BZ$1000,$A32+1,FALSE)","v":{"$error":"#N/A"}},{"$f":"HLOOKUP(\"Standort\",pqidat!A$4:BZ$1000,$A32+1,FALSE)&\" \"&INDEX(pqidat!$A$1:$Z$1000,A32+4,MATCH(\"Standort\",pqidat!$A$4:$Z$4,0)+1)","v":{"$error":"#N/A"}},{"$f":"HLOOKUP(\"Station\",pqidat!A$4:BZ$1000,$A32+1,FALSE)","v":{"$error":"#N/A"}},{"$f":"HLOOKUP(\"Dichte\",pqidat!A$4:BZ$1000,$A32+1,FALSE)","v":{"$error":"#N/A"}},{"$f":"HLOOKUP(\"Verdichtung\",pqidat!A$4:BZ$1000,$A32+1,FALSE)","v":{"$error":"#N/A"}},{"$f":"HLOOKUP(\"Temp. OberflÃ¤che\",pqidat!A$4:BZ$1000,$A32+1,FALSE)","v":{"$error":"#N/A"}},{"$f":"HLOOKUP(\"GPS\",pqidat!A$4:BZ$1000,$A32+1,FALSE)","v":{"$error":"#N/A"}},{"$f":"HLOOKUP(\"Korrektur\",pqidat!A$4:BZ$1000,$A32+1,FALSE)","v":{"$error":"#N/A"}}]
["23",{"$f":"IF(ISBLANK(HLOOKUP(\"Raumdichte\",pqidat!$A$4:$BZ$500,$A33+1,FALSE)),\"\",A33)","v":"23"},{"$f":"HLOOKUP(\"Asphaltsorte\",pqidat!A$4:BZ$1000,$A33+1,FALSE)","v":{"$error":"#N/A"}},{"$f":"HLOOKUP(\"Standort\",pqidat!A$4:BZ$1000,$A33+1,FALSE)&\" \"&INDEX(pqidat!$A$1:$Z$1000,A33+4,MATCH(\"Standort\",pqidat!$A$4:$Z$4,0)+1)","v":{"$error":"#N/A"}},{"$f":"HLOOKUP(\"Station\",pqidat!A$4:BZ$1000,$A33+1,FALSE)","v":{"$error":"#N/A"}},{"$f":"HLOOKUP(\"Dichte\",pqidat!A$4:BZ$1000,$A33+1,FALSE)","v":{"$error":"#N/A"}},{"$f":"HLOOKUP(\"Verdichtung\",pqidat!A$4:BZ$1000,$A33+1,FALSE)","v":{"$error":"#N/A"}},{"$f":"HLOOKUP(\"Temp. OberflÃ¤che\",pqidat!A$4:BZ$1000,$A33+1,FALSE)","v":{"$error":"#N/A"}},{"$f":"HLOOKUP(\"GPS\",pqidat!A$4:BZ$1000,$A33+1,FALSE)","v":{"$error":"#N/A"}},{"$f":"HLOOKUP(\"Korrektur\",pqidat!A$4:BZ$1000,$A33+1,FALSE)","v":{"$error":"#N/A"}}]
["24",{"$f":"IF(ISBLANK(HLOOKUP(\"Raumdichte\",pqidat!$A$4:$BZ$500,$A34+1,FALSE)),\"\",A34)","v":"24"},{"$f":"HLOOKUP(\"Asphaltsorte\",pqidat!A$4:BZ$1000,$A34+1,FALSE)","v":{"$error":"#N/A"}},{"$f":"HLOOKUP(\"Standort\",pqidat!A$4:BZ$1000,$A34+1,FALSE)&\" \"&INDEX(pqidat!$A$1:$Z$1000,A34+4,MATCH(\"Standort\",pqidat!$A$4:$Z$4,0)+1)","v":{"$error":"#N/A"}},{"$f":"HLOOKUP(\"Station\",pqidat!A$4:BZ$1000,$A34+1,FALSE)","v":{"$error":"#N/A"}},{"$f":"HLOOKUP(\"Dichte\",pqidat!A$4:BZ$1000,$A34+1,FALSE)","v":{"$error":"#N/A"}},{"$f":"HLOOKUP(\"Verdichtung\",pqidat!A$4:BZ$1000,$A34+1,FALSE)","v":{"$error":"#N/A"}},{"$f":"HLOOKUP(\"Temp. OberflÃ¤che\",pqidat!A$4:BZ$1000,$A34+1,FALSE)","v":{"$error":"#N/A"}},{"$f":"HLOOKUP(\"GPS\",pqidat!A$4:BZ$1000,$A34+1,FALSE)","v":{"$error":"#N/A"}},{"$f":"HLOOKUP(\"Korrektur\",pqidat!A$4:BZ$1000,$A34+1,FALSE)","v":{"$error":"#N/A"}}]
["25",{"$f":"IF(ISBLANK(HLOOKUP(\"Raumdichte\",pqidat!$A$4:$BZ$500,$A35+1,FALSE)),\"\",A35)","v":"25"},{"$f":"HLOOKUP(\"Asphaltsorte\",pqidat!A$4:BZ$1000,$A35+1,FALSE)","v":{"$error":"#N/A"}},{"$f":"HLOOKUP(\"Standort\",pqidat!A$4:BZ$1000,$A35+1,FALSE)&\" \"&INDEX(pqidat!$A$1:$Z$1000,A35+4,MATCH(\"Standort\",pqidat!$A$4:$Z$4,0)+1)","v":{"$error":"#N/A"}},{"$f":"HLOOKUP(\"Station\",pqidat!A$4:BZ$1000,$A35+1,FALSE)","v":{"$error":"#N/A"}},{"$f":"HLOOKUP(\"Dichte\",pqidat!A$4:BZ$1000,$A35+1,FALSE)","v":{"$error":"#N/A"}},{"$f":"HLOOKUP(\"Verdichtung\",pqidat!A$4:BZ$1000,$A35+1,FALSE)","v":{"$error":"#N/A"}},{"$f":"HLOOKUP(\"Temp. OberflÃ¤che\",pqidat!A$4:BZ$1000,$A35+1,FALSE)","v":{"$error":"#N/A"}},{"$f":"HLOOKUP(\"GPS\",pqidat!A$4:BZ$1000,$A35+1,FALSE)","v":{"$error":"#N/A"}},{"$f":"HLOOKUP(\"Korrektur\",pqidat!A$4:BZ$1000,$A35+1,FALSE)","v":{"$error":"#N/A"}}]
["26",{"$f":"IF(ISBLANK(HLOOKUP(\"Raumdichte\",pqidat!$A$4:$BZ$500,$A36+1,FALSE)),\"\",A36)","v":"26"},{"$f":"HLOOKUP(\"Asphaltsorte\",pqidat!A$4:BZ$1000,$A36+1,FALSE)","v":{"$error":"#N/A"}},{"$f":"HLOOKUP(\"Standort\",pqidat!A$4:BZ$1000,$A36+1,FALSE)&\" \"&INDEX(pqidat!$A$1:$Z$1000,A36+4,MATCH(\"Standort\",pqidat!$A$4:$Z$4,0)+1)","v":{"$error":"#N/A"}},{"$f":"HLOOKUP(\"Station\",pqidat!A$4:BZ$1000,$A36+1,FALSE)","v":{"$error":"#N/A"}},{"$f":"HLOOKUP(\"Dichte\",pqidat!A$4:BZ$1000,$A36+1,FALSE)","v":{"$error":"#N/A"}},{"$f":"HLOOKUP(\"Verdichtung\",pqidat!A$4:BZ$1000,$A36+1,FALSE)","v":{"$error":"#N/A"}},{"$f":"HLOOKUP(\"Temp. OberflÃ¤che\",pqidat!A$4:BZ$1000,$A36+1,FALSE)","v":{"$error":"#N/A"}},{"$f":"HLOOKUP(\"GPS\",pqidat!A$4:BZ$1000,$A36+1,FALSE)","v":{"$error":"#N/A"}},{"$f":"HLOOKUP(\"Korrektur\",pqidat!A$4:BZ$1000,$A36+1,FALSE)","v":{"$error":"#N/A"}}]
["27",{"$f":"IF(ISBLANK(HLOOKUP(\"Raumdichte\",pqidat!$A$4:$BZ$500,$A37+1,FALSE)),\"\",A37)","v":"27"},{"$f":"HLOOKUP(\"Asphaltsorte\",pqidat!A$4:BZ$1000,$A37+1,FALSE)","v":{"$error":"#N/A"}},{"$f":"HLOOKUP(\"Standort\",pqidat!A$4:BZ$1000,$A37+1,FALSE)&\" \"&INDEX(pqidat!$A$1:$Z$1000,A37+4,MATCH(\"Standort\",pqidat!$A$4:$Z$4,0)+1)","v":{"$error":"#N/A"}},{"$f":"HLOOKUP(\"Station\",pqidat!A$4:BZ$1000,$A37+1,FALSE)","v":{"$error":"#N/A"}},{"$f":"HLOOKUP(\"Dichte\",pqidat!A$4:BZ$1000,$A37+1,FALSE)","v":{"$error":"#N/A"}},{"$f":"HLOOKUP(\"Verdichtung\",pqidat!A$4:BZ$1000,$A37+1,FALSE)","v":{"$error":"#N/A"}},{"$f":"HLOOKUP(\"Temp. OberflÃ¤che\",pqidat!A$4:BZ$1000,$A37+1,FALSE)","v":{"$error":"#N/A"}},{"$f":"HLOOKUP(\"GPS\",pqidat!A$4:BZ$1000,$A37+1,FALSE)","v":{"$error":"#N/A"}},{"$f":"HLOOKUP(\"Korrektur\",pqidat!A$4:BZ$1000,$A37+1,FALSE)","v":{"$error":"#N/A"}}]
["28",{"$f":"IF(ISBLANK(HLOOKUP(\"Raumdichte\",pqidat!$A$4:$BZ$500,$A38+1,FALSE)),\"\",A38)","v":"28"},{"$f":"HLOOKUP(\"Asphaltsorte\",pqidat!A$4:BZ$1000,$A38+1,FALSE)","v":{"$error":"#N/A"}},{"$f":"HLOOKUP(\"Standort\",pqidat!A$4:BZ$1000,$A38+1,FALSE)&\" \"&INDEX(pqidat!$A$1:$Z$1000,A38+4,MATCH(\"Standort\",pqidat!$A$4:$Z$4,0)+1)","v":{"$error":"#N/A"}},{"$f":"HLOOKUP(\"Station\",pqidat!A$4:BZ$1000,$A38+1,FALSE)","v":{"$error":"#N/A"}},{"$f":"HLOOKUP(\"Dichte\",pqidat!A$4:BZ$1000,$A38+1,FALSE)","v":{"$error":"#N/A"}},{"$f":"HLOOKUP(\"Verdichtung\",pqidat!A$4:BZ$1000,$A38+1,FALSE)","v":{"$error":"#N/A"}},{"$f":"HLOOKUP(\"Temp. OberflÃ¤che\",pqidat!A$4:BZ$1000,$A38+1,FALSE)","v":{"$error":"#N/A"}},{"$f":"HLOOKUP(\"GPS\",pqidat!A$4:BZ$1000,$A38+1,FALSE)","v":{"$error":"#N/A"}},{"$f":"HLOOKUP(\"Korrektur\",pqidat!A$4:BZ$1000,$A38+1,FALSE)","v":{"$error":"#N/A"}}]
["29",{"$f":"IF(ISBLANK(HLOOKUP(\"Raumdichte\",pqidat!$A$4:$BZ$500,$A39+1,FALSE)),\"\",A39)","v":"29"},{"$f":"HLOOKUP(\"Asphaltsorte\",pqidat!A$4:BZ$1000,$A39+1,FALSE)","v":{"$error":"#N/A"}},{"$f":"HLOOKUP(\"Standort\",pqidat!A$4:BZ$1000,$A39+1,FALSE)&\" \"&INDEX(pqidat!$A$1:$Z$1000,A39+4,MATCH(\"Standort\",pqidat!$A$4:$Z$4,0)+1)","v":{"$error":"#N/A"}},{"$f":"HLOOKUP(\"Station\",pqidat!A$4:BZ$1000,$A39+1,FALSE)","v":{"$error":"#N/A"}},{"$f":"HLOOKUP(\"Dichte\",pqidat!A$4:BZ$1000,$A39+1,FALSE)","v":{"$error":"#N/A"}},{"$f":"HLOOKUP(\"Verdichtung\",pqidat!A$4:BZ$1000,$A39+1,FALSE)","v":{"$error":"#N/A"}},{"$f":"HLOOKUP(\"Temp. OberflÃ¤che\",pqidat!A$4:BZ$1000,$A39+1,FALSE)","v":{"$error":"#N/A"}},{"$f":"HLOOKUP(\"GPS\",pqidat!A$4:BZ$1000,$A39+1,FALSE)","v":{"$error":"#N/A"}},{"$f":"HLOOKUP(\"Korrektur\",pqidat!A$4:BZ$1000,$A39+1,FALSE)","v":{"$error":"#N/A"}}]
["30",{"$f":"IF(ISBLANK(HLOOKUP(\"Raumdichte\",pqidat!$A$4:$BZ$500,$A40+1,FALSE)),\"\",A40)","v":"30"},{"$f":"HLOOKUP(\"Asphaltsorte\",pqidat!A$4:BZ$1000,$A40+1,FALSE)","v":{"$error":"#N/A"}},{"$f":"HLOOKUP(\"Standort\",pqidat!A$4:BZ$1000,$A40+1,FALSE)&\" \"&INDEX(pqidat!$A$1:$Z$1000,A40+4,MATCH(\"Standort\",pqidat!$A$4:$Z$4,0)+1)","v":{"$error":"#N/A"}},{"$f":"HLOOKUP(\"Station\",pqidat!A$4:BZ$1000,$A40+1,FALSE)","v":{"$error":"#N/A"}},{"$f":"HLOOKUP(\"Dichte\",pqidat!A$4:BZ$1000,$A40+1,FALSE)","v":{"$error":"#N/A"}},{"$f":"HLOOKUP(\"Verdichtung\",pqidat!A$4:BZ$1000,$A40+1,FALSE)","v":{"$error":"#N/A"}},{"$f":"HLOOKUP(\"Temp. OberflÃ¤che\",pqidat!A$4:BZ$1000,$A40+1,FALSE)","v":{"$error":"#N/A"}},{"$f":"HLOOKUP(\"GPS\",pqidat!A$4:BZ$1000,$A40+1,FALSE)","v":{"$error":"#N/A"}},{"$f":"HLOOKUP(\"Korrektur\",pqidat!A$4:BZ$1000,$A40+1,FALSE)","v":{"$error":"#N/A"}}]
["31",{"$f":"IF(ISBLANK(HLOOKUP(\"Raumdichte\",pqidat!$A$4:$BZ$500,$A41+1,FALSE)),\"\",A41)","v":"31"},{"$f":"HLOOKUP(\"Asphaltsorte\",pqidat!A$4:BZ$1000,$A41+1,FALSE)","v":{"$error":"#N/A"}},{"$f":"HLOOKUP(\"Standort\",pqidat!A$4:BZ$1000,$A41+1,FALSE)&\" \"&INDEX(pqidat!$A$1:$Z$1000,A41+4,MATCH(\"Standort\",pqidat!$A$4:$Z$4,0)+1)","v":{"$error":"#N/A"}},{"$f":"HLOOKUP(\"Station\",pqidat!A$4:BZ$1000,$A41+1,FALSE)","v":{"$error":"#N/A"}},{"$f":"HLOOKUP(\"Dichte\",pqidat!A$4:BZ$1000,$A41+1,FALSE)","v":{"$error":"#N/A"}},{"$f":"HLOOKUP(\"Verdichtung\",pqidat!A$4:BZ$1000,$A41+1,FALSE)","v":{"$error":"#N/A"}},{"$f":"HLOOKUP(\"Temp. OberflÃ¤che\",pqidat!A$4:BZ$1000,$A41+1,FALSE)","v":{"$error":"#N/A"}},{"$f":"HLOOKUP(\"GPS\",pqidat!A$4:BZ$1000,$A41+1,FALSE)","v":{"$error":"#N/A"}},{"$f":"HLOOKUP(\"Korrektur\",pqidat!A$4:BZ$1000,$A41+1,FALSE)","v":{"$error":"#N/A"}}]
["32",{"$f":"IF(ISBLANK(HLOOKUP(\"Raumdichte\",pqidat!$A$4:$BZ$500,$A42+1,FALSE)),\"\",A42)","v":"32"},{"$f":"HLOOKUP(\"Asphaltsorte\",pqidat!A$4:BZ$1000,$A42+1,FALSE)","v":{"$error":"#N/A"}},{"$f":"HLOOKUP(\"Standort\",pqidat!A$4:BZ$1000,$A42+1,FALSE)&\" \"&INDEX(pqidat!$A$1:$Z$1000,A42+4,MATCH(\"Standort\",pqidat!$A$4:$Z$4,0)+1)","v":{"$error":"#N/A"}},{"$f":"HLOOKUP(\"Station\",pqidat!A$4:BZ$1000,$A42+1,FALSE)","v":{"$error":"#N/A"}},{"$f":"HLOOKUP(\"Dichte\",pqidat!A$4:BZ$1000,$A42+1,FALSE)","v":{"$error":"#N/A"}},{"$f":"HLOOKUP(\"Verdichtung\",pqidat!A$4:BZ$1000,$A42+1,FALSE)","v":{"$error":"#N/A"}},{"$f":"HLOOKUP(\"Temp. OberflÃ¤che\",pqidat!A$4:BZ$1000,$A42+1,FALSE)","v":{"$error":"#N/A"}},{"$f":"HLOOKUP(\"GPS\",pqidat!A$4:BZ$1000,$A42+1,FALSE)","v":{"$error":"#N/A"}},{"$f":"HLOOKUP(\"Korrektur\",pqidat!A$4:BZ$1000,$A42+1,FALSE)","v":{"$error":"#N/A"}}]
["33",{"$f":"IF(ISBLANK(HLOOKUP(\"Raumdichte\",pqidat!$A$4:$BZ$500,$A43+1,FALSE)),\"\",A43)","v":"33"},{"$f":"HLOOKUP(\"Asphaltsorte\",pqidat!A$4:BZ$1000,$A43+1,FALSE)","v":{"$error":"#N/A"}},{"$f":"HLOOKUP(\"Standort\",pqidat!A$4:BZ$1000,$A43+1,FALSE)&\" \"&INDEX(pqidat!$A$1:$Z$1000,A43+4,MATCH(\"Standort\",pqidat!$A$4:$Z$4,0)+1)","v":{"$error":"#N/A"}},{"$f":"HLOOKUP(\"Station\",pqidat!A$4:BZ$1000,$A43+1,FALSE)","v":{"$error":"#N/A"}},{"$f":"HLOOKUP(\"Dichte\",pqidat!A$4:BZ$1000,$A43+1,FALSE)","v":{"$error":"#N/A"}},{"$f":"HLOOKUP(\"Verdichtung\",pqidat!A$4:BZ$1000,$A43+1,FALSE)","v":{"$error":"#N/A"}},{"$f":"HLOOKUP(\"Temp. OberflÃ¤che\",pqidat!A$4:BZ$1000,$A43+1,FALSE)","v":{"$error":"#N/A"}},{"$f":"HLOOKUP(\"GPS\",pqidat!A$4:BZ$1000,$A43+1,FALSE)","v":{"$error":"#N/A"}},{"$f":"HLOOKUP(\"Korrektur\",pqidat!A$4:BZ$1000,$A43+1,FALSE)","v":{"$error":"#N/A"}}]
["34",{"$f":"IF(ISBLANK(HLOOKUP(\"Raumdichte\",pqidat!$A$4:$BZ$500,$A44+1,FALSE)),\"\",A44)","v":"34"},{"$f":"HLOOKUP(\"Asphaltsorte\",pqidat!A$4:BZ$1000,$A44+1,FALSE)","v":{"$error":"#N/A"}},{"$f":"HLOOKUP(\"Standort\",pqidat!A$4:BZ$1000,$A44+1,FALSE)&\" \"&INDEX(pqidat!$A$1:$Z$1000,A44+4,MATCH(\"Standort\",pqidat!$A$4:$Z$4,0)+1)","v":{"$error":"#N/A"}},{"$f":"HLOOKUP(\"Station\",pqidat!A$4:BZ$1000,$A44+1,FALSE)","v":{"$error":"#N/A"}},{"$f":"HLOOKUP(\"Dichte\",pqidat!A$4:BZ$1000,$A44+1,FALSE)","v":{"$error":"#N/A"}},{"$f":"HLOOKUP(\"Verdichtung\",pqidat!A$4:BZ$1000,$A44+1,FALSE)","v":{"$error":"#N/A"}},{"$f":"HLOOKUP(\"Temp. OberflÃ¤che\",pqidat!A$4:BZ$1000,$A44+1,FALSE)","v":{"$error":"#N/A"}},{"$f":"HLOOKUP(\"GPS\",pqidat!A$4:BZ$1000,$A44+1,FALSE)","v":{"$error":"#N/A"}},{"$f":"HLOOKUP(\"Korrektur\",pqidat!A$4:BZ$1000,$A44+1,FALSE)","v":{"$error":"#N/A"}}]
["35",{"$f":"IF(ISBLANK(HLOOKUP(\"Raumdichte\",pqidat!$A$4:$BZ$500,$A45+1,FALSE)),\"\",A45)","v":"35"},{"$f":"HLOOKUP(\"Asphaltsorte\",pqidat!A$4:BZ$1000,$A45+1,FALSE)","v":{"$error":"#N/A"}},{"$f":"HLOOKUP(\"Standort\",pqidat!A$4:BZ$1000,$A45+1,FALSE)&\" \"&INDEX(pqidat!$A$1:$Z$1000,A45+4,MATCH(\"Standort\",pqidat!$A$4:$Z$4,0)+1)","v":{"$error":"#N/A"}},{"$f":"HLOOKUP(\"Station\",pqidat!A$4:BZ$1000,$A45+1,FALSE)","v":{"$error":"#N/A"}},{"$f":"HLOOKUP(\"Dichte\",pqidat!A$4:BZ$1000,$A45+1,FALSE)","v":{"$error":"#N/A"}},{"$f":"HLOOKUP(\"Verdichtung\",pqidat!A$4:BZ$1000,$A45+1,FALSE)","v":{"$error":"#N/A"}},{"$f":"HLOOKUP(\"Temp. OberflÃ¤che\",pqidat!A$4:BZ$1000,$A45+1,FALSE)","v":{"$error":"#N/A"}},{"$f":"HLOOKUP(\"GPS\",pqidat!A$4:BZ$1000,$A45+1,FALSE)","v":{"$error":"#N/A"}},{"$f":"HLOOKUP(\"Korrektur\",pqidat!A$4:BZ$1000,$A45+1,FALSE)","v":{"$error":"#N/A"}}]
["36",{"$f":"IF(ISBLANK(HLOOKUP(\"Raumdichte\",pqidat!$A$4:$BZ$500,$A46+1,FALSE)),\"\",A46)","v":"36"},{"$f":"HLOOKUP(\"Asphaltsorte\",pqidat!A$4:BZ$1000,$A46+1,FALSE)","v":{"$error":"#N/A"}},{"$f":"HLOOKUP(\"Standort\",pqidat!A$4:BZ$1000,$A46+1,FALSE)&\" \"&INDEX(pqidat!$A$1:$Z$1000,A46+4,MATCH(\"Standort\",pqidat!$A$4:$Z$4,0)+1)","v":{"$error":"#N/A"}},{"$f":"HLOOKUP(\"Station\",pqidat!A$4:BZ$1000,$A46+1,FALSE)","v":{"$error":"#N/A"}},{"$f":"HLOOKUP(\"Dichte\",pqidat!A$4:BZ$1000,$A46+1,FALSE)","v":{"$error":"#N/A"}},{"$f":"HLOOKUP(\"Verdichtung\",pqidat!A$4:BZ$1000,$A46+1,FALSE)","v":{"$error":"#N/A"}},{"$f":"HLOOKUP(\"Temp. OberflÃ¤che\",pqidat!A$4:BZ$1000,$A46+1,FALSE)","v":{"$error":"#N/A"}},{"$f":"HLOOKUP(\"GPS\",pqidat!A$4:BZ$1000,$A46+1,FALSE)","v":{"$error":"#N/A"}},{"$f":"HLOOKUP(\"Korrektur\",pqidat!A$4:BZ$1000,$A46+1,FALSE)","v":{"$error":"#N/A"}}]
["37",{"$f":"IF(ISBLANK(HLOOKUP(\"Raumdichte\",pqidat!$A$4:$BZ$500,$A47+1,FALSE)),\"\",A47)","v":"37"},{"$f":"HLOOKUP(\"Asphaltsorte\",pqidat!A$4:BZ$1000,$A47+1,FALSE)","v":{"$error":"#N/A"}},{"$f":"HLOOKUP(\"Standort\",pqidat!A$4:BZ$1000,$A47+1,FALSE)&\" \"&INDEX(pqidat!$A$1:$Z$1000,A47+4,MATCH(\"Standort\",pqidat!$A$4:$Z$4,0)+1)","v":{"$error":"#N/A"}},{"$f":"HLOOKUP(\"Station\",pqidat!A$4:BZ$1000,$A47+1,FALSE)","v":{"$error":"#N/A"}},{"$f":"HLOOKUP(\"Dichte\",pqidat!A$4:BZ$1000,$A47+1,FALSE)","v":{"$error":"#N/A"}},{"$f":"HLOOKUP(\"Verdichtung\",pqidat!A$4:BZ$1000,$A47+1,FALSE)","v":{"$error":"#N/A"}},{"$f":"HLOOKUP(\"Temp. OberflÃ¤che\",pqidat!A$4:BZ$1000,$A47+1,FALSE)","v":{"$error":"#N/A"}},{"$f":"HLOOKUP(\"GPS\",pqidat!A$4:BZ$1000,$A47+1,FALSE)","v":{"$error":"#N/A"}},{"$f":"HLOOKUP(\"Korrektur\",pqidat!A$4:BZ$1000,$A47+1,FALSE)","v":{"$error":"#N/A"}}]
["38",{"$f":"IF(ISBLANK(HLOOKUP(\"Raumdichte\",pqidat!$A$4:$BZ$500,$A48+1,FALSE)),\"\",A48)","v":"38"},{"$f":"HLOOKUP(\"Asphaltsorte\",pqidat!A$4:BZ$1000,$A48+1,FALSE)","v":{"$error":"#N/A"}},{"$f":"HLOOKUP(\"Standort\",pqidat!A$4:BZ$1000,$A48+1,FALSE)&\" \"&INDEX(pqidat!$A$1:$Z$1000,A48+4,MATCH(\"Standort\",pqidat!$A$4:$Z$4,0)+1)","v":{"$error":"#N/A"}},{"$f":"HLOOKUP(\"Station\",pqidat!A$4:BZ$1000,$A48+1,FALSE)","v":{"$error":"#N/A"}},{"$f":"HLOOKUP(\"Dichte\",pqidat!A$4:BZ$1000,$A48+1,FALSE)","v":{"$error":"#N/A"}},{"$f":"HLOOKUP(\"Verdichtung\",pqidat!A$4:BZ$1000,$A48+1,FALSE)","v":{"$error":"#N/A"}},{"$f":"HLOOKUP(\"Temp. OberflÃ¤che\",pqidat!A$4:BZ$1000,$A48+1,FALSE)","v":{"$error":"#N/A"}},{"$f":"HLOOKUP(\"GPS\",pqidat!A$4:BZ$1000,$A48+1,FALSE)","v":{"$error":"#N/A"}},{"$f":"HLOOKUP(\"Korrektur\",pqidat!A$4:BZ$1000,$A48+1,FALSE)","v":{"$error":"#N/A"}}]
["39",{"$f":"IF(ISBLANK(HLOOKUP(\"Raumdichte\",pqidat!$A$4:$BZ$500,$A49+1,FALSE)),\"\",A49)","v":"39"},{"$f":"HLOOKUP(\"Asphaltsorte\",pqidat!A$4:BZ$1000,$A49+1,FALSE)","v":{"$error":"#N/A"}},{"$f":"HLOOKUP(\"Standort\",pqidat!A$4:BZ$1000,$A49+1,FALSE)&\" \"&INDEX(pqidat!$A$1:$Z$1000,A49+4,MATCH(\"Standort\",pqidat!$A$4:$Z$4,0)+1)","v":{"$error":"#N/A"}},{"$f":"HLOOKUP(\"Station\",pqidat!A$4:BZ$1000,$A49+1,FALSE)","v":{"$error":"#N/A"}},{"$f":"HLOOKUP(\"Dichte\",pqidat!A$4:BZ$1000,$A49+1,FALSE)","v":{"$error":"#N/A"}},{"$f":"HLOOKUP(\"Verdichtung\",pqidat!A$4:BZ$1000,$A49+1,FALSE)","v":{"$error":"#N/A"}},{"$f":"HLOOKUP(\"Temp. OberflÃ¤che\",pqidat!A$4:BZ$1000,$A49+1,FALSE)","v":{"$error":"#N/A"}},{"$f":"HLOOKUP(\"GPS\",pqidat!A$4:BZ$1000,$A49+1,FALSE)","v":{"$error":"#N/A"}},{"$f":"HLOOKUP(\"Korrektur\",pqidat!A$4:BZ$1000,$A49+1,FALSE)","v":{"$error":"#N/A"}}]
["40",{"$f":"IF(ISBLANK(HLOOKUP(\"Raumdichte\",pqidat!$A$4:$BZ$500,$A50+1,FALSE)),\"\",A50)","v":"40"},{"$f":"HLOOKUP(\"Asphaltsorte\",pqidat!A$4:BZ$1000,$A50+1,FALSE)","v":{"$error":"#N/A"}},{"$f":"HLOOKUP(\"Standort\",pqidat!A$4:BZ$1000,$A50+1,FALSE)&\" \"&INDEX(pqidat!$A$1:$Z$1000,A50+4,MATCH(\"Standort\",pqidat!$A$4:$Z$4,0)+1)","v":{"$error":"#N/A"}},{"$f":"HLOOKUP(\"Station\",pqidat!A$4:BZ$1000,$A50+1,FALSE)","v":{"$error":"#N/A"}},{"$f":"HLOOKUP(\"Dichte\",pqidat!A$4:BZ$1000,$A50+1,FALSE)","v":{"$error":"#N/A"}},{"$f":"HLOOKUP(\"Verdichtung\",pqidat!A$4:BZ$1000,$A50+1,FALSE)","v":{"$error":"#N/A"}},{"$f":"HLOOKUP(\"Temp. OberflÃ¤che\",pqidat!A$4:BZ$1000,$A50+1,FALSE)","v":{"$error":"#N/A"}},{"$f":"HLOOKUP(\"GPS\",pqidat!A$4:BZ$1000,$A50+1,FALSE)","v":{"$error":"#N/A"}},{"$f":"HLOOKUP(\"Korrektur\",pqidat!A$4:BZ$1000,$A50+1,FALSE)","v":{"$error":"#N/A"}}]
["41",{"$f":"IF(ISBLANK(HLOOKUP(\"Raumdichte\",pqidat!$A$4:$BZ$500,$A51+1,FALSE)),\"\",A51)","v":"41"},{"$f":"HLOOKUP(\"Asphaltsorte\",pqidat!A$4:BZ$1000,$A51+1,FALSE)","v":{"$error":"#N/A"}},{"$f":"HLOOKUP(\"Standort\",pqidat!A$4:BZ$1000,$A51+1,FALSE)&\" \"&INDEX(pqidat!$A$1:$Z$1000,A51+4,MATCH(\"Standort\",pqidat!$A$4:$Z$4,0)+1)","v":{"$error":"#N/A"}},{"$f":"HLOOKUP(\"Station\",pqidat!A$4:BZ$1000,$A51+1,FALSE)","v":{"$error":"#N/A"}},{"$f":"HLOOKUP(\"Dichte\",pqidat!A$4:BZ$1000,$A51+1,FALSE)","v":{"$error":"#N/A"}},{"$f":"HLOOKUP(\"Verdichtung\",pqidat!A$4:BZ$1000,$A51+1,FALSE)","v":{"$error":"#N/A"}},{"$f":"HLOOKUP(\"Temp. OberflÃ¤che\",pqidat!A$4:BZ$1000,$A51+1,FALSE)","v":{"$error":"#N/A"}},{"$f":"HLOOKUP(\"GPS\",pqidat!A$4:BZ$1000,$A51+1,FALSE)","v":{"$error":"#N/A"}},{"$f":"HLOOKUP(\"Korrektur\",pqidat!A$4:BZ$1000,$A51+1,FALSE)","v":{"$error":"#N/A"}}]
["42",{"$f":"IF(ISBLANK(HLOOKUP(\"Raumdichte\",pqidat!$A$4:$BZ$500,$A52+1,FALSE)),\"\",A52)","v":"42"},{"$f":"HLOOKUP(\"Asphaltsorte\",pqidat!A$4:BZ$1000,$A52+1,FALSE)","v":{"$error":"#N/A"}},{"$f":"HLOOKUP(\"Standort\",pqidat!A$4:BZ$1000,$A52+1,FALSE)&\" \"&INDEX(pqidat!$A$1:$Z$1000,A52+4,MATCH(\"Standort\",pqidat!$A$4:$Z$4,0)+1)","v":{"$error":"#N/A"}},{"$f":"HLOOKUP(\"Station\",pqidat!A$4:BZ$1000,$A52+1,FALSE)","v":{"$error":"#N/A"}},{"$f":"HLOOKUP(\"Dichte\",pqidat!A$4:BZ$1000,$A52+1,FALSE)","v":{"$error":"#N/A"}},{"$f":"HLOOKUP(\"Verdichtung\",pqidat!A$4:BZ$1000,$A52+1,FALSE)","v":{"$error":"#N/A"}},{"$f":"HLOOKUP(\"Temp. OberflÃ¤che\",pqidat!A$4:BZ$1000,$A52+1,FALSE)","v":{"$error":"#N/A"}},{"$f":"HLOOKUP(\"GPS\",pqidat!A$4:BZ$1000,$A52+1,FALSE)","v":{"$error":"#N/A"}},{"$f":"HLOOKUP(\"Korrektur\",pqidat!A$4:BZ$1000,$A52+1,FALSE)","v":{"$error":"#N/A"}}]
["43",{"$f":"IF(ISBLANK(HLOOKUP(\"Raumdichte\",pqidat!$A$4:$BZ$500,$A53+1,FALSE)),\"\",A53)","v":"43"},{"$f":"HLOOKUP(\"Asphaltsorte\",pqidat!A$4:BZ$1000,$A53+1,FALSE)","v":{"$error":"#N/A"}},{"$f":"HLOOKUP(\"Standort\",pqidat!A$4:BZ$1000,$A53+1,FALSE)&\" \"&INDEX(pqidat!$A$1:$Z$1000,A53+4,MATCH(\"Standort\",pqidat!$A$4:$Z$4,0)+1)","v":{"$error":"#N/A"}},{"$f":"HLOOKUP(\"Station\",pqidat!A$4:BZ$1000,$A53+1,FALSE)","v":{"$error":"#N/A"}},{"$f":"HLOOKUP(\"Dichte\",pqidat!A$4:BZ$1000,$A53+1,FALSE)","v":{"$error":"#N/A"}},{"$f":"HLOOKUP(\"Verdichtung\",pqidat!A$4:BZ$1000,$A53+1,FALSE)","v":{"$error":"#N/A"}},{"$f":"HLOOKUP(\"Temp. OberflÃ¤che\",pqidat!A$4:BZ$1000,$A53+1,FALSE)","v":{"$error":"#N/A"}},{"$f":"HLOOKUP(\"GPS\",pqidat!A$4:BZ$1000,$A53+1,FALSE)","v":{"$error":"#N/A"}},{"$f":"HLOOKUP(\"Korrektur\",pqidat!A$4:BZ$1000,$A53+1,FALSE)","v":{"$error":"#N/A"}}]
["44",{"$f":"IF(ISBLANK(HLOOKUP(\"Raumdichte\",pqidat!$A$4:$BZ$500,$A54+1,FALSE)),\"\",A54)","v":"44"},{"$f":"HLOOKUP(\"Asphaltsorte\",pqidat!A$4:BZ$1000,$A54+1,FALSE)","v":{"$error":"#N/A"}},{"$f":"HLOOKUP(\"Standort\",pqidat!A$4:BZ$1000,$A54+1,FALSE)&\" \"&INDEX(pqidat!$A$1:$Z$1000,A54+4,MATCH(\"Standort\",pqidat!$A$4:$Z$4,0)+1)","v":{"$error":"#N/A"}},{"$f":"HLOOKUP(\"Station\",pqidat!A$4:BZ$1000,$A54+1,FALSE)","v":{"$error":"#N/A"}},{"$f":"HLOOKUP(\"Dichte\",pqidat!A$4:BZ$1000,$A54+1,FALSE)","v":{"$error":"#N/A"}},{"$f":"HLOOKUP(\"Verdichtung\",pqidat!A$4:BZ$1000,$A54+1,FALSE)","v":{"$error":"#N/A"}},{"$f":"HLOOKUP(\"Temp. OberflÃ¤che\",pqidat!A$4:BZ$1000,$A54+1,FALSE)","v":{"$error":"#N/A"}},{"$f":"HLOOKUP(\"GPS\",pqidat!A$4:BZ$1000,$A54+1,FALSE)","v":{"$error":"#N/A"}},{"$f":"HLOOKUP(\"Korrektur\",pqidat!A$4:BZ$1000,$A54+1,FALSE)","v":{"$error":"#N/A"}}]
["45",{"$f":"IF(ISBLANK(HLOOKUP(\"Raumdichte\",pqidat!$A$4:$BZ$500,$A55+1,FALSE)),\"\",A55)","v":"45"},{"$f":"HLOOKUP(\"Asphaltsorte\",pqidat!A$4:BZ$1000,$A55+1,FALSE)","v":{"$error":"#N/A"}},{"$f":"HLOOKUP(\"Standort\",pqidat!A$4:BZ$1000,$A55+1,FALSE)&\" \"&INDEX(pqidat!$A$1:$Z$1000,A55+4,MATCH(\"Standort\",pqidat!$A$4:$Z$4,0)+1)","v":{"$error":"#N/A"}},{"$f":"HLOOKUP(\"Station\",pqidat!A$4:BZ$1000,$A55+1,FALSE)","v":{"$error":"#N/A"}},{"$f":"HLOOKUP(\"Dichte\",pqidat!A$4:BZ$1000,$A55+1,FALSE)","v":{"$error":"#N/A"}},{"$f":"HLOOKUP(\"Verdichtung\",pqidat!A$4:BZ$1000,$A55+1,FALSE)","v":{"$error":"#N/A"}},{"$f":"HLOOKUP(\"Temp. OberflÃ¤che\",pqidat!A$4:BZ$1000,$A55+1,FALSE)","v":{"$error":"#N/A"}},{"$f":"HLOOKUP(\"GPS\",pqidat!A$4:BZ$1000,$A55+1,FALSE)","v":{"$error":"#N/A"}},{"$f":"HLOOKUP(\"Korrektur\",pqidat!A$4:BZ$1000,$A55+1,FALSE)","v":{"$error":"#N/A"}}]
["46",{"$f":"IF(ISBLANK(HLOOKUP(\"Raumdichte\",pqidat!$A$4:$BZ$500,$A56+1,FALSE)),\"\",A56)","v":"46"},{"$f":"HLOOKUP(\"Asphaltsorte\",pqidat!A$4:BZ$1000,$A56+1,FALSE)","v":{"$error":"#N/A"}},{"$f":"HLOOKUP(\"Standort\",pqidat!A$4:BZ$1000,$A56+1,FALSE)&\" \"&INDEX(pqidat!$A$1:$Z$1000,A56+4,MATCH(\"Standort\",pqidat!$A$4:$Z$4,0)+1)","v":{"$error":"#N/A"}},{"$f":"HLOOKUP(\"Station\",pqidat!A$4:BZ$1000,$A56+1,FALSE)","v":{"$error":"#N/A"}},{"$f":"HLOOKUP(\"Dichte\",pqidat!A$4:BZ$1000,$A56+1,FALSE)","v":{"$error":"#N/A"}},{"$f":"HLOOKUP(\"Verdichtung\",pqidat!A$4:BZ$1000,$A56+1,FALSE)","v":{"$error":"#N/A"}},{"$f":"HLOOKUP(\"Temp. OberflÃ¤che\",pqidat!A$4:BZ$1000,$A56+1,FALSE)","v":{"$error":"#N/A"}},{"$f":"HLOOKUP(\"GPS\",pqidat!A$4:BZ$1000,$A56+1,FALSE)","v":{"$error":"#N/A"}},{"$f":"HLOOKUP(\"Korrektur\",pqidat!A$4:BZ$1000,$A56+1,FALSE)","v":{"$error":"#N/A"}}]
["47",{"$f":"IF(ISBLANK(HLOOKUP(\"Raumdichte\",pqidat!$A$4:$BZ$500,$A57+1,FALSE)),\"\",A57)","v":"47"},{"$f":"HLOOKUP(\"Asphaltsorte\",pqidat!A$4:BZ$1000,$A57+1,FALSE)","v":{"$error":"#N/A"}},{"$f":"HLOOKUP(\"Standort\",pqidat!A$4:BZ$1000,$A57+1,FALSE)&\" \"&INDEX(pqidat!$A$1:$Z$1000,A57+4,MATCH(\"Standort\",pqidat!$A$4:$Z$4,0)+1)","v":{"$error":"#N/A"}},{"$f":"HLOOKUP(\"Station\",pqidat!A$4:BZ$1000,$A57+1,FALSE)","v":{"$error":"#N/A"}},{"$f":"HLOOKUP(\"Dichte\",pqidat!A$4:BZ$1000,$A57+1,FALSE)","v":{"$error":"#N/A"}},{"$f":"HLOOKUP(\"Verdichtung\",pqidat!A$4:BZ$1000,$A57+1,FALSE)","v":{"$error":"#N/A"}},{"$f":"HLOOKUP(\"Temp. OberflÃ¤che\",pqidat!A$4:BZ$1000,$A57+1,FALSE)","v":{"$error":"#N/A"}},{"$f":"HLOOKUP(\"GPS\",pqidat!A$4:BZ$1000,$A57+1,FALSE)","v":{"$error":"#N/A"}},{"$f":"HLOOKUP(\"Korrektur\",pqidat!A$4:BZ$1000,$A57+1,FALSE)","v":{"$error":"#N/A"}}]
["48",{"$f":"IF(ISBLANK(HLOOKUP(\"Raumdichte\",pqidat!$A$4:$BZ$500,$A58+1,FALSE)),\"\",A58)","v":"48"},{"$f":"HLOOKUP(\"Asphaltsorte\",pqidat!A$4:BZ$1000,$A58+1,FALSE)","v":{"$error":"#N/A"}},{"$f":"HLOOKUP(\"Standort\",pqidat!A$4:BZ$1000,$A58+1,FALSE)&\" \"&INDEX(pqidat!$A$1:$Z$1000,A58+4,MATCH(\"Standort\",pqidat!$A$4:$Z$4,0)+1)","v":{"$error":"#N/A"}},{"$f":"HLOOKUP(\"Station\",pqidat!A$4:BZ$1000,$A58+1,FALSE)","v":{"$error":"#N/A"}},{"$f":"HLOOKUP(\"Dichte\",pqidat!A$4:BZ$1000,$A58+1,FALSE)","v":{"$error":"#N/A"}},{"$f":"HLOOKUP(\"Verdichtung\",pqidat!A$4:BZ$1000,$A58+1,FALSE)","v":{"$error":"#N/A"}},{"$f":"HLOOKUP(\"Temp. OberflÃ¤che\",pqidat!A$4:BZ$1000,$A58+1,FALSE)","v":{"$error":"#N/A"}},{"$f":"HLOOKUP(\"GPS\",pqidat!A$4:BZ$1000,$A58+1,FALSE)","v":{"$error":"#N/A"}},{"$f":"HLOOKUP(\"Korrektur\",pqidat!A$4:BZ$1000,$A58+1,FALSE)","v":{"$error":"#N/A"}}]
["49",{"$f":"IF(ISBLANK(HLOOKUP(\"Raumdichte\",pqidat!$A$4:$BZ$500,$A59+1,FALSE)),\"\",A59)","v":"49"},{"$f":"HLOOKUP(\"Asphaltsorte\",pqidat!A$4:BZ$1000,$A59+1,FALSE)","v":{"$error":"#N/A"}},{"$f":"HLOOKUP(\"Standort\",pqidat!A$4:BZ$1000,$A59+1,FALSE)&\" \"&INDEX(pqidat!$A$1:$Z$1000,A59+4,MATCH(\"Standort\",pqidat!$A$4:$Z$4,0)+1)","v":{"$error":"#N/A"}},{"$f":"HLOOKUP(\"Station\",pqidat!A$4:BZ$1000,$A59+1,FALSE)","v":{"$error":"#N/A"}},{"$f":"HLOOKUP(\"Dichte\",pqidat!A$4:BZ$1000,$A59+1,FALSE)","v":{"$error":"#N/A"}},{"$f":"HLOOKUP(\"Verdichtung\",pqidat!A$4:BZ$1000,$A59+1,FALSE)","v":{"$error":"#N/A"}},{"$f":"HLOOKUP(\"Temp. OberflÃ¤che\",pqidat!A$4:BZ$1000,$A59+1,FALSE)","v":{"$error":"#N/A"}},{"$f":"HLOOKUP(\"GPS\",pqidat!A$4:BZ$1000,$A59+1,FALSE)","v":{"$error":"#N/A"}},{"$f":"HLOOKUP(\"Korrektur\",pqidat!A$4:BZ$1000,$A59+1,FALSE)","v":{"$error":"#N/A"}}]
["50",{"$f":"IF(ISBLANK(HLOOKUP(\"Raumdichte\",pqidat!$A$4:$BZ$500,$A60+1,FALSE)),\"\",A60)","v":"50"},{"$f":"HLOOKUP(\"Asphaltsorte\",pqidat!A$4:BZ$1000,$A60+1,FALSE)","v":{"$error":"#N/A"}},{"$f":"HLOOKUP(\"Standort\",pqidat!A$4:BZ$1000,$A60+1,FALSE)&\" \"&INDEX(pqidat!$A$1:$Z$1000,A60+4,MATCH(\"Standort\",pqidat!$A$4:$Z$4,0)+1)","v":{"$error":"#N/A"}},{"$f":"HLOOKUP(\"Station\",pqidat!A$4:BZ$1000,$A60+1,FALSE)","v":{"$error":"#N/A"}},{"$f":"HLOOKUP(\"Dichte\",pqidat!A$4:BZ$1000,$A60+1,FALSE)","v":{"$error":"#N/A"}},{"$f":"HLOOKUP(\"Verdichtung\",pqidat!A$4:BZ$1000,$A60+1,FALSE)","v":{"$error":"#N/A"}},{"$f":"HLOOKUP(\"Temp. OberflÃ¤che\",pqidat!A$4:BZ$1000,$A60+1,FALSE)","v":{"$error":"#N/A"}},{"$f":"HLOOKUP(\"GPS\",pqidat!A$4:BZ$1000,$A60+1,FALSE)","v":{"$error":"#N/A"}},{"$f":"HLOOKUP(\"Korrektur\",pqidat!A$4:BZ$1000,$A60+1,FALSE)","v":{"$error":"#N/A"}}]
["51",{"$f":"IF(ISBLANK(HLOOKUP(\"Raumdichte\",pqidat!$A$4:$BZ$500,$A61+1,FALSE)),\"\",A61)","v":"51"},{"$f":"HLOOKUP(\"Asphaltsorte\",pqidat!A$4:BZ$1000,$A61+1,FALSE)","v":{"$error":"#N/A"}},{"$f":"HLOOKUP(\"Standort\",pqidat!A$4:BZ$1000,$A61+1,FALSE)&\" \"&INDEX(pqidat!$A$1:$Z$1000,A61+4,MATCH(\"Standort\",pqidat!$A$4:$Z$4,0)+1)","v":{"$error":"#N/A"}},{"$f":"HLOOKUP(\"Station\",pqidat!A$4:BZ$1000,$A61+1,FALSE)","v":{"$error":"#N/A"}},{"$f":"HLOOKUP(\"Dichte\",pqidat!A$4:BZ$1000,$A61+1,FALSE)","v":{"$error":"#N/A"}},{"$f":"HLOOKUP(\"Verdichtung\",pqidat!A$4:BZ$1000,$A61+1,FALSE)","v":{"$error":"#N/A"}},{"$f":"HLOOKUP(\"Temp. OberflÃ¤che\",pqidat!A$4:BZ$1000,$A61+1,FALSE)","v":{"$error":"#N/A"}},{"$f":"HLOOKUP(\"GPS\",pqidat!A$4:BZ$1000,$A61+1,FALSE)","v":{"$error":"#N/A"}},{"$f":"HLOOKUP(\"Korrektur\",pqidat!A$4:BZ$1000,$A61+1,FALSE)","v":{"$error":"#N/A"}}]
["52",{"$f":"IF(ISBLANK(HLOOKUP(\"Raumdichte\",pqidat!$A$4:$BZ$500,$A62+1,FALSE)),\"\",A62)","v":"52"},{"$f":"HLOOKUP(\"Asphaltsorte\",pqidat!A$4:BZ$1000,$A62+1,FALSE)","v":{"$error":"#N/A"}},{"$f":"HLOOKUP(\"Standort\",pqidat!A$4:BZ$1000,$A62+1,FALSE)&\" \"&INDEX(pqidat!$A$1:$Z$1000,A62+4,MATCH(\"Standort\",pqidat!$A$4:$Z$4,0)+1)","v":{"$error":"#N/A"}},{"$f":"HLOOKUP(\"Station\",pqidat!A$4:BZ$1000,$A62+1,FALSE)","v":{"$error":"#N/A"}},{"$f":"HLOOKUP(\"Dichte\",pqidat!A$4:BZ$1000,$A62+1,FALSE)","v":{"$error":"#N/A"}},{"$f":"HLOOKUP(\"Verdichtung\",pqidat!A$4:BZ$1000,$A62+1,FALSE)","v":{"$error":"#N/A"}},{"$f":"HLOOKUP(\"Temp. OberflÃ¤che\",pqidat!A$4:BZ$1000,$A62+1,FALSE)","v":{"$error":"#N/A"}},{"$f":"HLOOKUP(\"GPS\",pqidat!A$4:BZ$1000,$A62+1,FALSE)","v":{"$error":"#N/A"}},{"$f":"HLOOKUP(\"Korrektur\",pqidat!A$4:BZ$1000,$A62+1,FALSE)","v":{"$error":"#N/A"}}]
["53",{"$f":"IF(ISBLANK(HLOOKUP(\"Raumdichte\",pqidat!$A$4:$BZ$500,$A63+1,FALSE)),\"\",A63)","v":"53"},{"$f":"HLOOKUP(\"Asphaltsorte\",pqidat!A$4:BZ$1000,$A63+1,FALSE)","v":{"$error":"#N/A"}},{"$f":"HLOOKUP(\"Standort\",pqidat!A$4:BZ$1000,$A63+1,FALSE)&\" \"&INDEX(pqidat!$A$1:$Z$1000,A63+4,MATCH(\"Standort\",pqidat!$A$4:$Z$4,0)+1)","v":{"$error":"#N/A"}},{"$f":"HLOOKUP(\"Station\",pqidat!A$4:BZ$1000,$A63+1,FALSE)","v":{"$error":"#N/A"}},{"$f":"HLOOKUP(\"Dichte\",pqidat!A$4:BZ$1000,$A63+1,FALSE)","v":{"$error":"#N/A"}},{"$f":"HLOOKUP(\"Verdichtung\",pqidat!A$4:BZ$1000,$A63+1,FALSE)","v":{"$error":"#N/A"}},{"$f":"HLOOKUP(\"Temp. OberflÃ¤che\",pqidat!A$4:BZ$1000,$A63+1,FALSE)","v":{"$error":"#N/A"}},{"$f":"HLOOKUP(\"GPS\",pqidat!A$4:BZ$1000,$A63+1,FALSE)","v":{"$error":"#N/A"}},{"$f":"HLOOKUP(\"Korrektur\",pqidat!A$4:BZ$1000,$A63+1,FALSE)","v":{"$error":"#N/A"}}]
["54",{"$f":"IF(ISBLANK(HLOOKUP(\"Raumdichte\",pqidat!$A$4:$BZ$500,$A64+1,FALSE)),\"\",A64)","v":"54"},{"$f":"HLOOKUP(\"Asphaltsorte\",pqidat!A$4:BZ$1000,$A64+1,FALSE)","v":{"$error":"#N/A"}},{"$f":"HLOOKUP(\"Standort\",pqidat!A$4:BZ$1000,$A64+1,FALSE)&\" \"&INDEX(pqidat!$A$1:$Z$1000,A64+4,MATCH(\"Standort\",pqidat!$A$4:$Z$4,0)+1)","v":{"$error":"#N/A"}},{"$f":"HLOOKUP(\"Station\",pqidat!A$4:BZ$1000,$A64+1,FALSE)","v":{"$error":"#N/A"}},{"$f":"HLOOKUP(\"Dichte\",pqidat!A$4:BZ$1000,$A64+1,FALSE)","v":{"$error":"#N/A"}},{"$f":"HLOOKUP(\"Verdichtung\",pqidat!A$4:BZ$1000,$A64+1,FALSE)","v":{"$error":"#N/A"}},{"$f":"HLOOKUP(\"Temp. OberflÃ¤che\",pqidat!A$4:BZ$1000,$A64+1,FALSE)","v":{"$error":"#N/A"}},{"$f":"HLOOKUP(\"GPS\",pqidat!A$4:BZ$1000,$A64+1,FALSE)","v":{"$error":"#N/A"}},{"$f":"HLOOKUP(\"Korrektur\",pqidat!A$4:BZ$1000,$A64+1,FALSE)","v":{"$error":"#N/A"}}]
["55",{"$f":"IF(ISBLANK(HLOOKUP(\"Raumdichte\",pqidat!$A$4:$BZ$500,$A65+1,FALSE)),\"\",A65)","v":"55"},{"$f":"HLOOKUP(\"Asphaltsorte\",pqidat!A$4:BZ$1000,$A65+1,FALSE)","v":{"$error":"#N/A"}},{"$f":"HLOOKUP(\"Standort\",pqidat!A$4:BZ$1000,$A65+1,FALSE)&\" \"&INDEX(pqidat!$A$1:$Z$1000,A65+4,MATCH(\"Standort\",pqidat!$A$4:$Z$4,0)+1)","v":{"$error":"#N/A"}},{"$f":"HLOOKUP(\"Station\",pqidat!A$4:BZ$1000,$A65+1,FALSE)","v":{"$error":"#N/A"}},{"$f":"HLOOKUP(\"Dichte\",pqidat!A$4:BZ$1000,$A65+1,FALSE)","v":{"$error":"#N/A"}},{"$f":"HLOOKUP(\"Verdichtung\",pqidat!A$4:BZ$1000,$A65+1,FALSE)","v":{"$error":"#N/A"}},{"$f":"HLOOKUP(\"Temp. OberflÃ¤che\",pqidat!A$4:BZ$1000,$A65+1,FALSE)","v":{"$error":"#N/A"}},{"$f":"HLOOKUP(\"GPS\",pqidat!A$4:BZ$1000,$A65+1,FALSE)","v":{"$error":"#N/A"}},{"$f":"HLOOKUP(\"Korrektur\",pqidat!A$4:BZ$1000,$A65+1,FALSE)","v":{"$error":"#N/A"}}]
["56",{"$f":"IF(ISBLANK(HLOOKUP(\"Raumdichte\",pqidat!$A$4:$BZ$500,$A66+1,FALSE)),\"\",A66)","v":"56"},{"$f":"HLOOKUP(\"Asphaltsorte\",pqidat!A$4:BZ$1000,$A66+1,FALSE)","v":{"$error":"#N/A"}},{"$f":"HLOOKUP(\"Standort\",pqidat!A$4:BZ$1000,$A66+1,FALSE)&\" \"&INDEX(pqidat!$A$1:$Z$1000,A66+4,MATCH(\"Standort\",pqidat!$A$4:$Z$4,0)+1)","v":{"$error":"#N/A"}},{"$f":"HLOOKUP(\"Station\",pqidat!A$4:BZ$1000,$A66+1,FALSE)","v":{"$error":"#N/A"}},{"$f":"HLOOKUP(\"Dichte\",pqidat!A$4:BZ$1000,$A66+1,FALSE)","v":{"$error":"#N/A"}},{"$f":"HLOOKUP(\"Verdichtung\",pqidat!A$4:BZ$1000,$A66+1,FALSE)","v":{"$error":"#N/A"}},{"$f":"HLOOKUP(\"Temp. OberflÃ¤che\",pqidat!A$4:BZ$1000,$A66+1,FALSE)","v":{"$error":"#N/A"}},{"$f":"HLOOKUP(\"GPS\",pqidat!A$4:BZ$1000,$A66+1,FALSE)","v":{"$error":"#N/A"}},{"$f":"HLOOKUP(\"Korrektur\",pqidat!A$4:BZ$1000,$A66+1,FALSE)","v":{"$error":"#N/A"}}]
["57",{"$f":"IF(ISBLANK(HLOOKUP(\"Raumdichte\",pqidat!$A$4:$BZ$500,$A67+1,FALSE)),\"\",A67)","v":"57"},{"$f":"HLOOKUP(\"Asphaltsorte\",pqidat!A$4:BZ$1000,$A67+1,FALSE)","v":{"$error":"#N/A"}},{"$f":"HLOOKUP(\"Standort\",pqidat!A$4:BZ$1000,$A67+1,FALSE)&\" \"&INDEX(pqidat!$A$1:$Z$1000,A67+4,MATCH(\"Standort\",pqidat!$A$4:$Z$4,0)+1)","v":{"$error":"#N/A"}},{"$f":"HLOOKUP(\"Station\",pqidat!A$4:BZ$1000,$A67+1,FALSE)","v":{"$error":"#N/A"}},{"$f":"HLOOKUP(\"Dichte\",pqidat!A$4:BZ$1000,$A67+1,FALSE)","v":{"$error":"#N/A"}},{"$f":"HLOOKUP(\"Verdichtung\",pqidat!A$4:BZ$1000,$A67+1,FALSE)","v":{"$error":"#N/A"}},{"$f":"HLOOKUP(\"Temp. OberflÃ¤che\",pqidat!A$4:BZ$1000,$A67+1,FALSE)","v":{"$error":"#N/A"}},{"$f":"HLOOKUP(\"GPS\",pqidat!A$4:BZ$1000,$A67+1,FALSE)","v":{"$error":"#N/A"}},{"$f":"HLOOKUP(\"Korrektur\",pqidat!A$4:BZ$1000,$A67+1,FALSE)","v":{"$error":"#N/A"}}]
["58",{"$f":"IF(ISBLANK(HLOOKUP(\"Raumdichte\",pqidat!$A$4:$BZ$500,$A68+1,FALSE)),\"\",A68)","v":"58"},{"$f":"HLOOKUP(\"Asphaltsorte\",pqidat!A$4:BZ$1000,$A68+1,FALSE)","v":{"$error":"#N/A"}},{"$f":"HLOOKUP(\"Standort\",pqidat!A$4:BZ$1000,$A68+1,FALSE)&\" \"&INDEX(pqidat!$A$1:$Z$1000,A68+4,MATCH(\"Standort\",pqidat!$A$4:$Z$4,0)+1)","v":{"$error":"#N/A"}},{"$f":"HLOOKUP(\"Station\",pqidat!A$4:BZ$1000,$A68+1,FALSE)","v":{"$error":"#N/A"}},{"$f":"HLOOKUP(\"Dichte\",pqidat!A$4:BZ$1000,$A68+1,FALSE)","v":{"$error":"#N/A"}},{"$f":"HLOOKUP(\"Verdichtung\",pqidat!A$4:BZ$1000,$A68+1,FALSE)","v":{"$error":"#N/A"}},{"$f":"HLOOKUP(\"Temp. OberflÃ¤che\",pqidat!A$4:BZ$1000,$A68+1,FALSE)","v":{"$error":"#N/A"}},{"$f":"HLOOKUP(\"GPS\",pqidat!A$4:BZ$1000,$A68+1,FALSE)","v":{"$error":"#N/A"}},{"$f":"HLOOKUP(\"Korrektur\",pqidat!A$4:BZ$1000,$A68+1,FALSE)","v":{"$error":"#N/A"}}]
["59",{"$f":"IF(ISBLANK(HLOOKUP(\"Raumdichte\",pqidat!$A$4:$BZ$500,$A69+1,FALSE)),\"\",A69)","v":"59"},{"$f":"HLOOKUP(\"Asphaltsorte\",pqidat!A$4:BZ$1000,$A69+1,FALSE)","v":{"$error":"#N/A"}},{"$f":"HLOOKUP(\"Standort\",pqidat!A$4:BZ$1000,$A69+1,FALSE)&\" \"&INDEX(pqidat!$A$1:$Z$1000,A69+4,MATCH(\"Standort\",pqidat!$A$4:$Z$4,0)+1)","v":{"$error":"#N/A"}},{"$f":"HLOOKUP(\"Station\",pqidat!A$4:BZ$1000,$A69+1,FALSE)","v":{"$error":"#N/A"}},{"$f":"HLOOKUP(\"Dichte\",pqidat!A$4:BZ$1000,$A69+1,FALSE)","v":{"$error":"#N/A"}},{"$f":"HLOOKUP(\"Verdichtung\",pqidat!A$4:BZ$1000,$A69+1,FALSE)","v":{"$error":"#N/A"}},{"$f":"HLOOKUP(\"Temp. OberflÃ¤che\",pqidat!A$4:BZ$1000,$A69+1,FALSE)","v":{"$error":"#N/A"}},{"$f":"HLOOKUP(\"GPS\",pqidat!A$4:BZ$1000,$A69+1,FALSE)","v":{"$error":"#N/A"}},{"$f":"HLOOKUP(\"Korrektur\",pqidat!A$4:BZ$1000,$A69+1,FALSE)","v":{"$error":"#N/A"}}]
["60",{"$f":"IF(ISBLANK(HLOOKUP(\"Raumdichte\",pqidat!$A$4:$BZ$500,$A70+1,FALSE)),\"\",A70)","v":"60"},{"$f":"HLOOKUP(\"Asphaltsorte\",pqidat!A$4:BZ$1000,$A70+1,FALSE)","v":{"$error":"#N/A"}},{"$f":"HLOOKUP(\"Standort\",pqidat!A$4:BZ$1000,$A70+1,FALSE)&\" \"&INDEX(pqidat!$A$1:$Z$1000,A70+4,MATCH(\"Standort\",pqidat!$A$4:$Z$4,0)+1)","v":{"$error":"#N/A"}},{"$f":"HLOOKUP(\"Station\",pqidat!A$4:BZ$1000,$A70+1,FALSE)","v":{"$error":"#N/A"}},{"$f":"HLOOKUP(\"Dichte\",pqidat!A$4:BZ$1000,$A70+1,FALSE)","v":{"$error":"#N/A"}},{"$f":"HLOOKUP(\"Verdichtung\",pqidat!A$4:BZ$1000,$A70+1,FALSE)","v":{"$error":"#N/A"}},{"$f":"HLOOKUP(\"Temp. OberflÃ¤che\",pqidat!A$4:BZ$1000,$A70+1,FALSE)","v":{"$error":"#N/A"}},{"$f":"HLOOKUP(\"GPS\",pqidat!A$4:BZ$1000,$A70+1,FALSE)","v":{"$error":"#N/A"}},{"$f":"HLOOKUP(\"Korrektur\",pqidat!A$4:BZ$1000,$A70+1,FALSE)","v":{"$error":"#N/A"}}]
["61",{"$f":"IF(ISBLANK(HLOOKUP(\"Raumdichte\",pqidat!$A$4:$BZ$500,$A71+1,FALSE)),\"\",A71)","v":"61"},{"$f":"HLOOKUP(\"Asphaltsorte\",pqidat!A$4:BZ$1000,$A71+1,FALSE)","v":{"$error":"#N/A"}},{"$f":"HLOOKUP(\"Standort\",pqidat!A$4:BZ$1000,$A71+1,FALSE)&\" \"&INDEX(pqidat!$A$1:$Z$1000,A71+4,MATCH(\"Standort\",pqidat!$A$4:$Z$4,0)+1)","v":{"$error":"#N/A"}},{"$f":"HLOOKUP(\"Station\",pqidat!A$4:BZ$1000,$A71+1,FALSE)","v":{"$error":"#N/A"}},{"$f":"HLOOKUP(\"Dichte\",pqidat!A$4:BZ$1000,$A71+1,FALSE)","v":{"$error":"#N/A"}},{"$f":"HLOOKUP(\"Verdichtung\",pqidat!A$4:BZ$1000,$A71+1,FALSE)","v":{"$error":"#N/A"}},{"$f":"HLOOKUP(\"Temp. OberflÃ¤che\",pqidat!A$4:BZ$1000,$A71+1,FALSE)","v":{"$error":"#N/A"}},{"$f":"HLOOKUP(\"GPS\",pqidat!A$4:BZ$1000,$A71+1,FALSE)","v":{"$error":"#N/A"}},{"$f":"HLOOKUP(\"Korrektur\",pqidat!A$4:BZ$1000,$A71+1,FALSE)","v":{"$error":"#N/A"}}]
["62",{"$f":"IF(ISBLANK(HLOOKUP(\"Raumdichte\",pqidat!$A$4:$BZ$500,$A72+1,FALSE)),\"\",A72)","v":"62"},{"$f":"HLOOKUP(\"Asphaltsorte\",pqidat!A$4:BZ$1000,$A72+1,FALSE)","v":{"$error":"#N/A"}},{"$f":"HLOOKUP(\"Standort\",pqidat!A$4:BZ$1000,$A72+1,FALSE)&\" \"&INDEX(pqidat!$A$1:$Z$1000,A72+4,MATCH(\"Standort\",pqidat!$A$4:$Z$4,0)+1)","v":{"$error":"#N/A"}},{"$f":"HLOOKUP(\"Station\",pqidat!A$4:BZ$1000,$A72+1,FALSE)","v":{"$error":"#N/A"}},{"$f":"HLOOKUP(\"Dichte\",pqidat!A$4:BZ$1000,$A72+1,FALSE)","v":{"$error":"#N/A"}},{"$f":"HLOOKUP(\"Verdichtung\",pqidat!A$4:BZ$1000,$A72+1,FALSE)","v":{"$error":"#N/A"}},{"$f":"HLOOKUP(\"Temp. OberflÃ¤che\",pqidat!A$4:BZ$1000,$A72+1,FALSE)","v":{"$error":"#N/A"}},{"$f":"HLOOKUP(\"GPS\",pqidat!A$4:BZ$1000,$A72+1,FALSE)","v":{"$error":"#N/A"}},{"$f":"HLOOKUP(\"Korrektur\",pqidat!A$4:BZ$1000,$A72+1,FALSE)","v":{"$error":"#N/A"}}]
["63",{"$f":"IF(ISBLANK(HLOOKUP(\"Raumdichte\",pqidat!$A$4:$BZ$500,$A73+1,FALSE)),\"\",A73)","v":"63"},{"$f":"HLOOKUP(\"Asphaltsorte\",pqidat!A$4:BZ$1000,$A73+1,FALSE)","v":{"$error":"#N/A"}},{"$f":"HLOOKUP(\"Standort\",pqidat!A$4:BZ$1000,$A73+1,FALSE)&\" \"&INDEX(pqidat!$A$1:$Z$1000,A73+4,MATCH(\"Standort\",pqidat!$A$4:$Z$4,0)+1)","v":{"$error":"#N/A"}},{"$f":"HLOOKUP(\"Station\",pqidat!A$4:BZ$1000,$A73+1,FALSE)","v":{"$error":"#N/A"}},{"$f":"HLOOKUP(\"Dichte\",pqidat!A$4:BZ$1000,$A73+1,FALSE)","v":{"$error":"#N/A"}},{"$f":"HLOOKUP(\"Verdichtung\",pqidat!A$4:BZ$1000,$A73+1,FALSE)","v":{"$error":"#N/A"}},{"$f":"HLOOKUP(\"Temp. OberflÃ¤che\",pqidat!A$4:BZ$1000,$A73+1,FALSE)","v":{"$error":"#N/A"}},{"$f":"HLOOKUP(\"GPS\",pqidat!A$4:BZ$1000,$A73+1,FALSE)","v":{"$error":"#N/A"}},{"$f":"HLOOKUP(\"Korrektur\",pqidat!A$4:BZ$1000,$A73+1,FALSE)","v":{"$error":"#N/A"}}]
["64",{"$f":"IF(ISBLANK(HLOOKUP(\"Raumdichte\",pqidat!$A$4:$BZ$500,$A74+1,FALSE)),\"\",A74)","v":"64"},{"$f":"HLOOKUP(\"Asphaltsorte\",pqidat!A$4:BZ$1000,$A74+1,FALSE)","v":{"$error":"#N/A"}},{"$f":"HLOOKUP(\"Standort\",pqidat!A$4:BZ$1000,$A74+1,FALSE)&\" \"&INDEX(pqidat!$A$1:$Z$1000,A74+4,MATCH(\"Standort\",pqidat!$A$4:$Z$4,0)+1)","v":{"$error":"#N/A"}},{"$f":"HLOOKUP(\"Station\",pqidat!A$4:BZ$1000,$A74+1,FALSE)","v":{"$error":"#N/A"}},{"$f":"HLOOKUP(\"Dichte\",pqidat!A$4:BZ$1000,$A74+1,FALSE)","v":{"$error":"#N/A"}},{"$f":"HLOOKUP(\"Verdichtung\",pqidat!A$4:BZ$1000,$A74+1,FALSE)","v":{"$error":"#N/A"}},{"$f":"HLOOKUP(\"Temp. OberflÃ¤che\",pqidat!A$4:BZ$1000,$A74+1,FALSE)","v":{"$error":"#N/A"}},{"$f":"HLOOKUP(\"GPS\",pqidat!A$4:BZ$1000,$A74+1,FALSE)","v":{"$error":"#N/A"}},{"$f":"HLOOKUP(\"Korrektur\",pqidat!A$4:BZ$1000,$A74+1,FALSE)","v":{"$error":"#N/A"}}]
["65",{"$f":"IF(ISBLANK(HLOOKUP(\"Raumdichte\",pqidat!$A$4:$BZ$500,$A75+1,FALSE)),\"\",A75)","v":"65"},{"$f":"HLOOKUP(\"Asphaltsorte\",pqidat!A$4:BZ$1000,$A75+1,FALSE)","v":{"$error":"#N/A"}},{"$f":"HLOOKUP(\"Standort\",pqidat!A$4:BZ$1000,$A75+1,FALSE)&\" \"&INDEX(pqidat!$A$1:$Z$1000,A75+4,MATCH(\"Standort\",pqidat!$A$4:$Z$4,0)+1)","v":{"$error":"#N/A"}},{"$f":"HLOOKUP(\"Station\",pqidat!A$4:BZ$1000,$A75+1,FALSE)","v":{"$error":"#N/A"}},{"$f":"HLOOKUP(\"Dichte\",pqidat!A$4:BZ$1000,$A75+1,FALSE)","v":{"$error":"#N/A"}},{"$f":"HLOOKUP(\"Verdichtung\",pqidat!A$4:BZ$1000,$A75+1,FALSE)","v":{"$error":"#N/A"}},{"$f":"HLOOKUP(\"Temp. OberflÃ¤che\",pqidat!A$4:BZ$1000,$A75+1,FALSE)","v":{"$error":"#N/A"}},{"$f":"HLOOKUP(\"GPS\",pqidat!A$4:BZ$1000,$A75+1,FALSE)","v":{"$error":"#N/A"}},{"$f":"HLOOKUP(\"Korrektur\",pqidat!A$4:BZ$1000,$A75+1,FALSE)","v":{"$error":"#N/A"}}]
["66",{"$f":"IF(ISBLANK(HLOOKUP(\"Raumdichte\",pqidat!$A$4:$BZ$500,$A76+1,FALSE)),\"\",A76)","v":"66"},{"$f":"HLOOKUP(\"Asphaltsorte\",pqidat!A$4:BZ$1000,$A76+1,FALSE)","v":{"$error":"#N/A"}},{"$f":"HLOOKUP(\"Standort\",pqidat!A$4:BZ$1000,$A76+1,FALSE)&\" \"&INDEX(pqidat!$A$1:$Z$1000,A76+4,MATCH(\"Standort\",pqidat!$A$4:$Z$4,0)+1)","v":{"$error":"#N/A"}},{"$f":"HLOOKUP(\"Station\",pqidat!A$4:BZ$1000,$A76+1,FALSE)","v":{"$error":"#N/A"}},{"$f":"HLOOKUP(\"Dichte\",pqidat!A$4:BZ$1000,$A76+1,FALSE)","v":{"$error":"#N/A"}},{"$f":"HLOOKUP(\"Verdichtung\",pqidat!A$4:BZ$1000,$A76+1,FALSE)","v":{"$error":"#N/A"}},{"$f":"HLOOKUP(\"Temp. OberflÃ¤che\",pqidat!A$4:BZ$1000,$A76+1,FALSE)","v":{"$error":"#N/A"}},{"$f":"HLOOKUP(\"GPS\",pqidat!A$4:BZ$1000,$A76+1,FALSE)","v":{"$error":"#N/A"}},{"$f":"HLOOKUP(\"Korrektur\",pqidat!A$4:BZ$1000,$A76+1,FALSE)","v":{"$error":"#N/A"}}]
["67",{"$f":"IF(ISBLANK(HLOOKUP(\"Raumdichte\",pqidat!$A$4:$BZ$500,$A77+1,FALSE)),\"\",A77)","v":"67"},{"$f":"HLOOKUP(\"Asphaltsorte\",pqidat!A$4:BZ$1000,$A77+1,FALSE)","v":{"$error":"#N/A"}},{"$f":"HLOOKUP(\"Standort\",pqidat!A$4:BZ$1000,$A77+1,FALSE)&\" \"&INDEX(pqidat!$A$1:$Z$1000,A77+4,MATCH(\"Standort\",pqidat!$A$4:$Z$4,0)+1)","v":{"$error":"#N/A"}},{"$f":"HLOOKUP(\"Station\",pqidat!A$4:BZ$1000,$A77+1,FALSE)","v":{"$error":"#N/A"}},{"$f":"HLOOKUP(\"Dichte\",pqidat!A$4:BZ$1000,$A77+1,FALSE)","v":{"$error":"#N/A"}},{"$f":"HLOOKUP(\"Verdichtung\",pqidat!A$4:BZ$1000,$A77+1,FALSE)","v":{"$error":"#N/A"}},{"$f":"HLOOKUP(\"Temp. OberflÃ¤che\",pqidat!A$4:BZ$1000,$A77+1,FALSE)","v":{"$error":"#N/A"}},{"$f":"HLOOKUP(\"GPS\",pqidat!A$4:BZ$1000,$A77+1,FALSE)","v":{"$error":"#N/A"}},{"$f":"HLOOKUP(\"Korrektur\",pqidat!A$4:BZ$1000,$A77+1,FALSE)","v":{"$error":"#N/A"}}]
["68",{"$f":"IF(ISBLANK(HLOOKUP(\"Raumdichte\",pqidat!$A$4:$BZ$500,$A78+1,FALSE)),\"\",A78)","v":"68"},{"$f":"HLOOKUP(\"Asphaltsorte\",pqidat!A$4:BZ$1000,$A78+1,FALSE)","v":{"$error":"#N/A"}},{"$f":"HLOOKUP(\"Standort\",pqidat!A$4:BZ$1000,$A78+1,FALSE)&\" \"&INDEX(pqidat!$A$1:$Z$1000,A78+4,MATCH(\"Standort\",pqidat!$A$4:$Z$4,0)+1)","v":{"$error":"#N/A"}},{"$f":"HLOOKUP(\"Station\",pqidat!A$4:BZ$1000,$A78+1,FALSE)","v":{"$error":"#N/A"}},{"$f":"HLOOKUP(\"Dichte\",pqidat!A$4:BZ$1000,$A78+1,FALSE)","v":{"$error":"#N/A"}},{"$f":"HLOOKUP(\"Verdichtung\",pqidat!A$4:BZ$1000,$A78+1,FALSE)","v":{"$error":"#N/A"}},{"$f":"HLOOKUP(\"Temp. OberflÃ¤che\",pqidat!A$4:BZ$1000,$A78+1,FALSE)","v":{"$error":"#N/A"}},{"$f":"HLOOKUP(\"GPS\",pqidat!A$4:BZ$1000,$A78+1,FALSE)","v":{"$error":"#N/A"}},{"$f":"HLOOKUP(\"Korrektur\",pqidat!A$4:BZ$1000,$A78+1,FALSE)","v":{"$error":"#N/A"}}]
["69",{"$f":"IF(ISBLANK(HLOOKUP(\"Raumdichte\",pqidat!$A$4:$BZ$500,$A79+1,FALSE)),\"\",A79)","v":"69"},{"$f":"HLOOKUP(\"Asphaltsorte\",pqidat!A$4:BZ$1000,$A79+1,FALSE)","v":{"$error":"#N/A"}},{"$f":"HLOOKUP(\"Standort\",pqidat!A$4:BZ$1000,$A79+1,FALSE)&\" \"&INDEX(pqidat!$A$1:$Z$1000,A79+4,MATCH(\"Standort\",pqidat!$A$4:$Z$4,0)+1)","v":{"$error":"#N/A"}},{"$f":"HLOOKUP(\"Station\",pqidat!A$4:BZ$1000,$A79+1,FALSE)","v":{"$error":"#N/A"}},{"$f":"HLOOKUP(\"Dichte\",pqidat!A$4:BZ$1000,$A79+1,FALSE)","v":{"$error":"#N/A"}},{"$f":"HLOOKUP(\"Verdichtung\",pqidat!A$4:BZ$1000,$A79+1,FALSE)","v":{"$error":"#N/A"}},{"$f":"HLOOKUP(\"Temp. OberflÃ¤che\",pqidat!A$4:BZ$1000,$A79+1,FALSE)","v":{"$error":"#N/A"}},{"$f":"HLOOKUP(\"GPS\",pqidat!A$4:BZ$1000,$A79+1,FALSE)","v":{"$error":"#N/A"}},{"$f":"HLOOKUP(\"Korrektur\",pqidat!A$4:BZ$1000,$A79+1,FALSE)","v":{"$error":"#N/A"}}]
["70",{"$f":"IF(ISBLANK(HLOOKUP(\"Raumdichte\",pqidat!$A$4:$BZ$500,$A80+1,FALSE)),\"\",A80)","v":"70"},{"$f":"HLOOKUP(\"Asphaltsorte\",pqidat!A$4:BZ$1000,$A80+1,FALSE)","v":{"$error":"#N/A"}},{"$f":"HLOOKUP(\"Standort\",pqidat!A$4:BZ$1000,$A80+1,FALSE)&\" \"&INDEX(pqidat!$A$1:$Z$1000,A80+4,MATCH(\"Standort\",pqidat!$A$4:$Z$4,0)+1)","v":{"$error":"#N/A"}},{"$f":"HLOOKUP(\"Station\",pqidat!A$4:BZ$1000,$A80+1,FALSE)","v":{"$error":"#N/A"}},{"$f":"HLOOKUP(\"Dichte\",pqidat!A$4:BZ$1000,$A80+1,FALSE)","v":{"$error":"#N/A"}},{"$f":"HLOOKUP(\"Verdichtung\",pqidat!A$4:BZ$1000,$A80+1,FALSE)","v":{"$error":"#N/A"}},{"$f":"HLOOKUP(\"Temp. OberflÃ¤che\",pqidat!A$4:BZ$1000,$A80+1,FALSE)","v":{"$error":"#N/A"}},{"$f":"HLOOKUP(\"GPS\",pqidat!A$4:BZ$1000,$A80+1,FALSE)","v":{"$error":"#N/A"}},{"$f":"HLOOKUP(\"Korrektur\",pqidat!A$4:BZ$1000,$A80+1,FALSE)","v":{"$error":"#N/A"}}]
["71",{"$f":"IF(ISBLANK(HLOOKUP(\"Raumdichte\",pqidat!$A$4:$BZ$500,$A81+1,FALSE)),\"\",A81)","v":"71"},{"$f":"HLOOKUP(\"Asphaltsorte\",pqidat!A$4:BZ$1000,$A81+1,FALSE)","v":{"$error":"#N/A"}},{"$f":"HLOOKUP(\"Standort\",pqidat!A$4:BZ$1000,$A81+1,FALSE)&\" \"&INDEX(pqidat!$A$1:$Z$1000,A81+4,MATCH(\"Standort\",pqidat!$A$4:$Z$4,0)+1)","v":{"$error":"#N/A"}},{"$f":"HLOOKUP(\"Station\",pqidat!A$4:BZ$1000,$A81+1,FALSE)","v":{"$error":"#N/A"}},{"$f":"HLOOKUP(\"Dichte\",pqidat!A$4:BZ$1000,$A81+1,FALSE)","v":{"$error":"#N/A"}},{"$f":"HLOOKUP(\"Verdichtung\",pqidat!A$4:BZ$1000,$A81+1,FALSE)","v":{"$error":"#N/A"}},{"$f":"HLOOKUP(\"Temp. OberflÃ¤che\",pqidat!A$4:BZ$1000,$A81+1,FALSE)","v":{"$error":"#N/A"}},{"$f":"HLOOKUP(\"GPS\",pqidat!A$4:BZ$1000,$A81+1,FALSE)","v":{"$error":"#N/A"}},{"$f":"HLOOKUP(\"Korrektur\",pqidat!A$4:BZ$1000,$A81+1,FALSE)","v":{"$error":"#N/A"}}]
["72",{"$f":"IF(ISBLANK(HLOOKUP(\"Raumdichte\",pqidat!$A$4:$BZ$500,$A82+1,FALSE)),\"\",A82)","v":"72"},{"$f":"HLOOKUP(\"Asphaltsorte\",pqidat!A$4:BZ$1000,$A82+1,FALSE)","v":{"$error":"#N/A"}},{"$f":"HLOOKUP(\"Standort\",pqidat!A$4:BZ$1000,$A82+1,FALSE)&\" \"&INDEX(pqidat!$A$1:$Z$1000,A82+4,MATCH(\"Standort\",pqidat!$A$4:$Z$4,0)+1)","v":{"$error":"#N/A"}},{"$f":"HLOOKUP(\"Station\",pqidat!A$4:BZ$1000,$A82+1,FALSE)","v":{"$error":"#N/A"}},{"$f":"HLOOKUP(\"Dichte\",pqidat!A$4:BZ$1000,$A82+1,FALSE)","v":{"$error":"#N/A"}},{"$f":"HLOOKUP(\"Verdichtung\",pqidat!A$4:BZ$1000,$A82+1,FALSE)","v":{"$error":"#N/A"}},{"$f":"HLOOKUP(\"Temp. OberflÃ¤che\",pqidat!A$4:BZ$1000,$A82+1,FALSE)","v":{"$error":"#N/A"}},{"$f":"HLOOKUP(\"GPS\",pqidat!A$4:BZ$1000,$A82+1,FALSE)","v":{"$error":"#N/A"}},{"$f":"HLOOKUP(\"Korrektur\",pqidat!A$4:BZ$1000,$A82+1,FALSE)","v":{"$error":"#N/A"}}]
["73",{"$f":"IF(ISBLANK(HLOOKUP(\"Raumdichte\",pqidat!$A$4:$BZ$500,$A83+1,FALSE)),\"\",A83)","v":"73"},{"$f":"HLOOKUP(\"Asphaltsorte\",pqidat!A$4:BZ$1000,$A83+1,FALSE)","v":{"$error":"#N/A"}},{"$f":"HLOOKUP(\"Standort\",pqidat!A$4:BZ$1000,$A83+1,FALSE)&\" \"&INDEX(pqidat!$A$1:$Z$1000,A83+4,MATCH(\"Standort\",pqidat!$A$4:$Z$4,0)+1)","v":{"$error":"#N/A"}},{"$f":"HLOOKUP(\"Station\",pqidat!A$4:BZ$1000,$A83+1,FALSE)","v":{"$error":"#N/A"}},{"$f":"HLOOKUP(\"Dichte\",pqidat!A$4:BZ$1000,$A83+1,FALSE)","v":{"$error":"#N/A"}},{"$f":"HLOOKUP(\"Verdichtung\",pqidat!A$4:BZ$1000,$A83+1,FALSE)","v":{"$error":"#N/A"}},{"$f":"HLOOKUP(\"Temp. OberflÃ¤che\",pqidat!A$4:BZ$1000,$A83+1,FALSE)","v":{"$error":"#N/A"}},{"$f":"HLOOKUP(\"GPS\",pqidat!A$4:BZ$1000,$A83+1,FALSE)","v":{"$error":"#N/A"}},{"$f":"HLOOKUP(\"Korrektur\",pqidat!A$4:BZ$1000,$A83+1,FALSE)","v":{"$error":"#N/A"}}]
["74",{"$f":"IF(ISBLANK(HLOOKUP(\"Raumdichte\",pqidat!$A$4:$BZ$500,$A84+1,FALSE)),\"\",A84)","v":"74"},{"$f":"HLOOKUP(\"Asphaltsorte\",pqidat!A$4:BZ$1000,$A84+1,FALSE)","v":{"$error":"#N/A"}},{"$f":"HLOOKUP(\"Standort\",pqidat!A$4:BZ$1000,$A84+1,FALSE)&\" \"&INDEX(pqidat!$A$1:$Z$1000,A84+4,MATCH(\"Standort\",pqidat!$A$4:$Z$4,0)+1)","v":{"$error":"#N/A"}},{"$f":"HLOOKUP(\"Station\",pqidat!A$4:BZ$1000,$A84+1,FALSE)","v":{"$error":"#N/A"}},{"$f":"HLOOKUP(\"Dichte\",pqidat!A$4:BZ$1000,$A84+1,FALSE)","v":{"$error":"#N/A"}},{"$f":"HLOOKUP(\"Verdichtung\",pqidat!A$4:BZ$1000,$A84+1,FALSE)","v":{"$error":"#N/A"}},{"$f":"HLOOKUP(\"Temp. OberflÃ¤che\",pqidat!A$4:BZ$1000,$A84+1,FALSE)","v":{"$error":"#N/A"}},{"$f":"HLOOKUP(\"GPS\",pqidat!A$4:BZ$1000,$A84+1,FALSE)","v":{"$error":"#N/A"}},{"$f":"HLOOKUP(\"Korrektur\",pqidat!A$4:BZ$1000,$A84+1,FALSE)","v":{"$error":"#N/A"}}]
["75",{"$f":"IF(ISBLANK(HLOOKUP(\"Raumdichte\",pqidat!$A$4:$BZ$500,$A85+1,FALSE)),\"\",A85)","v":"75"},{"$f":"HLOOKUP(\"Asphaltsorte\",pqidat!A$4:BZ$1000,$A85+1,FALSE)","v":{"$error":"#N/A"}},{"$f":"HLOOKUP(\"Standort\",pqidat!A$4:BZ$1000,$A85+1,FALSE)&\" \"&INDEX(pqidat!$A$1:$Z$1000,A85+4,MATCH(\"Standort\",pqidat!$A$4:$Z$4,0)+1)","v":{"$error":"#N/A"}},{"$f":"HLOOKUP(\"Station\",pqidat!A$4:BZ$1000,$A85+1,FALSE)","v":{"$error":"#N/A"}},{"$f":"HLOOKUP(\"Dichte\",pqidat!A$4:BZ$1000,$A85+1,FALSE)","v":{"$error":"#N/A"}},{"$f":"HLOOKUP(\"Verdichtung\",pqidat!A$4:BZ$1000,$A85+1,FALSE)","v":{"$error":"#N/A"}},{"$f":"HLOOKUP(\"Temp. OberflÃ¤che\",pqidat!A$4:BZ$1000,$A85+1,FALSE)","v":{"$error":"#N/A"}},{"$f":"HLOOKUP(\"GPS\",pqidat!A$4:BZ$1000,$A85+1,FALSE)","v":{"$error":"#N/A"}},{"$f":"HLOOKUP(\"Korrektur\",pqidat!A$4:BZ$1000,$A85+1,FALSE)","v":{"$error":"#N/A"}}]
["76",{"$f":"IF(ISBLANK(HLOOKUP(\"Raumdichte\",pqidat!$A$4:$BZ$500,$A86+1,FALSE)),\"\",A86)","v":"76"},{"$f":"HLOOKUP(\"Asphaltsorte\",pqidat!A$4:BZ$1000,$A86+1,FALSE)","v":{"$error":"#N/A"}},{"$f":"HLOOKUP(\"Standort\",pqidat!A$4:BZ$1000,$A86+1,FALSE)&\" \"&INDEX(pqidat!$A$1:$Z$1000,A86+4,MATCH(\"Standort\",pqidat!$A$4:$Z$4,0)+1)","v":{"$error":"#N/A"}},{"$f":"HLOOKUP(\"Station\",pqidat!A$4:BZ$1000,$A86+1,FALSE)","v":{"$error":"#N/A"}},{"$f":"HLOOKUP(\"Dichte\",pqidat!A$4:BZ$1000,$A86+1,FALSE)","v":{"$error":"#N/A"}},{"$f":"HLOOKUP(\"Verdichtung\",pqidat!A$4:BZ$1000,$A86+1,FALSE)","v":{"$error":"#N/A"}},{"$f":"HLOOKUP(\"Temp. OberflÃ¤che\",pqidat!A$4:BZ$1000,$A86+1,FALSE)","v":{"$error":"#N/A"}},{"$f":"HLOOKUP(\"GPS\",pqidat!A$4:BZ$1000,$A86+1,FALSE)","v":{"$error":"#N/A"}},{"$f":"HLOOKUP(\"Korrektur\",pqidat!A$4:BZ$1000,$A86+1,FALSE)","v":{"$error":"#N/A"}}]
["77",{"$f":"IF(ISBLANK(HLOOKUP(\"Raumdichte\",pqidat!$A$4:$BZ$500,$A87+1,FALSE)),\"\",A87)","v":"77"},{"$f":"HLOOKUP(\"Asphaltsorte\",pqidat!A$4:BZ$1000,$A87+1,FALSE)","v":{"$error":"#N/A"}},{"$f":"HLOOKUP(\"Standort\",pqidat!A$4:BZ$1000,$A87+1,FALSE)&\" \"&INDEX(pqidat!$A$1:$Z$1000,A87+4,MATCH(\"Standort\",pqidat!$A$4:$Z$4,0)+1)","v":{"$error":"#N/A"}},{"$f":"HLOOKUP(\"Station\",pqidat!A$4:BZ$1000,$A87+1,FALSE)","v":{"$error":"#N/A"}},{"$f":"HLOOKUP(\"Dichte\",pqidat!A$4:BZ$1000,$A87+1,FALSE)","v":{"$error":"#N/A"}},{"$f":"HLOOKUP(\"Verdichtung\",pqidat!A$4:BZ$1000,$A87+1,FALSE)","v":{"$error":"#N/A"}},{"$f":"HLOOKUP(\"Temp. OberflÃ¤che\",pqidat!A$4:BZ$1000,$A87+1,FALSE)","v":{"$error":"#N/A"}},{"$f":"HLOOKUP(\"GPS\",pqidat!A$4:BZ$1000,$A87+1,FALSE)","v":{"$error":"#N/A"}},{"$f":"HLOOKUP(\"Korrektur\",pqidat!A$4:BZ$1000,$A87+1,FALSE)","v":{"$error":"#N/A"}}]
["78",{"$f":"IF(ISBLANK(HLOOKUP(\"Raumdichte\",pqidat!$A$4:$BZ$500,$A88+1,FALSE)),\"\",A88)","v":"78"},{"$f":"HLOOKUP(\"Asphaltsorte\",pqidat!A$4:BZ$1000,$A88+1,FALSE)","v":{"$error":"#N/A"}},{"$f":"HLOOKUP(\"Standort\",pqidat!A$4:BZ$1000,$A88+1,FALSE)&\" \"&INDEX(pqidat!$A$1:$Z$1000,A88+4,MATCH(\"Standort\",pqidat!$A$4:$Z$4,0)+1)","v":{"$error":"#N/A"}},{"$f":"HLOOKUP(\"Station\",pqidat!A$4:BZ$1000,$A88+1,FALSE)","v":{"$error":"#N/A"}},{"$f":"HLOOKUP(\"Dichte\",pqidat!A$4:BZ$1000,$A88+1,FALSE)","v":{"$error":"#N/A"}},{"$f":"HLOOKUP(\"Verdichtung\",pqidat!A$4:BZ$1000,$A88+1,FALSE)","v":{"$error":"#N/A"}},{"$f":"HLOOKUP(\"Temp. OberflÃ¤che\",pqidat!A$4:BZ$1000,$A88+1,FALSE)","v":{"$error":"#N/A"}},{"$f":"HLOOKUP(\"GPS\",pqidat!A$4:BZ$1000,$A88+1,FALSE)","v":{"$error":"#N/A"}},{"$f":"HLOOKUP(\"Korrektur\",pqidat!A$4:BZ$1000,$A88+1,FALSE)","v":{"$error":"#N/A"}}]
["79",{"$f":"IF(ISBLANK(HLOOKUP(\"Raumdichte\",pqidat!$A$4:$BZ$500,$A89+1,FALSE)),\"\",A89)","v":"79"},{"$f":"HLOOKUP(\"Asphaltsorte\",pqidat!A$4:BZ$1000,$A89+1,FALSE)","v":{"$error":"#N/A"}},{"$f":"HLOOKUP(\"Standort\",pqidat!A$4:BZ$1000,$A89+1,FALSE)&\" \"&INDEX(pqidat!$A$1:$Z$1000,A89+4,MATCH(\"Standort\",pqidat!$A$4:$Z$4,0)+1)","v":{"$error":"#N/A"}},{"$f":"HLOOKUP(\"Station\",pqidat!A$4:BZ$1000,$A89+1,FALSE)","v":{"$error":"#N/A"}},{"$f":"HLOOKUP(\"Dichte\",pqidat!A$4:BZ$1000,$A89+1,FALSE)","v":{"$error":"#N/A"}},{"$f":"HLOOKUP(\"Verdichtung\",pqidat!A$4:BZ$1000,$A89+1,FALSE)","v":{"$error":"#N/A"}},{"$f":"HLOOKUP(\"Temp. OberflÃ¤che\",pqidat!A$4:BZ$1000,$A89+1,FALSE)","v":{"$error":"#N/A"}},{"$f":"HLOOKUP(\"GPS\",pqidat!A$4:BZ$1000,$A89+1,FALSE)","v":{"$error":"#N/A"}},{"$f":"HLOOKUP(\"Korrektur\",pqidat!A$4:BZ$1000,$A89+1,FALSE)","v":{"$error":"#N/A"}}]
["80",{"$f":"IF(ISBLANK(HLOOKUP(\"Raumdichte\",pqidat!$A$4:$BZ$500,$A90+1,FALSE)),\"\",A90)","v":"80"},{"$f":"HLOOKUP(\"Asphaltsorte\",pqidat!A$4:BZ$1000,$A90+1,FALSE)","v":{"$error":"#N/A"}},{"$f":"HLOOKUP(\"Standort\",pqidat!A$4:BZ$1000,$A90+1,FALSE)&\" \"&INDEX(pqidat!$A$1:$Z$1000,A90+4,MATCH(\"Standort\",pqidat!$A$4:$Z$4,0)+1)","v":{"$error":"#N/A"}},{"$f":"HLOOKUP(\"Station\",pqidat!A$4:BZ$1000,$A90+1,FALSE)","v":{"$error":"#N/A"}},{"$f":"HLOOKUP(\"Dichte\",pqidat!A$4:BZ$1000,$A90+1,FALSE)","v":{"$error":"#N/A"}},{"$f":"HLOOKUP(\"Verdichtung\",pqidat!A$4:BZ$1000,$A90+1,FALSE)","v":{"$error":"#N/A"}},{"$f":"HLOOKUP(\"Temp. OberflÃ¤che\",pqidat!A$4:BZ$1000,$A90+1,FALSE)","v":{"$error":"#N/A"}},{"$f":"HLOOKUP(\"GPS\",pqidat!A$4:BZ$1000,$A90+1,FALSE)","v":{"$error":"#N/A"}},{"$f":"HLOOKUP(\"Korrektur\",pqidat!A$4:BZ$1000,$A90+1,FALSE)","v":{"$error":"#N/A"}}]
["81",{"$f":"IF(ISBLANK(HLOOKUP(\"Raumdichte\",pqidat!$A$4:$BZ$500,$A91+1,FALSE)),\"\",A91)","v":"81"},{"$f":"HLOOKUP(\"Asphaltsorte\",pqidat!A$4:BZ$1000,$A91+1,FALSE)","v":{"$error":"#N/A"}},{"$f":"HLOOKUP(\"Standort\",pqidat!A$4:BZ$1000,$A91+1,FALSE)&\" \"&INDEX(pqidat!$A$1:$Z$1000,A91+4,MATCH(\"Standort\",pqidat!$A$4:$Z$4,0)+1)","v":{"$error":"#N/A"}},{"$f":"HLOOKUP(\"Station\",pqidat!A$4:BZ$1000,$A91+1,FALSE)","v":{"$error":"#N/A"}},{"$f":"HLOOKUP(\"Dichte\",pqidat!A$4:BZ$1000,$A91+1,FALSE)","v":{"$error":"#N/A"}},{"$f":"HLOOKUP(\"Verdichtung\",pqidat!A$4:BZ$1000,$A91+1,FALSE)","v":{"$error":"#N/A"}},{"$f":"HLOOKUP(\"Temp. OberflÃ¤che\",pqidat!A$4:BZ$1000,$A91+1,FALSE)","v":{"$error":"#N/A"}},{"$f":"HLOOKUP(\"GPS\",pqidat!A$4:BZ$1000,$A91+1,FALSE)","v":{"$error":"#N/A"}},{"$f":"HLOOKUP(\"Korrektur\",pqidat!A$4:BZ$1000,$A91+1,FALSE)","v":{"$error":"#N/A"}}]
["82",{"$f":"IF(ISBLANK(HLOOKUP(\"Raumdichte\",pqidat!$A$4:$BZ$500,$A92+1,FALSE)),\"\",A92)","v":"82"},{"$f":"HLOOKUP(\"Asphaltsorte\",pqidat!A$4:BZ$1000,$A92+1,FALSE)","v":{"$error":"#N/A"}},{"$f":"HLOOKUP(\"Standort\",pqidat!A$4:BZ$1000,$A92+1,FALSE)&\" \"&INDEX(pqidat!$A$1:$Z$1000,A92+4,MATCH(\"Standort\",pqidat!$A$4:$Z$4,0)+1)","v":{"$error":"#N/A"}},{"$f":"HLOOKUP(\"Station\",pqidat!A$4:BZ$1000,$A92+1,FALSE)","v":{"$error":"#N/A"}},{"$f":"HLOOKUP(\"Dichte\",pqidat!A$4:BZ$1000,$A92+1,FALSE)","v":{"$error":"#N/A"}},{"$f":"HLOOKUP(\"Verdichtung\",pqidat!A$4:BZ$1000,$A92+1,FALSE)","v":{"$error":"#N/A"}},{"$f":"HLOOKUP(\"Temp. OberflÃ¤che\",pqidat!A$4:BZ$1000,$A92+1,FALSE)","v":{"$error":"#N/A"}},{"$f":"HLOOKUP(\"GPS\",pqidat!A$4:BZ$1000,$A92+1,FALSE)","v":{"$error":"#N/A"}},{"$f":"HLOOKUP(\"Korrektur\",pqidat!A$4:BZ$1000,$A92+1,FALSE)","v":{"$error":"#N/A"}}]
["83",{"$f":"IF(ISBLANK(HLOOKUP(\"Raumdichte\",pqidat!$A$4:$BZ$500,$A93+1,FALSE)),\"\",A93)","v":"83"},{"$f":"HLOOKUP(\"Asphaltsorte\",pqidat!A$4:BZ$1000,$A93+1,FALSE)","v":{"$error":"#N/A"}},{"$f":"HLOOKUP(\"Standort\",pqidat!A$4:BZ$1000,$A93+1,FALSE)&\" \"&INDEX(pqidat!$A$1:$Z$1000,A93+4,MATCH(\"Standort\",pqidat!$A$4:$Z$4,0)+1)","v":{"$error":"#N/A"}},{"$f":"HLOOKUP(\"Station\",pqidat!A$4:BZ$1000,$A93+1,FALSE)","v":{"$error":"#N/A"}},{"$f":"HLOOKUP(\"Dichte\",pqidat!A$4:BZ$1000,$A93+1,FALSE)","v":{"$error":"#N/A"}},{"$f":"HLOOKUP(\"Verdichtung\",pqidat!A$4:BZ$1000,$A93+1,FALSE)","v":{"$error":"#N/A"}},{"$f":"HLOOKUP(\"Temp. OberflÃ¤che\",pqidat!A$4:BZ$1000,$A93+1,FALSE)","v":{"$error":"#N/A"}},{"$f":"HLOOKUP(\"GPS\",pqidat!A$4:BZ$1000,$A93+1,FALSE)","v":{"$error":"#N/A"}},{"$f":"HLOOKUP(\"Korrektur\",pqidat!A$4:BZ$1000,$A93+1,FALSE)","v":{"$error":"#N/A"}}]
["84",{"$f":"IF(ISBLANK(HLOOKUP(\"Raumdichte\",pqidat!$A$4:$BZ$500,$A94+1,FALSE)),\"\",A94)","v":"84"},{"$f":"HLOOKUP(\"Asphaltsorte\",pqidat!A$4:BZ$1000,$A94+1,FALSE)","v":{"$error":"#N/A"}},{"$f":"HLOOKUP(\"Standort\",pqidat!A$4:BZ$1000,$A94+1,FALSE)&\" \"&INDEX(pqidat!$A$1:$Z$1000,A94+4,MATCH(\"Standort\",pqidat!$A$4:$Z$4,0)+1)","v":{"$error":"#N/A"}},{"$f":"HLOOKUP(\"Station\",pqidat!A$4:BZ$1000,$A94+1,FALSE)","v":{"$error":"#N/A"}},{"$f":"HLOOKUP(\"Dichte\",pqidat!A$4:BZ$1000,$A94+1,FALSE)","v":{"$error":"#N/A"}},{"$f":"HLOOKUP(\"Verdichtung\",pqidat!A$4:BZ$1000,$A94+1,FALSE)","v":{"$error":"#N/A"}},{"$f":"HLOOKUP(\"Temp. OberflÃ¤che\",pqidat!A$4:BZ$1000,$A94+1,FALSE)","v":{"$error":"#N/A"}},{"$f":"HLOOKUP(\"GPS\",pqidat!A$4:BZ$1000,$A94+1,FALSE)","v":{"$error":"#N/A"}},{"$f":"HLOOKUP(\"Korrektur\",pqidat!A$4:BZ$1000,$A94+1,FALSE)","v":{"$error":"#N/A"}}]
["85",{"$f":"IF(ISBLANK(HLOOKUP(\"Raumdichte\",pqidat!$A$4:$BZ$500,$A95+1,FALSE)),\"\",A95)","v":"85"},{"$f":"HLOOKUP(\"Asphaltsorte\",pqidat!A$4:BZ$1000,$A95+1,FALSE)","v":{"$error":"#N/A"}},{"$f":"HLOOKUP(\"Standort\",pqidat!A$4:BZ$1000,$A95+1,FALSE)&\" \"&INDEX(pqidat!$A$1:$Z$1000,A95+4,MATCH(\"Standort\",pqidat!$A$4:$Z$4,0)+1)","v":{"$error":"#N/A"}},{"$f":"HLOOKUP(\"Station\",pqidat!A$4:BZ$1000,$A95+1,FALSE)","v":{"$error":"#N/A"}},{"$f":"HLOOKUP(\"Dichte\",pqidat!A$4:BZ$1000,$A95+1,FALSE)","v":{"$error":"#N/A"}},{"$f":"HLOOKUP(\"Verdichtung\",pqidat!A$4:BZ$1000,$A95+1,FALSE)","v":{"$error":"#N/A"}},{"$f":"HLOOKUP(\"Temp. OberflÃ¤che\",pqidat!A$4:BZ$1000,$A95+1,FALSE)","v":{"$error":"#N/A"}},{"$f":"HLOOKUP(\"GPS\",pqidat!A$4:BZ$1000,$A95+1,FALSE)","v":{"$error":"#N/A"}},{"$f":"HLOOKUP(\"Korrektur\",pqidat!A$4:BZ$1000,$A95+1,FALSE)","v":{"$error":"#N/A"}}]
["86",{"$f":"IF(ISBLANK(HLOOKUP(\"Raumdichte\",pqidat!$A$4:$BZ$500,$A96+1,FALSE)),\"\",A96)","v":"86"},{"$f":"HLOOKUP(\"Asphaltsorte\",pqidat!A$4:BZ$1000,$A96+1,FALSE)","v":{"$error":"#N/A"}},{"$f":"HLOOKUP(\"Standort\",pqidat!A$4:BZ$1000,$A96+1,FALSE)&\" \"&INDEX(pqidat!$A$1:$Z$1000,A96+4,MATCH(\"Standort\",pqidat!$A$4:$Z$4,0)+1)","v":{"$error":"#N/A"}},{"$f":"HLOOKUP(\"Station\",pqidat!A$4:BZ$1000,$A96+1,FALSE)","v":{"$error":"#N/A"}},{"$f":"HLOOKUP(\"Dichte\",pqidat!A$4:BZ$1000,$A96+1,FALSE)","v":{"$error":"#N/A"}},{"$f":"HLOOKUP(\"Verdichtung\",pqidat!A$4:BZ$1000,$A96+1,FALSE)","v":{"$error":"#N/A"}},{"$f":"HLOOKUP(\"Temp. OberflÃ¤che\",pqidat!A$4:BZ$1000,$A96+1,FALSE)","v":{"$error":"#N/A"}},{"$f":"HLOOKUP(\"GPS\",pqidat!A$4:BZ$1000,$A96+1,FALSE)","v":{"$error":"#N/A"}},{"$f":"HLOOKUP(\"Korrektur\",pqidat!A$4:BZ$1000,$A96+1,FALSE)","v":{"$error":"#N/A"}}]
["87",{"$f":"IF(ISBLANK(HLOOKUP(\"Raumdichte\",pqidat!$A$4:$BZ$500,$A97+1,FALSE)),\"\",A97)","v":"87"},{"$f":"HLOOKUP(\"Asphaltsorte\",pqidat!A$4:BZ$1000,$A97+1,FALSE)","v":{"$error":"#N/A"}},{"$f":"HLOOKUP(\"Standort\",pqidat!A$4:BZ$1000,$A97+1,FALSE)&\" \"&INDEX(pqidat!$A$1:$Z$1000,A97+4,MATCH(\"Standort\",pqidat!$A$4:$Z$4,0)+1)","v":{"$error":"#N/A"}},{"$f":"HLOOKUP(\"Station\",pqidat!A$4:BZ$1000,$A97+1,FALSE)","v":{"$error":"#N/A"}},{"$f":"HLOOKUP(\"Dichte\",pqidat!A$4:BZ$1000,$A97+1,FALSE)","v":{"$error":"#N/A"}},{"$f":"HLOOKUP(\"Verdichtung\",pqidat!A$4:BZ$1000,$A97+1,FALSE)","v":{"$error":"#N/A"}},{"$f":"HLOOKUP(\"Temp. OberflÃ¤che\",pqidat!A$4:BZ$1000,$A97+1,FALSE)","v":{"$error":"#N/A"}},{"$f":"HLOOKUP(\"GPS\",pqidat!A$4:BZ$1000,$A97+1,FALSE)","v":{"$error":"#N/A"}},{"$f":"HLOOKUP(\"Korrektur\",pqidat!A$4:BZ$1000,$A97+1,FALSE)","v":{"$error":"#N/A"}}]
["88",{"$f":"IF(ISBLANK(HLOOKUP(\"Raumdichte\",pqidat!$A$4:$BZ$500,$A98+1,FALSE)),\"\",A98)","v":"88"},{"$f":"HLOOKUP(\"Asphaltsorte\",pqidat!A$4:BZ$1000,$A98+1,FALSE)","v":{"$error":"#N/A"}},{"$f":"HLOOKUP(\"Standort\",pqidat!A$4:BZ$1000,$A98+1,FALSE)&\" \"&INDEX(pqidat!$A$1:$Z$1000,A98+4,MATCH(\"Standort\",pqidat!$A$4:$Z$4,0)+1)","v":{"$error":"#N/A"}},{"$f":"HLOOKUP(\"Station\",pqidat!A$4:BZ$1000,$A98+1,FALSE)","v":{"$error":"#N/A"}},{"$f":"HLOOKUP(\"Dichte\",pqidat!A$4:BZ$1000,$A98+1,FALSE)","v":{"$error":"#N/A"}},{"$f":"HLOOKUP(\"Verdichtung\",pqidat!A$4:BZ$1000,$A98+1,FALSE)","v":{"$error":"#N/A"}},{"$f":"HLOOKUP(\"Temp. OberflÃ¤che\",pqidat!A$4:BZ$1000,$A98+1,FALSE)","v":{"$error":"#N/A"}},{"$f":"HLOOKUP(\"GPS\",pqidat!A$4:BZ$1000,$A98+1,FALSE)","v":{"$error":"#N/A"}},{"$f":"HLOOKUP(\"Korrektur\",pqidat!A$4:BZ$1000,$A98+1,FALSE)","v":{"$error":"#N/A"}}]
["89",{"$f":"IF(ISBLANK(HLOOKUP(\"Raumdichte\",pqidat!$A$4:$BZ$500,$A99+1,FALSE)),\"\",A99)","v":"89"},{"$f":"HLOOKUP(\"Asphaltsorte\",pqidat!A$4:BZ$1000,$A99+1,FALSE)","v":{"$error":"#N/A"}},{"$f":"HLOOKUP(\"Standort\",pqidat!A$4:BZ$1000,$A99+1,FALSE)&\" \"&INDEX(pqidat!$A$1:$Z$1000,A99+4,MATCH(\"Standort\",pqidat!$A$4:$Z$4,0)+1)","v":{"$error":"#N/A"}},{"$f":"HLOOKUP(\"Station\",pqidat!A$4:BZ$1000,$A99+1,FALSE)","v":{"$error":"#N/A"}},{"$f":"HLOOKUP(\"Dichte\",pqidat!A$4:BZ$1000,$A99+1,FALSE)","v":{"$error":"#N/A"}},{"$f":"HLOOKUP(\"Verdichtung\",pqidat!A$4:BZ$1000,$A99+1,FALSE)","v":{"$error":"#N/A"}},{"$f":"HLOOKUP(\"Temp. OberflÃ¤che\",pqidat!A$4:BZ$1000,$A99+1,FALSE)","v":{"$error":"#N/A"}},{"$f":"HLOOKUP(\"GPS\",pqidat!A$4:BZ$1000,$A99+1,FALSE)","v":{"$error":"#N/A"}},{"$f":"HLOOKUP(\"Korrektur\",pqidat!A$4:BZ$1000,$A99+1,FALSE)","v":{"$error":"#N/A"}}]
["90",{"$f":"IF(ISBLANK(HLOOKUP(\"Raumdichte\",pqidat!$A$4:$BZ$500,$A100+1,FALSE)),\"\",A100)","v":"90"},{"$f":"HLOOKUP(\"Asphaltsorte\",pqidat!A$4:BZ$1000,$A100+1,FALSE)","v":{"$error":"#N/A"}},{"$f":"HLOOKUP(\"Standort\",pqidat!A$4:BZ$1000,$A100+1,FALSE)&\" \"&INDEX(pqidat!$A$1:$Z$1000,A100+4,MATCH(\"Standort\",pqidat!$A$4:$Z$4,0)+1)","v":{"$error":"#N/A"}},{"$f":"HLOOKUP(\"Station\",pqidat!A$4:BZ$1000,$A100+1,FALSE)","v":{"$error":"#N/A"}},{"$f":"HLOOKUP(\"Dichte\",pqidat!A$4:BZ$1000,$A100+1,FALSE)","v":{"$error":"#N/A"}},{"$f":"HLOOKUP(\"Verdichtung\",pqidat!A$4:BZ$1000,$A100+1,FALSE)","v":{"$error":"#N/A"}},{"$f":"HLOOKUP(\"Temp. OberflÃ¤che\",pqidat!A$4:BZ$1000,$A100+1,FALSE)","v":{"$error":"#N/A"}},{"$f":"HLOOKUP(\"GPS\",pqidat!A$4:BZ$1000,$A100+1,FALSE)","v":{"$error":"#N/A"}},{"$f":"HLOOKUP(\"Korrektur\",pqidat!A$4:BZ$1000,$A100+1,FALSE)","v":{"$error":"#N/A"}}]
["91",{"$f":"IF(ISBLANK(HLOOKUP(\"Raumdichte\",pqidat!$A$4:$BZ$500,$A101+1,FALSE)),\"\",A101)","v":"91"},{"$f":"HLOOKUP(\"Asphaltsorte\",pqidat!A$4:BZ$1000,$A101+1,FALSE)","v":{"$error":"#N/A"}},{"$f":"HLOOKUP(\"Standort\",pqidat!A$4:BZ$1000,$A101+1,FALSE)&\" \"&INDEX(pqidat!$A$1:$Z$1000,A101+4,MATCH(\"Standort\",pqidat!$A$4:$Z$4,0)+1)","v":{"$error":"#N/A"}},{"$f":"HLOOKUP(\"Station\",pqidat!A$4:BZ$1000,$A101+1,FALSE)","v":{"$error":"#N/A"}},{"$f":"HLOOKUP(\"Dichte\",pqidat!A$4:BZ$1000,$A101+1,FALSE)","v":{"$error":"#N/A"}},{"$f":"HLOOKUP(\"Verdichtung\",pqidat!A$4:BZ$1000,$A101+1,FALSE)","v":{"$error":"#N/A"}},{"$f":"HLOOKUP(\"Temp. OberflÃ¤che\",pqidat!A$4:BZ$1000,$A101+1,FALSE)","v":{"$error":"#N/A"}},{"$f":"HLOOKUP(\"GPS\",pqidat!A$4:BZ$1000,$A101+1,FALSE)","v":{"$error":"#N/A"}},{"$f":"HLOOKUP(\"Korrektur\",pqidat!A$4:BZ$1000,$A101+1,FALSE)","v":{"$error":"#N/A"}}]
["92",{"$f":"IF(ISBLANK(HLOOKUP(\"Raumdichte\",pqidat!$A$4:$BZ$500,$A102+1,FALSE)),\"\",A102)","v":"92"},{"$f":"HLOOKUP(\"Asphaltsorte\",pqidat!A$4:BZ$1000,$A102+1,FALSE)","v":{"$error":"#N/A"}},{"$f":"HLOOKUP(\"Standort\",pqidat!A$4:BZ$1000,$A102+1,FALSE)&\" \"&INDEX(pqidat!$A$1:$Z$1000,A102+4,MATCH(\"Standort\",pqidat!$A$4:$Z$4,0)+1)","v":{"$error":"#N/A"}},{"$f":"HLOOKUP(\"Station\",pqidat!A$4:BZ$1000,$A102+1,FALSE)","v":{"$error":"#N/A"}},{"$f":"HLOOKUP(\"Dichte\",pqidat!A$4:BZ$1000,$A102+1,FALSE)","v":{"$error":"#N/A"}},{"$f":"HLOOKUP(\"Verdichtung\",pqidat!A$4:BZ$1000,$A102+1,FALSE)","v":{"$error":"#N/A"}},{"$f":"HLOOKUP(\"Temp. OberflÃ¤che\",pqidat!A$4:BZ$1000,$A102+1,FALSE)","v":{"$error":"#N/A"}},{"$f":"HLOOKUP(\"GPS\",pqidat!A$4:BZ$1000,$A102+1,FALSE)","v":{"$error":"#N/A"}},{"$f":"HLOOKUP(\"Korrektur\",pqidat!A$4:BZ$1000,$A102+1,FALSE)","v":{"$error":"#N/A"}}]
["93",{"$f":"IF(ISBLANK(HLOOKUP(\"Raumdichte\",pqidat!$A$4:$BZ$500,$A103+1,FALSE)),\"\",A103)","v":"93"},{"$f":"HLOOKUP(\"Asphaltsorte\",pqidat!A$4:BZ$1000,$A103+1,FALSE)","v":{"$error":"#N/A"}},{"$f":"HLOOKUP(\"Standort\",pqidat!A$4:BZ$1000,$A103+1,FALSE)&\" \"&INDEX(pqidat!$A$1:$Z$1000,A103+4,MATCH(\"Standort\",pqidat!$A$4:$Z$4,0)+1)","v":{"$error":"#N/A"}},{"$f":"HLOOKUP(\"Station\",pqidat!A$4:BZ$1000,$A103+1,FALSE)","v":{"$error":"#N/A"}},{"$f":"HLOOKUP(\"Dichte\",pqidat!A$4:BZ$1000,$A103+1,FALSE)","v":{"$error":"#N/A"}},{"$f":"HLOOKUP(\"Verdichtung\",pqidat!A$4:BZ$1000,$A103+1,FALSE)","v":{"$error":"#N/A"}},{"$f":"HLOOKUP(\"Temp. OberflÃ¤che\",pqidat!A$4:BZ$1000,$A103+1,FALSE)","v":{"$error":"#N/A"}},{"$f":"HLOOKUP(\"GPS\",pqidat!A$4:BZ$1000,$A103+1,FALSE)","v":{"$error":"#N/A"}},{"$f":"HLOOKUP(\"Korrektur\",pqidat!A$4:BZ$1000,$A103+1,FALSE)","v":{"$error":"#N/A"}}]
["94",{"$f":"IF(ISBLANK(HLOOKUP(\"Raumdichte\",pqidat!$A$4:$BZ$500,$A104+1,FALSE)),\"\",A104)","v":"94"},{"$f":"HLOOKUP(\"Asphaltsorte\",pqidat!A$4:BZ$1000,$A104+1,FALSE)","v":{"$error":"#N/A"}},{"$f":"HLOOKUP(\"Standort\",pqidat!A$4:BZ$1000,$A104+1,FALSE)&\" \"&INDEX(pqidat!$A$1:$Z$1000,A104+4,MATCH(\"Standort\",pqidat!$A$4:$Z$4,0)+1)","v":{"$error":"#N/A"}},{"$f":"HLOOKUP(\"Station\",pqidat!A$4:BZ$1000,$A104+1,FALSE)","v":{"$error":"#N/A"}},{"$f":"HLOOKUP(\"Dichte\",pqidat!A$4:BZ$1000,$A104+1,FALSE)","v":{"$error":"#N/A"}},{"$f":"HLOOKUP(\"Verdichtung\",pqidat!A$4:BZ$1000,$A104+1,FALSE)","v":{"$error":"#N/A"}},{"$f":"HLOOKUP(\"Temp. OberflÃ¤che\",pqidat!A$4:BZ$1000,$A104+1,FALSE)","v":{"$error":"#N/A"}},{"$f":"HLOOKUP(\"GPS\",pqidat!A$4:BZ$1000,$A104+1,FALSE)","v":{"$error":"#N/A"}},{"$f":"HLOOKUP(\"Korrektur\",pqidat!A$4:BZ$1000,$A104+1,FALSE)","v":{"$error":"#N/A"}}]
["95",{"$f":"IF(ISBLANK(HLOOKUP(\"Raumdichte\",pqidat!$A$4:$BZ$500,$A105+1,FALSE)),\"\",A105)","v":"95"},{"$f":"HLOOKUP(\"Asphaltsorte\",pqidat!A$4:BZ$1000,$A105+1,FALSE)","v":{"$error":"#N/A"}},{"$f":"HLOOKUP(\"Standort\",pqidat!A$4:BZ$1000,$A105+1,FALSE)&\" \"&INDEX(pqidat!$A$1:$Z$1000,A105+4,MATCH(\"Standort\",pqidat!$A$4:$Z$4,0)+1)","v":{"$error":"#N/A"}},{"$f":"HLOOKUP(\"Station\",pqidat!A$4:BZ$1000,$A105+1,FALSE)","v":{"$error":"#N/A"}},{"$f":"HLOOKUP(\"Dichte\",pqidat!A$4:BZ$1000,$A105+1,FALSE)","v":{"$error":"#N/A"}},{"$f":"HLOOKUP(\"Verdichtung\",pqidat!A$4:BZ$1000,$A105+1,FALSE)","v":{"$error":"#N/A"}},{"$f":"HLOOKUP(\"Temp. OberflÃ¤che\",pqidat!A$4:BZ$1000,$A105+1,FALSE)","v":{"$error":"#N/A"}},{"$f":"HLOOKUP(\"GPS\",pqidat!A$4:BZ$1000,$A105+1,FALSE)","v":{"$error":"#N/A"}},{"$f":"HLOOKUP(\"Korrektur\",pqidat!A$4:BZ$1000,$A105+1,FALSE)","v":{"$error":"#N/A"}}]
["96",{"$f":"IF(ISBLANK(HLOOKUP(\"Raumdichte\",pqidat!$A$4:$BZ$500,$A106+1,FALSE)),\"\",A106)","v":"96"},{"$f":"HLOOKUP(\"Asphaltsorte\",pqidat!A$4:BZ$1000,$A106+1,FALSE)","v":{"$error":"#N/A"}},{"$f":"HLOOKUP(\"Standort\",pqidat!A$4:BZ$1000,$A106+1,FALSE)&\" \"&INDEX(pqidat!$A$1:$Z$1000,A106+4,MATCH(\"Standort\",pqidat!$A$4:$Z$4,0)+1)","v":{"$error":"#N/A"}},{"$f":"HLOOKUP(\"Station\",pqidat!A$4:BZ$1000,$A106+1,FALSE)","v":{"$error":"#N/A"}},{"$f":"HLOOKUP(\"Dichte\",pqidat!A$4:BZ$1000,$A106+1,FALSE)","v":{"$error":"#N/A"}},{"$f":"HLOOKUP(\"Verdichtung\",pqidat!A$4:BZ$1000,$A106+1,FALSE)","v":{"$error":"#N/A"}},{"$f":"HLOOKUP(\"Temp. OberflÃ¤che\",pqidat!A$4:BZ$1000,$A106+1,FALSE)","v":{"$error":"#N/A"}},{"$f":"HLOOKUP(\"GPS\",pqidat!A$4:BZ$1000,$A106+1,FALSE)","v":{"$error":"#N/A"}},{"$f":"HLOOKUP(\"Korrektur\",pqidat!A$4:BZ$1000,$A106+1,FALSE)","v":{"$error":"#N/A"}}]
["97",{"$f":"IF(ISBLANK(HLOOKUP(\"Raumdichte\",pqidat!$A$4:$BZ$500,$A107+1,FALSE)),\"\",A107)","v":"97"},{"$f":"HLOOKUP(\"Asphaltsorte\",pqidat!A$4:BZ$1000,$A107+1,FALSE)","v":{"$error":"#N/A"}},{"$f":"HLOOKUP(\"Standort\",pqidat!A$4:BZ$1000,$A107+1,FALSE)&\" \"&INDEX(pqidat!$A$1:$Z$1000,A107+4,MATCH(\"Standort\",pqidat!$A$4:$Z$4,0)+1)","v":{"$error":"#N/A"}},{"$f":"HLOOKUP(\"Station\",pqidat!A$4:BZ$1000,$A107+1,FALSE)","v":{"$error":"#N/A"}},{"$f":"HLOOKUP(\"Dichte\",pqidat!A$4:BZ$1000,$A107+1,FALSE)","v":{"$error":"#N/A"}},{"$f":"HLOOKUP(\"Verdichtung\",pqidat!A$4:BZ$1000,$A107+1,FALSE)","v":{"$error":"#N/A"}},{"$f":"HLOOKUP(\"Temp. OberflÃ¤che\",pqidat!A$4:BZ$1000,$A107+1,FALSE)","v":{"$error":"#N/A"}},{"$f":"HLOOKUP(\"GPS\",pqidat!A$4:BZ$1000,$A107+1,FALSE)","v":{"$error":"#N/A"}},{"$f":"HLOOKUP(\"Korrektur\",pqidat!A$4:BZ$1000,$A107+1,FALSE)","v":{"$error":"#N/A"}}]
["98",{"$f":"IF(ISBLANK(HLOOKUP(\"Raumdichte\",pqidat!$A$4:$BZ$500,$A108+1,FALSE)),\"\",A108)","v":"98"},{"$f":"HLOOKUP(\"Asphaltsorte\",pqidat!A$4:BZ$1000,$A108+1,FALSE)","v":{"$error":"#N/A"}},{"$f":"HLOOKUP(\"Standort\",pqidat!A$4:BZ$1000,$A108+1,FALSE)&\" \"&INDEX(pqidat!$A$1:$Z$1000,A108+4,MATCH(\"Standort\",pqidat!$A$4:$Z$4,0)+1)","v":{"$error":"#N/A"}},{"$f":"HLOOKUP(\"Station\",pqidat!A$4:BZ$1000,$A108+1,FALSE)","v":{"$error":"#N/A"}},{"$f":"HLOOKUP(\"Dichte\",pqidat!A$4:BZ$1000,$A108+1,FALSE)","v":{"$error":"#N/A"}},{"$f":"HLOOKUP(\"Verdichtung\",pqidat!A$4:BZ$1000,$A108+1,FALSE)","v":{"$error":"#N/A"}},{"$f":"HLOOKUP(\"Temp. OberflÃ¤che\",pqidat!A$4:BZ$1000,$A108+1,FALSE)","v":{"$error":"#N/A"}},{"$f":"HLOOKUP(\"GPS\",pqidat!A$4:BZ$1000,$A108+1,FALSE)","v":{"$error":"#N/A"}},{"$f":"HLOOKUP(\"Korrektur\",pqidat!A$4:BZ$1000,$A108+1,FALSE)","v":{"$error":"#N/A"}}]
["99",{"$f":"IF(ISBLANK(HLOOKUP(\"Raumdichte\",pqidat!$A$4:$BZ$500,$A109+1,FALSE)),\"\",A109)","v":"99"},{"$f":"HLOOKUP(\"Asphaltsorte\",pqidat!A$4:BZ$1000,$A109+1,FALSE)","v":{"$error":"#N/A"}},{"$f":"HLOOKUP(\"Standort\",pqidat!A$4:BZ$1000,$A109+1,FALSE)&\" \"&INDEX(pqidat!$A$1:$Z$1000,A109+4,MATCH(\"Standort\",pqidat!$A$4:$Z$4,0)+1)","v":{"$error":"#N/A"}},{"$f":"HLOOKUP(\"Station\",pqidat!A$4:BZ$1000,$A109+1,FALSE)","v":{"$error":"#N/A"}},{"$f":"HLOOKUP(\"Dichte\",pqidat!A$4:BZ$1000,$A109+1,FALSE)","v":{"$error":"#N/A"}},{"$f":"HLOOKUP(\"Verdichtung\",pqidat!A$4:BZ$1000,$A109+1,FALSE)","v":{"$error":"#N/A"}},{"$f":"HLOOKUP(\"Temp. OberflÃ¤che\",pqidat!A$4:BZ$1000,$A109+1,FALSE)","v":{"$error":"#N/A"}},{"$f":"HLOOKUP(\"GPS\",pqidat!A$4:BZ$1000,$A109+1,FALSE)","v":{"$error":"#N/A"}},{"$f":"HLOOKUP(\"Korrektur\",pqidat!A$4:BZ$1000,$A109+1,FALSE)","v":{"$error":"#N/A"}}]
["100",{"$f":"IF(ISBLANK(HLOOKUP(\"Raumdichte\",pqidat!$A$4:$BZ$500,$A110+1,FALSE)),\"\",A110)","v":"100"},{"$f":"HLOOKUP(\"Asphaltsorte\",pqidat!A$4:BZ$1000,$A110+1,FALSE)","v":{"$error":"#N/A"}},{"$f":"HLOOKUP(\"Standort\",pqidat!A$4:BZ$1000,$A110+1,FALSE)&\" \"&INDEX(pqidat!$A$1:$Z$1000,A110+4,MATCH(\"Standort\",pqidat!$A$4:$Z$4,0)+1)","v":{"$error":"#N/A"}},{"$f":"HLOOKUP(\"Station\",pqidat!A$4:BZ$1000,$A110+1,FALSE)","v":{"$error":"#N/A"}},{"$f":"HLOOKUP(\"Dichte\",pqidat!A$4:BZ$1000,$A110+1,FALSE)","v":{"$error":"#N/A"}},{"$f":"HLOOKUP(\"Verdichtung\",pqidat!A$4:BZ$1000,$A110+1,FALSE)","v":{"$error":"#N/A"}},{"$f":"HLOOKUP(\"Temp. OberflÃ¤che\",pqidat!A$4:BZ$1000,$A110+1,FALSE)","v":{"$error":"#N/A"}},{"$f":"HLOOKUP(\"GPS\",pqidat!A$4:BZ$1000,$A110+1,FALSE)","v":{"$error":"#N/A"}},{"$f":"HLOOKUP(\"Korrektur\",pqidat!A$4:BZ$1000,$A110+1,FALSE)","v":{"$error":"#N/A"}}]
["101",{"$f":"IF(ISBLANK(HLOOKUP(\"Raumdichte\",pqidat!$A$4:$BZ$500,$A111+1,FALSE)),\"\",A111)","v":"101"},{"$f":"HLOOKUP(\"Asphaltsorte\",pqidat!A$4:BZ$1000,$A111+1,FALSE)","v":{"$error":"#N/A"}},{"$f":"HLOOKUP(\"Standort\",pqidat!A$4:BZ$1000,$A111+1,FALSE)&\" \"&INDEX(pqidat!$A$1:$Z$1000,A111+4,MATCH(\"Standort\",pqidat!$A$4:$Z$4,0)+1)","v":{"$error":"#N/A"}},{"$f":"HLOOKUP(\"Station\",pqidat!A$4:BZ$1000,$A111+1,FALSE)","v":{"$error":"#N/A"}},{"$f":"HLOOKUP(\"Dichte\",pqidat!A$4:BZ$1000,$A111+1,FALSE)","v":{"$error":"#N/A"}},{"$f":"HLOOKUP(\"Verdichtung\",pqidat!A$4:BZ$1000,$A111+1,FALSE)","v":{"$error":"#N/A"}},{"$f":"HLOOKUP(\"Temp. OberflÃ¤che\",pqidat!A$4:BZ$1000,$A111+1,FALSE)","v":{"$error":"#N/A"}},{"$f":"HLOOKUP(\"GPS\",pqidat!A$4:BZ$1000,$A111+1,FALSE)","v":{"$error":"#N/A"}},{"$f":"HLOOKUP(\"Korrektur\",pqidat!A$4:BZ$1000,$A111+1,FALSE)","v":{"$error":"#N/A"}}]
["102",{"$f":"IF(ISBLANK(HLOOKUP(\"Raumdichte\",pqidat!$A$4:$BZ$500,$A112+1,FALSE)),\"\",A112)","v":"102"},{"$f":"HLOOKUP(\"Asphaltsorte\",pqidat!A$4:BZ$1000,$A112+1,FALSE)","v":{"$error":"#N/A"}},{"$f":"HLOOKUP(\"Standort\",pqidat!A$4:BZ$1000,$A112+1,FALSE)&\" \"&INDEX(pqidat!$A$1:$Z$1000,A112+4,MATCH(\"Standort\",pqidat!$A$4:$Z$4,0)+1)","v":{"$error":"#N/A"}},{"$f":"HLOOKUP(\"Station\",pqidat!A$4:BZ$1000,$A112+1,FALSE)","v":{"$error":"#N/A"}},{"$f":"HLOOKUP(\"Dichte\",pqidat!A$4:BZ$1000,$A112+1,FALSE)","v":{"$error":"#N/A"}},{"$f":"HLOOKUP(\"Verdichtung\",pqidat!A$4:BZ$1000,$A112+1,FALSE)","v":{"$error":"#N/A"}},{"$f":"HLOOKUP(\"Temp. OberflÃ¤che\",pqidat!A$4:BZ$1000,$A112+1,FALSE)","v":{"$error":"#N/A"}},{"$f":"HLOOKUP(\"GPS\",pqidat!A$4:BZ$1000,$A112+1,FALSE)","v":{"$error":"#N/A"}},{"$f":"HLOOKUP(\"Korrektur\",pqidat!A$4:BZ$1000,$A112+1,FALSE)","v":{"$error":"#N/A"}}]
["103",{"$f":"IF(ISBLANK(HLOOKUP(\"Raumdichte\",pqidat!$A$4:$BZ$500,$A113+1,FALSE)),\"\",A113)","v":"103"},{"$f":"HLOOKUP(\"Asphaltsorte\",pqidat!A$4:BZ$1000,$A113+1,FALSE)","v":{"$error":"#N/A"}},{"$f":"HLOOKUP(\"Standort\",pqidat!A$4:BZ$1000,$A113+1,FALSE)&\" \"&INDEX(pqidat!$A$1:$Z$1000,A113+4,MATCH(\"Standort\",pqidat!$A$4:$Z$4,0)+1)","v":{"$error":"#N/A"}},{"$f":"HLOOKUP(\"Station\",pqidat!A$4:BZ$1000,$A113+1,FALSE)","v":{"$error":"#N/A"}},{"$f":"HLOOKUP(\"Dichte\",pqidat!A$4:BZ$1000,$A113+1,FALSE)","v":{"$error":"#N/A"}},{"$f":"HLOOKUP(\"Verdichtung\",pqidat!A$4:BZ$1000,$A113+1,FALSE)","v":{"$error":"#N/A"}},{"$f":"HLOOKUP(\"Temp. OberflÃ¤che\",pqidat!A$4:BZ$1000,$A113+1,FALSE)","v":{"$error":"#N/A"}},{"$f":"HLOOKUP(\"GPS\",pqidat!A$4:BZ$1000,$A113+1,FALSE)","v":{"$error":"#N/A"}},{"$f":"HLOOKUP(\"Korrektur\",pqidat!A$4:BZ$1000,$A113+1,FALSE)","v":{"$error":"#N/A"}}]
["104",{"$f":"IF(ISBLANK(HLOOKUP(\"Raumdichte\",pqidat!$A$4:$BZ$500,$A114+1,FALSE)),\"\",A114)","v":"104"},{"$f":"HLOOKUP(\"Asphaltsorte\",pqidat!A$4:BZ$1000,$A114+1,FALSE)","v":{"$error":"#N/A"}},{"$f":"HLOOKUP(\"Standort\",pqidat!A$4:BZ$1000,$A114+1,FALSE)&\" \"&INDEX(pqidat!$A$1:$Z$1000,A114+4,MATCH(\"Standort\",pqidat!$A$4:$Z$4,0)+1)","v":{"$error":"#N/A"}},{"$f":"HLOOKUP(\"Station\",pqidat!A$4:BZ$1000,$A114+1,FALSE)","v":{"$error":"#N/A"}},{"$f":"HLOOKUP(\"Dichte\",pqidat!A$4:BZ$1000,$A114+1,FALSE)","v":{"$error":"#N/A"}},{"$f":"HLOOKUP(\"Verdichtung\",pqidat!A$4:BZ$1000,$A114+1,FALSE)","v":{"$error":"#N/A"}},{"$f":"HLOOKUP(\"Temp. OberflÃ¤che\",pqidat!A$4:BZ$1000,$A114+1,FALSE)","v":{"$error":"#N/A"}},{"$f":"HLOOKUP(\"GPS\",pqidat!A$4:BZ$1000,$A114+1,FALSE)","v":{"$error":"#N/A"}},{"$f":"HLOOKUP(\"Korrektur\",pqidat!A$4:BZ$1000,$A114+1,FALSE)","v":{"$error":"#N/A"}}]
["105",{"$f":"IF(ISBLANK(HLOOKUP(\"Raumdichte\",pqidat!$A$4:$BZ$500,$A115+1,FALSE)),\"\",A115)","v":"105"},{"$f":"HLOOKUP(\"Asphaltsorte\",pqidat!A$4:BZ$1000,$A115+1,FALSE)","v":{"$error":"#N/A"}},{"$f":"HLOOKUP(\"Standort\",pqidat!A$4:BZ$1000,$A115+1,FALSE)&\" \"&INDEX(pqidat!$A$1:$Z$1000,A115+4,MATCH(\"Standort\",pqidat!$A$4:$Z$4,0)+1)","v":{"$error":"#N/A"}},{"$f":"HLOOKUP(\"Station\",pqidat!A$4:BZ$1000,$A115+1,FALSE)","v":{"$error":"#N/A"}},{"$f":"HLOOKUP(\"Dichte\",pqidat!A$4:BZ$1000,$A115+1,FALSE)","v":{"$error":"#N/A"}},{"$f":"HLOOKUP(\"Verdichtung\",pqidat!A$4:BZ$1000,$A115+1,FALSE)","v":{"$error":"#N/A"}},{"$f":"HLOOKUP(\"Temp. OberflÃ¤che\",pqidat!A$4:BZ$1000,$A115+1,FALSE)","v":{"$error":"#N/A"}},{"$f":"HLOOKUP(\"GPS\",pqidat!A$4:BZ$1000,$A115+1,FALSE)","v":{"$error":"#N/A"}},{"$f":"HLOOKUP(\"Korrektur\",pqidat!A$4:BZ$1000,$A115+1,FALSE)","v":{"$error":"#N/A"}}]
["106",{"$f":"IF(ISBLANK(HLOOKUP(\"Raumdichte\",pqidat!$A$4:$BZ$500,$A116+1,FALSE)),\"\",A116)","v":"106"},{"$f":"HLOOKUP(\"Asphaltsorte\",pqidat!A$4:BZ$1000,$A116+1,FALSE)","v":{"$error":"#N/A"}},{"$f":"HLOOKUP(\"Standort\",pqidat!A$4:BZ$1000,$A116+1,FALSE)&\" \"&INDEX(pqidat!$A$1:$Z$1000,A116+4,MATCH(\"Standort\",pqidat!$A$4:$Z$4,0)+1)","v":{"$error":"#N/A"}},{"$f":"HLOOKUP(\"Station\",pqidat!A$4:BZ$1000,$A116+1,FALSE)","v":{"$error":"#N/A"}},{"$f":"HLOOKUP(\"Dichte\",pqidat!A$4:BZ$1000,$A116+1,FALSE)","v":{"$error":"#N/A"}},{"$f":"HLOOKUP(\"Verdichtung\",pqidat!A$4:BZ$1000,$A116+1,FALSE)","v":{"$error":"#N/A"}},{"$f":"HLOOKUP(\"Temp. OberflÃ¤che\",pqidat!A$4:BZ$1000,$A116+1,FALSE)","v":{"$error":"#N/A"}},{"$f":"HLOOKUP(\"GPS\",pqidat!A$4:BZ$1000,$A116+1,FALSE)","v":{"$error":"#N/A"}},{"$f":"HLOOKUP(\"Korrektur\",pqidat!A$4:BZ$1000,$A116+1,FALSE)","v":{"$error":"#N/A"}}]
["107",{"$f":"IF(ISBLANK(HLOOKUP(\"Raumdichte\",pqidat!$A$4:$BZ$500,$A117+1,FALSE)),\"\",A117)","v":"107"},{"$f":"HLOOKUP(\"Asphaltsorte\",pqidat!A$4:BZ$1000,$A117+1,FALSE)","v":{"$error":"#N/A"}},{"$f":"HLOOKUP(\"Standort\",pqidat!A$4:BZ$1000,$A117+1,FALSE)&\" \"&INDEX(pqidat!$A$1:$Z$1000,A117+4,MATCH(\"Standort\",pqidat!$A$4:$Z$4,0)+1)","v":{"$error":"#N/A"}},{"$f":"HLOOKUP(\"Station\",pqidat!A$4:BZ$1000,$A117+1,FALSE)","v":{"$error":"#N/A"}},{"$f":"HLOOKUP(\"Dichte\",pqidat!A$4:BZ$1000,$A117+1,FALSE)","v":{"$error":"#N/A"}},{"$f":"HLOOKUP(\"Verdichtung\",pqidat!A$4:BZ$1000,$A117+1,FALSE)","v":{"$error":"#N/A"}},{"$f":"HLOOKUP(\"Temp. OberflÃ¤che\",pqidat!A$4:BZ$1000,$A117+1,FALSE)","v":{"$error":"#N/A"}},{"$f":"HLOOKUP(\"GPS\",pqidat!A$4:BZ$1000,$A117+1,FALSE)","v":{"$error":"#N/A"}},{"$f":"HLOOKUP(\"Korrektur\",pqidat!A$4:BZ$1000,$A117+1,FALSE)","v":{"$error":"#N/A"}}]
["108",{"$f":"IF(ISBLANK(HLOOKUP(\"Raumdichte\",pqidat!$A$4:$BZ$500,$A118+1,FALSE)),\"\",A118)","v":"108"},{"$f":"HLOOKUP(\"Asphaltsorte\",pqidat!A$4:BZ$1000,$A118+1,FALSE)","v":{"$error":"#N/A"}},{"$f":"HLOOKUP(\"Standort\",pqidat!A$4:BZ$1000,$A118+1,FALSE)&\" \"&INDEX(pqidat!$A$1:$Z$1000,A118+4,MATCH(\"Standort\",pqidat!$A$4:$Z$4,0)+1)","v":{"$error":"#N/A"}},{"$f":"HLOOKUP(\"Station\",pqidat!A$4:BZ$1000,$A118+1,FALSE)","v":{"$error":"#N/A"}},{"$f":"HLOOKUP(\"Dichte\",pqidat!A$4:BZ$1000,$A118+1,FALSE)","v":{"$error":"#N/A"}},{"$f":"HLOOKUP(\"Verdichtung\",pqidat!A$4:BZ$1000,$A118+1,FALSE)","v":{"$error":"#N/A"}},{"$f":"HLOOKUP(\"Temp. OberflÃ¤che\",pqidat!A$4:BZ$1000,$A118+1,FALSE)","v":{"$error":"#N/A"}},{"$f":"HLOOKUP(\"GPS\",pqidat!A$4:BZ$1000,$A118+1,FALSE)","v":{"$error":"#N/A"}},{"$f":"HLOOKUP(\"Korrektur\",pqidat!A$4:BZ$1000,$A118+1,FALSE)","v":{"$error":"#N/A"}}]
["109",{"$f":"IF(ISBLANK(HLOOKUP(\"Raumdichte\",pqidat!$A$4:$BZ$500,$A119+1,FALSE)),\"\",A119)","v":"109"},{"$f":"HLOOKUP(\"Asphaltsorte\",pqidat!A$4:BZ$1000,$A119+1,FALSE)","v":{"$error":"#N/A"}},{"$f":"HLOOKUP(\"Standort\",pqidat!A$4:BZ$1000,$A119+1,FALSE)&\" \"&INDEX(pqidat!$A$1:$Z$1000,A119+4,MATCH(\"Standort\",pqidat!$A$4:$Z$4,0)+1)","v":{"$error":"#N/A"}},{"$f":"HLOOKUP(\"Station\",pqidat!A$4:BZ$1000,$A119+1,FALSE)","v":{"$error":"#N/A"}},{"$f":"HLOOKUP(\"Dichte\",pqidat!A$4:BZ$1000,$A119+1,FALSE)","v":{"$error":"#N/A"}},{"$f":"HLOOKUP(\"Verdichtung\",pqidat!A$4:BZ$1000,$A119+1,FALSE)","v":{"$error":"#N/A"}},{"$f":"HLOOKUP(\"Temp. OberflÃ¤che\",pqidat!A$4:BZ$1000,$A119+1,FALSE)","v":{"$error":"#N/A"}},{"$f":"HLOOKUP(\"GPS\",pqidat!A$4:BZ$1000,$A119+1,FALSE)","v":{"$error":"#N/A"}},{"$f":"HLOOKUP(\"Korrektur\",pqidat!A$4:BZ$1000,$A119+1,FALSE)","v":{"$error":"#N/A"}}]
["110",{"$f":"IF(ISBLANK(HLOOKUP(\"Raumdichte\",pqidat!$A$4:$BZ$500,$A120+1,FALSE)),\"\",A120)","v":"110"},{"$f":"HLOOKUP(\"Asphaltsorte\",pqidat!A$4:BZ$1000,$A120+1,FALSE)","v":{"$error":"#N/A"}},{"$f":"HLOOKUP(\"Standort\",pqidat!A$4:BZ$1000,$A120+1,FALSE)&\" \"&INDEX(pqidat!$A$1:$Z$1000,A120+4,MATCH(\"Standort\",pqidat!$A$4:$Z$4,0)+1)","v":{"$error":"#N/A"}},{"$f":"HLOOKUP(\"Station\",pqidat!A$4:BZ$1000,$A120+1,FALSE)","v":{"$error":"#N/A"}},{"$f":"HLOOKUP(\"Dichte\",pqidat!A$4:BZ$1000,$A120+1,FALSE)","v":{"$error":"#N/A"}},{"$f":"HLOOKUP(\"Verdichtung\",pqidat!A$4:BZ$1000,$A120+1,FALSE)","v":{"$error":"#N/A"}},{"$f":"HLOOKUP(\"Temp. OberflÃ¤che\",pqidat!A$4:BZ$1000,$A120+1,FALSE)","v":{"$error":"#N/A"}},{"$f":"HLOOKUP(\"GPS\",pqidat!A$4:BZ$1000,$A120+1,FALSE)","v":{"$error":"#N/A"}},{"$f":"HLOOKUP(\"Korrektur\",pqidat!A$4:BZ$1000,$A120+1,FALSE)","v":{"$error":"#N/A"}}]
["111",{"$f":"IF(ISBLANK(HLOOKUP(\"Raumdichte\",pqidat!$A$4:$BZ$500,$A121+1,FALSE)),\"\",A121)","v":"111"},{"$f":"HLOOKUP(\"Asphaltsorte\",pqidat!A$4:BZ$1000,$A121+1,FALSE)","v":{"$error":"#N/A"}},{"$f":"HLOOKUP(\"Standort\",pqidat!A$4:BZ$1000,$A121+1,FALSE)&\" \"&INDEX(pqidat!$A$1:$Z$1000,A121+4,MATCH(\"Standort\",pqidat!$A$4:$Z$4,0)+1)","v":{"$error":"#N/A"}},{"$f":"HLOOKUP(\"Station\",pqidat!A$4:BZ$1000,$A121+1,FALSE)","v":{"$error":"#N/A"}},{"$f":"HLOOKUP(\"Dichte\",pqidat!A$4:BZ$1000,$A121+1,FALSE)","v":{"$error":"#N/A"}},{"$f":"HLOOKUP(\"Verdichtung\",pqidat!A$4:BZ$1000,$A121+1,FALSE)","v":{"$error":"#N/A"}},{"$f":"HLOOKUP(\"Temp. OberflÃ¤che\",pqidat!A$4:BZ$1000,$A121+1,FALSE)","v":{"$error":"#N/A"}},{"$f":"HLOOKUP(\"GPS\",pqidat!A$4:BZ$1000,$A121+1,FALSE)","v":{"$error":"#N/A"}},{"$f":"HLOOKUP(\"Korrektur\",pqidat!A$4:BZ$1000,$A121+1,FALSE)","v":{"$error":"#N/A"}}]
["112",{"$f":"IF(ISBLANK(HLOOKUP(\"Raumdichte\",pqidat!$A$4:$BZ$500,$A122+1,FALSE)),\"\",A122)","v":"112"},{"$f":"HLOOKUP(\"Asphaltsorte\",pqidat!A$4:BZ$1000,$A122+1,FALSE)","v":{"$error":"#N/A"}},{"$f":"HLOOKUP(\"Standort\",pqidat!A$4:BZ$1000,$A122+1,FALSE)&\" \"&INDEX(pqidat!$A$1:$Z$1000,A122+4,MATCH(\"Standort\",pqidat!$A$4:$Z$4,0)+1)","v":{"$error":"#N/A"}},{"$f":"HLOOKUP(\"Station\",pqidat!A$4:BZ$1000,$A122+1,FALSE)","v":{"$error":"#N/A"}},{"$f":"HLOOKUP(\"Dichte\",pqidat!A$4:BZ$1000,$A122+1,FALSE)","v":{"$error":"#N/A"}},{"$f":"HLOOKUP(\"Verdichtung\",pqidat!A$4:BZ$1000,$A122+1,FALSE)","v":{"$error":"#N/A"}},{"$f":"HLOOKUP(\"Temp. OberflÃ¤che\",pqidat!A$4:BZ$1000,$A122+1,FALSE)","v":{"$error":"#N/A"}},{"$f":"HLOOKUP(\"GPS\",pqidat!A$4:BZ$1000,$A122+1,FALSE)","v":{"$error":"#N/A"}},{"$f":"HLOOKUP(\"Korrektur\",pqidat!A$4:BZ$1000,$A122+1,FALSE)","v":{"$error":"#N/A"}}]
["113",{"$f":"IF(ISBLANK(HLOOKUP(\"Raumdichte\",pqidat!$A$4:$BZ$500,$A123+1,FALSE)),\"\",A123)","v":"113"},{"$f":"HLOOKUP(\"Asphaltsorte\",pqidat!A$4:BZ$1000,$A123+1,FALSE)","v":{"$error":"#N/A"}},{"$f":"HLOOKUP(\"Standort\",pqidat!A$4:BZ$1000,$A123+1,FALSE)&\" \"&INDEX(pqidat!$A$1:$Z$1000,A123+4,MATCH(\"Standort\",pqidat!$A$4:$Z$4,0)+1)","v":{"$error":"#N/A"}},{"$f":"HLOOKUP(\"Station\",pqidat!A$4:BZ$1000,$A123+1,FALSE)","v":{"$error":"#N/A"}},{"$f":"HLOOKUP(\"Dichte\",pqidat!A$4:BZ$1000,$A123+1,FALSE)","v":{"$error":"#N/A"}},{"$f":"HLOOKUP(\"Verdichtung\",pqidat!A$4:BZ$1000,$A123+1,FALSE)","v":{"$error":"#N/A"}},{"$f":"HLOOKUP(\"Temp. OberflÃ¤che\",pqidat!A$4:BZ$1000,$A123+1,FALSE)","v":{"$error":"#N/A"}},{"$f":"HLOOKUP(\"GPS\",pqidat!A$4:BZ$1000,$A123+1,FALSE)","v":{"$error":"#N/A"}},{"$f":"HLOOKUP(\"Korrektur\",pqidat!A$4:BZ$1000,$A123+1,FALSE)","v":{"$error":"#N/A"}}]
["114",{"$f":"IF(ISBLANK(HLOOKUP(\"Raumdichte\",pqidat!$A$4:$BZ$500,$A124+1,FALSE)),\"\",A124)","v":"114"},{"$f":"HLOOKUP(\"Asphaltsorte\",pqidat!A$4:BZ$1000,$A124+1,FALSE)","v":{"$error":"#N/A"}},{"$f":"HLOOKUP(\"Standort\",pqidat!A$4:BZ$1000,$A124+1,FALSE)&\" \"&INDEX(pqidat!$A$1:$Z$1000,A124+4,MATCH(\"Standort\",pqidat!$A$4:$Z$4,0)+1)","v":{"$error":"#N/A"}},{"$f":"HLOOKUP(\"Station\",pqidat!A$4:BZ$1000,$A124+1,FALSE)","v":{"$error":"#N/A"}},{"$f":"HLOOKUP(\"Dichte\",pqidat!A$4:BZ$1000,$A124+1,FALSE)","v":{"$error":"#N/A"}},{"$f":"HLOOKUP(\"Verdichtung\",pqidat!A$4:BZ$1000,$A124+1,FALSE)","v":{"$error":"#N/A"}},{"$f":"HLOOKUP(\"Temp. OberflÃ¤che\",pqidat!A$4:BZ$1000,$A124+1,FALSE)","v":{"$error":"#N/A"}},{"$f":"HLOOKUP(\"GPS\",pqidat!A$4:BZ$1000,$A124+1,FALSE)","v":{"$error":"#N/A"}},{"$f":"HLOOKUP(\"Korrektur\",pqidat!A$4:BZ$1000,$A124+1,FALSE)","v":{"$error":"#N/A"}}]
["115",{"$f":"IF(ISBLANK(HLOOKUP(\"Raumdichte\",pqidat!$A$4:$BZ$500,$A125+1,FALSE)),\"\",A125)","v":"115"},{"$f":"HLOOKUP(\"Asphaltsorte\",pqidat!A$4:BZ$1000,$A125+1,FALSE)","v":{"$error":"#N/A"}},{"$f":"HLOOKUP(\"Standort\",pqidat!A$4:BZ$1000,$A125+1,FALSE)&\" \"&INDEX(pqidat!$A$1:$Z$1000,A125+4,MATCH(\"Standort\",pqidat!$A$4:$Z$4,0)+1)","v":{"$error":"#N/A"}},{"$f":"HLOOKUP(\"Station\",pqidat!A$4:BZ$1000,$A125+1,FALSE)","v":{"$error":"#N/A"}},{"$f":"HLOOKUP(\"Dichte\",pqidat!A$4:BZ$1000,$A125+1,FALSE)","v":{"$error":"#N/A"}},{"$f":"HLOOKUP(\"Verdichtung\",pqidat!A$4:BZ$1000,$A125+1,FALSE)","v":{"$error":"#N/A"}},{"$f":"HLOOKUP(\"Temp. OberflÃ¤che\",pqidat!A$4:BZ$1000,$A125+1,FALSE)","v":{"$error":"#N/A"}},{"$f":"HLOOKUP(\"GPS\",pqidat!A$4:BZ$1000,$A125+1,FALSE)","v":{"$error":"#N/A"}},{"$f":"HLOOKUP(\"Korrektur\",pqidat!A$4:BZ$1000,$A125+1,FALSE)","v":{"$error":"#N/A"}}]
["116",{"$f":"IF(ISBLANK(HLOOKUP(\"Raumdichte\",pqidat!$A$4:$BZ$500,$A126+1,FALSE)),\"\",A126)","v":"116"},{"$f":"HLOOKUP(\"Asphaltsorte\",pqidat!A$4:BZ$1000,$A126+1,FALSE)","v":{"$error":"#N/A"}},{"$f":"HLOOKUP(\"Standort\",pqidat!A$4:BZ$1000,$A126+1,FALSE)&\" \"&INDEX(pqidat!$A$1:$Z$1000,A126+4,MATCH(\"Standort\",pqidat!$A$4:$Z$4,0)+1)","v":{"$error":"#N/A"}},{"$f":"HLOOKUP(\"Station\",pqidat!A$4:BZ$1000,$A126+1,FALSE)","v":{"$error":"#N/A"}},{"$f":"HLOOKUP(\"Dichte\",pqidat!A$4:BZ$1000,$A126+1,FALSE)","v":{"$error":"#N/A"}},{"$f":"HLOOKUP(\"Verdichtung\",pqidat!A$4:BZ$1000,$A126+1,FALSE)","v":{"$error":"#N/A"}},{"$f":"HLOOKUP(\"Temp. OberflÃ¤che\",pqidat!A$4:BZ$1000,$A126+1,FALSE)","v":{"$error":"#N/A"}},{"$f":"HLOOKUP(\"GPS\",pqidat!A$4:BZ$1000,$A126+1,FALSE)","v":{"$error":"#N/A"}},{"$f":"HLOOKUP(\"Korrektur\",pqidat!A$4:BZ$1000,$A126+1,FALSE)","v":{"$error":"#N/A"}}]
["117",{"$f":"IF(ISBLANK(HLOOKUP(\"Raumdichte\",pqidat!$A$4:$BZ$500,$A127+1,FALSE)),\"\",A127)","v":"117"},{"$f":"HLOOKUP(\"Asphaltsorte\",pqidat!A$4:BZ$1000,$A127+1,FALSE)","v":{"$error":"#N/A"}},{"$f":"HLOOKUP(\"Standort\",pqidat!A$4:BZ$1000,$A127+1,FALSE)&\" \"&INDEX(pqidat!$A$1:$Z$1000,A127+4,MATCH(\"Standort\",pqidat!$A$4:$Z$4,0)+1)","v":{"$error":"#N/A"}},{"$f":"HLOOKUP(\"Station\",pqidat!A$4:BZ$1000,$A127+1,FALSE)","v":{"$error":"#N/A"}},{"$f":"HLOOKUP(\"Dichte\",pqidat!A$4:BZ$1000,$A127+1,FALSE)","v":{"$error":"#N/A"}},{"$f":"HLOOKUP(\"Verdichtung\",pqidat!A$4:BZ$1000,$A127+1,FALSE)","v":{"$error":"#N/A"}},{"$f":"HLOOKUP(\"Temp. OberflÃ¤che\",pqidat!A$4:BZ$1000,$A127+1,FALSE)","v":{"$error":"#N/A"}},{"$f":"HLOOKUP(\"GPS\",pqidat!A$4:BZ$1000,$A127+1,FALSE)","v":{"$error":"#N/A"}},{"$f":"HLOOKUP(\"Korrektur\",pqidat!A$4:BZ$1000,$A127+1,FALSE)","v":{"$error":"#N/A"}}]
["118",{"$f":"IF(ISBLANK(HLOOKUP(\"Raumdichte\",pqidat!$A$4:$BZ$500,$A128+1,FALSE)),\"\",A128)","v":"118"},{"$f":"HLOOKUP(\"Asphaltsorte\",pqidat!A$4:BZ$1000,$A128+1,FALSE)","v":{"$error":"#N/A"}},{"$f":"HLOOKUP(\"Standort\",pqidat!A$4:BZ$1000,$A128+1,FALSE)&\" \"&INDEX(pqidat!$A$1:$Z$1000,A128+4,MATCH(\"Standort\",pqidat!$A$4:$Z$4,0)+1)","v":{"$error":"#N/A"}},{"$f":"HLOOKUP(\"Station\",pqidat!A$4:BZ$1000,$A128+1,FALSE)","v":{"$error":"#N/A"}},{"$f":"HLOOKUP(\"Dichte\",pqidat!A$4:BZ$1000,$A128+1,FALSE)","v":{"$error":"#N/A"}},{"$f":"HLOOKUP(\"Verdichtung\",pqidat!A$4:BZ$1000,$A128+1,FALSE)","v":{"$error":"#N/A"}},{"$f":"HLOOKUP(\"Temp. OberflÃ¤che\",pqidat!A$4:BZ$1000,$A128+1,FALSE)","v":{"$error":"#N/A"}},{"$f":"HLOOKUP(\"GPS\",pqidat!A$4:BZ$1000,$A128+1,FALSE)","v":{"$error":"#N/A"}},{"$f":"HLOOKUP(\"Korrektur\",pqidat!A$4:BZ$1000,$A128+1,FALSE)","v":{"$error":"#N/A"}}]
["119",{"$f":"IF(ISBLANK(HLOOKUP(\"Raumdichte\",pqidat!$A$4:$BZ$500,$A129+1,FALSE)),\"\",A129)","v":"119"},{"$f":"HLOOKUP(\"Asphaltsorte\",pqidat!A$4:BZ$1000,$A129+1,FALSE)","v":{"$error":"#N/A"}},{"$f":"HLOOKUP(\"Standort\",pqidat!A$4:BZ$1000,$A129+1,FALSE)&\" \"&INDEX(pqidat!$A$1:$Z$1000,A129+4,MATCH(\"Standort\",pqidat!$A$4:$Z$4,0)+1)","v":{"$error":"#N/A"}},{"$f":"HLOOKUP(\"Station\",pqidat!A$4:BZ$1000,$A129+1,FALSE)","v":{"$error":"#N/A"}},{"$f":"HLOOKUP(\"Dichte\",pqidat!A$4:BZ$1000,$A129+1,FALSE)","v":{"$error":"#N/A"}},{"$f":"HLOOKUP(\"Verdichtung\",pqidat!A$4:BZ$1000,$A129+1,FALSE)","v":{"$error":"#N/A"}},{"$f":"HLOOKUP(\"Temp. OberflÃ¤che\",pqidat!A$4:BZ$1000,$A129+1,FALSE)","v":{"$error":"#N/A"}},{"$f":"HLOOKUP(\"GPS\",pqidat!A$4:BZ$1000,$A129+1,FALSE)","v":{"$error":"#N/A"}},{"$f":"HLOOKUP(\"Korrektur\",pqidat!A$4:BZ$1000,$A129+1,FALSE)","v":{"$error":"#N/A"}}]
["120",{"$f":"IF(ISBLANK(HLOOKUP(\"Raumdichte\",pqidat!$A$4:$BZ$500,$A130+1,FALSE)),\"\",A130)","v":"120"},{"$f":"HLOOKUP(\"Asphaltsorte\",pqidat!A$4:BZ$1000,$A130+1,FALSE)","v":{"$error":"#N/A"}},{"$f":"HLOOKUP(\"Standort\",pqidat!A$4:BZ$1000,$A130+1,FALSE)&\" \"&INDEX(pqidat!$A$1:$Z$1000,A130+4,MATCH(\"Standort\",pqidat!$A$4:$Z$4,0)+1)","v":{"$error":"#N/A"}},{"$f":"HLOOKUP(\"Station\",pqidat!A$4:BZ$1000,$A130+1,FALSE)","v":{"$error":"#N/A"}},{"$f":"HLOOKUP(\"Dichte\",pqidat!A$4:BZ$1000,$A130+1,FALSE)","v":{"$error":"#N/A"}},{"$f":"HLOOKUP(\"Verdichtung\",pqidat!A$4:BZ$1000,$A130+1,FALSE)","v":{"$error":"#N/A"}},{"$f":"HLOOKUP(\"Temp. OberflÃ¤che\",pqidat!A$4:BZ$1000,$A130+1,FALSE)","v":{"$error":"#N/A"}},{"$f":"HLOOKUP(\"GPS\",pqidat!A$4:BZ$1000,$A130+1,FALSE)","v":{"$error":"#N/A"}},{"$f":"HLOOKUP(\"Korrektur\",pqidat!A$4:BZ$1000,$A130+1,FALSE)","v":{"$error":"#N/A"}}]
["121",{"$f":"IF(ISBLANK(HLOOKUP(\"Raumdichte\",pqidat!$A$4:$BZ$500,$A131+1,FALSE)),\"\",A131)","v":"121"},{"$f":"HLOOKUP(\"Asphaltsorte\",pqidat!A$4:BZ$1000,$A131+1,FALSE)","v":{"$error":"#N/A"}},{"$f":"HLOOKUP(\"Standort\",pqidat!A$4:BZ$1000,$A131+1,FALSE)&\" \"&INDEX(pqidat!$A$1:$Z$1000,A131+4,MATCH(\"Standort\",pqidat!$A$4:$Z$4,0)+1)","v":{"$error":"#N/A"}},{"$f":"HLOOKUP(\"Station\",pqidat!A$4:BZ$1000,$A131+1,FALSE)","v":{"$error":"#N/A"}},{"$f":"HLOOKUP(\"Dichte\",pqidat!A$4:BZ$1000,$A131+1,FALSE)","v":{"$error":"#N/A"}},{"$f":"HLOOKUP(\"Verdichtung\",pqidat!A$4:BZ$1000,$A131+1,FALSE)","v":{"$error":"#N/A"}},{"$f":"HLOOKUP(\"Temp. OberflÃ¤che\",pqidat!A$4:BZ$1000,$A131+1,FALSE)","v":{"$error":"#N/A"}},{"$f":"HLOOKUP(\"GPS\",pqidat!A$4:BZ$1000,$A131+1,FALSE)","v":{"$error":"#N/A"}},{"$f":"HLOOKUP(\"Korrektur\",pqidat!A$4:BZ$1000,$A131+1,FALSE)","v":{"$error":"#N/A"}}]
["122",{"$f":"IF(ISBLANK(HLOOKUP(\"Raumdichte\",pqidat!$A$4:$BZ$500,$A132+1,FALSE)),\"\",A132)","v":"122"},{"$f":"HLOOKUP(\"Asphaltsorte\",pqidat!A$4:BZ$1000,$A132+1,FALSE)","v":{"$error":"#N/A"}},{"$f":"HLOOKUP(\"Standort\",pqidat!A$4:BZ$1000,$A132+1,FALSE)&\" \"&INDEX(pqidat!$A$1:$Z$1000,A132+4,MATCH(\"Standort\",pqidat!$A$4:$Z$4,0)+1)","v":{"$error":"#N/A"}},{"$f":"HLOOKUP(\"Station\",pqidat!A$4:BZ$1000,$A132+1,FALSE)","v":{"$error":"#N/A"}},{"$f":"HLOOKUP(\"Dichte\",pqidat!A$4:BZ$1000,$A132+1,FALSE)","v":{"$error":"#N/A"}},{"$f":"HLOOKUP(\"Verdichtung\",pqidat!A$4:BZ$1000,$A132+1,FALSE)","v":{"$error":"#N/A"}},{"$f":"HLOOKUP(\"Temp. OberflÃ¤che\",pqidat!A$4:BZ$1000,$A132+1,FALSE)","v":{"$error":"#N/A"}},{"$f":"HLOOKUP(\"GPS\",pqidat!A$4:BZ$1000,$A132+1,FALSE)","v":{"$error":"#N/A"}},{"$f":"HLOOKUP(\"Korrektur\",pqidat!A$4:BZ$1000,$A132+1,FALSE)","v":{"$error":"#N/A"}}]
["123",{"$f":"IF(ISBLANK(HLOOKUP(\"Raumdichte\",pqidat!$A$4:$BZ$500,$A133+1,FALSE)),\"\",A133)","v":"123"},{"$f":"HLOOKUP(\"Asphaltsorte\",pqidat!A$4:BZ$1000,$A133+1,FALSE)","v":{"$error":"#N/A"}},{"$f":"HLOOKUP(\"Standort\",pqidat!A$4:BZ$1000,$A133+1,FALSE)&\" \"&INDEX(pqidat!$A$1:$Z$1000,A133+4,MATCH(\"Standort\",pqidat!$A$4:$Z$4,0)+1)","v":{"$error":"#N/A"}},{"$f":"HLOOKUP(\"Station\",pqidat!A$4:BZ$1000,$A133+1,FALSE)","v":{"$error":"#N/A"}},{"$f":"HLOOKUP(\"Dichte\",pqidat!A$4:BZ$1000,$A133+1,FALSE)","v":{"$error":"#N/A"}},{"$f":"HLOOKUP(\"Verdichtung\",pqidat!A$4:BZ$1000,$A133+1,FALSE)","v":{"$error":"#N/A"}},{"$f":"HLOOKUP(\"Temp. OberflÃ¤che\",pqidat!A$4:BZ$1000,$A133+1,FALSE)","v":{"$error":"#N/A"}},{"$f":"HLOOKUP(\"GPS\",pqidat!A$4:BZ$1000,$A133+1,FALSE)","v":{"$error":"#N/A"}},{"$f":"HLOOKUP(\"Korrektur\",pqidat!A$4:BZ$1000,$A133+1,FALSE)","v":{"$error":"#N/A"}}]
["124",{"$f":"IF(ISBLANK(HLOOKUP(\"Raumdichte\",pqidat!$A$4:$BZ$500,$A134+1,FALSE)),\"\",A134)","v":"124"},{"$f":"HLOOKUP(\"Asphaltsorte\",pqidat!A$4:BZ$1000,$A134+1,FALSE)","v":{"$error":"#N/A"}},{"$f":"HLOOKUP(\"Standort\",pqidat!A$4:BZ$1000,$A134+1,FALSE)&\" \"&INDEX(pqidat!$A$1:$Z$1000,A134+4,MATCH(\"Standort\",pqidat!$A$4:$Z$4,0)+1)","v":{"$error":"#N/A"}},{"$f":"HLOOKUP(\"Station\",pqidat!A$4:BZ$1000,$A134+1,FALSE)","v":{"$error":"#N/A"}},{"$f":"HLOOKUP(\"Dichte\",pqidat!A$4:BZ$1000,$A134+1,FALSE)","v":{"$error":"#N/A"}},{"$f":"HLOOKUP(\"Verdichtung\",pqidat!A$4:BZ$1000,$A134+1,FALSE)","v":{"$error":"#N/A"}},{"$f":"HLOOKUP(\"Temp. OberflÃ¤che\",pqidat!A$4:BZ$1000,$A134+1,FALSE)","v":{"$error":"#N/A"}},{"$f":"HLOOKUP(\"GPS\",pqidat!A$4:BZ$1000,$A134+1,FALSE)","v":{"$error":"#N/A"}},{"$f":"HLOOKUP(\"Korrektur\",pqidat!A$4:BZ$1000,$A134+1,FALSE)","v":{"$error":"#N/A"}}]
["125",{"$f":"IF(ISBLANK(HLOOKUP(\"Raumdichte\",pqidat!$A$4:$BZ$500,$A135+1,FALSE)),\"\",A135)","v":"125"},{"$f":"HLOOKUP(\"Asphaltsorte\",pqidat!A$4:BZ$1000,$A135+1,FALSE)","v":{"$error":"#N/A"}},{"$f":"HLOOKUP(\"Standort\",pqidat!A$4:BZ$1000,$A135+1,FALSE)&\" \"&INDEX(pqidat!$A$1:$Z$1000,A135+4,MATCH(\"Standort\",pqidat!$A$4:$Z$4,0)+1)","v":{"$error":"#N/A"}},{"$f":"HLOOKUP(\"Station\",pqidat!A$4:BZ$1000,$A135+1,FALSE)","v":{"$error":"#N/A"}},{"$f":"HLOOKUP(\"Dichte\",pqidat!A$4:BZ$1000,$A135+1,FALSE)","v":{"$error":"#N/A"}},{"$f":"HLOOKUP(\"Verdichtung\",pqidat!A$4:BZ$1000,$A135+1,FALSE)","v":{"$error":"#N/A"}},{"$f":"HLOOKUP(\"Temp. OberflÃ¤che\",pqidat!A$4:BZ$1000,$A135+1,FALSE)","v":{"$error":"#N/A"}},{"$f":"HLOOKUP(\"GPS\",pqidat!A$4:BZ$1000,$A135+1,FALSE)","v":{"$error":"#N/A"}},{"$f":"HLOOKUP(\"Korrektur\",pqidat!A$4:BZ$1000,$A135+1,FALSE)","v":{"$error":"#N/A"}}]
["126",{"$f":"IF(ISBLANK(HLOOKUP(\"Raumdichte\",pqidat!$A$4:$BZ$500,$A136+1,FALSE)),\"\",A136)","v":"126"},{"$f":"HLOOKUP(\"Asphaltsorte\",pqidat!A$4:BZ$1000,$A136+1,FALSE)","v":{"$error":"#N/A"}},{"$f":"HLOOKUP(\"Standort\",pqidat!A$4:BZ$1000,$A136+1,FALSE)&\" \"&INDEX(pqidat!$A$1:$Z$1000,A136+4,MATCH(\"Standort\",pqidat!$A$4:$Z$4,0)+1)","v":{"$error":"#N/A"}},{"$f":"HLOOKUP(\"Station\",pqidat!A$4:BZ$1000,$A136+1,FALSE)","v":{"$error":"#N/A"}},{"$f":"HLOOKUP(\"Dichte\",pqidat!A$4:BZ$1000,$A136+1,FALSE)","v":{"$error":"#N/A"}},{"$f":"HLOOKUP(\"Verdichtung\",pqidat!A$4:BZ$1000,$A136+1,FALSE)","v":{"$error":"#N/A"}},{"$f":"HLOOKUP(\"Temp. OberflÃ¤che\",pqidat!A$4:BZ$1000,$A136+1,FALSE)","v":{"$error":"#N/A"}},{"$f":"HLOOKUP(\"GPS\",pqidat!A$4:BZ$1000,$A136+1,FALSE)","v":{"$error":"#N/A"}},{"$f":"HLOOKUP(\"Korrektur\",pqidat!A$4:BZ$1000,$A136+1,FALSE)","v":{"$error":"#N/A"}}]
["127",{"$f":"IF(ISBLANK(HLOOKUP(\"Raumdichte\",pqidat!$A$4:$BZ$500,$A137+1,FALSE)),\"\",A137)","v":"127"},{"$f":"HLOOKUP(\"Asphaltsorte\",pqidat!A$4:BZ$1000,$A137+1,FALSE)","v":{"$error":"#N/A"}},{"$f":"HLOOKUP(\"Standort\",pqidat!A$4:BZ$1000,$A137+1,FALSE)&\" \"&INDEX(pqidat!$A$1:$Z$1000,A137+4,MATCH(\"Standort\",pqidat!$A$4:$Z$4,0)+1)","v":{"$error":"#N/A"}},{"$f":"HLOOKUP(\"Station\",pqidat!A$4:BZ$1000,$A137+1,FALSE)","v":{"$error":"#N/A"}},{"$f":"HLOOKUP(\"Dichte\",pqidat!A$4:BZ$1000,$A137+1,FALSE)","v":{"$error":"#N/A"}},{"$f":"HLOOKUP(\"Verdichtung\",pqidat!A$4:BZ$1000,$A137+1,FALSE)","v":{"$error":"#N/A"}},{"$f":"HLOOKUP(\"Temp. OberflÃ¤che\",pqidat!A$4:BZ$1000,$A137+1,FALSE)","v":{"$error":"#N/A"}},{"$f":"HLOOKUP(\"GPS\",pqidat!A$4:BZ$1000,$A137+1,FALSE)","v":{"$error":"#N/A"}},{"$f":"HLOOKUP(\"Korrektur\",pqidat!A$4:BZ$1000,$A137+1,FALSE)","v":{"$error":"#N/A"}}]
["128",{"$f":"IF(ISBLANK(HLOOKUP(\"Raumdichte\",pqidat!$A$4:$BZ$500,$A138+1,FALSE)),\"\",A138)","v":"128"},{"$f":"HLOOKUP(\"Asphaltsorte\",pqidat!A$4:BZ$1000,$A138+1,FALSE)","v":{"$error":"#N/A"}},{"$f":"HLOOKUP(\"Standort\",pqidat!A$4:BZ$1000,$A138+1,FALSE)&\" \"&INDEX(pqidat!$A$1:$Z$1000,A138+4,MATCH(\"Standort\",pqidat!$A$4:$Z$4,0)+1)","v":{"$error":"#N/A"}},{"$f":"HLOOKUP(\"Station\",pqidat!A$4:BZ$1000,$A138+1,FALSE)","v":{"$error":"#N/A"}},{"$f":"HLOOKUP(\"Dichte\",pqidat!A$4:BZ$1000,$A138+1,FALSE)","v":{"$error":"#N/A"}},{"$f":"HLOOKUP(\"Verdichtung\",pqidat!A$4:BZ$1000,$A138+1,FALSE)","v":{"$error":"#N/A"}},{"$f":"HLOOKUP(\"Temp. OberflÃ¤che\",pqidat!A$4:BZ$1000,$A138+1,FALSE)","v":{"$error":"#N/A"}},{"$f":"HLOOKUP(\"GPS\",pqidat!A$4:BZ$1000,$A138+1,FALSE)","v":{"$error":"#N/A"}},{"$f":"HLOOKUP(\"Korrektur\",pqidat!A$4:BZ$1000,$A138+1,FALSE)","v":{"$error":"#N/A"}}]
["129",{"$f":"IF(ISBLANK(HLOOKUP(\"Raumdichte\",pqidat!$A$4:$BZ$500,$A139+1,FALSE)),\"\",A139)","v":"129"},{"$f":"HLOOKUP(\"Asphaltsorte\",pqidat!A$4:BZ$1000,$A139+1,FALSE)","v":{"$error":"#N/A"}},{"$f":"HLOOKUP(\"Standort\",pqidat!A$4:BZ$1000,$A139+1,FALSE)&\" \"&INDEX(pqidat!$A$1:$Z$1000,A139+4,MATCH(\"Standort\",pqidat!$A$4:$Z$4,0)+1)","v":{"$error":"#N/A"}},{"$f":"HLOOKUP(\"Station\",pqidat!A$4:BZ$1000,$A139+1,FALSE)","v":{"$error":"#N/A"}},{"$f":"HLOOKUP(\"Dichte\",pqidat!A$4:BZ$1000,$A139+1,FALSE)","v":{"$error":"#N/A"}},{"$f":"HLOOKUP(\"Verdichtung\",pqidat!A$4:BZ$1000,$A139+1,FALSE)","v":{"$error":"#N/A"}},{"$f":"HLOOKUP(\"Temp. OberflÃ¤che\",pqidat!A$4:BZ$1000,$A139+1,FALSE)","v":{"$error":"#N/A"}},{"$f":"HLOOKUP(\"GPS\",pqidat!A$4:BZ$1000,$A139+1,FALSE)","v":{"$error":"#N/A"}},{"$f":"HLOOKUP(\"Korrektur\",pqidat!A$4:BZ$1000,$A139+1,FALSE)","v":{"$error":"#N/A"}}]
["130",{"$f":"IF(ISBLANK(HLOOKUP(\"Raumdichte\",pqidat!$A$4:$BZ$500,$A140+1,FALSE)),\"\",A140)","v":"130"},{"$f":"HLOOKUP(\"Asphaltsorte\",pqidat!A$4:BZ$1000,$A140+1,FALSE)","v":{"$error":"#N/A"}},{"$f":"HLOOKUP(\"Standort\",pqidat!A$4:BZ$1000,$A140+1,FALSE)&\" \"&INDEX(pqidat!$A$1:$Z$1000,A140+4,MATCH(\"Standort\",pqidat!$A$4:$Z$4,0)+1)","v":{"$error":"#N/A"}},{"$f":"HLOOKUP(\"Station\",pqidat!A$4:BZ$1000,$A140+1,FALSE)","v":{"$error":"#N/A"}},{"$f":"HLOOKUP(\"Dichte\",pqidat!A$4:BZ$1000,$A140+1,FALSE)","v":{"$error":"#N/A"}},{"$f":"HLOOKUP(\"Verdichtung\",pqidat!A$4:BZ$1000,$A140+1,FALSE)","v":{"$error":"#N/A"}},{"$f":"HLOOKUP(\"Temp. OberflÃ¤che\",pqidat!A$4:BZ$1000,$A140+1,FALSE)","v":{"$error":"#N/A"}},{"$f":"HLOOKUP(\"GPS\",pqidat!A$4:BZ$1000,$A140+1,FALSE)","v":{"$error":"#N/A"}},{"$f":"HLOOKUP(\"Korrektur\",pqidat!A$4:BZ$1000,$A140+1,FALSE)","v":{"$error":"#N/A"}}]
["131",{"$f":"IF(ISBLANK(HLOOKUP(\"Raumdichte\",pqidat!$A$4:$BZ$500,$A141+1,FALSE)),\"\",A141)","v":"131"},{"$f":"HLOOKUP(\"Asphaltsorte\",pqidat!A$4:BZ$1000,$A141+1,FALSE)","v":{"$error":"#N/A"}},{"$f":"HLOOKUP(\"Standort\",pqidat!A$4:BZ$1000,$A141+1,FALSE)&\" \"&INDEX(pqidat!$A$1:$Z$1000,A141+4,MATCH(\"Standort\",pqidat!$A$4:$Z$4,0)+1)","v":{"$error":"#N/A"}},{"$f":"HLOOKUP(\"Station\",pqidat!A$4:BZ$1000,$A141+1,FALSE)","v":{"$error":"#N/A"}},{"$f":"HLOOKUP(\"Dichte\",pqidat!A$4:BZ$1000,$A141+1,FALSE)","v":{"$error":"#N/A"}},{"$f":"HLOOKUP(\"Verdichtung\",pqidat!A$4:BZ$1000,$A141+1,FALSE)","v":{"$error":"#N/A"}},{"$f":"HLOOKUP(\"Temp. OberflÃ¤che\",pqidat!A$4:BZ$1000,$A141+1,FALSE)","v":{"$error":"#N/A"}},{"$f":"HLOOKUP(\"GPS\",pqidat!A$4:BZ$1000,$A141+1,FALSE)","v":{"$error":"#N/A"}},{"$f":"HLOOKUP(\"Korrektur\",pqidat!A$4:BZ$1000,$A141+1,FALSE)","v":{"$error":"#N/A"}}]
["132",{"$f":"IF(ISBLANK(HLOOKUP(\"Raumdichte\",pqidat!$A$4:$BZ$500,$A142+1,FALSE)),\"\",A142)","v":"132"},{"$f":"HLOOKUP(\"Asphaltsorte\",pqidat!A$4:BZ$1000,$A142+1,FALSE)","v":{"$error":"#N/A"}},{"$f":"HLOOKUP(\"Standort\",pqidat!A$4:BZ$1000,$A142+1,FALSE)&\" \"&INDEX(pqidat!$A$1:$Z$1000,A142+4,MATCH(\"Standort\",pqidat!$A$4:$Z$4,0)+1)","v":{"$error":"#N/A"}},{"$f":"HLOOKUP(\"Station\",pqidat!A$4:BZ$1000,$A142+1,FALSE)","v":{"$error":"#N/A"}},{"$f":"HLOOKUP(\"Dichte\",pqidat!A$4:BZ$1000,$A142+1,FALSE)","v":{"$error":"#N/A"}},{"$f":"HLOOKUP(\"Verdichtung\",pqidat!A$4:BZ$1000,$A142+1,FALSE)","v":{"$error":"#N/A"}},{"$f":"HLOOKUP(\"Temp. OberflÃ¤che\",pqidat!A$4:BZ$1000,$A142+1,FALSE)","v":{"$error":"#N/A"}},{"$f":"HLOOKUP(\"GPS\",pqidat!A$4:BZ$1000,$A142+1,FALSE)","v":{"$error":"#N/A"}},{"$f":"HLOOKUP(\"Korrektur\",pqidat!A$4:BZ$1000,$A142+1,FALSE)","v":{"$error":"#N/A"}}]
["133",{"$f":"IF(ISBLANK(HLOOKUP(\"Raumdichte\",pqidat!$A$4:$BZ$500,$A143+1,FALSE)),\"\",A143)","v":"133"},{"$f":"HLOOKUP(\"Asphaltsorte\",pqidat!A$4:BZ$1000,$A143+1,FALSE)","v":{"$error":"#N/A"}},{"$f":"HLOOKUP(\"Standort\",pqidat!A$4:BZ$1000,$A143+1,FALSE)&\" \"&INDEX(pqidat!$A$1:$Z$1000,A143+4,MATCH(\"Standort\",pqidat!$A$4:$Z$4,0)+1)","v":{"$error":"#N/A"}},{"$f":"HLOOKUP(\"Station\",pqidat!A$4:BZ$1000,$A143+1,FALSE)","v":{"$error":"#N/A"}},{"$f":"HLOOKUP(\"Dichte\",pqidat!A$4:BZ$1000,$A143+1,FALSE)","v":{"$error":"#N/A"}},{"$f":"HLOOKUP(\"Verdichtung\",pqidat!A$4:BZ$1000,$A143+1,FALSE)","v":{"$error":"#N/A"}},{"$f":"HLOOKUP(\"Temp. OberflÃ¤che\",pqidat!A$4:BZ$1000,$A143+1,FALSE)","v":{"$error":"#N/A"}},{"$f":"HLOOKUP(\"GPS\",pqidat!A$4:BZ$1000,$A143+1,FALSE)","v":{"$error":"#N/A"}},{"$f":"HLOOKUP(\"Korrektur\",pqidat!A$4:BZ$1000,$A143+1,FALSE)","v":{"$error":"#N/A"}}]
["134",{"$f":"IF(ISBLANK(HLOOKUP(\"Raumdichte\",pqidat!$A$4:$BZ$500,$A144+1,FALSE)),\"\",A144)","v":"134"},{"$f":"HLOOKUP(\"Asphaltsorte\",pqidat!A$4:BZ$1000,$A144+1,FALSE)","v":{"$error":"#N/A"}},{"$f":"HLOOKUP(\"Standort\",pqidat!A$4:BZ$1000,$A144+1,FALSE)&\" \"&INDEX(pqidat!$A$1:$Z$1000,A144+4,MATCH(\"Standort\",pqidat!$A$4:$Z$4,0)+1)","v":{"$error":"#N/A"}},{"$f":"HLOOKUP(\"Station\",pqidat!A$4:BZ$1000,$A144+1,FALSE)","v":{"$error":"#N/A"}},{"$f":"HLOOKUP(\"Dichte\",pqidat!A$4:BZ$1000,$A144+1,FALSE)","v":{"$error":"#N/A"}},{"$f":"HLOOKUP(\"Verdichtung\",pqidat!A$4:BZ$1000,$A144+1,FALSE)","v":{"$error":"#N/A"}},{"$f":"HLOOKUP(\"Temp. OberflÃ¤che\",pqidat!A$4:BZ$1000,$A144+1,FALSE)","v":{"$error":"#N/A"}},{"$f":"HLOOKUP(\"GPS\",pqidat!A$4:BZ$1000,$A144+1,FALSE)","v":{"$error":"#N/A"}},{"$f":"HLOOKUP(\"Korrektur\",pqidat!A$4:BZ$1000,$A144+1,FALSE)","v":{"$error":"#N/A"}}]
["135",{"$f":"IF(ISBLANK(HLOOKUP(\"Raumdichte\",pqidat!$A$4:$BZ$500,$A145+1,FALSE)),\"\",A145)","v":"135"},{"$f":"HLOOKUP(\"Asphaltsorte\",pqidat!A$4:BZ$1000,$A145+1,FALSE)","v":{"$error":"#N/A"}},{"$f":"HLOOKUP(\"Standort\",pqidat!A$4:BZ$1000,$A145+1,FALSE)&\" \"&INDEX(pqidat!$A$1:$Z$1000,A145+4,MATCH(\"Standort\",pqidat!$A$4:$Z$4,0)+1)","v":{"$error":"#N/A"}},{"$f":"HLOOKUP(\"Station\",pqidat!A$4:BZ$1000,$A145+1,FALSE)","v":{"$error":"#N/A"}},{"$f":"HLOOKUP(\"Dichte\",pqidat!A$4:BZ$1000,$A145+1,FALSE)","v":{"$error":"#N/A"}},{"$f":"HLOOKUP(\"Verdichtung\",pqidat!A$4:BZ$1000,$A145+1,FALSE)","v":{"$error":"#N/A"}},{"$f":"HLOOKUP(\"Temp. OberflÃ¤che\",pqidat!A$4:BZ$1000,$A145+1,FALSE)","v":{"$error":"#N/A"}},{"$f":"HLOOKUP(\"GPS\",pqidat!A$4:BZ$1000,$A145+1,FALSE)","v":{"$error":"#N/A"}},{"$f":"HLOOKUP(\"Korrektur\",pqidat!A$4:BZ$1000,$A145+1,FALSE)","v":{"$error":"#N/A"}}]
["136",{"$f":"IF(ISBLANK(HLOOKUP(\"Raumdichte\",pqidat!$A$4:$BZ$500,$A146+1,FALSE)),\"\",A146)","v":"136"},{"$f":"HLOOKUP(\"Asphaltsorte\",pqidat!A$4:BZ$1000,$A146+1,FALSE)","v":{"$error":"#N/A"}},{"$f":"HLOOKUP(\"Standort\",pqidat!A$4:BZ$1000,$A146+1,FALSE)&\" \"&INDEX(pqidat!$A$1:$Z$1000,A146+4,MATCH(\"Standort\",pqidat!$A$4:$Z$4,0)+1)","v":{"$error":"#N/A"}},{"$f":"HLOOKUP(\"Station\",pqidat!A$4:BZ$1000,$A146+1,FALSE)","v":{"$error":"#N/A"}},{"$f":"HLOOKUP(\"Dichte\",pqidat!A$4:BZ$1000,$A146+1,FALSE)","v":{"$error":"#N/A"}},{"$f":"HLOOKUP(\"Verdichtung\",pqidat!A$4:BZ$1000,$A146+1,FALSE)","v":{"$error":"#N/A"}},{"$f":"HLOOKUP(\"Temp. OberflÃ¤che\",pqidat!A$4:BZ$1000,$A146+1,FALSE)","v":{"$error":"#N/A"}},{"$f":"HLOOKUP(\"GPS\",pqidat!A$4:BZ$1000,$A146+1,FALSE)","v":{"$error":"#N/A"}},{"$f":"HLOOKUP(\"Korrektur\",pqidat!A$4:BZ$1000,$A146+1,FALSE)","v":{"$error":"#N/A"}}]
["137",{"$f":"IF(ISBLANK(HLOOKUP(\"Raumdichte\",pqidat!$A$4:$BZ$500,$A147+1,FALSE)),\"\",A147)","v":"137"},{"$f":"HLOOKUP(\"Asphaltsorte\",pqidat!A$4:BZ$1000,$A147+1,FALSE)","v":{"$error":"#N/A"}},{"$f":"HLOOKUP(\"Standort\",pqidat!A$4:BZ$1000,$A147+1,FALSE)&\" \"&INDEX(pqidat!$A$1:$Z$1000,A147+4,MATCH(\"Standort\",pqidat!$A$4:$Z$4,0)+1)","v":{"$error":"#N/A"}},{"$f":"HLOOKUP(\"Station\",pqidat!A$4:BZ$1000,$A147+1,FALSE)","v":{"$error":"#N/A"}},{"$f":"HLOOKUP(\"Dichte\",pqidat!A$4:BZ$1000,$A147+1,FALSE)","v":{"$error":"#N/A"}},{"$f":"HLOOKUP(\"Verdichtung\",pqidat!A$4:BZ$1000,$A147+1,FALSE)","v":{"$error":"#N/A"}},{"$f":"HLOOKUP(\"Temp. OberflÃ¤che\",pqidat!A$4:BZ$1000,$A147+1,FALSE)","v":{"$error":"#N/A"}},{"$f":"HLOOKUP(\"GPS\",pqidat!A$4:BZ$1000,$A147+1,FALSE)","v":{"$error":"#N/A"}},{"$f":"HLOOKUP(\"Korrektur\",pqidat!A$4:BZ$1000,$A147+1,FALSE)","v":{"$error":"#N/A"}}]
["138",{"$f":"IF(ISBLANK(HLOOKUP(\"Raumdichte\",pqidat!$A$4:$BZ$500,$A148+1,FALSE)),\"\",A148)","v":"138"},{"$f":"HLOOKUP(\"Asphaltsorte\",pqidat!A$4:BZ$1000,$A148+1,FALSE)","v":{"$error":"#N/A"}},{"$f":"HLOOKUP(\"Standort\",pqidat!A$4:BZ$1000,$A148+1,FALSE)&\" \"&INDEX(pqidat!$A$1:$Z$1000,A148+4,MATCH(\"Standort\",pqidat!$A$4:$Z$4,0)+1)","v":{"$error":"#N/A"}},{"$f":"HLOOKUP(\"Station\",pqidat!A$4:BZ$1000,$A148+1,FALSE)","v":{"$error":"#N/A"}},{"$f":"HLOOKUP(\"Dichte\",pqidat!A$4:BZ$1000,$A148+1,FALSE)","v":{"$error":"#N/A"}},{"$f":"HLOOKUP(\"Verdichtung\",pqidat!A$4:BZ$1000,$A148+1,FALSE)","v":{"$error":"#N/A"}},{"$f":"HLOOKUP(\"Temp. OberflÃ¤che\",pqidat!A$4:BZ$1000,$A148+1,FALSE)","v":{"$error":"#N/A"}},{"$f":"HLOOKUP(\"GPS\",pqidat!A$4:BZ$1000,$A148+1,FALSE)","v":{"$error":"#N/A"}},{"$f":"HLOOKUP(\"Korrektur\",pqidat!A$4:BZ$1000,$A148+1,FALSE)","v":{"$error":"#N/A"}}]
["139",{"$f":"IF(ISBLANK(HLOOKUP(\"Raumdichte\",pqidat!$A$4:$BZ$500,$A149+1,FALSE)),\"\",A149)","v":"139"},{"$f":"HLOOKUP(\"Asphaltsorte\",pqidat!A$4:BZ$1000,$A149+1,FALSE)","v":{"$error":"#N/A"}},{"$f":"HLOOKUP(\"Standort\",pqidat!A$4:BZ$1000,$A149+1,FALSE)&\" \"&INDEX(pqidat!$A$1:$Z$1000,A149+4,MATCH(\"Standort\",pqidat!$A$4:$Z$4,0)+1)","v":{"$error":"#N/A"}},{"$f":"HLOOKUP(\"Station\",pqidat!A$4:BZ$1000,$A149+1,FALSE)","v":{"$error":"#N/A"}},{"$f":"HLOOKUP(\"Dichte\",pqidat!A$4:BZ$1000,$A149+1,FALSE)","v":{"$error":"#N/A"}},{"$f":"HLOOKUP(\"Verdichtung\",pqidat!A$4:BZ$1000,$A149+1,FALSE)","v":{"$error":"#N/A"}},{"$f":"HLOOKUP(\"Temp. OberflÃ¤che\",pqidat!A$4:BZ$1000,$A149+1,FALSE)","v":{"$error":"#N/A"}},{"$f":"HLOOKUP(\"GPS\",pqidat!A$4:BZ$1000,$A149+1,FALSE)","v":{"$error":"#N/A"}},{"$f":"HLOOKUP(\"Korrektur\",pqidat!A$4:BZ$1000,$A149+1,FALSE)","v":{"$error":"#N/A"}}]
["140",{"$f":"IF(ISBLANK(HLOOKUP(\"Raumdichte\",pqidat!$A$4:$BZ$500,$A150+1,FALSE)),\"\",A150)","v":"140"},{"$f":"HLOOKUP(\"Asphaltsorte\",pqidat!A$4:BZ$1000,$A150+1,FALSE)","v":{"$error":"#N/A"}},{"$f":"HLOOKUP(\"Standort\",pqidat!A$4:BZ$1000,$A150+1,FALSE)&\" \"&INDEX(pqidat!$A$1:$Z$1000,A150+4,MATCH(\"Standort\",pqidat!$A$4:$Z$4,0)+1)","v":{"$error":"#N/A"}},{"$f":"HLOOKUP(\"Station\",pqidat!A$4:BZ$1000,$A150+1,FALSE)","v":{"$error":"#N/A"}},{"$f":"HLOOKUP(\"Dichte\",pqidat!A$4:BZ$1000,$A150+1,FALSE)","v":{"$error":"#N/A"}},{"$f":"HLOOKUP(\"Verdichtung\",pqidat!A$4:BZ$1000,$A150+1,FALSE)","v":{"$error":"#N/A"}},{"$f":"HLOOKUP(\"Temp. OberflÃ¤che\",pqidat!A$4:BZ$1000,$A150+1,FALSE)","v":{"$error":"#N/A"}},{"$f":"HLOOKUP(\"GPS\",pqidat!A$4:BZ$1000,$A150+1,FALSE)","v":{"$error":"#N/A"}},{"$f":"HLOOKUP(\"Korrektur\",pqidat!A$4:BZ$1000,$A150+1,FALSE)","v":{"$error":"#N/A"}}]
["141",{"$f":"IF(ISBLANK(HLOOKUP(\"Raumdichte\",pqidat!$A$4:$BZ$500,$A151+1,FALSE)),\"\",A151)","v":"141"},{"$f":"HLOOKUP(\"Asphaltsorte\",pqidat!A$4:BZ$1000,$A151+1,FALSE)","v":{"$error":"#N/A"}},{"$f":"HLOOKUP(\"Standort\",pqidat!A$4:BZ$1000,$A151+1,FALSE)&\" \"&INDEX(pqidat!$A$1:$Z$1000,A151+4,MATCH(\"Standort\",pqidat!$A$4:$Z$4,0)+1)","v":{"$error":"#N/A"}},{"$f":"HLOOKUP(\"Station\",pqidat!A$4:BZ$1000,$A151+1,FALSE)","v":{"$error":"#N/A"}},{"$f":"HLOOKUP(\"Dichte\",pqidat!A$4:BZ$1000,$A151+1,FALSE)","v":{"$error":"#N/A"}},{"$f":"HLOOKUP(\"Verdichtung\",pqidat!A$4:BZ$1000,$A151+1,FALSE)","v":{"$error":"#N/A"}},{"$f":"HLOOKUP(\"Temp. OberflÃ¤che\",pqidat!A$4:BZ$1000,$A151+1,FALSE)","v":{"$error":"#N/A"}},{"$f":"HLOOKUP(\"GPS\",pqidat!A$4:BZ$1000,$A151+1,FALSE)","v":{"$error":"#N/A"}},{"$f":"HLOOKUP(\"Korrektur\",pqidat!A$4:BZ$1000,$A151+1,FALSE)","v":{"$error":"#N/A"}}]
["142",{"$f":"IF(ISBLANK(HLOOKUP(\"Raumdichte\",pqidat!$A$4:$BZ$500,$A152+1,FALSE)),\"\",A152)","v":"142"},{"$f":"HLOOKUP(\"Asphaltsorte\",pqidat!A$4:BZ$1000,$A152+1,FALSE)","v":{"$error":"#N/A"}},{"$f":"HLOOKUP(\"Standort\",pqidat!A$4:BZ$1000,$A152+1,FALSE)&\" \"&INDEX(pqidat!$A$1:$Z$1000,A152+4,MATCH(\"Standort\",pqidat!$A$4:$Z$4,0)+1)","v":{"$error":"#N/A"}},{"$f":"HLOOKUP(\"Station\",pqidat!A$4:BZ$1000,$A152+1,FALSE)","v":{"$error":"#N/A"}},{"$f":"HLOOKUP(\"Dichte\",pqidat!A$4:BZ$1000,$A152+1,FALSE)","v":{"$error":"#N/A"}},{"$f":"HLOOKUP(\"Verdichtung\",pqidat!A$4:BZ$1000,$A152+1,FALSE)","v":{"$error":"#N/A"}},{"$f":"HLOOKUP(\"Temp. OberflÃ¤che\",pqidat!A$4:BZ$1000,$A152+1,FALSE)","v":{"$error":"#N/A"}},{"$f":"HLOOKUP(\"GPS\",pqidat!A$4:BZ$1000,$A152+1,FALSE)","v":{"$error":"#N/A"}},{"$f":"HLOOKUP(\"Korrektur\",pqidat!A$4:BZ$1000,$A152+1,FALSE)","v":{"$error":"#N/A"}}]
["143",{"$f":"IF(ISBLANK(HLOOKUP(\"Raumdichte\",pqidat!$A$4:$BZ$500,$A153+1,FALSE)),\"\",A153)","v":"143"},{"$f":"HLOOKUP(\"Asphaltsorte\",pqidat!A$4:BZ$1000,$A153+1,FALSE)","v":{"$error":"#N/A"}},{"$f":"HLOOKUP(\"Standort\",pqidat!A$4:BZ$1000,$A153+1,FALSE)&\" \"&INDEX(pqidat!$A$1:$Z$1000,A153+4,MATCH(\"Standort\",pqidat!$A$4:$Z$4,0)+1)","v":{"$error":"#N/A"}},{"$f":"HLOOKUP(\"Station\",pqidat!A$4:BZ$1000,$A153+1,FALSE)","v":{"$error":"#N/A"}},{"$f":"HLOOKUP(\"Dichte\",pqidat!A$4:BZ$1000,$A153+1,FALSE)","v":{"$error":"#N/A"}},{"$f":"HLOOKUP(\"Verdichtung\",pqidat!A$4:BZ$1000,$A153+1,FALSE)","v":{"$error":"#N/A"}},{"$f":"HLOOKUP(\"Temp. OberflÃ¤che\",pqidat!A$4:BZ$1000,$A153+1,FALSE)","v":{"$error":"#N/A"}},{"$f":"HLOOKUP(\"GPS\",pqidat!A$4:BZ$1000,$A153+1,FALSE)","v":{"$error":"#N/A"}},{"$f":"HLOOKUP(\"Korrektur\",pqidat!A$4:BZ$1000,$A153+1,FALSE)","v":{"$error":"#N/A"}}]
["144",{"$f":"IF(ISBLANK(HLOOKUP(\"Raumdichte\",pqidat!$A$4:$BZ$500,$A154+1,FALSE)),\"\",A154)","v":"144"},{"$f":"HLOOKUP(\"Asphaltsorte\",pqidat!A$4:BZ$1000,$A154+1,FALSE)","v":{"$error":"#N/A"}},{"$f":"HLOOKUP(\"Standort\",pqidat!A$4:BZ$1000,$A154+1,FALSE)&\" \"&INDEX(pqidat!$A$1:$Z$1000,A154+4,MATCH(\"Standort\",pqidat!$A$4:$Z$4,0)+1)","v":{"$error":"#N/A"}},{"$f":"HLOOKUP(\"Station\",pqidat!A$4:BZ$1000,$A154+1,FALSE)","v":{"$error":"#N/A"}},{"$f":"HLOOKUP(\"Dichte\",pqidat!A$4:BZ$1000,$A154+1,FALSE)","v":{"$error":"#N/A"}},{"$f":"HLOOKUP(\"Verdichtung\",pqidat!A$4:BZ$1000,$A154+1,FALSE)","v":{"$error":"#N/A"}},{"$f":"HLOOKUP(\"Temp. OberflÃ¤che\",pqidat!A$4:BZ$1000,$A154+1,FALSE)","v":{"$error":"#N/A"}},{"$f":"HLOOKUP(\"GPS\",pqidat!A$4:BZ$1000,$A154+1,FALSE)","v":{"$error":"#N/A"}},{"$f":"HLOOKUP(\"Korrektur\",pqidat!A$4:BZ$1000,$A154+1,FALSE)","v":{"$error":"#N/A"}}]
["145",{"$f":"IF(ISBLANK(HLOOKUP(\"Raumdichte\",pqidat!$A$4:$BZ$500,$A155+1,FALSE)),\"\",A155)","v":"145"},{"$f":"HLOOKUP(\"Asphaltsorte\",pqidat!A$4:BZ$1000,$A155+1,FALSE)","v":{"$error":"#N/A"}},{"$f":"HLOOKUP(\"Standort\",pqidat!A$4:BZ$1000,$A155+1,FALSE)&\" \"&INDEX(pqidat!$A$1:$Z$1000,A155+4,MATCH(\"Standort\",pqidat!$A$4:$Z$4,0)+1)","v":{"$error":"#N/A"}},{"$f":"HLOOKUP(\"Station\",pqidat!A$4:BZ$1000,$A155+1,FALSE)","v":{"$error":"#N/A"}},{"$f":"HLOOKUP(\"Dichte\",pqidat!A$4:BZ$1000,$A155+1,FALSE)","v":{"$error":"#N/A"}},{"$f":"HLOOKUP(\"Verdichtung\",pqidat!A$4:BZ$1000,$A155+1,FALSE)","v":{"$error":"#N/A"}},{"$f":"HLOOKUP(\"Temp. OberflÃ¤che\",pqidat!A$4:BZ$1000,$A155+1,FALSE)","v":{"$error":"#N/A"}},{"$f":"HLOOKUP(\"GPS\",pqidat!A$4:BZ$1000,$A155+1,FALSE)","v":{"$error":"#N/A"}},{"$f":"HLOOKUP(\"Korrektur\",pqidat!A$4:BZ$1000,$A155+1,FALSE)","v":{"$error":"#N/A"}}]
["146",{"$f":"IF(ISBLANK(HLOOKUP(\"Raumdichte\",pqidat!$A$4:$BZ$500,$A156+1,FALSE)),\"\",A156)","v":"146"},{"$f":"HLOOKUP(\"Asphaltsorte\",pqidat!A$4:BZ$1000,$A156+1,FALSE)","v":{"$error":"#N/A"}},{"$f":"HLOOKUP(\"Standort\",pqidat!A$4:BZ$1000,$A156+1,FALSE)&\" \"&INDEX(pqidat!$A$1:$Z$1000,A156+4,MATCH(\"Standort\",pqidat!$A$4:$Z$4,0)+1)","v":{"$error":"#N/A"}},{"$f":"HLOOKUP(\"Station\",pqidat!A$4:BZ$1000,$A156+1,FALSE)","v":{"$error":"#N/A"}},{"$f":"HLOOKUP(\"Dichte\",pqidat!A$4:BZ$1000,$A156+1,FALSE)","v":{"$error":"#N/A"}},{"$f":"HLOOKUP(\"Verdichtung\",pqidat!A$4:BZ$1000,$A156+1,FALSE)","v":{"$error":"#N/A"}},{"$f":"HLOOKUP(\"Temp. OberflÃ¤che\",pqidat!A$4:BZ$1000,$A156+1,FALSE)","v":{"$error":"#N/A"}},{"$f":"HLOOKUP(\"GPS\",pqidat!A$4:BZ$1000,$A156+1,FALSE)","v":{"$error":"#N/A"}},{"$f":"HLOOKUP(\"Korrektur\",pqidat!A$4:BZ$1000,$A156+1,FALSE)","v":{"$error":"#N/A"}}]
["147",{"$f":"IF(ISBLANK(HLOOKUP(\"Raumdichte\",pqidat!$A$4:$BZ$500,$A157+1,FALSE)),\"\",A157)","v":"147"},{"$f":"HLOOKUP(\"Asphaltsorte\",pqidat!A$4:BZ$1000,$A157+1,FALSE)","v":{"$error":"#N/A"}},{"$f":"HLOOKUP(\"Standort\",pqidat!A$4:BZ$1000,$A157+1,FALSE)&\" \"&INDEX(pqidat!$A$1:$Z$1000,A157+4,MATCH(\"Standort\",pqidat!$A$4:$Z$4,0)+1)","v":{"$error":"#N/A"}},{"$f":"HLOOKUP(\"Station\",pqidat!A$4:BZ$1000,$A157+1,FALSE)","v":{"$error":"#N/A"}},{"$f":"HLOOKUP(\"Dichte\",pqidat!A$4:BZ$1000,$A157+1,FALSE)","v":{"$error":"#N/A"}},{"$f":"HLOOKUP(\"Verdichtung\",pqidat!A$4:BZ$1000,$A157+1,FALSE)","v":{"$error":"#N/A"}},{"$f":"HLOOKUP(\"Temp. OberflÃ¤che\",pqidat!A$4:BZ$1000,$A157+1,FALSE)","v":{"$error":"#N/A"}},{"$f":"HLOOKUP(\"GPS\",pqidat!A$4:BZ$1000,$A157+1,FALSE)","v":{"$error":"#N/A"}},{"$f":"HLOOKUP(\"Korrektur\",pqidat!A$4:BZ$1000,$A157+1,FALSE)","v":{"$error":"#N/A"}}]
["148",{"$f":"IF(ISBLANK(HLOOKUP(\"Raumdichte\",pqidat!$A$4:$BZ$500,$A158+1,FALSE)),\"\",A158)","v":"148"},{"$f":"HLOOKUP(\"Asphaltsorte\",pqidat!A$4:BZ$1000,$A158+1,FALSE)","v":{"$error":"#N/A"}},{"$f":"HLOOKUP(\"Standort\",pqidat!A$4:BZ$1000,$A158+1,FALSE)&\" \"&INDEX(pqidat!$A$1:$Z$1000,A158+4,MATCH(\"Standort\",pqidat!$A$4:$Z$4,0)+1)","v":{"$error":"#N/A"}},{"$f":"HLOOKUP(\"Station\",pqidat!A$4:BZ$1000,$A158+1,FALSE)","v":{"$error":"#N/A"}},{"$f":"HLOOKUP(\"Dichte\",pqidat!A$4:BZ$1000,$A158+1,FALSE)","v":{"$error":"#N/A"}},{"$f":"HLOOKUP(\"Verdichtung\",pqidat!A$4:BZ$1000,$A158+1,FALSE)","v":{"$error":"#N/A"}},{"$f":"HLOOKUP(\"Temp. OberflÃ¤che\",pqidat!A$4:BZ$1000,$A158+1,FALSE)","v":{"$error":"#N/A"}},{"$f":"HLOOKUP(\"GPS\",pqidat!A$4:BZ$1000,$A158+1,FALSE)","v":{"$error":"#N/A"}},{"$f":"HLOOKUP(\"Korrektur\",pqidat!A$4:BZ$1000,$A158+1,FALSE)","v":{"$error":"#N/A"}}]
["149",{"$f":"IF(ISBLANK(HLOOKUP(\"Raumdichte\",pqidat!$A$4:$BZ$500,$A159+1,FALSE)),\"\",A159)","v":"149"},{"$f":"HLOOKUP(\"Asphaltsorte\",pqidat!A$4:BZ$1000,$A159+1,FALSE)","v":{"$error":"#N/A"}},{"$f":"HLOOKUP(\"Standort\",pqidat!A$4:BZ$1000,$A159+1,FALSE)&\" \"&INDEX(pqidat!$A$1:$Z$1000,A159+4,MATCH(\"Standort\",pqidat!$A$4:$Z$4,0)+1)","v":{"$error":"#N/A"}},{"$f":"HLOOKUP(\"Station\",pqidat!A$4:BZ$1000,$A159+1,FALSE)","v":{"$error":"#N/A"}},{"$f":"HLOOKUP(\"Dichte\",pqidat!A$4:BZ$1000,$A159+1,FALSE)","v":{"$error":"#N/A"}},{"$f":"HLOOKUP(\"Verdichtung\",pqidat!A$4:BZ$1000,$A159+1,FALSE)","v":{"$error":"#N/A"}},{"$f":"HLOOKUP(\"Temp. OberflÃ¤che\",pqidat!A$4:BZ$1000,$A159+1,FALSE)","v":{"$error":"#N/A"}},{"$f":"HLOOKUP(\"GPS\",pqidat!A$4:BZ$1000,$A159+1,FALSE)","v":{"$error":"#N/A"}},{"$f":"HLOOKUP(\"Korrektur\",pqidat!A$4:BZ$1000,$A159+1,FALSE)","v":{"$error":"#N/A"}}]
["150",{"$f":"IF(ISBLANK(HLOOKUP(\"Raumdichte\",pqidat!$A$4:$BZ$500,$A160+1,FALSE)),\"\",A160)","v":"150"},{"$f":"HLOOKUP(\"Asphaltsorte\",pqidat!A$4:BZ$1000,$A160+1,FALSE)","v":{"$error":"#N/A"}},{"$f":"HLOOKUP(\"Standort\",pqidat!A$4:BZ$1000,$A160+1,FALSE)&\" \"&INDEX(pqidat!$A$1:$Z$1000,A160+4,MATCH(\"Standort\",pqidat!$A$4:$Z$4,0)+1)","v":{"$error":"#N/A"}},{"$f":"HLOOKUP(\"Station\",pqidat!A$4:BZ$1000,$A160+1,FALSE)","v":{"$error":"#N/A"}},{"$f":"HLOOKUP(\"Dichte\",pqidat!A$4:BZ$1000,$A160+1,FALSE)","v":{"$error":"#N/A"}},{"$f":"HLOOKUP(\"Verdichtung\",pqidat!A$4:BZ$1000,$A160+1,FALSE)","v":{"$error":"#N/A"}},{"$f":"HLOOKUP(\"Temp. OberflÃ¤che\",pqidat!A$4:BZ$1000,$A160+1,FALSE)","v":{"$error":"#N/A"}},{"$f":"HLOOKUP(\"GPS\",pqidat!A$4:BZ$1000,$A160+1,FALSE)","v":{"$error":"#N/A"}},{"$f":"HLOOKUP(\"Korrektur\",pqidat!A$4:BZ$1000,$A160+1,FALSE)","v":{"$error":"#N/A"}}]
["151",{"$f":"IF(ISBLANK(HLOOKUP(\"Raumdichte\",pqidat!$A$4:$BZ$500,$A161+1,FALSE)),\"\",A161)","v":"151"},{"$f":"HLOOKUP(\"Asphaltsorte\",pqidat!A$4:BZ$1000,$A161+1,FALSE)","v":{"$error":"#N/A"}},{"$f":"HLOOKUP(\"Standort\",pqidat!A$4:BZ$1000,$A161+1,FALSE)&\" \"&INDEX(pqidat!$A$1:$Z$1000,A161+4,MATCH(\"Standort\",pqidat!$A$4:$Z$4,0)+1)","v":{"$error":"#N/A"}},{"$f":"HLOOKUP(\"Station\",pqidat!A$4:BZ$1000,$A161+1,FALSE)","v":{"$error":"#N/A"}},{"$f":"HLOOKUP(\"Dichte\",pqidat!A$4:BZ$1000,$A161+1,FALSE)","v":{"$error":"#N/A"}},{"$f":"HLOOKUP(\"Verdichtung\",pqidat!A$4:BZ$1000,$A161+1,FALSE)","v":{"$error":"#N/A"}},{"$f":"HLOOKUP(\"Temp. OberflÃ¤che\",pqidat!A$4:BZ$1000,$A161+1,FALSE)","v":{"$error":"#N/A"}},{"$f":"HLOOKUP(\"GPS\",pqidat!A$4:BZ$1000,$A161+1,FALSE)","v":{"$error":"#N/A"}},{"$f":"HLOOKUP(\"Korrektur\",pqidat!A$4:BZ$1000,$A161+1,FALSE)","v":{"$error":"#N/A"}}]
["152",{"$f":"IF(ISBLANK(HLOOKUP(\"Raumdichte\",pqidat!$A$4:$BZ$500,$A162+1,FALSE)),\"\",A162)","v":"152"},{"$f":"HLOOKUP(\"Asphaltsorte\",pqidat!A$4:BZ$1000,$A162+1,FALSE)","v":{"$error":"#N/A"}},{"$f":"HLOOKUP(\"Standort\",pqidat!A$4:BZ$1000,$A162+1,FALSE)&\" \"&INDEX(pqidat!$A$1:$Z$1000,A162+4,MATCH(\"Standort\",pqidat!$A$4:$Z$4,0)+1)","v":{"$error":"#N/A"}},{"$f":"HLOOKUP(\"Station\",pqidat!A$4:BZ$1000,$A162+1,FALSE)","v":{"$error":"#N/A"}},{"$f":"HLOOKUP(\"Dichte\",pqidat!A$4:BZ$1000,$A162+1,FALSE)","v":{"$error":"#N/A"}},{"$f":"HLOOKUP(\"Verdichtung\",pqidat!A$4:BZ$1000,$A162+1,FALSE)","v":{"$error":"#N/A"}},{"$f":"HLOOKUP(\"Temp. OberflÃ¤che\",pqidat!A$4:BZ$1000,$A162+1,FALSE)","v":{"$error":"#N/A"}},{"$f":"HLOOKUP(\"GPS\",pqidat!A$4:BZ$1000,$A162+1,FALSE)","v":{"$error":"#N/A"}},{"$f":"HLOOKUP(\"Korrektur\",pqidat!A$4:BZ$1000,$A162+1,FALSE)","v":{"$error":"#N/A"}}]
["153",{"$f":"IF(ISBLANK(HLOOKUP(\"Raumdichte\",pqidat!$A$4:$BZ$500,$A163+1,FALSE)),\"\",A163)","v":"153"},{"$f":"HLOOKUP(\"Asphaltsorte\",pqidat!A$4:BZ$1000,$A163+1,FALSE)","v":{"$error":"#N/A"}},{"$f":"HLOOKUP(\"Standort\",pqidat!A$4:BZ$1000,$A163+1,FALSE)&\" \"&INDEX(pqidat!$A$1:$Z$1000,A163+4,MATCH(\"Standort\",pqidat!$A$4:$Z$4,0)+1)","v":{"$error":"#N/A"}},{"$f":"HLOOKUP(\"Station\",pqidat!A$4:BZ$1000,$A163+1,FALSE)","v":{"$error":"#N/A"}},{"$f":"HLOOKUP(\"Dichte\",pqidat!A$4:BZ$1000,$A163+1,FALSE)","v":{"$error":"#N/A"}},{"$f":"HLOOKUP(\"Verdichtung\",pqidat!A$4:BZ$1000,$A163+1,FALSE)","v":{"$error":"#N/A"}},{"$f":"HLOOKUP(\"Temp. OberflÃ¤che\",pqidat!A$4:BZ$1000,$A163+1,FALSE)","v":{"$error":"#N/A"}},{"$f":"HLOOKUP(\"GPS\",pqidat!A$4:BZ$1000,$A163+1,FALSE)","v":{"$error":"#N/A"}},{"$f":"HLOOKUP(\"Korrektur\",pqidat!A$4:BZ$1000,$A163+1,FALSE)","v":{"$error":"#N/A"}}]
["154",{"$f":"IF(ISBLANK(HLOOKUP(\"Raumdichte\",pqidat!$A$4:$BZ$500,$A164+1,FALSE)),\"\",A164)","v":"154"},{"$f":"HLOOKUP(\"Asphaltsorte\",pqidat!A$4:BZ$1000,$A164+1,FALSE)","v":{"$error":"#N/A"}},{"$f":"HLOOKUP(\"Standort\",pqidat!A$4:BZ$1000,$A164+1,FALSE)&\" \"&INDEX(pqidat!$A$1:$Z$1000,A164+4,MATCH(\"Standort\",pqidat!$A$4:$Z$4,0)+1)","v":{"$error":"#N/A"}},{"$f":"HLOOKUP(\"Station\",pqidat!A$4:BZ$1000,$A164+1,FALSE)","v":{"$error":"#N/A"}},{"$f":"HLOOKUP(\"Dichte\",pqidat!A$4:BZ$1000,$A164+1,FALSE)","v":{"$error":"#N/A"}},{"$f":"HLOOKUP(\"Verdichtung\",pqidat!A$4:BZ$1000,$A164+1,FALSE)","v":{"$error":"#N/A"}},{"$f":"HLOOKUP(\"Temp. OberflÃ¤che\",pqidat!A$4:BZ$1000,$A164+1,FALSE)","v":{"$error":"#N/A"}},{"$f":"HLOOKUP(\"GPS\",pqidat!A$4:BZ$1000,$A164+1,FALSE)","v":{"$error":"#N/A"}},{"$f":"HLOOKUP(\"Korrektur\",pqidat!A$4:BZ$1000,$A164+1,FALSE)","v":{"$error":"#N/A"}}]
["155",{"$f":"IF(ISBLANK(HLOOKUP(\"Raumdichte\",pqidat!$A$4:$BZ$500,$A165+1,FALSE)),\"\",A165)","v":"155"},{"$f":"HLOOKUP(\"Asphaltsorte\",pqidat!A$4:BZ$1000,$A165+1,FALSE)","v":{"$error":"#N/A"}},{"$f":"HLOOKUP(\"Standort\",pqidat!A$4:BZ$1000,$A165+1,FALSE)&\" \"&INDEX(pqidat!$A$1:$Z$1000,A165+4,MATCH(\"Standort\",pqidat!$A$4:$Z$4,0)+1)","v":{"$error":"#N/A"}},{"$f":"HLOOKUP(\"Station\",pqidat!A$4:BZ$1000,$A165+1,FALSE)","v":{"$error":"#N/A"}},{"$f":"HLOOKUP(\"Dichte\",pqidat!A$4:BZ$1000,$A165+1,FALSE)","v":{"$error":"#N/A"}},{"$f":"HLOOKUP(\"Verdichtung\",pqidat!A$4:BZ$1000,$A165+1,FALSE)","v":{"$error":"#N/A"}},{"$f":"HLOOKUP(\"Temp. OberflÃ¤che\",pqidat!A$4:BZ$1000,$A165+1,FALSE)","v":{"$error":"#N/A"}},{"$f":"HLOOKUP(\"GPS\",pqidat!A$4:BZ$1000,$A165+1,FALSE)","v":{"$error":"#N/A"}},{"$f":"HLOOKUP(\"Korrektur\",pqidat!A$4:BZ$1000,$A165+1,FALSE)","v":{"$error":"#N/A"}}]
["156",{"$f":"IF(ISBLANK(HLOOKUP(\"Raumdichte\",pqidat!$A$4:$BZ$500,$A166+1,FALSE)),\"\",A166)","v":"156"},{"$f":"HLOOKUP(\"Asphaltsorte\",pqidat!A$4:BZ$1000,$A166+1,FALSE)","v":{"$error":"#N/A"}},{"$f":"HLOOKUP(\"Standort\",pqidat!A$4:BZ$1000,$A166+1,FALSE)&\" \"&INDEX(pqidat!$A$1:$Z$1000,A166+4,MATCH(\"Standort\",pqidat!$A$4:$Z$4,0)+1)","v":{"$error":"#N/A"}},{"$f":"HLOOKUP(\"Station\",pqidat!A$4:BZ$1000,$A166+1,FALSE)","v":{"$error":"#N/A"}},{"$f":"HLOOKUP(\"Dichte\",pqidat!A$4:BZ$1000,$A166+1,FALSE)","v":{"$error":"#N/A"}},{"$f":"HLOOKUP(\"Verdichtung\",pqidat!A$4:BZ$1000,$A166+1,FALSE)","v":{"$error":"#N/A"}},{"$f":"HLOOKUP(\"Temp. OberflÃ¤che\",pqidat!A$4:BZ$1000,$A166+1,FALSE)","v":{"$error":"#N/A"}},{"$f":"HLOOKUP(\"GPS\",pqidat!A$4:BZ$1000,$A166+1,FALSE)","v":{"$error":"#N/A"}},{"$f":"HLOOKUP(\"Korrektur\",pqidat!A$4:BZ$1000,$A166+1,FALSE)","v":{"$error":"#N/A"}}]
["157",{"$f":"IF(ISBLANK(HLOOKUP(\"Raumdichte\",pqidat!$A$4:$BZ$500,$A167+1,FALSE)),\"\",A167)","v":"157"},{"$f":"HLOOKUP(\"Asphaltsorte\",pqidat!A$4:BZ$1000,$A167+1,FALSE)","v":{"$error":"#N/A"}},{"$f":"HLOOKUP(\"Standort\",pqidat!A$4:BZ$1000,$A167+1,FALSE)&\" \"&INDEX(pqidat!$A$1:$Z$1000,A167+4,MATCH(\"Standort\",pqidat!$A$4:$Z$4,0)+1)","v":{"$error":"#N/A"}},{"$f":"HLOOKUP(\"Station\",pqidat!A$4:BZ$1000,$A167+1,FALSE)","v":{"$error":"#N/A"}},{"$f":"HLOOKUP(\"Dichte\",pqidat!A$4:BZ$1000,$A167+1,FALSE)","v":{"$error":"#N/A"}},{"$f":"HLOOKUP(\"Verdichtung\",pqidat!A$4:BZ$1000,$A167+1,FALSE)","v":{"$error":"#N/A"}},{"$f":"HLOOKUP(\"Temp. OberflÃ¤che\",pqidat!A$4:BZ$1000,$A167+1,FALSE)","v":{"$error":"#N/A"}},{"$f":"HLOOKUP(\"GPS\",pqidat!A$4:BZ$1000,$A167+1,FALSE)","v":{"$error":"#N/A"}},{"$f":"HLOOKUP(\"Korrektur\",pqidat!A$4:BZ$1000,$A167+1,FALSE)","v":{"$error":"#N/A"}}]
["158",{"$f":"IF(ISBLANK(HLOOKUP(\"Raumdichte\",pqidat!$A$4:$BZ$500,$A168+1,FALSE)),\"\",A168)","v":"158"},{"$f":"HLOOKUP(\"Asphaltsorte\",pqidat!A$4:BZ$1000,$A168+1,FALSE)","v":{"$error":"#N/A"}},{"$f":"HLOOKUP(\"Standort\",pqidat!A$4:BZ$1000,$A168+1,FALSE)&\" \"&INDEX(pqidat!$A$1:$Z$1000,A168+4,MATCH(\"Standort\",pqidat!$A$4:$Z$4,0)+1)","v":{"$error":"#N/A"}},{"$f":"HLOOKUP(\"Station\",pqidat!A$4:BZ$1000,$A168+1,FALSE)","v":{"$error":"#N/A"}},{"$f":"HLOOKUP(\"Dichte\",pqidat!A$4:BZ$1000,$A168+1,FALSE)","v":{"$error":"#N/A"}},{"$f":"HLOOKUP(\"Verdichtung\",pqidat!A$4:BZ$1000,$A168+1,FALSE)","v":{"$error":"#N/A"}},{"$f":"HLOOKUP(\"Temp. OberflÃ¤che\",pqidat!A$4:BZ$1000,$A168+1,FALSE)","v":{"$error":"#N/A"}},{"$f":"HLOOKUP(\"GPS\",pqidat!A$4:BZ$1000,$A168+1,FALSE)","v":{"$error":"#N/A"}},{"$f":"HLOOKUP(\"Korrektur\",pqidat!A$4:BZ$1000,$A168+1,FALSE)","v":{"$error":"#N/A"}}]
["159",{"$f":"IF(ISBLANK(HLOOKUP(\"Raumdichte\",pqidat!$A$4:$BZ$500,$A169+1,FALSE)),\"\",A169)","v":"159"},{"$f":"HLOOKUP(\"Asphaltsorte\",pqidat!A$4:BZ$1000,$A169+1,FALSE)","v":{"$error":"#N/A"}},{"$f":"HLOOKUP(\"Standort\",pqidat!A$4:BZ$1000,$A169+1,FALSE)&\" \"&INDEX(pqidat!$A$1:$Z$1000,A169+4,MATCH(\"Standort\",pqidat!$A$4:$Z$4,0)+1)","v":{"$error":"#N/A"}},{"$f":"HLOOKUP(\"Station\",pqidat!A$4:BZ$1000,$A169+1,FALSE)","v":{"$error":"#N/A"}},{"$f":"HLOOKUP(\"Dichte\",pqidat!A$4:BZ$1000,$A169+1,FALSE)","v":{"$error":"#N/A"}},{"$f":"HLOOKUP(\"Verdichtung\",pqidat!A$4:BZ$1000,$A169+1,FALSE)","v":{"$error":"#N/A"}},{"$f":"HLOOKUP(\"Temp. OberflÃ¤che\",pqidat!A$4:BZ$1000,$A169+1,FALSE)","v":{"$error":"#N/A"}},{"$f":"HLOOKUP(\"GPS\",pqidat!A$4:BZ$1000,$A169+1,FALSE)","v":{"$error":"#N/A"}},{"$f":"HLOOKUP(\"Korrektur\",pqidat!A$4:BZ$1000,$A169+1,FALSE)","v":{"$error":"#N/A"}}]
["160",{"$f":"IF(ISBLANK(HLOOKUP(\"Raumdichte\",pqidat!$A$4:$BZ$500,$A170+1,FALSE)),\"\",A170)","v":"160"},{"$f":"HLOOKUP(\"Asphaltsorte\",pqidat!A$4:BZ$1000,$A170+1,FALSE)","v":{"$error":"#N/A"}},{"$f":"HLOOKUP(\"Standort\",pqidat!A$4:BZ$1000,$A170+1,FALSE)&\" \"&INDEX(pqidat!$A$1:$Z$1000,A170+4,MATCH(\"Standort\",pqidat!$A$4:$Z$4,0)+1)","v":{"$error":"#N/A"}},{"$f":"HLOOKUP(\"Station\",pqidat!A$4:BZ$1000,$A170+1,FALSE)","v":{"$error":"#N/A"}},{"$f":"HLOOKUP(\"Dichte\",pqidat!A$4:BZ$1000,$A170+1,FALSE)","v":{"$error":"#N/A"}},{"$f":"HLOOKUP(\"Verdichtung\",pqidat!A$4:BZ$1000,$A170+1,FALSE)","v":{"$error":"#N/A"}},{"$f":"HLOOKUP(\"Temp. OberflÃ¤che\",pqidat!A$4:BZ$1000,$A170+1,FALSE)","v":{"$error":"#N/A"}},{"$f":"HLOOKUP(\"GPS\",pqidat!A$4:BZ$1000,$A170+1,FALSE)","v":{"$error":"#N/A"}},{"$f":"HLOOKUP(\"Korrektur\",pqidat!A$4:BZ$1000,$A170+1,FALSE)","v":{"$error":"#N/A"}}]
["161",{"$f":"IF(ISBLANK(HLOOKUP(\"Raumdichte\",pqidat!$A$4:$BZ$500,$A171+1,FALSE)),\"\",A171)","v":"161"},{"$f":"HLOOKUP(\"Asphaltsorte\",pqidat!A$4:BZ$1000,$A171+1,FALSE)","v":{"$error":"#N/A"}},{"$f":"HLOOKUP(\"Standort\",pqidat!A$4:BZ$1000,$A171+1,FALSE)&\" \"&INDEX(pqidat!$A$1:$Z$1000,A171+4,MATCH(\"Standort\",pqidat!$A$4:$Z$4,0)+1)","v":{"$error":"#N/A"}},{"$f":"HLOOKUP(\"Station\",pqidat!A$4:BZ$1000,$A171+1,FALSE)","v":{"$error":"#N/A"}},{"$f":"HLOOKUP(\"Dichte\",pqidat!A$4:BZ$1000,$A171+1,FALSE)","v":{"$error":"#N/A"}},{"$f":"HLOOKUP(\"Verdichtung\",pqidat!A$4:BZ$1000,$A171+1,FALSE)","v":{"$error":"#N/A"}},{"$f":"HLOOKUP(\"Temp. OberflÃ¤che\",pqidat!A$4:BZ$1000,$A171+1,FALSE)","v":{"$error":"#N/A"}},{"$f":"HLOOKUP(\"GPS\",pqidat!A$4:BZ$1000,$A171+1,FALSE)","v":{"$error":"#N/A"}},{"$f":"HLOOKUP(\"Korrektur\",pqidat!A$4:BZ$1000,$A171+1,FALSE)","v":{"$error":"#N/A"}}]
["162",{"$f":"IF(ISBLANK(HLOOKUP(\"Raumdichte\",pqidat!$A$4:$BZ$500,$A172+1,FALSE)),\"\",A172)","v":"162"},{"$f":"HLOOKUP(\"Asphaltsorte\",pqidat!A$4:BZ$1000,$A172+1,FALSE)","v":{"$error":"#N/A"}},{"$f":"HLOOKUP(\"Standort\",pqidat!A$4:BZ$1000,$A172+1,FALSE)&\" \"&INDEX(pqidat!$A$1:$Z$1000,A172+4,MATCH(\"Standort\",pqidat!$A$4:$Z$4,0)+1)","v":{"$error":"#N/A"}},{"$f":"HLOOKUP(\"Station\",pqidat!A$4:BZ$1000,$A172+1,FALSE)","v":{"$error":"#N/A"}},{"$f":"HLOOKUP(\"Dichte\",pqidat!A$4:BZ$1000,$A172+1,FALSE)","v":{"$error":"#N/A"}},{"$f":"HLOOKUP(\"Verdichtung\",pqidat!A$4:BZ$1000,$A172+1,FALSE)","v":{"$error":"#N/A"}},{"$f":"HLOOKUP(\"Temp. OberflÃ¤che\",pqidat!A$4:BZ$1000,$A172+1,FALSE)","v":{"$error":"#N/A"}},{"$f":"HLOOKUP(\"GPS\",pqidat!A$4:BZ$1000,$A172+1,FALSE)","v":{"$error":"#N/A"}},{"$f":"HLOOKUP(\"Korrektur\",pqidat!A$4:BZ$1000,$A172+1,FALSE)","v":{"$error":"#N/A"}}]
["163",{"$f":"IF(ISBLANK(HLOOKUP(\"Raumdichte\",pqidat!$A$4:$BZ$500,$A173+1,FALSE)),\"\",A173)","v":"163"},{"$f":"HLOOKUP(\"Asphaltsorte\",pqidat!A$4:BZ$1000,$A173+1,FALSE)","v":{"$error":"#N/A"}},{"$f":"HLOOKUP(\"Standort\",pqidat!A$4:BZ$1000,$A173+1,FALSE)&\" \"&INDEX(pqidat!$A$1:$Z$1000,A173+4,MATCH(\"Standort\",pqidat!$A$4:$Z$4,0)+1)","v":{"$error":"#N/A"}},{"$f":"HLOOKUP(\"Station\",pqidat!A$4:BZ$1000,$A173+1,FALSE)","v":{"$error":"#N/A"}},{"$f":"HLOOKUP(\"Dichte\",pqidat!A$4:BZ$1000,$A173+1,FALSE)","v":{"$error":"#N/A"}},{"$f":"HLOOKUP(\"Verdichtung\",pqidat!A$4:BZ$1000,$A173+1,FALSE)","v":{"$error":"#N/A"}},{"$f":"HLOOKUP(\"Temp. OberflÃ¤che\",pqidat!A$4:BZ$1000,$A173+1,FALSE)","v":{"$error":"#N/A"}},{"$f":"HLOOKUP(\"GPS\",pqidat!A$4:BZ$1000,$A173+1,FALSE)","v":{"$error":"#N/A"}},{"$f":"HLOOKUP(\"Korrektur\",pqidat!A$4:BZ$1000,$A173+1,FALSE)","v":{"$error":"#N/A"}}]
["164",{"$f":"IF(ISBLANK(HLOOKUP(\"Raumdichte\",pqidat!$A$4:$BZ$500,$A174+1,FALSE)),\"\",A174)","v":"164"},{"$f":"HLOOKUP(\"Asphaltsorte\",pqidat!A$4:BZ$1000,$A174+1,FALSE)","v":{"$error":"#N/A"}},{"$f":"HLOOKUP(\"Standort\",pqidat!A$4:BZ$1000,$A174+1,FALSE)&\" \"&INDEX(pqidat!$A$1:$Z$1000,A174+4,MATCH(\"Standort\",pqidat!$A$4:$Z$4,0)+1)","v":{"$error":"#N/A"}},{"$f":"HLOOKUP(\"Station\",pqidat!A$4:BZ$1000,$A174+1,FALSE)","v":{"$error":"#N/A"}},{"$f":"HLOOKUP(\"Dichte\",pqidat!A$4:BZ$1000,$A174+1,FALSE)","v":{"$error":"#N/A"}},{"$f":"HLOOKUP(\"Verdichtung\",pqidat!A$4:BZ$1000,$A174+1,FALSE)","v":{"$error":"#N/A"}},{"$f":"HLOOKUP(\"Temp. OberflÃ¤che\",pqidat!A$4:BZ$1000,$A174+1,FALSE)","v":{"$error":"#N/A"}},{"$f":"HLOOKUP(\"GPS\",pqidat!A$4:BZ$1000,$A174+1,FALSE)","v":{"$error":"#N/A"}},{"$f":"HLOOKUP(\"Korrektur\",pqidat!A$4:BZ$1000,$A174+1,FALSE)","v":{"$error":"#N/A"}}]
["165",{"$f":"IF(ISBLANK(HLOOKUP(\"Raumdichte\",pqidat!$A$4:$BZ$500,$A175+1,FALSE)),\"\",A175)","v":"165"},{"$f":"HLOOKUP(\"Asphaltsorte\",pqidat!A$4:BZ$1000,$A175+1,FALSE)","v":{"$error":"#N/A"}},{"$f":"HLOOKUP(\"Standort\",pqidat!A$4:BZ$1000,$A175+1,FALSE)&\" \"&INDEX(pqidat!$A$1:$Z$1000,A175+4,MATCH(\"Standort\",pqidat!$A$4:$Z$4,0)+1)","v":{"$error":"#N/A"}},{"$f":"HLOOKUP(\"Station\",pqidat!A$4:BZ$1000,$A175+1,FALSE)","v":{"$error":"#N/A"}},{"$f":"HLOOKUP(\"Dichte\",pqidat!A$4:BZ$1000,$A175+1,FALSE)","v":{"$error":"#N/A"}},{"$f":"HLOOKUP(\"Verdichtung\",pqidat!A$4:BZ$1000,$A175+1,FALSE)","v":{"$error":"#N/A"}},{"$f":"HLOOKUP(\"Temp. OberflÃ¤che\",pqidat!A$4:BZ$1000,$A175+1,FALSE)","v":{"$error":"#N/A"}},{"$f":"HLOOKUP(\"GPS\",pqidat!A$4:BZ$1000,$A175+1,FALSE)","v":{"$error":"#N/A"}},{"$f":"HLOOKUP(\"Korrektur\",pqidat!A$4:BZ$1000,$A175+1,FALSE)","v":{"$error":"#N/A"}}]
["166",{"$f":"IF(ISBLANK(HLOOKUP(\"Raumdichte\",pqidat!$A$4:$BZ$500,$A176+1,FALSE)),\"\",A176)","v":"166"},{"$f":"HLOOKUP(\"Asphaltsorte\",pqidat!A$4:BZ$1000,$A176+1,FALSE)","v":{"$error":"#N/A"}},{"$f":"HLOOKUP(\"Standort\",pqidat!A$4:BZ$1000,$A176+1,FALSE)&\" \"&INDEX(pqidat!$A$1:$Z$1000,A176+4,MATCH(\"Standort\",pqidat!$A$4:$Z$4,0)+1)","v":{"$error":"#N/A"}},{"$f":"HLOOKUP(\"Station\",pqidat!A$4:BZ$1000,$A176+1,FALSE)","v":{"$error":"#N/A"}},{"$f":"HLOOKUP(\"Dichte\",pqidat!A$4:BZ$1000,$A176+1,FALSE)","v":{"$error":"#N/A"}},{"$f":"HLOOKUP(\"Verdichtung\",pqidat!A$4:BZ$1000,$A176+1,FALSE)","v":{"$error":"#N/A"}},{"$f":"HLOOKUP(\"Temp. OberflÃ¤che\",pqidat!A$4:BZ$1000,$A176+1,FALSE)","v":{"$error":"#N/A"}},{"$f":"HLOOKUP(\"GPS\",pqidat!A$4:BZ$1000,$A176+1,FALSE)","v":{"$error":"#N/A"}},{"$f":"HLOOKUP(\"Korrektur\",pqidat!A$4:BZ$1000,$A176+1,FALSE)","v":{"$error":"#N/A"}}]
["167",{"$f":"IF(ISBLANK(HLOOKUP(\"Raumdichte\",pqidat!$A$4:$BZ$500,$A177+1,FALSE)),\"\",A177)","v":"167"},{"$f":"HLOOKUP(\"Asphaltsorte\",pqidat!A$4:BZ$1000,$A177+1,FALSE)","v":{"$error":"#N/A"}},{"$f":"HLOOKUP(\"Standort\",pqidat!A$4:BZ$1000,$A177+1,FALSE)&\" \"&INDEX(pqidat!$A$1:$Z$1000,A177+4,MATCH(\"Standort\",pqidat!$A$4:$Z$4,0)+1)","v":{"$error":"#N/A"}},{"$f":"HLOOKUP(\"Station\",pqidat!A$4:BZ$1000,$A177+1,FALSE)","v":{"$error":"#N/A"}},{"$f":"HLOOKUP(\"Dichte\",pqidat!A$4:BZ$1000,$A177+1,FALSE)","v":{"$error":"#N/A"}},{"$f":"HLOOKUP(\"Verdichtung\",pqidat!A$4:BZ$1000,$A177+1,FALSE)","v":{"$error":"#N/A"}},{"$f":"HLOOKUP(\"Temp. OberflÃ¤che\",pqidat!A$4:BZ$1000,$A177+1,FALSE)","v":{"$error":"#N/A"}},{"$f":"HLOOKUP(\"GPS\",pqidat!A$4:BZ$1000,$A177+1,FALSE)","v":{"$error":"#N/A"}},{"$f":"HLOOKUP(\"Korrektur\",pqidat!A$4:BZ$1000,$A177+1,FALSE)","v":{"$error":"#N/A"}}]
["168",{"$f":"IF(ISBLANK(HLOOKUP(\"Raumdichte\",pqidat!$A$4:$BZ$500,$A178+1,FALSE)),\"\",A178)","v":"168"},{"$f":"HLOOKUP(\"Asphaltsorte\",pqidat!A$4:BZ$1000,$A178+1,FALSE)","v":{"$error":"#N/A"}},{"$f":"HLOOKUP(\"Standort\",pqidat!A$4:BZ$1000,$A178+1,FALSE)&\" \"&INDEX(pqidat!$A$1:$Z$1000,A178+4,MATCH(\"Standort\",pqidat!$A$4:$Z$4,0)+1)","v":{"$error":"#N/A"}},{"$f":"HLOOKUP(\"Station\",pqidat!A$4:BZ$1000,$A178+1,FALSE)","v":{"$error":"#N/A"}},{"$f":"HLOOKUP(\"Dichte\",pqidat!A$4:BZ$1000,$A178+1,FALSE)","v":{"$error":"#N/A"}},{"$f":"HLOOKUP(\"Verdichtung\",pqidat!A$4:BZ$1000,$A178+1,FALSE)","v":{"$error":"#N/A"}},{"$f":"HLOOKUP(\"Temp. OberflÃ¤che\",pqidat!A$4:BZ$1000,$A178+1,FALSE)","v":{"$error":"#N/A"}},{"$f":"HLOOKUP(\"GPS\",pqidat!A$4:BZ$1000,$A178+1,FALSE)","v":{"$error":"#N/A"}},{"$f":"HLOOKUP(\"Korrektur\",pqidat!A$4:BZ$1000,$A178+1,FALSE)","v":{"$error":"#N/A"}}]
["169",{"$f":"IF(ISBLANK(HLOOKUP(\"Raumdichte\",pqidat!$A$4:$BZ$500,$A179+1,FALSE)),\"\",A179)","v":"169"},{"$f":"HLOOKUP(\"Asphaltsorte\",pqidat!A$4:BZ$1000,$A179+1,FALSE)","v":{"$error":"#N/A"}},{"$f":"HLOOKUP(\"Standort\",pqidat!A$4:BZ$1000,$A179+1,FALSE)&\" \"&INDEX(pqidat!$A$1:$Z$1000,A179+4,MATCH(\"Standort\",pqidat!$A$4:$Z$4,0)+1)","v":{"$error":"#N/A"}},{"$f":"HLOOKUP(\"Station\",pqidat!A$4:BZ$1000,$A179+1,FALSE)","v":{"$error":"#N/A"}},{"$f":"HLOOKUP(\"Dichte\",pqidat!A$4:BZ$1000,$A179+1,FALSE)","v":{"$error":"#N/A"}},{"$f":"HLOOKUP(\"Verdichtung\",pqidat!A$4:BZ$1000,$A179+1,FALSE)","v":{"$error":"#N/A"}},{"$f":"HLOOKUP(\"Temp. OberflÃ¤che\",pqidat!A$4:BZ$1000,$A179+1,FALSE)","v":{"$error":"#N/A"}},{"$f":"HLOOKUP(\"GPS\",pqidat!A$4:BZ$1000,$A179+1,FALSE)","v":{"$error":"#N/A"}},{"$f":"HLOOKUP(\"Korrektur\",pqidat!A$4:BZ$1000,$A179+1,FALSE)","v":{"$error":"#N/A"}}]
["170",{"$f":"IF(ISBLANK(HLOOKUP(\"Raumdichte\",pqidat!$A$4:$BZ$500,$A180+1,FALSE)),\"\",A180)","v":"170"},{"$f":"HLOOKUP(\"Asphaltsorte\",pqidat!A$4:BZ$1000,$A180+1,FALSE)","v":{"$error":"#N/A"}},{"$f":"HLOOKUP(\"Standort\",pqidat!A$4:BZ$1000,$A180+1,FALSE)&\" \"&INDEX(pqidat!$A$1:$Z$1000,A180+4,MATCH(\"Standort\",pqidat!$A$4:$Z$4,0)+1)","v":{"$error":"#N/A"}},{"$f":"HLOOKUP(\"Station\",pqidat!A$4:BZ$1000,$A180+1,FALSE)","v":{"$error":"#N/A"}},{"$f":"HLOOKUP(\"Dichte\",pqidat!A$4:BZ$1000,$A180+1,FALSE)","v":{"$error":"#N/A"}},{"$f":"HLOOKUP(\"Verdichtung\",pqidat!A$4:BZ$1000,$A180+1,FALSE)","v":{"$error":"#N/A"}},{"$f":"HLOOKUP(\"Temp. OberflÃ¤che\",pqidat!A$4:BZ$1000,$A180+1,FALSE)","v":{"$error":"#N/A"}},{"$f":"HLOOKUP(\"GPS\",pqidat!A$4:BZ$1000,$A180+1,FALSE)","v":{"$error":"#N/A"}},{"$f":"HLOOKUP(\"Korrektur\",pqidat!A$4:BZ$1000,$A180+1,FALSE)","v":{"$error":"#N/A"}}]
["171",{"$f":"IF(ISBLANK(HLOOKUP(\"Raumdichte\",pqidat!$A$4:$BZ$500,$A181+1,FALSE)),\"\",A181)","v":"171"},{"$f":"HLOOKUP(\"Asphaltsorte\",pqidat!A$4:BZ$1000,$A181+1,FALSE)","v":{"$error":"#N/A"}},{"$f":"HLOOKUP(\"Standort\",pqidat!A$4:BZ$1000,$A181+1,FALSE)&\" \"&INDEX(pqidat!$A$1:$Z$1000,A181+4,MATCH(\"Standort\",pqidat!$A$4:$Z$4,0)+1)","v":{"$error":"#N/A"}},{"$f":"HLOOKUP(\"Station\",pqidat!A$4:BZ$1000,$A181+1,FALSE)","v":{"$error":"#N/A"}},{"$f":"HLOOKUP(\"Dichte\",pqidat!A$4:BZ$1000,$A181+1,FALSE)","v":{"$error":"#N/A"}},{"$f":"HLOOKUP(\"Verdichtung\",pqidat!A$4:BZ$1000,$A181+1,FALSE)","v":{"$error":"#N/A"}},{"$f":"HLOOKUP(\"Temp. OberflÃ¤che\",pqidat!A$4:BZ$1000,$A181+1,FALSE)","v":{"$error":"#N/A"}},{"$f":"HLOOKUP(\"GPS\",pqidat!A$4:BZ$1000,$A181+1,FALSE)","v":{"$error":"#N/A"}},{"$f":"HLOOKUP(\"Korrektur\",pqidat!A$4:BZ$1000,$A181+1,FALSE)","v":{"$error":"#N/A"}}]
["172",{"$f":"IF(ISBLANK(HLOOKUP(\"Raumdichte\",pqidat!$A$4:$BZ$500,$A182+1,FALSE)),\"\",A182)","v":"172"},{"$f":"HLOOKUP(\"Asphaltsorte\",pqidat!A$4:BZ$1000,$A182+1,FALSE)","v":{"$error":"#N/A"}},{"$f":"HLOOKUP(\"Standort\",pqidat!A$4:BZ$1000,$A182+1,FALSE)&\" \"&INDEX(pqidat!$A$1:$Z$1000,A182+4,MATCH(\"Standort\",pqidat!$A$4:$Z$4,0)+1)","v":{"$error":"#N/A"}},{"$f":"HLOOKUP(\"Station\",pqidat!A$4:BZ$1000,$A182+1,FALSE)","v":{"$error":"#N/A"}},{"$f":"HLOOKUP(\"Dichte\",pqidat!A$4:BZ$1000,$A182+1,FALSE)","v":{"$error":"#N/A"}},{"$f":"HLOOKUP(\"Verdichtung\",pqidat!A$4:BZ$1000,$A182+1,FALSE)","v":{"$error":"#N/A"}},{"$f":"HLOOKUP(\"Temp. OberflÃ¤che\",pqidat!A$4:BZ$1000,$A182+1,FALSE)","v":{"$error":"#N/A"}},{"$f":"HLOOKUP(\"GPS\",pqidat!A$4:BZ$1000,$A182+1,FALSE)","v":{"$error":"#N/A"}},{"$f":"HLOOKUP(\"Korrektur\",pqidat!A$4:BZ$1000,$A182+1,FALSE)","v":{"$error":"#N/A"}}]
["173",{"$f":"IF(ISBLANK(HLOOKUP(\"Raumdichte\",pqidat!$A$4:$BZ$500,$A183+1,FALSE)),\"\",A183)","v":"173"},{"$f":"HLOOKUP(\"Asphaltsorte\",pqidat!A$4:BZ$1000,$A183+1,FALSE)","v":{"$error":"#N/A"}},{"$f":"HLOOKUP(\"Standort\",pqidat!A$4:BZ$1000,$A183+1,FALSE)&\" \"&INDEX(pqidat!$A$1:$Z$1000,A183+4,MATCH(\"Standort\",pqidat!$A$4:$Z$4,0)+1)","v":{"$error":"#N/A"}},{"$f":"HLOOKUP(\"Station\",pqidat!A$4:BZ$1000,$A183+1,FALSE)","v":{"$error":"#N/A"}},{"$f":"HLOOKUP(\"Dichte\",pqidat!A$4:BZ$1000,$A183+1,FALSE)","v":{"$error":"#N/A"}},{"$f":"HLOOKUP(\"Verdichtung\",pqidat!A$4:BZ$1000,$A183+1,FALSE)","v":{"$error":"#N/A"}},{"$f":"HLOOKUP(\"Temp. OberflÃ¤che\",pqidat!A$4:BZ$1000,$A183+1,FALSE)","v":{"$error":"#N/A"}},{"$f":"HLOOKUP(\"GPS\",pqidat!A$4:BZ$1000,$A183+1,FALSE)","v":{"$error":"#N/A"}},{"$f":"HLOOKUP(\"Korrektur\",pqidat!A$4:BZ$1000,$A183+1,FALSE)","v":{"$error":"#N/A"}}]
["174",{"$f":"IF(ISBLANK(HLOOKUP(\"Raumdichte\",pqidat!$A$4:$BZ$500,$A184+1,FALSE)),\"\",A184)","v":"174"},{"$f":"HLOOKUP(\"Asphaltsorte\",pqidat!A$4:BZ$1000,$A184+1,FALSE)","v":{"$error":"#N/A"}},{"$f":"HLOOKUP(\"Standort\",pqidat!A$4:BZ$1000,$A184+1,FALSE)&\" \"&INDEX(pqidat!$A$1:$Z$1000,A184+4,MATCH(\"Standort\",pqidat!$A$4:$Z$4,0)+1)","v":{"$error":"#N/A"}},{"$f":"HLOOKUP(\"Station\",pqidat!A$4:BZ$1000,$A184+1,FALSE)","v":{"$error":"#N/A"}},{"$f":"HLOOKUP(\"Dichte\",pqidat!A$4:BZ$1000,$A184+1,FALSE)","v":{"$error":"#N/A"}},{"$f":"HLOOKUP(\"Verdichtung\",pqidat!A$4:BZ$1000,$A184+1,FALSE)","v":{"$error":"#N/A"}},{"$f":"HLOOKUP(\"Temp. OberflÃ¤che\",pqidat!A$4:BZ$1000,$A184+1,FALSE)","v":{"$error":"#N/A"}},{"$f":"HLOOKUP(\"GPS\",pqidat!A$4:BZ$1000,$A184+1,FALSE)","v":{"$error":"#N/A"}},{"$f":"HLOOKUP(\"Korrektur\",pqidat!A$4:BZ$1000,$A184+1,FALSE)","v":{"$error":"#N/A"}}]
["175",{"$f":"IF(ISBLANK(HLOOKUP(\"Raumdichte\",pqidat!$A$4:$BZ$500,$A185+1,FALSE)),\"\",A185)","v":"175"},{"$f":"HLOOKUP(\"Asphaltsorte\",pqidat!A$4:BZ$1000,$A185+1,FALSE)","v":{"$error":"#N/A"}},{"$f":"HLOOKUP(\"Standort\",pqidat!A$4:BZ$1000,$A185+1,FALSE)&\" \"&INDEX(pqidat!$A$1:$Z$1000,A185+4,MATCH(\"Standort\",pqidat!$A$4:$Z$4,0)+1)","v":{"$error":"#N/A"}},{"$f":"HLOOKUP(\"Station\",pqidat!A$4:BZ$1000,$A185+1,FALSE)","v":{"$error":"#N/A"}},{"$f":"HLOOKUP(\"Dichte\",pqidat!A$4:BZ$1000,$A185+1,FALSE)","v":{"$error":"#N/A"}},{"$f":"HLOOKUP(\"Verdichtung\",pqidat!A$4:BZ$1000,$A185+1,FALSE)","v":{"$error":"#N/A"}},{"$f":"HLOOKUP(\"Temp. OberflÃ¤che\",pqidat!A$4:BZ$1000,$A185+1,FALSE)","v":{"$error":"#N/A"}},{"$f":"HLOOKUP(\"GPS\",pqidat!A$4:BZ$1000,$A185+1,FALSE)","v":{"$error":"#N/A"}},{"$f":"HLOOKUP(\"Korrektur\",pqidat!A$4:BZ$1000,$A185+1,FALSE)","v":{"$error":"#N/A"}}]
["176",{"$f":"IF(ISBLANK(HLOOKUP(\"Raumdichte\",pqidat!$A$4:$BZ$500,$A186+1,FALSE)),\"\",A186)","v":"176"},{"$f":"HLOOKUP(\"Asphaltsorte\",pqidat!A$4:BZ$1000,$A186+1,FALSE)","v":{"$error":"#N/A"}},{"$f":"HLOOKUP(\"Standort\",pqidat!A$4:BZ$1000,$A186+1,FALSE)&\" \"&INDEX(pqidat!$A$1:$Z$1000,A186+4,MATCH(\"Standort\",pqidat!$A$4:$Z$4,0)+1)","v":{"$error":"#N/A"}},{"$f":"HLOOKUP(\"Station\",pqidat!A$4:BZ$1000,$A186+1,FALSE)","v":{"$error":"#N/A"}},{"$f":"HLOOKUP(\"Dichte\",pqidat!A$4:BZ$1000,$A186+1,FALSE)","v":{"$error":"#N/A"}},{"$f":"HLOOKUP(\"Verdichtung\",pqidat!A$4:BZ$1000,$A186+1,FALSE)","v":{"$error":"#N/A"}},{"$f":"HLOOKUP(\"Temp. OberflÃ¤che\",pqidat!A$4:BZ$1000,$A186+1,FALSE)","v":{"$error":"#N/A"}},{"$f":"HLOOKUP(\"GPS\",pqidat!A$4:BZ$1000,$A186+1,FALSE)","v":{"$error":"#N/A"}},{"$f":"HLOOKUP(\"Korrektur\",pqidat!A$4:BZ$1000,$A186+1,FALSE)","v":{"$error":"#N/A"}}]
["177",{"$f":"IF(ISBLANK(HLOOKUP(\"Raumdichte\",pqidat!$A$4:$BZ$500,$A187+1,FALSE)),\"\",A187)","v":"177"},{"$f":"HLOOKUP(\"Asphaltsorte\",pqidat!A$4:BZ$1000,$A187+1,FALSE)","v":{"$error":"#N/A"}},{"$f":"HLOOKUP(\"Standort\",pqidat!A$4:BZ$1000,$A187+1,FALSE)&\" \"&INDEX(pqidat!$A$1:$Z$1000,A187+4,MATCH(\"Standort\",pqidat!$A$4:$Z$4,0)+1)","v":{"$error":"#N/A"}},{"$f":"HLOOKUP(\"Station\",pqidat!A$4:BZ$1000,$A187+1,FALSE)","v":{"$error":"#N/A"}},{"$f":"HLOOKUP(\"Dichte\",pqidat!A$4:BZ$1000,$A187+1,FALSE)","v":{"$error":"#N/A"}},{"$f":"HLOOKUP(\"Verdichtung\",pqidat!A$4:BZ$1000,$A187+1,FALSE)","v":{"$error":"#N/A"}},{"$f":"HLOOKUP(\"Temp. OberflÃ¤che\",pqidat!A$4:BZ$1000,$A187+1,FALSE)","v":{"$error":"#N/A"}},{"$f":"HLOOKUP(\"GPS\",pqidat!A$4:BZ$1000,$A187+1,FALSE)","v":{"$error":"#N/A"}},{"$f":"HLOOKUP(\"Korrektur\",pqidat!A$4:BZ$1000,$A187+1,FALSE)","v":{"$error":"#N/A"}}]
["178",{"$f":"IF(ISBLANK(HLOOKUP(\"Raumdichte\",pqidat!$A$4:$BZ$500,$A188+1,FALSE)),\"\",A188)","v":"178"},{"$f":"HLOOKUP(\"Asphaltsorte\",pqidat!A$4:BZ$1000,$A188+1,FALSE)","v":{"$error":"#N/A"}},{"$f":"HLOOKUP(\"Standort\",pqidat!A$4:BZ$1000,$A188+1,FALSE)&\" \"&INDEX(pqidat!$A$1:$Z$1000,A188+4,MATCH(\"Standort\",pqidat!$A$4:$Z$4,0)+1)","v":{"$error":"#N/A"}},{"$f":"HLOOKUP(\"Station\",pqidat!A$4:BZ$1000,$A188+1,FALSE)","v":{"$error":"#N/A"}},{"$f":"HLOOKUP(\"Dichte\",pqidat!A$4:BZ$1000,$A188+1,FALSE)","v":{"$error":"#N/A"}},{"$f":"HLOOKUP(\"Verdichtung\",pqidat!A$4:BZ$1000,$A188+1,FALSE)","v":{"$error":"#N/A"}},{"$f":"HLOOKUP(\"Temp. OberflÃ¤che\",pqidat!A$4:BZ$1000,$A188+1,FALSE)","v":{"$error":"#N/A"}},{"$f":"HLOOKUP(\"GPS\",pqidat!A$4:BZ$1000,$A188+1,FALSE)","v":{"$error":"#N/A"}},{"$f":"HLOOKUP(\"Korrektur\",pqidat!A$4:BZ$1000,$A188+1,FALSE)","v":{"$error":"#N/A"}}]
["179",{"$f":"IF(ISBLANK(HLOOKUP(\"Raumdichte\",pqidat!$A$4:$BZ$500,$A189+1,FALSE)),\"\",A189)","v":"179"},{"$f":"HLOOKUP(\"Asphaltsorte\",pqidat!A$4:BZ$1000,$A189+1,FALSE)","v":{"$error":"#N/A"}},{"$f":"HLOOKUP(\"Standort\",pqidat!A$4:BZ$1000,$A189+1,FALSE)&\" \"&INDEX(pqidat!$A$1:$Z$1000,A189+4,MATCH(\"Standort\",pqidat!$A$4:$Z$4,0)+1)","v":{"$error":"#N/A"}},{"$f":"HLOOKUP(\"Station\",pqidat!A$4:BZ$1000,$A189+1,FALSE)","v":{"$error":"#N/A"}},{"$f":"HLOOKUP(\"Dichte\",pqidat!A$4:BZ$1000,$A189+1,FALSE)","v":{"$error":"#N/A"}},{"$f":"HLOOKUP(\"Verdichtung\",pqidat!A$4:BZ$1000,$A189+1,FALSE)","v":{"$error":"#N/A"}},{"$f":"HLOOKUP(\"Temp. OberflÃ¤che\",pqidat!A$4:BZ$1000,$A189+1,FALSE)","v":{"$error":"#N/A"}},{"$f":"HLOOKUP(\"GPS\",pqidat!A$4:BZ$1000,$A189+1,FALSE)","v":{"$error":"#N/A"}},{"$f":"HLOOKUP(\"Korrektur\",pqidat!A$4:BZ$1000,$A189+1,FALSE)","v":{"$error":"#N/A"}}]
["180",{"$f":"IF(ISBLANK(HLOOKUP(\"Raumdichte\",pqidat!$A$4:$BZ$500,$A190+1,FALSE)),\"\",A190)","v":"180"},{"$f":"HLOOKUP(\"Asphaltsorte\",pqidat!A$4:BZ$1000,$A190+1,FALSE)","v":{"$error":"#N/A"}},{"$f":"HLOOKUP(\"Standort\",pqidat!A$4:BZ$1000,$A190+1,FALSE)&\" \"&INDEX(pqidat!$A$1:$Z$1000,A190+4,MATCH(\"Standort\",pqidat!$A$4:$Z$4,0)+1)","v":{"$error":"#N/A"}},{"$f":"HLOOKUP(\"Station\",pqidat!A$4:BZ$1000,$A190+1,FALSE)","v":{"$error":"#N/A"}},{"$f":"HLOOKUP(\"Dichte\",pqidat!A$4:BZ$1000,$A190+1,FALSE)","v":{"$error":"#N/A"}},{"$f":"HLOOKUP(\"Verdichtung\",pqidat!A$4:BZ$1000,$A190+1,FALSE)","v":{"$error":"#N/A"}},{"$f":"HLOOKUP(\"Temp. OberflÃ¤che\",pqidat!A$4:BZ$1000,$A190+1,FALSE)","v":{"$error":"#N/A"}},{"$f":"HLOOKUP(\"GPS\",pqidat!A$4:BZ$1000,$A190+1,FALSE)","v":{"$error":"#N/A"}},{"$f":"HLOOKUP(\"Korrektur\",pqidat!A$4:BZ$1000,$A190+1,FALSE)","v":{"$error":"#N/A"}}]
["181",{"$f":"IF(ISBLANK(HLOOKUP(\"Raumdichte\",pqidat!$A$4:$BZ$500,$A191+1,FALSE)),\"\",A191)","v":"181"},{"$f":"HLOOKUP(\"Asphaltsorte\",pqidat!A$4:BZ$1000,$A191+1,FALSE)","v":{"$error":"#N/A"}},{"$f":"HLOOKUP(\"Standort\",pqidat!A$4:BZ$1000,$A191+1,FALSE)&\" \"&INDEX(pqidat!$A$1:$Z$1000,A191+4,MATCH(\"Standort\",pqidat!$A$4:$Z$4,0)+1)","v":{"$error":"#N/A"}},{"$f":"HLOOKUP(\"Station\",pqidat!A$4:BZ$1000,$A191+1,FALSE)","v":{"$error":"#N/A"}},{"$f":"HLOOKUP(\"Dichte\",pqidat!A$4:BZ$1000,$A191+1,FALSE)","v":{"$error":"#N/A"}},{"$f":"HLOOKUP(\"Verdichtung\",pqidat!A$4:BZ$1000,$A191+1,FALSE)","v":{"$error":"#N/A"}},{"$f":"HLOOKUP(\"Temp. OberflÃ¤che\",pqidat!A$4:BZ$1000,$A191+1,FALSE)","v":{"$error":"#N/A"}},{"$f":"HLOOKUP(\"GPS\",pqidat!A$4:BZ$1000,$A191+1,FALSE)","v":{"$error":"#N/A"}},{"$f":"HLOOKUP(\"Korrektur\",pqidat!A$4:BZ$1000,$A191+1,FALSE)","v":{"$error":"#N/A"}}]
["182",{"$f":"IF(ISBLANK(HLOOKUP(\"Raumdichte\",pqidat!$A$4:$BZ$500,$A192+1,FALSE)),\"\",A192)","v":"182"},{"$f":"HLOOKUP(\"Asphaltsorte\",pqidat!A$4:BZ$1000,$A192+1,FALSE)","v":{"$error":"#N/A"}},{"$f":"HLOOKUP(\"Standort\",pqidat!A$4:BZ$1000,$A192+1,FALSE)&\" \"&INDEX(pqidat!$A$1:$Z$1000,A192+4,MATCH(\"Standort\",pqidat!$A$4:$Z$4,0)+1)","v":{"$error":"#N/A"}},{"$f":"HLOOKUP(\"Station\",pqidat!A$4:BZ$1000,$A192+1,FALSE)","v":{"$error":"#N/A"}},{"$f":"HLOOKUP(\"Dichte\",pqidat!A$4:BZ$1000,$A192+1,FALSE)","v":{"$error":"#N/A"}},{"$f":"HLOOKUP(\"Verdichtung\",pqidat!A$4:BZ$1000,$A192+1,FALSE)","v":{"$error":"#N/A"}},{"$f":"HLOOKUP(\"Temp. OberflÃ¤che\",pqidat!A$4:BZ$1000,$A192+1,FALSE)","v":{"$error":"#N/A"}},{"$f":"HLOOKUP(\"GPS\",pqidat!A$4:BZ$1000,$A192+1,FALSE)","v":{"$error":"#N/A"}},{"$f":"HLOOKUP(\"Korrektur\",pqidat!A$4:BZ$1000,$A192+1,FALSE)","v":{"$error":"#N/A"}}]
["183",{"$f":"IF(ISBLANK(HLOOKUP(\"Raumdichte\",pqidat!$A$4:$BZ$500,$A193+1,FALSE)),\"\",A193)","v":"183"},{"$f":"HLOOKUP(\"Asphaltsorte\",pqidat!A$4:BZ$1000,$A193+1,FALSE)","v":{"$error":"#N/A"}},{"$f":"HLOOKUP(\"Standort\",pqidat!A$4:BZ$1000,$A193+1,FALSE)&\" \"&INDEX(pqidat!$A$1:$Z$1000,A193+4,MATCH(\"Standort\",pqidat!$A$4:$Z$4,0)+1)","v":{"$error":"#N/A"}},{"$f":"HLOOKUP(\"Station\",pqidat!A$4:BZ$1000,$A193+1,FALSE)","v":{"$error":"#N/A"}},{"$f":"HLOOKUP(\"Dichte\",pqidat!A$4:BZ$1000,$A193+1,FALSE)","v":{"$error":"#N/A"}},{"$f":"HLOOKUP(\"Verdichtung\",pqidat!A$4:BZ$1000,$A193+1,FALSE)","v":{"$error":"#N/A"}},{"$f":"HLOOKUP(\"Temp. OberflÃ¤che\",pqidat!A$4:BZ$1000,$A193+1,FALSE)","v":{"$error":"#N/A"}},{"$f":"HLOOKUP(\"GPS\",pqidat!A$4:BZ$1000,$A193+1,FALSE)","v":{"$error":"#N/A"}},{"$f":"HLOOKUP(\"Korrektur\",pqidat!A$4:BZ$1000,$A193+1,FALSE)","v":{"$error":"#N/A"}}]
["184",{"$f":"IF(ISBLANK(HLOOKUP(\"Raumdichte\",pqidat!$A$4:$BZ$500,$A194+1,FALSE)),\"\",A194)","v":"184"},{"$f":"HLOOKUP(\"Asphaltsorte\",pqidat!A$4:BZ$1000,$A194+1,FALSE)","v":{"$error":"#N/A"}},{"$f":"HLOOKUP(\"Standort\",pqidat!A$4:BZ$1000,$A194+1,FALSE)&\" \"&INDEX(pqidat!$A$1:$Z$1000,A194+4,MATCH(\"Standort\",pqidat!$A$4:$Z$4,0)+1)","v":{"$error":"#N/A"}},{"$f":"HLOOKUP(\"Station\",pqidat!A$4:BZ$1000,$A194+1,FALSE)","v":{"$error":"#N/A"}},{"$f":"HLOOKUP(\"Dichte\",pqidat!A$4:BZ$1000,$A194+1,FALSE)","v":{"$error":"#N/A"}},{"$f":"HLOOKUP(\"Verdichtung\",pqidat!A$4:BZ$1000,$A194+1,FALSE)","v":{"$error":"#N/A"}},{"$f":"HLOOKUP(\"Temp. OberflÃ¤che\",pqidat!A$4:BZ$1000,$A194+1,FALSE)","v":{"$error":"#N/A"}},{"$f":"HLOOKUP(\"GPS\",pqidat!A$4:BZ$1000,$A194+1,FALSE)","v":{"$error":"#N/A"}},{"$f":"HLOOKUP(\"Korrektur\",pqidat!A$4:BZ$1000,$A194+1,FALSE)","v":{"$error":"#N/A"}}]
["185",{"$f":"IF(ISBLANK(HLOOKUP(\"Raumdichte\",pqidat!$A$4:$BZ$500,$A195+1,FALSE)),\"\",A195)","v":"185"},{"$f":"HLOOKUP(\"Asphaltsorte\",pqidat!A$4:BZ$1000,$A195+1,FALSE)","v":{"$error":"#N/A"}},{"$f":"HLOOKUP(\"Standort\",pqidat!A$4:BZ$1000,$A195+1,FALSE)&\" \"&INDEX(pqidat!$A$1:$Z$1000,A195+4,MATCH(\"Standort\",pqidat!$A$4:$Z$4,0)+1)","v":{"$error":"#N/A"}},{"$f":"HLOOKUP(\"Station\",pqidat!A$4:BZ$1000,$A195+1,FALSE)","v":{"$error":"#N/A"}},{"$f":"HLOOKUP(\"Dichte\",pqidat!A$4:BZ$1000,$A195+1,FALSE)","v":{"$error":"#N/A"}},{"$f":"HLOOKUP(\"Verdichtung\",pqidat!A$4:BZ$1000,$A195+1,FALSE)","v":{"$error":"#N/A"}},{"$f":"HLOOKUP(\"Temp. OberflÃ¤che\",pqidat!A$4:BZ$1000,$A195+1,FALSE)","v":{"$error":"#N/A"}},{"$f":"HLOOKUP(\"GPS\",pqidat!A$4:BZ$1000,$A195+1,FALSE)","v":{"$error":"#N/A"}},{"$f":"HLOOKUP(\"Korrektur\",pqidat!A$4:BZ$1000,$A195+1,FALSE)","v":{"$error":"#N/A"}}]
["186",{"$f":"IF(ISBLANK(HLOOKUP(\"Raumdichte\",pqidat!$A$4:$BZ$500,$A196+1,FALSE)),\"\",A196)","v":"186"},{"$f":"HLOOKUP(\"Asphaltsorte\",pqidat!A$4:BZ$1000,$A196+1,FALSE)","v":{"$error":"#N/A"}},{"$f":"HLOOKUP(\"Standort\",pqidat!A$4:BZ$1000,$A196+1,FALSE)&\" \"&INDEX(pqidat!$A$1:$Z$1000,A196+4,MATCH(\"Standort\",pqidat!$A$4:$Z$4,0)+1)","v":{"$error":"#N/A"}},{"$f":"HLOOKUP(\"Station\",pqidat!A$4:BZ$1000,$A196+1,FALSE)","v":{"$error":"#N/A"}},{"$f":"HLOOKUP(\"Dichte\",pqidat!A$4:BZ$1000,$A196+1,FALSE)","v":{"$error":"#N/A"}},{"$f":"HLOOKUP(\"Verdichtung\",pqidat!A$4:BZ$1000,$A196+1,FALSE)","v":{"$error":"#N/A"}},{"$f":"HLOOKUP(\"Temp. OberflÃ¤che\",pqidat!A$4:BZ$1000,$A196+1,FALSE)","v":{"$error":"#N/A"}},{"$f":"HLOOKUP(\"GPS\",pqidat!A$4:BZ$1000,$A196+1,FALSE)","v":{"$error":"#N/A"}},{"$f":"HLOOKUP(\"Korrektur\",pqidat!A$4:BZ$1000,$A196+1,FALSE)","v":{"$error":"#N/A"}}]
["187",{"$f":"IF(ISBLANK(HLOOKUP(\"Raumdichte\",pqidat!$A$4:$BZ$500,$A197+1,FALSE)),\"\",A197)","v":"187"},{"$f":"HLOOKUP(\"Asphaltsorte\",pqidat!A$4:BZ$1000,$A197+1,FALSE)","v":{"$error":"#N/A"}},{"$f":"HLOOKUP(\"Standort\",pqidat!A$4:BZ$1000,$A197+1,FALSE)&\" \"&INDEX(pqidat!$A$1:$Z$1000,A197+4,MATCH(\"Standort\",pqidat!$A$4:$Z$4,0)+1)","v":{"$error":"#N/A"}},{"$f":"HLOOKUP(\"Station\",pqidat!A$4:BZ$1000,$A197+1,FALSE)","v":{"$error":"#N/A"}},{"$f":"HLOOKUP(\"Dichte\",pqidat!A$4:BZ$1000,$A197+1,FALSE)","v":{"$error":"#N/A"}},{"$f":"HLOOKUP(\"Verdichtung\",pqidat!A$4:BZ$1000,$A197+1,FALSE)","v":{"$error":"#N/A"}},{"$f":"HLOOKUP(\"Temp. OberflÃ¤che\",pqidat!A$4:BZ$1000,$A197+1,FALSE)","v":{"$error":"#N/A"}},{"$f":"HLOOKUP(\"GPS\",pqidat!A$4:BZ$1000,$A197+1,FALSE)","v":{"$error":"#N/A"}},{"$f":"HLOOKUP(\"Korrektur\",pqidat!A$4:BZ$1000,$A197+1,FALSE)","v":{"$error":"#N/A"}}]
["188",{"$f":"IF(ISBLANK(HLOOKUP(\"Raumdichte\",pqidat!$A$4:$BZ$500,$A198+1,FALSE)),\"\",A198)","v":"188"},{"$f":"HLOOKUP(\"Asphaltsorte\",pqidat!A$4:BZ$1000,$A198+1,FALSE)","v":{"$error":"#N/A"}},{"$f":"HLOOKUP(\"Standort\",pqidat!A$4:BZ$1000,$A198+1,FALSE)&\" \"&INDEX(pqidat!$A$1:$Z$1000,A198+4,MATCH(\"Standort\",pqidat!$A$4:$Z$4,0)+1)","v":{"$error":"#N/A"}},{"$f":"HLOOKUP(\"Station\",pqidat!A$4:BZ$1000,$A198+1,FALSE)","v":{"$error":"#N/A"}},{"$f":"HLOOKUP(\"Dichte\",pqidat!A$4:BZ$1000,$A198+1,FALSE)","v":{"$error":"#N/A"}},{"$f":"HLOOKUP(\"Verdichtung\",pqidat!A$4:BZ$1000,$A198+1,FALSE)","v":{"$error":"#N/A"}},{"$f":"HLOOKUP(\"Temp. OberflÃ¤che\",pqidat!A$4:BZ$1000,$A198+1,FALSE)","v":{"$error":"#N/A"}},{"$f":"HLOOKUP(\"GPS\",pqidat!A$4:BZ$1000,$A198+1,FALSE)","v":{"$error":"#N/A"}},{"$f":"HLOOKUP(\"Korrektur\",pqidat!A$4:BZ$1000,$A198+1,FALSE)","v":{"$error":"#N/A"}}]
["189",{"$f":"IF(ISBLANK(HLOOKUP(\"Raumdichte\",pqidat!$A$4:$BZ$500,$A199+1,FALSE)),\"\",A199)","v":"189"},{"$f":"HLOOKUP(\"Asphaltsorte\",pqidat!A$4:BZ$1000,$A199+1,FALSE)","v":{"$error":"#N/A"}},{"$f":"HLOOKUP(\"Standort\",pqidat!A$4:BZ$1000,$A199+1,FALSE)&\" \"&INDEX(pqidat!$A$1:$Z$1000,A199+4,MATCH(\"Standort\",pqidat!$A$4:$Z$4,0)+1)","v":{"$error":"#N/A"}},{"$f":"HLOOKUP(\"Station\",pqidat!A$4:BZ$1000,$A199+1,FALSE)","v":{"$error":"#N/A"}},{"$f":"HLOOKUP(\"Dichte\",pqidat!A$4:BZ$1000,$A199+1,FALSE)","v":{"$error":"#N/A"}},{"$f":"HLOOKUP(\"Verdichtung\",pqidat!A$4:BZ$1000,$A199+1,FALSE)","v":{"$error":"#N/A"}},{"$f":"HLOOKUP(\"Temp. OberflÃ¤che\",pqidat!A$4:BZ$1000,$A199+1,FALSE)","v":{"$error":"#N/A"}},{"$f":"HLOOKUP(\"GPS\",pqidat!A$4:BZ$1000,$A199+1,FALSE)","v":{"$error":"#N/A"}},{"$f":"HLOOKUP(\"Korrektur\",pqidat!A$4:BZ$1000,$A199+1,FALSE)","v":{"$error":"#N/A"}}]
["190",{"$f":"IF(ISBLANK(HLOOKUP(\"Raumdichte\",pqidat!$A$4:$BZ$500,$A200+1,FALSE)),\"\",A200)","v":"190"},{"$f":"HLOOKUP(\"Asphaltsorte\",pqidat!A$4:BZ$1000,$A200+1,FALSE)","v":{"$error":"#N/A"}},{"$f":"HLOOKUP(\"Standort\",pqidat!A$4:BZ$1000,$A200+1,FALSE)&\" \"&INDEX(pqidat!$A$1:$Z$1000,A200+4,MATCH(\"Standort\",pqidat!$A$4:$Z$4,0)+1)","v":{"$error":"#N/A"}},{"$f":"HLOOKUP(\"Station\",pqidat!A$4:BZ$1000,$A200+1,FALSE)","v":{"$error":"#N/A"}},{"$f":"HLOOKUP(\"Dichte\",pqidat!A$4:BZ$1000,$A200+1,FALSE)","v":{"$error":"#N/A"}},{"$f":"HLOOKUP(\"Verdichtung\",pqidat!A$4:BZ$1000,$A200+1,FALSE)","v":{"$error":"#N/A"}},{"$f":"HLOOKUP(\"Temp. OberflÃ¤che\",pqidat!A$4:BZ$1000,$A200+1,FALSE)","v":{"$error":"#N/A"}},{"$f":"HLOOKUP(\"GPS\",pqidat!A$4:BZ$1000,$A200+1,FALSE)","v":{"$error":"#N/A"}},{"$f":"HLOOKUP(\"Korrektur\",pqidat!A$4:BZ$1000,$A200+1,FALSE)","v":{"$error":"#N/A"}}]
["191",{"$f":"IF(ISBLANK(HLOOKUP(\"Raumdichte\",pqidat!$A$4:$BZ$500,$A201+1,FALSE)),\"\",A201)","v":"191"},{"$f":"HLOOKUP(\"Asphaltsorte\",pqidat!A$4:BZ$1000,$A201+1,FALSE)","v":{"$error":"#N/A"}},{"$f":"HLOOKUP(\"Standort\",pqidat!A$4:BZ$1000,$A201+1,FALSE)&\" \"&INDEX(pqidat!$A$1:$Z$1000,A201+4,MATCH(\"Standort\",pqidat!$A$4:$Z$4,0)+1)","v":{"$error":"#N/A"}},{"$f":"HLOOKUP(\"Station\",pqidat!A$4:BZ$1000,$A201+1,FALSE)","v":{"$error":"#N/A"}},{"$f":"HLOOKUP(\"Dichte\",pqidat!A$4:BZ$1000,$A201+1,FALSE)","v":{"$error":"#N/A"}},{"$f":"HLOOKUP(\"Verdichtung\",pqidat!A$4:BZ$1000,$A201+1,FALSE)","v":{"$error":"#N/A"}},{"$f":"HLOOKUP(\"Temp. OberflÃ¤che\",pqidat!A$4:BZ$1000,$A201+1,FALSE)","v":{"$error":"#N/A"}},{"$f":"HLOOKUP(\"GPS\",pqidat!A$4:BZ$1000,$A201+1,FALSE)","v":{"$error":"#N/A"}},{"$f":"HLOOKUP(\"Korrektur\",pqidat!A$4:BZ$1000,$A201+1,FALSE)","v":{"$error":"#N/A"}}]
["192",{"$f":"IF(ISBLANK(HLOOKUP(\"Raumdichte\",pqidat!$A$4:$BZ$500,$A202+1,FALSE)),\"\",A202)","v":"192"},{"$f":"HLOOKUP(\"Asphaltsorte\",pqidat!A$4:BZ$1000,$A202+1,FALSE)","v":{"$error":"#N/A"}},{"$f":"HLOOKUP(\"Standort\",pqidat!A$4:BZ$1000,$A202+1,FALSE)&\" \"&INDEX(pqidat!$A$1:$Z$1000,A202+4,MATCH(\"Standort\",pqidat!$A$4:$Z$4,0)+1)","v":{"$error":"#N/A"}},{"$f":"HLOOKUP(\"Station\",pqidat!A$4:BZ$1000,$A202+1,FALSE)","v":{"$error":"#N/A"}},{"$f":"HLOOKUP(\"Dichte\",pqidat!A$4:BZ$1000,$A202+1,FALSE)","v":{"$error":"#N/A"}},{"$f":"HLOOKUP(\"Verdichtung\",pqidat!A$4:BZ$1000,$A202+1,FALSE)","v":{"$error":"#N/A"}},{"$f":"HLOOKUP(\"Temp. OberflÃ¤che\",pqidat!A$4:BZ$1000,$A202+1,FALSE)","v":{"$error":"#N/A"}},{"$f":"HLOOKUP(\"GPS\",pqidat!A$4:BZ$1000,$A202+1,FALSE)","v":{"$error":"#N/A"}},{"$f":"HLOOKUP(\"Korrektur\",pqidat!A$4:BZ$1000,$A202+1,FALSE)","v":{"$error":"#N/A"}}]
["193",{"$f":"IF(ISBLANK(HLOOKUP(\"Raumdichte\",pqidat!$A$4:$BZ$500,$A203+1,FALSE)),\"\",A203)","v":"193"},{"$f":"HLOOKUP(\"Asphaltsorte\",pqidat!A$4:BZ$1000,$A203+1,FALSE)","v":{"$error":"#N/A"}},{"$f":"HLOOKUP(\"Standort\",pqidat!A$4:BZ$1000,$A203+1,FALSE)&\" \"&INDEX(pqidat!$A$1:$Z$1000,A203+4,MATCH(\"Standort\",pqidat!$A$4:$Z$4,0)+1)","v":{"$error":"#N/A"}},{"$f":"HLOOKUP(\"Station\",pqidat!A$4:BZ$1000,$A203+1,FALSE)","v":{"$error":"#N/A"}},{"$f":"HLOOKUP(\"Dichte\",pqidat!A$4:BZ$1000,$A203+1,FALSE)","v":{"$error":"#N/A"}},{"$f":"HLOOKUP(\"Verdichtung\",pqidat!A$4:BZ$1000,$A203+1,FALSE)","v":{"$error":"#N/A"}},{"$f":"HLOOKUP(\"Temp. OberflÃ¤che\",pqidat!A$4:BZ$1000,$A203+1,FALSE)","v":{"$error":"#N/A"}},{"$f":"HLOOKUP(\"GPS\",pqidat!A$4:BZ$1000,$A203+1,FALSE)","v":{"$error":"#N/A"}},{"$f":"HLOOKUP(\"Korrektur\",pqidat!A$4:BZ$1000,$A203+1,FALSE)","v":{"$error":"#N/A"}}]
["194",{"$f":"IF(ISBLANK(HLOOKUP(\"Raumdichte\",pqidat!$A$4:$BZ$500,$A204+1,FALSE)),\"\",A204)","v":"194"},{"$f":"HLOOKUP(\"Asphaltsorte\",pqidat!A$4:BZ$1000,$A204+1,FALSE)","v":{"$error":"#N/A"}},{"$f":"HLOOKUP(\"Standort\",pqidat!A$4:BZ$1000,$A204+1,FALSE)&\" \"&INDEX(pqidat!$A$1:$Z$1000,A204+4,MATCH(\"Standort\",pqidat!$A$4:$Z$4,0)+1)","v":{"$error":"#N/A"}},{"$f":"HLOOKUP(\"Station\",pqidat!A$4:BZ$1000,$A204+1,FALSE)","v":{"$error":"#N/A"}},{"$f":"HLOOKUP(\"Dichte\",pqidat!A$4:BZ$1000,$A204+1,FALSE)","v":{"$error":"#N/A"}},{"$f":"HLOOKUP(\"Verdichtung\",pqidat!A$4:BZ$1000,$A204+1,FALSE)","v":{"$error":"#N/A"}},{"$f":"HLOOKUP(\"Temp. OberflÃ¤che\",pqidat!A$4:BZ$1000,$A204+1,FALSE)","v":{"$error":"#N/A"}},{"$f":"HLOOKUP(\"GPS\",pqidat!A$4:BZ$1000,$A204+1,FALSE)","v":{"$error":"#N/A"}},{"$f":"HLOOKUP(\"Korrektur\",pqidat!A$4:BZ$1000,$A204+1,FALSE)","v":{"$error":"#N/A"}}]
["195",{"$f":"IF(ISBLANK(HLOOKUP(\"Raumdichte\",pqidat!$A$4:$BZ$500,$A205+1,FALSE)),\"\",A205)","v":"195"},{"$f":"HLOOKUP(\"Asphaltsorte\",pqidat!A$4:BZ$1000,$A205+1,FALSE)","v":{"$error":"#N/A"}},{"$f":"HLOOKUP(\"Standort\",pqidat!A$4:BZ$1000,$A205+1,FALSE)&\" \"&INDEX(pqidat!$A$1:$Z$1000,A205+4,MATCH(\"Standort\",pqidat!$A$4:$Z$4,0)+1)","v":{"$error":"#N/A"}},{"$f":"HLOOKUP(\"Station\",pqidat!A$4:BZ$1000,$A205+1,FALSE)","v":{"$error":"#N/A"}},{"$f":"HLOOKUP(\"Dichte\",pqidat!A$4:BZ$1000,$A205+1,FALSE)","v":{"$error":"#N/A"}},{"$f":"HLOOKUP(\"Verdichtung\",pqidat!A$4:BZ$1000,$A205+1,FALSE)","v":{"$error":"#N/A"}},{"$f":"HLOOKUP(\"Temp. OberflÃ¤che\",pqidat!A$4:BZ$1000,$A205+1,FALSE)","v":{"$error":"#N/A"}},{"$f":"HLOOKUP(\"GPS\",pqidat!A$4:BZ$1000,$A205+1,FALSE)","v":{"$error":"#N/A"}},{"$f":"HLOOKUP(\"Korrektur\",pqidat!A$4:BZ$1000,$A205+1,FALSE)","v":{"$error":"#N/A"}}]
["196",{"$f":"IF(ISBLANK(HLOOKUP(\"Raumdichte\",pqidat!$A$4:$BZ$500,$A206+1,FALSE)),\"\",A206)","v":"196"},{"$f":"HLOOKUP(\"Asphaltsorte\",pqidat!A$4:BZ$1000,$A206+1,FALSE)","v":{"$error":"#N/A"}},{"$f":"HLOOKUP(\"Standort\",pqidat!A$4:BZ$1000,$A206+1,FALSE)&\" \"&INDEX(pqidat!$A$1:$Z$1000,A206+4,MATCH(\"Standort\",pqidat!$A$4:$Z$4,0)+1)","v":{"$error":"#N/A"}},{"$f":"HLOOKUP(\"Station\",pqidat!A$4:BZ$1000,$A206+1,FALSE)","v":{"$error":"#N/A"}},{"$f":"HLOOKUP(\"Dichte\",pqidat!A$4:BZ$1000,$A206+1,FALSE)","v":{"$error":"#N/A"}},{"$f":"HLOOKUP(\"Verdichtung\",pqidat!A$4:BZ$1000,$A206+1,FALSE)","v":{"$error":"#N/A"}},{"$f":"HLOOKUP(\"Temp. OberflÃ¤che\",pqidat!A$4:BZ$1000,$A206+1,FALSE)","v":{"$error":"#N/A"}},{"$f":"HLOOKUP(\"GPS\",pqidat!A$4:BZ$1000,$A206+1,FALSE)","v":{"$error":"#N/A"}},{"$f":"HLOOKUP(\"Korrektur\",pqidat!A$4:BZ$1000,$A206+1,FALSE)","v":{"$error":"#N/A"}}]
["197",{"$f":"IF(ISBLANK(HLOOKUP(\"Raumdichte\",pqidat!$A$4:$BZ$500,$A207+1,FALSE)),\"\",A207)","v":"197"},{"$f":"HLOOKUP(\"Asphaltsorte\",pqidat!A$4:BZ$1000,$A207+1,FALSE)","v":{"$error":"#N/A"}},{"$f":"HLOOKUP(\"Standort\",pqidat!A$4:BZ$1000,$A207+1,FALSE)&\" \"&INDEX(pqidat!$A$1:$Z$1000,A207+4,MATCH(\"Standort\",pqidat!$A$4:$Z$4,0)+1)","v":{"$error":"#N/A"}},{"$f":"HLOOKUP(\"Station\",pqidat!A$4:BZ$1000,$A207+1,FALSE)","v":{"$error":"#N/A"}},{"$f":"HLOOKUP(\"Dichte\",pqidat!A$4:BZ$1000,$A207+1,FALSE)","v":{"$error":"#N/A"}},{"$f":"HLOOKUP(\"Verdichtung\",pqidat!A$4:BZ$1000,$A207+1,FALSE)","v":{"$error":"#N/A"}},{"$f":"HLOOKUP(\"Temp. OberflÃ¤che\",pqidat!A$4:BZ$1000,$A207+1,FALSE)","v":{"$error":"#N/A"}},{"$f":"HLOOKUP(\"GPS\",pqidat!A$4:BZ$1000,$A207+1,FALSE)","v":{"$error":"#N/A"}},{"$f":"HLOOKUP(\"Korrektur\",pqidat!A$4:BZ$1000,$A207+1,FALSE)","v":{"$error":"#N/A"}}]
["198",{"$f":"IF(ISBLANK(HLOOKUP(\"Raumdichte\",pqidat!$A$4:$BZ$500,$A208+1,FALSE)),\"\",A208)","v":"198"},{"$f":"HLOOKUP(\"Asphaltsorte\",pqidat!A$4:BZ$1000,$A208+1,FALSE)","v":{"$error":"#N/A"}},{"$f":"HLOOKUP(\"Standort\",pqidat!A$4:BZ$1000,$A208+1,FALSE)&\" \"&INDEX(pqidat!$A$1:$Z$1000,A208+4,MATCH(\"Standort\",pqidat!$A$4:$Z$4,0)+1)","v":{"$error":"#N/A"}},{"$f":"HLOOKUP(\"Station\",pqidat!A$4:BZ$1000,$A208+1,FALSE)","v":{"$error":"#N/A"}},{"$f":"HLOOKUP(\"Dichte\",pqidat!A$4:BZ$1000,$A208+1,FALSE)","v":{"$error":"#N/A"}},{"$f":"HLOOKUP(\"Verdichtung\",pqidat!A$4:BZ$1000,$A208+1,FALSE)","v":{"$error":"#N/A"}},{"$f":"HLOOKUP(\"Temp. OberflÃ¤che\",pqidat!A$4:BZ$1000,$A208+1,FALSE)","v":{"$error":"#N/A"}},{"$f":"HLOOKUP(\"GPS\",pqidat!A$4:BZ$1000,$A208+1,FALSE)","v":{"$error":"#N/A"}},{"$f":"HLOOKUP(\"Korrektur\",pqidat!A$4:BZ$1000,$A208+1,FALSE)","v":{"$error":"#N/A"}}]
["199",{"$f":"IF(ISBLANK(HLOOKUP(\"Raumdichte\",pqidat!$A$4:$BZ$500,$A209+1,FALSE)),\"\",A209)","v":"199"},{"$f":"HLOOKUP(\"Asphaltsorte\",pqidat!A$4:BZ$1000,$A209+1,FALSE)","v":{"$error":"#N/A"}},{"$f":"HLOOKUP(\"Standort\",pqidat!A$4:BZ$1000,$A209+1,FALSE)&\" \"&INDEX(pqidat!$A$1:$Z$1000,A209+4,MATCH(\"Standort\",pqidat!$A$4:$Z$4,0)+1)","v":{"$error":"#N/A"}},{"$f":"HLOOKUP(\"Station\",pqidat!A$4:BZ$1000,$A209+1,FALSE)","v":{"$error":"#N/A"}},{"$f":"HLOOKUP(\"Dichte\",pqidat!A$4:BZ$1000,$A209+1,FALSE)","v":{"$error":"#N/A"}},{"$f":"HLOOKUP(\"Verdichtung\",pqidat!A$4:BZ$1000,$A209+1,FALSE)","v":{"$error":"#N/A"}},{"$f":"HLOOKUP(\"Temp. OberflÃ¤che\",pqidat!A$4:BZ$1000,$A209+1,FALSE)","v":{"$error":"#N/A"}},{"$f":"HLOOKUP(\"GPS\",pqidat!A$4:BZ$1000,$A209+1,FALSE)","v":{"$error":"#N/A"}},{"$f":"HLOOKUP(\"Korrektur\",pqidat!A$4:BZ$1000,$A209+1,FALSE)","v":{"$error":"#N/A"}}]
["200",{"$f":"IF(ISBLANK(HLOOKUP(\"Raumdichte\",pqidat!$A$4:$BZ$500,$A210+1,FALSE)),\"\",A210)","v":"200"},{"$f":"HLOOKUP(\"Asphaltsorte\",pqidat!A$4:BZ$1000,$A210+1,FALSE)","v":{"$error":"#N/A"}},{"$f":"HLOOKUP(\"Standort\",pqidat!A$4:BZ$1000,$A210+1,FALSE)&\" \"&INDEX(pqidat!$A$1:$Z$1000,A210+4,MATCH(\"Standort\",pqidat!$A$4:$Z$4,0)+1)","v":{"$error":"#N/A"}},{"$f":"HLOOKUP(\"Station\",pqidat!A$4:BZ$1000,$A210+1,FALSE)","v":{"$error":"#N/A"}},{"$f":"HLOOKUP(\"Dichte\",pqidat!A$4:BZ$1000,$A210+1,FALSE)","v":{"$error":"#N/A"}},{"$f":"HLOOKUP(\"Verdichtung\",pqidat!A$4:BZ$1000,$A210+1,FALSE)","v":{"$error":"#N/A"}},{"$f":"HLOOKUP(\"Temp. OberflÃ¤che\",pqidat!A$4:BZ$1000,$A210+1,FALSE)","v":{"$error":"#N/A"}},{"$f":"HLOOKUP(\"GPS\",pqidat!A$4:BZ$1000,$A210+1,FALSE)","v":{"$error":"#N/A"}},{"$f":"HLOOKUP(\"Korrektur\",pqidat!A$4:BZ$1000,$A210+1,FALSE)","v":{"$error":"#N/A"}}]
["201",{"$f":"IF(ISBLANK(HLOOKUP(\"Raumdichte\",pqidat!$A$4:$BZ$500,$A211+1,FALSE)),\"\",A211)","v":"201"},{"$f":"HLOOKUP(\"Asphaltsorte\",pqidat!A$4:BZ$1000,$A211+1,FALSE)","v":{"$error":"#N/A"}},{"$f":"HLOOKUP(\"Standort\",pqidat!A$4:BZ$1000,$A211+1,FALSE)&\" \"&INDEX(pqidat!$A$1:$Z$1000,A211+4,MATCH(\"Standort\",pqidat!$A$4:$Z$4,0)+1)","v":{"$error":"#N/A"}},{"$f":"HLOOKUP(\"Station\",pqidat!A$4:BZ$1000,$A211+1,FALSE)","v":{"$error":"#N/A"}},{"$f":"HLOOKUP(\"Dichte\",pqidat!A$4:BZ$1000,$A211+1,FALSE)","v":{"$error":"#N/A"}},{"$f":"HLOOKUP(\"Verdichtung\",pqidat!A$4:BZ$1000,$A211+1,FALSE)","v":{"$error":"#N/A"}},{"$f":"HLOOKUP(\"Temp. OberflÃ¤che\",pqidat!A$4:BZ$1000,$A211+1,FALSE)","v":{"$error":"#N/A"}},{"$f":"HLOOKUP(\"GPS\",pqidat!A$4:BZ$1000,$A211+1,FALSE)","v":{"$error":"#N/A"}},{"$f":"HLOOKUP(\"Korrektur\",pqidat!A$4:BZ$1000,$A211+1,FALSE)","v":{"$error":"#N/A"}}]
["202",{"$f":"IF(ISBLANK(HLOOKUP(\"Raumdichte\",pqidat!$A$4:$BZ$500,$A212+1,FALSE)),\"\",A212)","v":"202"},{"$f":"HLOOKUP(\"Asphaltsorte\",pqidat!A$4:BZ$1000,$A212+1,FALSE)","v":{"$error":"#N/A"}},{"$f":"HLOOKUP(\"Standort\",pqidat!A$4:BZ$1000,$A212+1,FALSE)&\" \"&INDEX(pqidat!$A$1:$Z$1000,A212+4,MATCH(\"Standort\",pqidat!$A$4:$Z$4,0)+1)","v":{"$error":"#N/A"}},{"$f":"HLOOKUP(\"Station\",pqidat!A$4:BZ$1000,$A212+1,FALSE)","v":{"$error":"#N/A"}},{"$f":"HLOOKUP(\"Dichte\",pqidat!A$4:BZ$1000,$A212+1,FALSE)","v":{"$error":"#N/A"}},{"$f":"HLOOKUP(\"Verdichtung\",pqidat!A$4:BZ$1000,$A212+1,FALSE)","v":{"$error":"#N/A"}},{"$f":"HLOOKUP(\"Temp. OberflÃ¤che\",pqidat!A$4:BZ$1000,$A212+1,FALSE)","v":{"$error":"#N/A"}},{"$f":"HLOOKUP(\"GPS\",pqidat!A$4:BZ$1000,$A212+1,FALSE)","v":{"$error":"#N/A"}},{"$f":"HLOOKUP(\"Korrektur\",pqidat!A$4:BZ$1000,$A212+1,FALSE)","v":{"$error":"#N/A"}}]
["203",{"$f":"IF(ISBLANK(HLOOKUP(\"Raumdichte\",pqidat!$A$4:$BZ$500,$A213+1,FALSE)),\"\",A213)","v":"203"},{"$f":"HLOOKUP(\"Asphaltsorte\",pqidat!A$4:BZ$1000,$A213+1,FALSE)","v":{"$error":"#N/A"}},{"$f":"HLOOKUP(\"Standort\",pqidat!A$4:BZ$1000,$A213+1,FALSE)&\" \"&INDEX(pqidat!$A$1:$Z$1000,A213+4,MATCH(\"Standort\",pqidat!$A$4:$Z$4,0)+1)","v":{"$error":"#N/A"}},{"$f":"HLOOKUP(\"Station\",pqidat!A$4:BZ$1000,$A213+1,FALSE)","v":{"$error":"#N/A"}},{"$f":"HLOOKUP(\"Dichte\",pqidat!A$4:BZ$1000,$A213+1,FALSE)","v":{"$error":"#N/A"}},{"$f":"HLOOKUP(\"Verdichtung\",pqidat!A$4:BZ$1000,$A213+1,FALSE)","v":{"$error":"#N/A"}},{"$f":"HLOOKUP(\"Temp. OberflÃ¤che\",pqidat!A$4:BZ$1000,$A213+1,FALSE)","v":{"$error":"#N/A"}},{"$f":"HLOOKUP(\"GPS\",pqidat!A$4:BZ$1000,$A213+1,FALSE)","v":{"$error":"#N/A"}},{"$f":"HLOOKUP(\"Korrektur\",pqidat!A$4:BZ$1000,$A213+1,FALSE)","v":{"$error":"#N/A"}}]
["204",{"$f":"IF(ISBLANK(HLOOKUP(\"Raumdichte\",pqidat!$A$4:$BZ$500,$A214+1,FALSE)),\"\",A214)","v":"204"},{"$f":"HLOOKUP(\"Asphaltsorte\",pqidat!A$4:BZ$1000,$A214+1,FALSE)","v":{"$error":"#N/A"}},{"$f":"HLOOKUP(\"Standort\",pqidat!A$4:BZ$1000,$A214+1,FALSE)&\" \"&INDEX(pqidat!$A$1:$Z$1000,A214+4,MATCH(\"Standort\",pqidat!$A$4:$Z$4,0)+1)","v":{"$error":"#N/A"}},{"$f":"HLOOKUP(\"Station\",pqidat!A$4:BZ$1000,$A214+1,FALSE)","v":{"$error":"#N/A"}},{"$f":"HLOOKUP(\"Dichte\",pqidat!A$4:BZ$1000,$A214+1,FALSE)","v":{"$error":"#N/A"}},{"$f":"HLOOKUP(\"Verdichtung\",pqidat!A$4:BZ$1000,$A214+1,FALSE)","v":{"$error":"#N/A"}},{"$f":"HLOOKUP(\"Temp. OberflÃ¤che\",pqidat!A$4:BZ$1000,$A214+1,FALSE)","v":{"$error":"#N/A"}},{"$f":"HLOOKUP(\"GPS\",pqidat!A$4:BZ$1000,$A214+1,FALSE)","v":{"$error":"#N/A"}},{"$f":"HLOOKUP(\"Korrektur\",pqidat!A$4:BZ$1000,$A214+1,FALSE)","v":{"$error":"#N/A"}}]
["205",{"$f":"IF(ISBLANK(HLOOKUP(\"Raumdichte\",pqidat!$A$4:$BZ$500,$A215+1,FALSE)),\"\",A215)","v":"205"},{"$f":"HLOOKUP(\"Asphaltsorte\",pqidat!A$4:BZ$1000,$A215+1,FALSE)","v":{"$error":"#N/A"}},{"$f":"HLOOKUP(\"Standort\",pqidat!A$4:BZ$1000,$A215+1,FALSE)&\" \"&INDEX(pqidat!$A$1:$Z$1000,A215+4,MATCH(\"Standort\",pqidat!$A$4:$Z$4,0)+1)","v":{"$error":"#N/A"}},{"$f":"HLOOKUP(\"Station\",pqidat!A$4:BZ$1000,$A215+1,FALSE)","v":{"$error":"#N/A"}},{"$f":"HLOOKUP(\"Dichte\",pqidat!A$4:BZ$1000,$A215+1,FALSE)","v":{"$error":"#N/A"}},{"$f":"HLOOKUP(\"Verdichtung\",pqidat!A$4:BZ$1000,$A215+1,FALSE)","v":{"$error":"#N/A"}},{"$f":"HLOOKUP(\"Temp. OberflÃ¤che\",pqidat!A$4:BZ$1000,$A215+1,FALSE)","v":{"$error":"#N/A"}},{"$f":"HLOOKUP(\"GPS\",pqidat!A$4:BZ$1000,$A215+1,FALSE)","v":{"$error":"#N/A"}},{"$f":"HLOOKUP(\"Korrektur\",pqidat!A$4:BZ$1000,$A215+1,FALSE)","v":{"$error":"#N/A"}}]
["206",{"$f":"IF(ISBLANK(HLOOKUP(\"Raumdichte\",pqidat!$A$4:$BZ$500,$A216+1,FALSE)),\"\",A216)","v":"206"},{"$f":"HLOOKUP(\"Asphaltsorte\",pqidat!A$4:BZ$1000,$A216+1,FALSE)","v":{"$error":"#N/A"}},{"$f":"HLOOKUP(\"Standort\",pqidat!A$4:BZ$1000,$A216+1,FALSE)&\" \"&INDEX(pqidat!$A$1:$Z$1000,A216+4,MATCH(\"Standort\",pqidat!$A$4:$Z$4,0)+1)","v":{"$error":"#N/A"}},{"$f":"HLOOKUP(\"Station\",pqidat!A$4:BZ$1000,$A216+1,FALSE)","v":{"$error":"#N/A"}},{"$f":"HLOOKUP(\"Dichte\",pqidat!A$4:BZ$1000,$A216+1,FALSE)","v":{"$error":"#N/A"}},{"$f":"HLOOKUP(\"Verdichtung\",pqidat!A$4:BZ$1000,$A216+1,FALSE)","v":{"$error":"#N/A"}},{"$f":"HLOOKUP(\"Temp. OberflÃ¤che\",pqidat!A$4:BZ$1000,$A216+1,FALSE)","v":{"$error":"#N/A"}},{"$f":"HLOOKUP(\"GPS\",pqidat!A$4:BZ$1000,$A216+1,FALSE)","v":{"$error":"#N/A"}},{"$f":"HLOOKUP(\"Korrektur\",pqidat!A$4:BZ$1000,$A216+1,FALSE)","v":{"$error":"#N/A"}}]
["207",{"$f":"IF(ISBLANK(HLOOKUP(\"Raumdichte\",pqidat!$A$4:$BZ$500,$A217+1,FALSE)),\"\",A217)","v":"207"},{"$f":"HLOOKUP(\"Asphaltsorte\",pqidat!A$4:BZ$1000,$A217+1,FALSE)","v":{"$error":"#N/A"}},{"$f":"HLOOKUP(\"Standort\",pqidat!A$4:BZ$1000,$A217+1,FALSE)&\" \"&INDEX(pqidat!$A$1:$Z$1000,A217+4,MATCH(\"Standort\",pqidat!$A$4:$Z$4,0)+1)","v":{"$error":"#N/A"}},{"$f":"HLOOKUP(\"Station\",pqidat!A$4:BZ$1000,$A217+1,FALSE)","v":{"$error":"#N/A"}},{"$f":"HLOOKUP(\"Dichte\",pqidat!A$4:BZ$1000,$A217+1,FALSE)","v":{"$error":"#N/A"}},{"$f":"HLOOKUP(\"Verdichtung\",pqidat!A$4:BZ$1000,$A217+1,FALSE)","v":{"$error":"#N/A"}},{"$f":"HLOOKUP(\"Temp. OberflÃ¤che\",pqidat!A$4:BZ$1000,$A217+1,FALSE)","v":{"$error":"#N/A"}},{"$f":"HLOOKUP(\"GPS\",pqidat!A$4:BZ$1000,$A217+1,FALSE)","v":{"$error":"#N/A"}},{"$f":"HLOOKUP(\"Korrektur\",pqidat!A$4:BZ$1000,$A217+1,FALSE)","v":{"$error":"#N/A"}}]
["208",{"$f":"IF(ISBLANK(HLOOKUP(\"Raumdichte\",pqidat!$A$4:$BZ$500,$A218+1,FALSE)),\"\",A218)","v":"208"},{"$f":"HLOOKUP(\"Asphaltsorte\",pqidat!A$4:BZ$1000,$A218+1,FALSE)","v":{"$error":"#N/A"}},{"$f":"HLOOKUP(\"Standort\",pqidat!A$4:BZ$1000,$A218+1,FALSE)&\" \"&INDEX(pqidat!$A$1:$Z$1000,A218+4,MATCH(\"Standort\",pqidat!$A$4:$Z$4,0)+1)","v":{"$error":"#N/A"}},{"$f":"HLOOKUP(\"Station\",pqidat!A$4:BZ$1000,$A218+1,FALSE)","v":{"$error":"#N/A"}},{"$f":"HLOOKUP(\"Dichte\",pqidat!A$4:BZ$1000,$A218+1,FALSE)","v":{"$error":"#N/A"}},{"$f":"HLOOKUP(\"Verdichtung\",pqidat!A$4:BZ$1000,$A218+1,FALSE)","v":{"$error":"#N/A"}},{"$f":"HLOOKUP(\"Temp. OberflÃ¤che\",pqidat!A$4:BZ$1000,$A218+1,FALSE)","v":{"$error":"#N/A"}},{"$f":"HLOOKUP(\"GPS\",pqidat!A$4:BZ$1000,$A218+1,FALSE)","v":{"$error":"#N/A"}},{"$f":"HLOOKUP(\"Korrektur\",pqidat!A$4:BZ$1000,$A218+1,FALSE)","v":{"$error":"#N/A"}}]
["209",{"$f":"IF(ISBLANK(HLOOKUP(\"Raumdichte\",pqidat!$A$4:$BZ$500,$A219+1,FALSE)),\"\",A219)","v":"209"},{"$f":"HLOOKUP(\"Asphaltsorte\",pqidat!A$4:BZ$1000,$A219+1,FALSE)","v":{"$error":"#N/A"}},{"$f":"HLOOKUP(\"Standort\",pqidat!A$4:BZ$1000,$A219+1,FALSE)&\" \"&INDEX(pqidat!$A$1:$Z$1000,A219+4,MATCH(\"Standort\",pqidat!$A$4:$Z$4,0)+1)","v":{"$error":"#N/A"}},{"$f":"HLOOKUP(\"Station\",pqidat!A$4:BZ$1000,$A219+1,FALSE)","v":{"$error":"#N/A"}},{"$f":"HLOOKUP(\"Dichte\",pqidat!A$4:BZ$1000,$A219+1,FALSE)","v":{"$error":"#N/A"}},{"$f":"HLOOKUP(\"Verdichtung\",pqidat!A$4:BZ$1000,$A219+1,FALSE)","v":{"$error":"#N/A"}},{"$f":"HLOOKUP(\"Temp. OberflÃ¤che\",pqidat!A$4:BZ$1000,$A219+1,FALSE)","v":{"$error":"#N/A"}},{"$f":"HLOOKUP(\"GPS\",pqidat!A$4:BZ$1000,$A219+1,FALSE)","v":{"$error":"#N/A"}},{"$f":"HLOOKUP(\"Korrektur\",pqidat!A$4:BZ$1000,$A219+1,FALSE)","v":{"$error":"#N/A"}}]
["210",{"$f":"IF(ISBLANK(HLOOKUP(\"Raumdichte\",pqidat!$A$4:$BZ$500,$A220+1,FALSE)),\"\",A220)","v":"210"},{"$f":"HLOOKUP(\"Asphaltsorte\",pqidat!A$4:BZ$1000,$A220+1,FALSE)","v":{"$error":"#N/A"}},{"$f":"HLOOKUP(\"Standort\",pqidat!A$4:BZ$1000,$A220+1,FALSE)&\" \"&INDEX(pqidat!$A$1:$Z$1000,A220+4,MATCH(\"Standort\",pqidat!$A$4:$Z$4,0)+1)","v":{"$error":"#N/A"}},{"$f":"HLOOKUP(\"Station\",pqidat!A$4:BZ$1000,$A220+1,FALSE)","v":{"$error":"#N/A"}},{"$f":"HLOOKUP(\"Dichte\",pqidat!A$4:BZ$1000,$A220+1,FALSE)","v":{"$error":"#N/A"}},{"$f":"HLOOKUP(\"Verdichtung\",pqidat!A$4:BZ$1000,$A220+1,FALSE)","v":{"$error":"#N/A"}},{"$f":"HLOOKUP(\"Temp. OberflÃ¤che\",pqidat!A$4:BZ$1000,$A220+1,FALSE)","v":{"$error":"#N/A"}},{"$f":"HLOOKUP(\"GPS\",pqidat!A$4:BZ$1000,$A220+1,FALSE)","v":{"$error":"#N/A"}},{"$f":"HLOOKUP(\"Korrektur\",pqidat!A$4:BZ$1000,$A220+1,FALSE)","v":{"$error":"#N/A"}}]
["211",{"$f":"IF(ISBLANK(HLOOKUP(\"Raumdichte\",pqidat!$A$4:$BZ$500,$A221+1,FALSE)),\"\",A221)","v":"211"},{"$f":"HLOOKUP(\"Asphaltsorte\",pqidat!A$4:BZ$1000,$A221+1,FALSE)","v":{"$error":"#N/A"}},{"$f":"HLOOKUP(\"Standort\",pqidat!A$4:BZ$1000,$A221+1,FALSE)&\" \"&INDEX(pqidat!$A$1:$Z$1000,A221+4,MATCH(\"Standort\",pqidat!$A$4:$Z$4,0)+1)","v":{"$error":"#N/A"}},{"$f":"HLOOKUP(\"Station\",pqidat!A$4:BZ$1000,$A221+1,FALSE)","v":{"$error":"#N/A"}},{"$f":"HLOOKUP(\"Dichte\",pqidat!A$4:BZ$1000,$A221+1,FALSE)","v":{"$error":"#N/A"}},{"$f":"HLOOKUP(\"Verdichtung\",pqidat!A$4:BZ$1000,$A221+1,FALSE)","v":{"$error":"#N/A"}},{"$f":"HLOOKUP(\"Temp. OberflÃ¤che\",pqidat!A$4:BZ$1000,$A221+1,FALSE)","v":{"$error":"#N/A"}},{"$f":"HLOOKUP(\"GPS\",pqidat!A$4:BZ$1000,$A221+1,FALSE)","v":{"$error":"#N/A"}},{"$f":"HLOOKUP(\"Korrektur\",pqidat!A$4:BZ$1000,$A221+1,FALSE)","v":{"$error":"#N/A"}}]
["212",{"$f":"IF(ISBLANK(HLOOKUP(\"Raumdichte\",pqidat!$A$4:$BZ$500,$A222+1,FALSE)),\"\",A222)","v":"212"},{"$f":"HLOOKUP(\"Asphaltsorte\",pqidat!A$4:BZ$1000,$A222+1,FALSE)","v":{"$error":"#N/A"}},{"$f":"HLOOKUP(\"Standort\",pqidat!A$4:BZ$1000,$A222+1,FALSE)&\" \"&INDEX(pqidat!$A$1:$Z$1000,A222+4,MATCH(\"Standort\",pqidat!$A$4:$Z$4,0)+1)","v":{"$error":"#N/A"}},{"$f":"HLOOKUP(\"Station\",pqidat!A$4:BZ$1000,$A222+1,FALSE)","v":{"$error":"#N/A"}},{"$f":"HLOOKUP(\"Dichte\",pqidat!A$4:BZ$1000,$A222+1,FALSE)","v":{"$error":"#N/A"}},{"$f":"HLOOKUP(\"Verdichtung\",pqidat!A$4:BZ$1000,$A222+1,FALSE)","v":{"$error":"#N/A"}},{"$f":"HLOOKUP(\"Temp. OberflÃ¤che\",pqidat!A$4:BZ$1000,$A222+1,FALSE)","v":{"$error":"#N/A"}},{"$f":"HLOOKUP(\"GPS\",pqidat!A$4:BZ$1000,$A222+1,FALSE)","v":{"$error":"#N/A"}},{"$f":"HLOOKUP(\"Korrektur\",pqidat!A$4:BZ$1000,$A222+1,FALSE)","v":{"$error":"#N/A"}}]
["213",{"$f":"IF(ISBLANK(HLOOKUP(\"Raumdichte\",pqidat!$A$4:$BZ$500,$A223+1,FALSE)),\"\",A223)","v":"213"},{"$f":"HLOOKUP(\"Asphaltsorte\",pqidat!A$4:BZ$1000,$A223+1,FALSE)","v":{"$error":"#N/A"}},{"$f":"HLOOKUP(\"Standort\",pqidat!A$4:BZ$1000,$A223+1,FALSE)&\" \"&INDEX(pqidat!$A$1:$Z$1000,A223+4,MATCH(\"Standort\",pqidat!$A$4:$Z$4,0)+1)","v":{"$error":"#N/A"}},{"$f":"HLOOKUP(\"Station\",pqidat!A$4:BZ$1000,$A223+1,FALSE)","v":{"$error":"#N/A"}},{"$f":"HLOOKUP(\"Dichte\",pqidat!A$4:BZ$1000,$A223+1,FALSE)","v":{"$error":"#N/A"}},{"$f":"HLOOKUP(\"Verdichtung\",pqidat!A$4:BZ$1000,$A223+1,FALSE)","v":{"$error":"#N/A"}},{"$f":"HLOOKUP(\"Temp. OberflÃ¤che\",pqidat!A$4:BZ$1000,$A223+1,FALSE)","v":{"$error":"#N/A"}},{"$f":"HLOOKUP(\"GPS\",pqidat!A$4:BZ$1000,$A223+1,FALSE)","v":{"$error":"#N/A"}},{"$f":"HLOOKUP(\"Korrektur\",pqidat!A$4:BZ$1000,$A223+1,FALSE)","v":{"$error":"#N/A"}}]
["214",{"$f":"IF(ISBLANK(HLOOKUP(\"Raumdichte\",pqidat!$A$4:$BZ$500,$A224+1,FALSE)),\"\",A224)","v":"214"},{"$f":"HLOOKUP(\"Asphaltsorte\",pqidat!A$4:BZ$1000,$A224+1,FALSE)","v":{"$error":"#N/A"}},{"$f":"HLOOKUP(\"Standort\",pqidat!A$4:BZ$1000,$A224+1,FALSE)&\" \"&INDEX(pqidat!$A$1:$Z$1000,A224+4,MATCH(\"Standort\",pqidat!$A$4:$Z$4,0)+1)","v":{"$error":"#N/A"}},{"$f":"HLOOKUP(\"Station\",pqidat!A$4:BZ$1000,$A224+1,FALSE)","v":{"$error":"#N/A"}},{"$f":"HLOOKUP(\"Dichte\",pqidat!A$4:BZ$1000,$A224+1,FALSE)","v":{"$error":"#N/A"}},{"$f":"HLOOKUP(\"Verdichtung\",pqidat!A$4:BZ$1000,$A224+1,FALSE)","v":{"$error":"#N/A"}},{"$f":"HLOOKUP(\"Temp. OberflÃ¤che\",pqidat!A$4:BZ$1000,$A224+1,FALSE)","v":{"$error":"#N/A"}},{"$f":"HLOOKUP(\"GPS\",pqidat!A$4:BZ$1000,$A224+1,FALSE)","v":{"$error":"#N/A"}},{"$f":"HLOOKUP(\"Korrektur\",pqidat!A$4:BZ$1000,$A224+1,FALSE)","v":{"$error":"#N/A"}}]
["215",{"$f":"IF(ISBLANK(HLOOKUP(\"Raumdichte\",pqidat!$A$4:$BZ$500,$A225+1,FALSE)),\"\",A225)","v":"215"},{"$f":"HLOOKUP(\"Asphaltsorte\",pqidat!A$4:BZ$1000,$A225+1,FALSE)","v":{"$error":"#N/A"}},{"$f":"HLOOKUP(\"Standort\",pqidat!A$4:BZ$1000,$A225+1,FALSE)&\" \"&INDEX(pqidat!$A$1:$Z$1000,A225+4,MATCH(\"Standort\",pqidat!$A$4:$Z$4,0)+1)","v":{"$error":"#N/A"}},{"$f":"HLOOKUP(\"Station\",pqidat!A$4:BZ$1000,$A225+1,FALSE)","v":{"$error":"#N/A"}},{"$f":"HLOOKUP(\"Dichte\",pqidat!A$4:BZ$1000,$A225+1,FALSE)","v":{"$error":"#N/A"}},{"$f":"HLOOKUP(\"Verdichtung\",pqidat!A$4:BZ$1000,$A225+1,FALSE)","v":{"$error":"#N/A"}},{"$f":"HLOOKUP(\"Temp. OberflÃ¤che\",pqidat!A$4:BZ$1000,$A225+1,FALSE)","v":{"$error":"#N/A"}},{"$f":"HLOOKUP(\"GPS\",pqidat!A$4:BZ$1000,$A225+1,FALSE)","v":{"$error":"#N/A"}},{"$f":"HLOOKUP(\"Korrektur\",pqidat!A$4:BZ$1000,$A225+1,FALSE)","v":{"$error":"#N/A"}}]
["216",{"$f":"IF(ISBLANK(HLOOKUP(\"Raumdichte\",pqidat!$A$4:$BZ$500,$A226+1,FALSE)),\"\",A226)","v":"216"},{"$f":"HLOOKUP(\"Asphaltsorte\",pqidat!A$4:BZ$1000,$A226+1,FALSE)","v":{"$error":"#N/A"}},{"$f":"HLOOKUP(\"Standort\",pqidat!A$4:BZ$1000,$A226+1,FALSE)&\" \"&INDEX(pqidat!$A$1:$Z$1000,A226+4,MATCH(\"Standort\",pqidat!$A$4:$Z$4,0)+1)","v":{"$error":"#N/A"}},{"$f":"HLOOKUP(\"Station\",pqidat!A$4:BZ$1000,$A226+1,FALSE)","v":{"$error":"#N/A"}},{"$f":"HLOOKUP(\"Dichte\",pqidat!A$4:BZ$1000,$A226+1,FALSE)","v":{"$error":"#N/A"}},{"$f":"HLOOKUP(\"Verdichtung\",pqidat!A$4:BZ$1000,$A226+1,FALSE)","v":{"$error":"#N/A"}},{"$f":"HLOOKUP(\"Temp. OberflÃ¤che\",pqidat!A$4:BZ$1000,$A226+1,FALSE)","v":{"$error":"#N/A"}},{"$f":"HLOOKUP(\"GPS\",pqidat!A$4:BZ$1000,$A226+1,FALSE)","v":{"$error":"#N/A"}},{"$f":"HLOOKUP(\"Korrektur\",pqidat!A$4:BZ$1000,$A226+1,FALSE)","v":{"$error":"#N/A"}}]
["217",{"$f":"IF(ISBLANK(HLOOKUP(\"Raumdichte\",pqidat!$A$4:$BZ$500,$A227+1,FALSE)),\"\",A227)","v":"217"},{"$f":"HLOOKUP(\"Asphaltsorte\",pqidat!A$4:BZ$1000,$A227+1,FALSE)","v":{"$error":"#N/A"}},{"$f":"HLOOKUP(\"Standort\",pqidat!A$4:BZ$1000,$A227+1,FALSE)&\" \"&INDEX(pqidat!$A$1:$Z$1000,A227+4,MATCH(\"Standort\",pqidat!$A$4:$Z$4,0)+1)","v":{"$error":"#N/A"}},{"$f":"HLOOKUP(\"Station\",pqidat!A$4:BZ$1000,$A227+1,FALSE)","v":{"$error":"#N/A"}},{"$f":"HLOOKUP(\"Dichte\",pqidat!A$4:BZ$1000,$A227+1,FALSE)","v":{"$error":"#N/A"}},{"$f":"HLOOKUP(\"Verdichtung\",pqidat!A$4:BZ$1000,$A227+1,FALSE)","v":{"$error":"#N/A"}},{"$f":"HLOOKUP(\"Temp. OberflÃ¤che\",pqidat!A$4:BZ$1000,$A227+1,FALSE)","v":{"$error":"#N/A"}},{"$f":"HLOOKUP(\"GPS\",pqidat!A$4:BZ$1000,$A227+1,FALSE)","v":{"$error":"#N/A"}},{"$f":"HLOOKUP(\"Korrektur\",pqidat!A$4:BZ$1000,$A227+1,FALSE)","v":{"$error":"#N/A"}}]
["218",{"$f":"IF(ISBLANK(HLOOKUP(\"Raumdichte\",pqidat!$A$4:$BZ$500,$A228+1,FALSE)),\"\",A228)","v":"218"},{"$f":"HLOOKUP(\"Asphaltsorte\",pqidat!A$4:BZ$1000,$A228+1,FALSE)","v":{"$error":"#N/A"}},{"$f":"HLOOKUP(\"Standort\",pqidat!A$4:BZ$1000,$A228+1,FALSE)&\" \"&INDEX(pqidat!$A$1:$Z$1000,A228+4,MATCH(\"Standort\",pqidat!$A$4:$Z$4,0)+1)","v":{"$error":"#N/A"}},{"$f":"HLOOKUP(\"Station\",pqidat!A$4:BZ$1000,$A228+1,FALSE)","v":{"$error":"#N/A"}},{"$f":"HLOOKUP(\"Dichte\",pqidat!A$4:BZ$1000,$A228+1,FALSE)","v":{"$error":"#N/A"}},{"$f":"HLOOKUP(\"Verdichtung\",pqidat!A$4:BZ$1000,$A228+1,FALSE)","v":{"$error":"#N/A"}},{"$f":"HLOOKUP(\"Temp. OberflÃ¤che\",pqidat!A$4:BZ$1000,$A228+1,FALSE)","v":{"$error":"#N/A"}},{"$f":"HLOOKUP(\"GPS\",pqidat!A$4:BZ$1000,$A228+1,FALSE)","v":{"$error":"#N/A"}},{"$f":"HLOOKUP(\"Korrektur\",pqidat!A$4:BZ$1000,$A228+1,FALSE)","v":{"$error":"#N/A"}}]
["219",{"$f":"IF(ISBLANK(HLOOKUP(\"Raumdichte\",pqidat!$A$4:$BZ$500,$A229+1,FALSE)),\"\",A229)","v":"219"},{"$f":"HLOOKUP(\"Asphaltsorte\",pqidat!A$4:BZ$1000,$A229+1,FALSE)","v":{"$error":"#N/A"}},{"$f":"HLOOKUP(\"Standort\",pqidat!A$4:BZ$1000,$A229+1,FALSE)&\" \"&INDEX(pqidat!$A$1:$Z$1000,A229+4,MATCH(\"Standort\",pqidat!$A$4:$Z$4,0)+1)","v":{"$error":"#N/A"}},{"$f":"HLOOKUP(\"Station\",pqidat!A$4:BZ$1000,$A229+1,FALSE)","v":{"$error":"#N/A"}},{"$f":"HLOOKUP(\"Dichte\",pqidat!A$4:BZ$1000,$A229+1,FALSE)","v":{"$error":"#N/A"}},{"$f":"HLOOKUP(\"Verdichtung\",pqidat!A$4:BZ$1000,$A229+1,FALSE)","v":{"$error":"#N/A"}},{"$f":"HLOOKUP(\"Temp. OberflÃ¤che\",pqidat!A$4:BZ$1000,$A229+1,FALSE)","v":{"$error":"#N/A"}},{"$f":"HLOOKUP(\"GPS\",pqidat!A$4:BZ$1000,$A229+1,FALSE)","v":{"$error":"#N/A"}},{"$f":"HLOOKUP(\"Korrektur\",pqidat!A$4:BZ$1000,$A229+1,FALSE)","v":{"$error":"#N/A"}}]
["220",{"$f":"IF(ISBLANK(HLOOKUP(\"Raumdichte\",pqidat!$A$4:$BZ$500,$A230+1,FALSE)),\"\",A230)","v":"220"},{"$f":"HLOOKUP(\"Asphaltsorte\",pqidat!A$4:BZ$1000,$A230+1,FALSE)","v":{"$error":"#N/A"}},{"$f":"HLOOKUP(\"Standort\",pqidat!A$4:BZ$1000,$A230+1,FALSE)&\" \"&INDEX(pqidat!$A$1:$Z$1000,A230+4,MATCH(\"Standort\",pqidat!$A$4:$Z$4,0)+1)","v":{"$error":"#N/A"}},{"$f":"HLOOKUP(\"Station\",pqidat!A$4:BZ$1000,$A230+1,FALSE)","v":{"$error":"#N/A"}},{"$f":"HLOOKUP(\"Dichte\",pqidat!A$4:BZ$1000,$A230+1,FALSE)","v":{"$error":"#N/A"}},{"$f":"HLOOKUP(\"Verdichtung\",pqidat!A$4:BZ$1000,$A230+1,FALSE)","v":{"$error":"#N/A"}},{"$f":"HLOOKUP(\"Temp. OberflÃ¤che\",pqidat!A$4:BZ$1000,$A230+1,FALSE)","v":{"$error":"#N/A"}},{"$f":"HLOOKUP(\"GPS\",pqidat!A$4:BZ$1000,$A230+1,FALSE)","v":{"$error":"#N/A"}},{"$f":"HLOOKUP(\"Korrektur\",pqidat!A$4:BZ$1000,$A230+1,FALSE)","v":{"$error":"#N/A"}}]
["221",{"$f":"IF(ISBLANK(HLOOKUP(\"Raumdichte\",pqidat!$A$4:$BZ$500,$A231+1,FALSE)),\"\",A231)","v":"221"},{"$f":"HLOOKUP(\"Asphaltsorte\",pqidat!A$4:BZ$1000,$A231+1,FALSE)","v":{"$error":"#N/A"}},{"$f":"HLOOKUP(\"Standort\",pqidat!A$4:BZ$1000,$A231+1,FALSE)&\" \"&INDEX(pqidat!$A$1:$Z$1000,A231+4,MATCH(\"Standort\",pqidat!$A$4:$Z$4,0)+1)","v":{"$error":"#N/A"}},{"$f":"HLOOKUP(\"Station\",pqidat!A$4:BZ$1000,$A231+1,FALSE)","v":{"$error":"#N/A"}},{"$f":"HLOOKUP(\"Dichte\",pqidat!A$4:BZ$1000,$A231+1,FALSE)","v":{"$error":"#N/A"}},{"$f":"HLOOKUP(\"Verdichtung\",pqidat!A$4:BZ$1000,$A231+1,FALSE)","v":{"$error":"#N/A"}},{"$f":"HLOOKUP(\"Temp. OberflÃ¤che\",pqidat!A$4:BZ$1000,$A231+1,FALSE)","v":{"$error":"#N/A"}},{"$f":"HLOOKUP(\"GPS\",pqidat!A$4:BZ$1000,$A231+1,FALSE)","v":{"$error":"#N/A"}},{"$f":"HLOOKUP(\"Korrektur\",pqidat!A$4:BZ$1000,$A231+1,FALSE)","v":{"$error":"#N/A"}}]
["222",{"$f":"IF(ISBLANK(HLOOKUP(\"Raumdichte\",pqidat!$A$4:$BZ$500,$A232+1,FALSE)),\"\",A232)","v":"222"},{"$f":"HLOOKUP(\"Asphaltsorte\",pqidat!A$4:BZ$1000,$A232+1,FALSE)","v":{"$error":"#N/A"}},{"$f":"HLOOKUP(\"Standort\",pqidat!A$4:BZ$1000,$A232+1,FALSE)&\" \"&INDEX(pqidat!$A$1:$Z$1000,A232+4,MATCH(\"Standort\",pqidat!$A$4:$Z$4,0)+1)","v":{"$error":"#N/A"}},{"$f":"HLOOKUP(\"Station\",pqidat!A$4:BZ$1000,$A232+1,FALSE)","v":{"$error":"#N/A"}},{"$f":"HLOOKUP(\"Dichte\",pqidat!A$4:BZ$1000,$A232+1,FALSE)","v":{"$error":"#N/A"}},{"$f":"HLOOKUP(\"Verdichtung\",pqidat!A$4:BZ$1000,$A232+1,FALSE)","v":{"$error":"#N/A"}},{"$f":"HLOOKUP(\"Temp. OberflÃ¤che\",pqidat!A$4:BZ$1000,$A232+1,FALSE)","v":{"$error":"#N/A"}},{"$f":"HLOOKUP(\"GPS\",pqidat!A$4:BZ$1000,$A232+1,FALSE)","v":{"$error":"#N/A"}},{"$f":"HLOOKUP(\"Korrektur\",pqidat!A$4:BZ$1000,$A232+1,FALSE)","v":{"$error":"#N/A"}}]
["223",{"$f":"IF(ISBLANK(HLOOKUP(\"Raumdichte\",pqidat!$A$4:$BZ$500,$A233+1,FALSE)),\"\",A233)","v":"223"},{"$f":"HLOOKUP(\"Asphaltsorte\",pqidat!A$4:BZ$1000,$A233+1,FALSE)","v":{"$error":"#N/A"}},{"$f":"HLOOKUP(\"Standort\",pqidat!A$4:BZ$1000,$A233+1,FALSE)&\" \"&INDEX(pqidat!$A$1:$Z$1000,A233+4,MATCH(\"Standort\",pqidat!$A$4:$Z$4,0)+1)","v":{"$error":"#N/A"}},{"$f":"HLOOKUP(\"Station\",pqidat!A$4:BZ$1000,$A233+1,FALSE)","v":{"$error":"#N/A"}},{"$f":"HLOOKUP(\"Dichte\",pqidat!A$4:BZ$1000,$A233+1,FALSE)","v":{"$error":"#N/A"}},{"$f":"HLOOKUP(\"Verdichtung\",pqidat!A$4:BZ$1000,$A233+1,FALSE)","v":{"$error":"#N/A"}},{"$f":"HLOOKUP(\"Temp. OberflÃ¤che\",pqidat!A$4:BZ$1000,$A233+1,FALSE)","v":{"$error":"#N/A"}},{"$f":"HLOOKUP(\"GPS\",pqidat!A$4:BZ$1000,$A233+1,FALSE)","v":{"$error":"#N/A"}},{"$f":"HLOOKUP(\"Korrektur\",pqidat!A$4:BZ$1000,$A233+1,FALSE)","v":{"$error":"#N/A"}}]
["224",{"$f":"IF(ISBLANK(HLOOKUP(\"Raumdichte\",pqidat!$A$4:$BZ$500,$A234+1,FALSE)),\"\",A234)","v":"224"},{"$f":"HLOOKUP(\"Asphaltsorte\",pqidat!A$4:BZ$1000,$A234+1,FALSE)","v":{"$error":"#N/A"}},{"$f":"HLOOKUP(\"Standort\",pqidat!A$4:BZ$1000,$A234+1,FALSE)&\" \"&INDEX(pqidat!$A$1:$Z$1000,A234+4,MATCH(\"Standort\",pqidat!$A$4:$Z$4,0)+1)","v":{"$error":"#N/A"}},{"$f":"HLOOKUP(\"Station\",pqidat!A$4:BZ$1000,$A234+1,FALSE)","v":{"$error":"#N/A"}},{"$f":"HLOOKUP(\"Dichte\",pqidat!A$4:BZ$1000,$A234+1,FALSE)","v":{"$error":"#N/A"}},{"$f":"HLOOKUP(\"Verdichtung\",pqidat!A$4:BZ$1000,$A234+1,FALSE)","v":{"$error":"#N/A"}},{"$f":"HLOOKUP(\"Temp. OberflÃ¤che\",pqidat!A$4:BZ$1000,$A234+1,FALSE)","v":{"$error":"#N/A"}},{"$f":"HLOOKUP(\"GPS\",pqidat!A$4:BZ$1000,$A234+1,FALSE)","v":{"$error":"#N/A"}},{"$f":"HLOOKUP(\"Korrektur\",pqidat!A$4:BZ$1000,$A234+1,FALSE)","v":{"$error":"#N/A"}}]
["225",{"$f":"IF(ISBLANK(HLOOKUP(\"Raumdichte\",pqidat!$A$4:$BZ$500,$A235+1,FALSE)),\"\",A235)","v":"225"},{"$f":"HLOOKUP(\"Asphaltsorte\",pqidat!A$4:BZ$1000,$A235+1,FALSE)","v":{"$error":"#N/A"}},{"$f":"HLOOKUP(\"Standort\",pqidat!A$4:BZ$1000,$A235+1,FALSE)&\" \"&INDEX(pqidat!$A$1:$Z$1000,A235+4,MATCH(\"Standort\",pqidat!$A$4:$Z$4,0)+1)","v":{"$error":"#N/A"}},{"$f":"HLOOKUP(\"Station\",pqidat!A$4:BZ$1000,$A235+1,FALSE)","v":{"$error":"#N/A"}},{"$f":"HLOOKUP(\"Dichte\",pqidat!A$4:BZ$1000,$A235+1,FALSE)","v":{"$error":"#N/A"}},{"$f":"HLOOKUP(\"Verdichtung\",pqidat!A$4:BZ$1000,$A235+1,FALSE)","v":{"$error":"#N/A"}},{"$f":"HLOOKUP(\"Temp. OberflÃ¤che\",pqidat!A$4:BZ$1000,$A235+1,FALSE)","v":{"$error":"#N/A"}},{"$f":"HLOOKUP(\"GPS\",pqidat!A$4:BZ$1000,$A235+1,FALSE)","v":{"$error":"#N/A"}},{"$f":"HLOOKUP(\"Korrektur\",pqidat!A$4:BZ$1000,$A235+1,FALSE)","v":{"$error":"#N/A"}}]
["226",{"$f":"IF(ISBLANK(HLOOKUP(\"Raumdichte\",pqidat!$A$4:$BZ$500,$A236+1,FALSE)),\"\",A236)","v":"226"},{"$f":"HLOOKUP(\"Asphaltsorte\",pqidat!A$4:BZ$1000,$A236+1,FALSE)","v":{"$error":"#N/A"}},{"$f":"HLOOKUP(\"Standort\",pqidat!A$4:BZ$1000,$A236+1,FALSE)&\" \"&INDEX(pqidat!$A$1:$Z$1000,A236+4,MATCH(\"Standort\",pqidat!$A$4:$Z$4,0)+1)","v":{"$error":"#N/A"}},{"$f":"HLOOKUP(\"Station\",pqidat!A$4:BZ$1000,$A236+1,FALSE)","v":{"$error":"#N/A"}},{"$f":"HLOOKUP(\"Dichte\",pqidat!A$4:BZ$1000,$A236+1,FALSE)","v":{"$error":"#N/A"}},{"$f":"HLOOKUP(\"Verdichtung\",pqidat!A$4:BZ$1000,$A236+1,FALSE)","v":{"$error":"#N/A"}},{"$f":"HLOOKUP(\"Temp. OberflÃ¤che\",pqidat!A$4:BZ$1000,$A236+1,FALSE)","v":{"$error":"#N/A"}},{"$f":"HLOOKUP(\"GPS\",pqidat!A$4:BZ$1000,$A236+1,FALSE)","v":{"$error":"#N/A"}},{"$f":"HLOOKUP(\"Korrektur\",pqidat!A$4:BZ$1000,$A236+1,FALSE)","v":{"$error":"#N/A"}}]
["227",{"$f":"IF(ISBLANK(HLOOKUP(\"Raumdichte\",pqidat!$A$4:$BZ$500,$A237+1,FALSE)),\"\",A237)","v":"227"},{"$f":"HLOOKUP(\"Asphaltsorte\",pqidat!A$4:BZ$1000,$A237+1,FALSE)","v":{"$error":"#N/A"}},{"$f":"HLOOKUP(\"Standort\",pqidat!A$4:BZ$1000,$A237+1,FALSE)&\" \"&INDEX(pqidat!$A$1:$Z$1000,A237+4,MATCH(\"Standort\",pqidat!$A$4:$Z$4,0)+1)","v":{"$error":"#N/A"}},{"$f":"HLOOKUP(\"Station\",pqidat!A$4:BZ$1000,$A237+1,FALSE)","v":{"$error":"#N/A"}},{"$f":"HLOOKUP(\"Dichte\",pqidat!A$4:BZ$1000,$A237+1,FALSE)","v":{"$error":"#N/A"}},{"$f":"HLOOKUP(\"Verdichtung\",pqidat!A$4:BZ$1000,$A237+1,FALSE)","v":{"$error":"#N/A"}},{"$f":"HLOOKUP(\"Temp. OberflÃ¤che\",pqidat!A$4:BZ$1000,$A237+1,FALSE)","v":{"$error":"#N/A"}},{"$f":"HLOOKUP(\"GPS\",pqidat!A$4:BZ$1000,$A237+1,FALSE)","v":{"$error":"#N/A"}},{"$f":"HLOOKUP(\"Korrektur\",pqidat!A$4:BZ$1000,$A237+1,FALSE)","v":{"$error":"#N/A"}}]
["228",{"$f":"IF(ISBLANK(HLOOKUP(\"Raumdichte\",pqidat!$A$4:$BZ$500,$A238+1,FALSE)),\"\",A238)","v":"228"},{"$f":"HLOOKUP(\"Asphaltsorte\",pqidat!A$4:BZ$1000,$A238+1,FALSE)","v":{"$error":"#N/A"}},{"$f":"HLOOKUP(\"Standort\",pqidat!A$4:BZ$1000,$A238+1,FALSE)&\" \"&INDEX(pqidat!$A$1:$Z$1000,A238+4,MATCH(\"Standort\",pqidat!$A$4:$Z$4,0)+1)","v":{"$error":"#N/A"}},{"$f":"HLOOKUP(\"Station\",pqidat!A$4:BZ$1000,$A238+1,FALSE)","v":{"$error":"#N/A"}},{"$f":"HLOOKUP(\"Dichte\",pqidat!A$4:BZ$1000,$A238+1,FALSE)","v":{"$error":"#N/A"}},{"$f":"HLOOKUP(\"Verdichtung\",pqidat!A$4:BZ$1000,$A238+1,FALSE)","v":{"$error":"#N/A"}},{"$f":"HLOOKUP(\"Temp. OberflÃ¤che\",pqidat!A$4:BZ$1000,$A238+1,FALSE)","v":{"$error":"#N/A"}},{"$f":"HLOOKUP(\"GPS\",pqidat!A$4:BZ$1000,$A238+1,FALSE)","v":{"$error":"#N/A"}},{"$f":"HLOOKUP(\"Korrektur\",pqidat!A$4:BZ$1000,$A238+1,FALSE)","v":{"$error":"#N/A"}}]
["229",{"$f":"IF(ISBLANK(HLOOKUP(\"Raumdichte\",pqidat!$A$4:$BZ$500,$A239+1,FALSE)),\"\",A239)","v":"229"},{"$f":"HLOOKUP(\"Asphaltsorte\",pqidat!A$4:BZ$1000,$A239+1,FALSE)","v":{"$error":"#N/A"}},{"$f":"HLOOKUP(\"Standort\",pqidat!A$4:BZ$1000,$A239+1,FALSE)&\" \"&INDEX(pqidat!$A$1:$Z$1000,A239+4,MATCH(\"Standort\",pqidat!$A$4:$Z$4,0)+1)","v":{"$error":"#N/A"}},{"$f":"HLOOKUP(\"Station\",pqidat!A$4:BZ$1000,$A239+1,FALSE)","v":{"$error":"#N/A"}},{"$f":"HLOOKUP(\"Dichte\",pqidat!A$4:BZ$1000,$A239+1,FALSE)","v":{"$error":"#N/A"}},{"$f":"HLOOKUP(\"Verdichtung\",pqidat!A$4:BZ$1000,$A239+1,FALSE)","v":{"$error":"#N/A"}},{"$f":"HLOOKUP(\"Temp. OberflÃ¤che\",pqidat!A$4:BZ$1000,$A239+1,FALSE)","v":{"$error":"#N/A"}},{"$f":"HLOOKUP(\"GPS\",pqidat!A$4:BZ$1000,$A239+1,FALSE)","v":{"$error":"#N/A"}},{"$f":"HLOOKUP(\"Korrektur\",pqidat!A$4:BZ$1000,$A239+1,FALSE)","v":{"$error":"#N/A"}}]
["230",{"$f":"IF(ISBLANK(HLOOKUP(\"Raumdichte\",pqidat!$A$4:$BZ$500,$A240+1,FALSE)),\"\",A240)","v":"230"},{"$f":"HLOOKUP(\"Asphaltsorte\",pqidat!A$4:BZ$1000,$A240+1,FALSE)","v":{"$error":"#N/A"}},{"$f":"HLOOKUP(\"Standort\",pqidat!A$4:BZ$1000,$A240+1,FALSE)&\" \"&INDEX(pqidat!$A$1:$Z$1000,A240+4,MATCH(\"Standort\",pqidat!$A$4:$Z$4,0)+1)","v":{"$error":"#N/A"}},{"$f":"HLOOKUP(\"Station\",pqidat!A$4:BZ$1000,$A240+1,FALSE)","v":{"$error":"#N/A"}},{"$f":"HLOOKUP(\"Dichte\",pqidat!A$4:BZ$1000,$A240+1,FALSE)","v":{"$error":"#N/A"}},{"$f":"HLOOKUP(\"Verdichtung\",pqidat!A$4:BZ$1000,$A240+1,FALSE)","v":{"$error":"#N/A"}},{"$f":"HLOOKUP(\"Temp. OberflÃ¤che\",pqidat!A$4:BZ$1000,$A240+1,FALSE)","v":{"$error":"#N/A"}},{"$f":"HLOOKUP(\"GPS\",pqidat!A$4:BZ$1000,$A240+1,FALSE)","v":{"$error":"#N/A"}},{"$f":"HLOOKUP(\"Korrektur\",pqidat!A$4:BZ$1000,$A240+1,FALSE)","v":{"$error":"#N/A"}}]
["231",{"$f":"IF(ISBLANK(HLOOKUP(\"Raumdichte\",pqidat!$A$4:$BZ$500,$A241+1,FALSE)),\"\",A241)","v":"231"},{"$f":"HLOOKUP(\"Asphaltsorte\",pqidat!A$4:BZ$1000,$A241+1,FALSE)","v":{"$error":"#N/A"}},{"$f":"HLOOKUP(\"Standort\",pqidat!A$4:BZ$1000,$A241+1,FALSE)&\" \"&INDEX(pqidat!$A$1:$Z$1000,A241+4,MATCH(\"Standort\",pqidat!$A$4:$Z$4,0)+1)","v":{"$error":"#N/A"}},{"$f":"HLOOKUP(\"Station\",pqidat!A$4:BZ$1000,$A241+1,FALSE)","v":{"$error":"#N/A"}},{"$f":"HLOOKUP(\"Dichte\",pqidat!A$4:BZ$1000,$A241+1,FALSE)","v":{"$error":"#N/A"}},{"$f":"HLOOKUP(\"Verdichtung\",pqidat!A$4:BZ$1000,$A241+1,FALSE)","v":{"$error":"#N/A"}},{"$f":"HLOOKUP(\"Temp. OberflÃ¤che\",pqidat!A$4:BZ$1000,$A241+1,FALSE)","v":{"$error":"#N/A"}},{"$f":"HLOOKUP(\"GPS\",pqidat!A$4:BZ$1000,$A241+1,FALSE)","v":{"$error":"#N/A"}},{"$f":"HLOOKUP(\"Korrektur\",pqidat!A$4:BZ$1000,$A241+1,FALSE)","v":{"$error":"#N/A"}}]
["232",{"$f":"IF(ISBLANK(HLOOKUP(\"Raumdichte\",pqidat!$A$4:$BZ$500,$A242+1,FALSE)),\"\",A242)","v":"232"},{"$f":"HLOOKUP(\"Asphaltsorte\",pqidat!A$4:BZ$1000,$A242+1,FALSE)","v":{"$error":"#N/A"}},{"$f":"HLOOKUP(\"Standort\",pqidat!A$4:BZ$1000,$A242+1,FALSE)&\" \"&INDEX(pqidat!$A$1:$Z$1000,A242+4,MATCH(\"Standort\",pqidat!$A$4:$Z$4,0)+1)","v":{"$error":"#N/A"}},{"$f":"HLOOKUP(\"Station\",pqidat!A$4:BZ$1000,$A242+1,FALSE)","v":{"$error":"#N/A"}},{"$f":"HLOOKUP(\"Dichte\",pqidat!A$4:BZ$1000,$A242+1,FALSE)","v":{"$error":"#N/A"}},{"$f":"HLOOKUP(\"Verdichtung\",pqidat!A$4:BZ$1000,$A242+1,FALSE)","v":{"$error":"#N/A"}},{"$f":"HLOOKUP(\"Temp. OberflÃ¤che\",pqidat!A$4:BZ$1000,$A242+1,FALSE)","v":{"$error":"#N/A"}},{"$f":"HLOOKUP(\"GPS\",pqidat!A$4:BZ$1000,$A242+1,FALSE)","v":{"$error":"#N/A"}},{"$f":"HLOOKUP(\"Korrektur\",pqidat!A$4:BZ$1000,$A242+1,FALSE)","v":{"$error":"#N/A"}}]
["233",{"$f":"IF(ISBLANK(HLOOKUP(\"Raumdichte\",pqidat!$A$4:$BZ$500,$A243+1,FALSE)),\"\",A243)","v":"233"},{"$f":"HLOOKUP(\"Asphaltsorte\",pqidat!A$4:BZ$1000,$A243+1,FALSE)","v":{"$error":"#N/A"}},{"$f":"HLOOKUP(\"Standort\",pqidat!A$4:BZ$1000,$A243+1,FALSE)&\" \"&INDEX(pqidat!$A$1:$Z$1000,A243+4,MATCH(\"Standort\",pqidat!$A$4:$Z$4,0)+1)","v":{"$error":"#N/A"}},{"$f":"HLOOKUP(\"Station\",pqidat!A$4:BZ$1000,$A243+1,FALSE)","v":{"$error":"#N/A"}},{"$f":"HLOOKUP(\"Dichte\",pqidat!A$4:BZ$1000,$A243+1,FALSE)","v":{"$error":"#N/A"}},{"$f":"HLOOKUP(\"Verdichtung\",pqidat!A$4:BZ$1000,$A243+1,FALSE)","v":{"$error":"#N/A"}},{"$f":"HLOOKUP(\"Temp. OberflÃ¤che\",pqidat!A$4:BZ$1000,$A243+1,FALSE)","v":{"$error":"#N/A"}},{"$f":"HLOOKUP(\"GPS\",pqidat!A$4:BZ$1000,$A243+1,FALSE)","v":{"$error":"#N/A"}},{"$f":"HLOOKUP(\"Korrektur\",pqidat!A$4:BZ$1000,$A243+1,FALSE)","v":{"$error":"#N/A"}}]
["234",{"$f":"IF(ISBLANK(HLOOKUP(\"Raumdichte\",pqidat!$A$4:$BZ$500,$A244+1,FALSE)),\"\",A244)","v":"234"},{"$f":"HLOOKUP(\"Asphaltsorte\",pqidat!A$4:BZ$1000,$A244+1,FALSE)","v":{"$error":"#N/A"}},{"$f":"HLOOKUP(\"Standort\",pqidat!A$4:BZ$1000,$A244+1,FALSE)&\" \"&INDEX(pqidat!$A$1:$Z$1000,A244+4,MATCH(\"Standort\",pqidat!$A$4:$Z$4,0)+1)","v":{"$error":"#N/A"}},{"$f":"HLOOKUP(\"Station\",pqidat!A$4:BZ$1000,$A244+1,FALSE)","v":{"$error":"#N/A"}},{"$f":"HLOOKUP(\"Dichte\",pqidat!A$4:BZ$1000,$A244+1,FALSE)","v":{"$error":"#N/A"}},{"$f":"HLOOKUP(\"Verdichtung\",pqidat!A$4:BZ$1000,$A244+1,FALSE)","v":{"$error":"#N/A"}},{"$f":"HLOOKUP(\"Temp. OberflÃ¤che\",pqidat!A$4:BZ$1000,$A244+1,FALSE)","v":{"$error":"#N/A"}},{"$f":"HLOOKUP(\"GPS\",pqidat!A$4:BZ$1000,$A244+1,FALSE)","v":{"$error":"#N/A"}},{"$f":"HLOOKUP(\"Korrektur\",pqidat!A$4:BZ$1000,$A244+1,FALSE)","v":{"$error":"#N/A"}}]
["235",{"$f":"IF(ISBLANK(HLOOKUP(\"Raumdichte\",pqidat!$A$4:$BZ$500,$A245+1,FALSE)),\"\",A245)","v":"235"},{"$f":"HLOOKUP(\"Asphaltsorte\",pqidat!A$4:BZ$1000,$A245+1,FALSE)","v":{"$error":"#N/A"}},{"$f":"HLOOKUP(\"Standort\",pqidat!A$4:BZ$1000,$A245+1,FALSE)&\" \"&INDEX(pqidat!$A$1:$Z$1000,A245+4,MATCH(\"Standort\",pqidat!$A$4:$Z$4,0)+1)","v":{"$error":"#N/A"}},{"$f":"HLOOKUP(\"Station\",pqidat!A$4:BZ$1000,$A245+1,FALSE)","v":{"$error":"#N/A"}},{"$f":"HLOOKUP(\"Dichte\",pqidat!A$4:BZ$1000,$A245+1,FALSE)","v":{"$error":"#N/A"}},{"$f":"HLOOKUP(\"Verdichtung\",pqidat!A$4:BZ$1000,$A245+1,FALSE)","v":{"$error":"#N/A"}},{"$f":"HLOOKUP(\"Temp. OberflÃ¤che\",pqidat!A$4:BZ$1000,$A245+1,FALSE)","v":{"$error":"#N/A"}},{"$f":"HLOOKUP(\"GPS\",pqidat!A$4:BZ$1000,$A245+1,FALSE)","v":{"$error":"#N/A"}},{"$f":"HLOOKUP(\"Korrektur\",pqidat!A$4:BZ$1000,$A245+1,FALSE)","v":{"$error":"#N/A"}}]
["236",{"$f":"IF(ISBLANK(HLOOKUP(\"Raumdichte\",pqidat!$A$4:$BZ$500,$A246+1,FALSE)),\"\",A246)","v":"236"},{"$f":"HLOOKUP(\"Asphaltsorte\",pqidat!A$4:BZ$1000,$A246+1,FALSE)","v":{"$error":"#N/A"}},{"$f":"HLOOKUP(\"Standort\",pqidat!A$4:BZ$1000,$A246+1,FALSE)&\" \"&INDEX(pqidat!$A$1:$Z$1000,A246+4,MATCH(\"Standort\",pqidat!$A$4:$Z$4,0)+1)","v":{"$error":"#N/A"}},{"$f":"HLOOKUP(\"Station\",pqidat!A$4:BZ$1000,$A246+1,FALSE)","v":{"$error":"#N/A"}},{"$f":"HLOOKUP(\"Dichte\",pqidat!A$4:BZ$1000,$A246+1,FALSE)","v":{"$error":"#N/A"}},{"$f":"HLOOKUP(\"Verdichtung\",pqidat!A$4:BZ$1000,$A246+1,FALSE)","v":{"$error":"#N/A"}},{"$f":"HLOOKUP(\"Temp. OberflÃ¤che\",pqidat!A$4:BZ$1000,$A246+1,FALSE)","v":{"$error":"#N/A"}},{"$f":"HLOOKUP(\"GPS\",pqidat!A$4:BZ$1000,$A246+1,FALSE)","v":{"$error":"#N/A"}},{"$f":"HLOOKUP(\"Korrektur\",pqidat!A$4:BZ$1000,$A246+1,FALSE)","v":{"$error":"#N/A"}}]
["237",{"$f":"IF(ISBLANK(HLOOKUP(\"Raumdichte\",pqidat!$A$4:$BZ$500,$A247+1,FALSE)),\"\",A247)","v":"237"},{"$f":"HLOOKUP(\"Asphaltsorte\",pqidat!A$4:BZ$1000,$A247+1,FALSE)","v":{"$error":"#N/A"}},{"$f":"HLOOKUP(\"Standort\",pqidat!A$4:BZ$1000,$A247+1,FALSE)&\" \"&INDEX(pqidat!$A$1:$Z$1000,A247+4,MATCH(\"Standort\",pqidat!$A$4:$Z$4,0)+1)","v":{"$error":"#N/A"}},{"$f":"HLOOKUP(\"Station\",pqidat!A$4:BZ$1000,$A247+1,FALSE)","v":{"$error":"#N/A"}},{"$f":"HLOOKUP(\"Dichte\",pqidat!A$4:BZ$1000,$A247+1,FALSE)","v":{"$error":"#N/A"}},{"$f":"HLOOKUP(\"Verdichtung\",pqidat!A$4:BZ$1000,$A247+1,FALSE)","v":{"$error":"#N/A"}},{"$f":"HLOOKUP(\"Temp. OberflÃ¤che\",pqidat!A$4:BZ$1000,$A247+1,FALSE)","v":{"$error":"#N/A"}},{"$f":"HLOOKUP(\"GPS\",pqidat!A$4:BZ$1000,$A247+1,FALSE)","v":{"$error":"#N/A"}},{"$f":"HLOOKUP(\"Korrektur\",pqidat!A$4:BZ$1000,$A247+1,FALSE)","v":{"$error":"#N/A"}}]
["238",{"$f":"IF(ISBLANK(HLOOKUP(\"Raumdichte\",pqidat!$A$4:$BZ$500,$A248+1,FALSE)),\"\",A248)","v":"238"},{"$f":"HLOOKUP(\"Asphaltsorte\",pqidat!A$4:BZ$1000,$A248+1,FALSE)","v":{"$error":"#N/A"}},{"$f":"HLOOKUP(\"Standort\",pqidat!A$4:BZ$1000,$A248+1,FALSE)&\" \"&INDEX(pqidat!$A$1:$Z$1000,A248+4,MATCH(\"Standort\",pqidat!$A$4:$Z$4,0)+1)","v":{"$error":"#N/A"}},{"$f":"HLOOKUP(\"Station\",pqidat!A$4:BZ$1000,$A248+1,FALSE)","v":{"$error":"#N/A"}},{"$f":"HLOOKUP(\"Dichte\",pqidat!A$4:BZ$1000,$A248+1,FALSE)","v":{"$error":"#N/A"}},{"$f":"HLOOKUP(\"Verdichtung\",pqidat!A$4:BZ$1000,$A248+1,FALSE)","v":{"$error":"#N/A"}},{"$f":"HLOOKUP(\"Temp. OberflÃ¤che\",pqidat!A$4:BZ$1000,$A248+1,FALSE)","v":{"$error":"#N/A"}},{"$f":"HLOOKUP(\"GPS\",pqidat!A$4:BZ$1000,$A248+1,FALSE)","v":{"$error":"#N/A"}},{"$f":"HLOOKUP(\"Korrektur\",pqidat!A$4:BZ$1000,$A248+1,FALSE)","v":{"$error":"#N/A"}}]
["239",{"$f":"IF(ISBLANK(HLOOKUP(\"Raumdichte\",pqidat!$A$4:$BZ$500,$A249+1,FALSE)),\"\",A249)","v":"239"},{"$f":"HLOOKUP(\"Asphaltsorte\",pqidat!A$4:BZ$1000,$A249+1,FALSE)","v":{"$error":"#N/A"}},{"$f":"HLOOKUP(\"Standort\",pqidat!A$4:BZ$1000,$A249+1,FALSE)&\" \"&INDEX(pqidat!$A$1:$Z$1000,A249+4,MATCH(\"Standort\",pqidat!$A$4:$Z$4,0)+1)","v":{"$error":"#N/A"}},{"$f":"HLOOKUP(\"Station\",pqidat!A$4:BZ$1000,$A249+1,FALSE)","v":{"$error":"#N/A"}},{"$f":"HLOOKUP(\"Dichte\",pqidat!A$4:BZ$1000,$A249+1,FALSE)","v":{"$error":"#N/A"}},{"$f":"HLOOKUP(\"Verdichtung\",pqidat!A$4:BZ$1000,$A249+1,FALSE)","v":{"$error":"#N/A"}},{"$f":"HLOOKUP(\"Temp. OberflÃ¤che\",pqidat!A$4:BZ$1000,$A249+1,FALSE)","v":{"$error":"#N/A"}},{"$f":"HLOOKUP(\"GPS\",pqidat!A$4:BZ$1000,$A249+1,FALSE)","v":{"$error":"#N/A"}},{"$f":"HLOOKUP(\"Korrektur\",pqidat!A$4:BZ$1000,$A249+1,FALSE)","v":{"$error":"#N/A"}}]
["240",{"$f":"IF(ISBLANK(HLOOKUP(\"Raumdichte\",pqidat!$A$4:$BZ$500,$A250+1,FALSE)),\"\",A250)","v":"240"},{"$f":"HLOOKUP(\"Asphaltsorte\",pqidat!A$4:BZ$1000,$A250+1,FALSE)","v":{"$error":"#N/A"}},{"$f":"HLOOKUP(\"Standort\",pqidat!A$4:BZ$1000,$A250+1,FALSE)&\" \"&INDEX(pqidat!$A$1:$Z$1000,A250+4,MATCH(\"Standort\",pqidat!$A$4:$Z$4,0)+1)","v":{"$error":"#N/A"}},{"$f":"HLOOKUP(\"Station\",pqidat!A$4:BZ$1000,$A250+1,FALSE)","v":{"$error":"#N/A"}},{"$f":"HLOOKUP(\"Dichte\",pqidat!A$4:BZ$1000,$A250+1,FALSE)","v":{"$error":"#N/A"}},{"$f":"HLOOKUP(\"Verdichtung\",pqidat!A$4:BZ$1000,$A250+1,FALSE)","v":{"$error":"#N/A"}},{"$f":"HLOOKUP(\"Temp. OberflÃ¤che\",pqidat!A$4:BZ$1000,$A250+1,FALSE)","v":{"$error":"#N/A"}},{"$f":"HLOOKUP(\"GPS\",pqidat!A$4:BZ$1000,$A250+1,FALSE)","v":{"$error":"#N/A"}},{"$f":"HLOOKUP(\"Korrektur\",pqidat!A$4:BZ$1000,$A250+1,FALSE)","v":{"$error":"#N/A"}}]
["241",{"$f":"IF(ISBLANK(HLOOKUP(\"Raumdichte\",pqidat!$A$4:$BZ$500,$A251+1,FALSE)),\"\",A251)","v":"241"},{"$f":"HLOOKUP(\"Asphaltsorte\",pqidat!A$4:BZ$1000,$A251+1,FALSE)","v":{"$error":"#N/A"}},{"$f":"HLOOKUP(\"Standort\",pqidat!A$4:BZ$1000,$A251+1,FALSE)&\" \"&INDEX(pqidat!$A$1:$Z$1000,A251+4,MATCH(\"Standort\",pqidat!$A$4:$Z$4,0)+1)","v":{"$error":"#N/A"}},{"$f":"HLOOKUP(\"Station\",pqidat!A$4:BZ$1000,$A251+1,FALSE)","v":{"$error":"#N/A"}},{"$f":"HLOOKUP(\"Dichte\",pqidat!A$4:BZ$1000,$A251+1,FALSE)","v":{"$error":"#N/A"}},{"$f":"HLOOKUP(\"Verdichtung\",pqidat!A$4:BZ$1000,$A251+1,FALSE)","v":{"$error":"#N/A"}},{"$f":"HLOOKUP(\"Temp. OberflÃ¤che\",pqidat!A$4:BZ$1000,$A251+1,FALSE)","v":{"$error":"#N/A"}},{"$f":"HLOOKUP(\"GPS\",pqidat!A$4:BZ$1000,$A251+1,FALSE)","v":{"$error":"#N/A"}},{"$f":"HLOOKUP(\"Korrektur\",pqidat!A$4:BZ$1000,$A251+1,FALSE)","v":{"$error":"#N/A"}}]
["242",{"$f":"IF(ISBLANK(HLOOKUP(\"Raumdichte\",pqidat!$A$4:$BZ$500,$A252+1,FALSE)),\"\",A252)","v":"242"},{"$f":"HLOOKUP(\"Asphaltsorte\",pqidat!A$4:BZ$1000,$A252+1,FALSE)","v":{"$error":"#N/A"}},{"$f":"HLOOKUP(\"Standort\",pqidat!A$4:BZ$1000,$A252+1,FALSE)&\" \"&INDEX(pqidat!$A$1:$Z$1000,A252+4,MATCH(\"Standort\",pqidat!$A$4:$Z$4,0)+1)","v":{"$error":"#N/A"}},{"$f":"HLOOKUP(\"Station\",pqidat!A$4:BZ$1000,$A252+1,FALSE)","v":{"$error":"#N/A"}},{"$f":"HLOOKUP(\"Dichte\",pqidat!A$4:BZ$1000,$A252+1,FALSE)","v":{"$error":"#N/A"}},{"$f":"HLOOKUP(\"Verdichtung\",pqidat!A$4:BZ$1000,$A252+1,FALSE)","v":{"$error":"#N/A"}},{"$f":"HLOOKUP(\"Temp. OberflÃ¤che\",pqidat!A$4:BZ$1000,$A252+1,FALSE)","v":{"$error":"#N/A"}},{"$f":"HLOOKUP(\"GPS\",pqidat!A$4:BZ$1000,$A252+1,FALSE)","v":{"$error":"#N/A"}},{"$f":"HLOOKUP(\"Korrektur\",pqidat!A$4:BZ$1000,$A252+1,FALSE)","v":{"$error":"#N/A"}}]
["243",{"$f":"IF(ISBLANK(HLOOKUP(\"Raumdichte\",pqidat!$A$4:$BZ$500,$A253+1,FALSE)),\"\",A253)","v":"243"},{"$f":"HLOOKUP(\"Asphaltsorte\",pqidat!A$4:BZ$1000,$A253+1,FALSE)","v":{"$error":"#N/A"}},{"$f":"HLOOKUP(\"Standort\",pqidat!A$4:BZ$1000,$A253+1,FALSE)&\" \"&INDEX(pqidat!$A$1:$Z$1000,A253+4,MATCH(\"Standort\",pqidat!$A$4:$Z$4,0)+1)","v":{"$error":"#N/A"}},{"$f":"HLOOKUP(\"Station\",pqidat!A$4:BZ$1000,$A253+1,FALSE)","v":{"$error":"#N/A"}},{"$f":"HLOOKUP(\"Dichte\",pqidat!A$4:BZ$1000,$A253+1,FALSE)","v":{"$error":"#N/A"}},{"$f":"HLOOKUP(\"Verdichtung\",pqidat!A$4:BZ$1000,$A253+1,FALSE)","v":{"$error":"#N/A"}},{"$f":"HLOOKUP(\"Temp. OberflÃ¤che\",pqidat!A$4:BZ$1000,$A253+1,FALSE)","v":{"$error":"#N/A"}},{"$f":"HLOOKUP(\"GPS\",pqidat!A$4:BZ$1000,$A253+1,FALSE)","v":{"$error":"#N/A"}},{"$f":"HLOOKUP(\"Korrektur\",pqidat!A$4:BZ$1000,$A253+1,FALSE)","v":{"$error":"#N/A"}}]
["244",{"$f":"IF(ISBLANK(HLOOKUP(\"Raumdichte\",pqidat!$A$4:$BZ$500,$A254+1,FALSE)),\"\",A254)","v":"244"},{"$f":"HLOOKUP(\"Asphaltsorte\",pqidat!A$4:BZ$1000,$A254+1,FALSE)","v":{"$error":"#N/A"}},{"$f":"HLOOKUP(\"Standort\",pqidat!A$4:BZ$1000,$A254+1,FALSE)&\" \"&INDEX(pqidat!$A$1:$Z$1000,A254+4,MATCH(\"Standort\",pqidat!$A$4:$Z$4,0)+1)","v":{"$error":"#N/A"}},{"$f":"HLOOKUP(\"Station\",pqidat!A$4:BZ$1000,$A254+1,FALSE)","v":{"$error":"#N/A"}},{"$f":"HLOOKUP(\"Dichte\",pqidat!A$4:BZ$1000,$A254+1,FALSE)","v":{"$error":"#N/A"}},{"$f":"HLOOKUP(\"Verdichtung\",pqidat!A$4:BZ$1000,$A254+1,FALSE)","v":{"$error":"#N/A"}},{"$f":"HLOOKUP(\"Temp. OberflÃ¤che\",pqidat!A$4:BZ$1000,$A254+1,FALSE)","v":{"$error":"#N/A"}},{"$f":"HLOOKUP(\"GPS\",pqidat!A$4:BZ$1000,$A254+1,FALSE)","v":{"$error":"#N/A"}},{"$f":"HLOOKUP(\"Korrektur\",pqidat!A$4:BZ$1000,$A254+1,FALSE)","v":{"$error":"#N/A"}}]
["245",{"$f":"IF(ISBLANK(HLOOKUP(\"Raumdichte\",pqidat!$A$4:$BZ$500,$A255+1,FALSE)),\"\",A255)","v":"245"},{"$f":"HLOOKUP(\"Asphaltsorte\",pqidat!A$4:BZ$1000,$A255+1,FALSE)","v":{"$error":"#N/A"}},{"$f":"HLOOKUP(\"Standort\",pqidat!A$4:BZ$1000,$A255+1,FALSE)&\" \"&INDEX(pqidat!$A$1:$Z$1000,A255+4,MATCH(\"Standort\",pqidat!$A$4:$Z$4,0)+1)","v":{"$error":"#N/A"}},{"$f":"HLOOKUP(\"Station\",pqidat!A$4:BZ$1000,$A255+1,FALSE)","v":{"$error":"#N/A"}},{"$f":"HLOOKUP(\"Dichte\",pqidat!A$4:BZ$1000,$A255+1,FALSE)","v":{"$error":"#N/A"}},{"$f":"HLOOKUP(\"Verdichtung\",pqidat!A$4:BZ$1000,$A255+1,FALSE)","v":{"$error":"#N/A"}},{"$f":"HLOOKUP(\"Temp. OberflÃ¤che\",pqidat!A$4:BZ$1000,$A255+1,FALSE)","v":{"$error":"#N/A"}},{"$f":"HLOOKUP(\"GPS\",pqidat!A$4:BZ$1000,$A255+1,FALSE)","v":{"$error":"#N/A"}},{"$f":"HLOOKUP(\"Korrektur\",pqidat!A$4:BZ$1000,$A255+1,FALSE)","v":{"$error":"#N/A"}}]
["246",{"$f":"IF(ISBLANK(HLOOKUP(\"Raumdichte\",pqidat!$A$4:$BZ$500,$A256+1,FALSE)),\"\",A256)","v":"246"},{"$f":"HLOOKUP(\"Asphaltsorte\",pqidat!A$4:BZ$1000,$A256+1,FALSE)","v":{"$error":"#N/A"}},{"$f":"HLOOKUP(\"Standort\",pqidat!A$4:BZ$1000,$A256+1,FALSE)&\" \"&INDEX(pqidat!$A$1:$Z$1000,A256+4,MATCH(\"Standort\",pqidat!$A$4:$Z$4,0)+1)","v":{"$error":"#N/A"}},{"$f":"HLOOKUP(\"Station\",pqidat!A$4:BZ$1000,$A256+1,FALSE)","v":{"$error":"#N/A"}},{"$f":"HLOOKUP(\"Dichte\",pqidat!A$4:BZ$1000,$A256+1,FALSE)","v":{"$error":"#N/A"}},{"$f":"HLOOKUP(\"Verdichtung\",pqidat!A$4:BZ$1000,$A256+1,FALSE)","v":{"$error":"#N/A"}},{"$f":"HLOOKUP(\"Temp. OberflÃ¤che\",pqidat!A$4:BZ$1000,$A256+1,FALSE)","v":{"$error":"#N/A"}},{"$f":"HLOOKUP(\"GPS\",pqidat!A$4:BZ$1000,$A256+1,FALSE)","v":{"$error":"#N/A"}},{"$f":"HLOOKUP(\"Korrektur\",pqidat!A$4:BZ$1000,$A256+1,FALSE)","v":{"$error":"#N/A"}}]
["247",{"$f":"IF(ISBLANK(HLOOKUP(\"Raumdichte\",pqidat!$A$4:$BZ$500,$A257+1,FALSE)),\"\",A257)","v":"247"},{"$f":"HLOOKUP(\"Asphaltsorte\",pqidat!A$4:BZ$1000,$A257+1,FALSE)","v":{"$error":"#N/A"}},{"$f":"HLOOKUP(\"Standort\",pqidat!A$4:BZ$1000,$A257+1,FALSE)&\" \"&INDEX(pqidat!$A$1:$Z$1000,A257+4,MATCH(\"Standort\",pqidat!$A$4:$Z$4,0)+1)","v":{"$error":"#N/A"}},{"$f":"HLOOKUP(\"Station\",pqidat!A$4:BZ$1000,$A257+1,FALSE)","v":{"$error":"#N/A"}},{"$f":"HLOOKUP(\"Dichte\",pqidat!A$4:BZ$1000,$A257+1,FALSE)","v":{"$error":"#N/A"}},{"$f":"HLOOKUP(\"Verdichtung\",pqidat!A$4:BZ$1000,$A257+1,FALSE)","v":{"$error":"#N/A"}},{"$f":"HLOOKUP(\"Temp. OberflÃ¤che\",pqidat!A$4:BZ$1000,$A257+1,FALSE)","v":{"$error":"#N/A"}},{"$f":"HLOOKUP(\"GPS\",pqidat!A$4:BZ$1000,$A257+1,FALSE)","v":{"$error":"#N/A"}},{"$f":"HLOOKUP(\"Korrektur\",pqidat!A$4:BZ$1000,$A257+1,FALSE)","v":{"$error":"#N/A"}}]
["248",{"$f":"IF(ISBLANK(HLOOKUP(\"Raumdichte\",pqidat!$A$4:$BZ$500,$A258+1,FALSE)),\"\",A258)","v":"248"},{"$f":"HLOOKUP(\"Asphaltsorte\",pqidat!A$4:BZ$1000,$A258+1,FALSE)","v":{"$error":"#N/A"}},{"$f":"HLOOKUP(\"Standort\",pqidat!A$4:BZ$1000,$A258+1,FALSE)&\" \"&INDEX(pqidat!$A$1:$Z$1000,A258+4,MATCH(\"Standort\",pqidat!$A$4:$Z$4,0)+1)","v":{"$error":"#N/A"}},{"$f":"HLOOKUP(\"Station\",pqidat!A$4:BZ$1000,$A258+1,FALSE)","v":{"$error":"#N/A"}},{"$f":"HLOOKUP(\"Dichte\",pqidat!A$4:BZ$1000,$A258+1,FALSE)","v":{"$error":"#N/A"}},{"$f":"HLOOKUP(\"Verdichtung\",pqidat!A$4:BZ$1000,$A258+1,FALSE)","v":{"$error":"#N/A"}},{"$f":"HLOOKUP(\"Temp. OberflÃ¤che\",pqidat!A$4:BZ$1000,$A258+1,FALSE)","v":{"$error":"#N/A"}},{"$f":"HLOOKUP(\"GPS\",pqidat!A$4:BZ$1000,$A258+1,FALSE)","v":{"$error":"#N/A"}},{"$f":"HLOOKUP(\"Korrektur\",pqidat!A$4:BZ$1000,$A258+1,FALSE)","v":{"$error":"#N/A"}}]
["249",{"$f":"IF(ISBLANK(HLOOKUP(\"Raumdichte\",pqidat!$A$4:$BZ$500,$A259+1,FALSE)),\"\",A259)","v":"249"},{"$f":"HLOOKUP(\"Asphaltsorte\",pqidat!A$4:BZ$1000,$A259+1,FALSE)","v":{"$error":"#N/A"}},{"$f":"HLOOKUP(\"Standort\",pqidat!A$4:BZ$1000,$A259+1,FALSE)&\" \"&INDEX(pqidat!$A$1:$Z$1000,A259+4,MATCH(\"Standort\",pqidat!$A$4:$Z$4,0)+1)","v":{"$error":"#N/A"}},{"$f":"HLOOKUP(\"Station\",pqidat!A$4:BZ$1000,$A259+1,FALSE)","v":{"$error":"#N/A"}},{"$f":"HLOOKUP(\"Dichte\",pqidat!A$4:BZ$1000,$A259+1,FALSE)","v":{"$error":"#N/A"}},{"$f":"HLOOKUP(\"Verdichtung\",pqidat!A$4:BZ$1000,$A259+1,FALSE)","v":{"$error":"#N/A"}},{"$f":"HLOOKUP(\"Temp. OberflÃ¤che\",pqidat!A$4:BZ$1000,$A259+1,FALSE)","v":{"$error":"#N/A"}},{"$f":"HLOOKUP(\"GPS\",pqidat!A$4:BZ$1000,$A259+1,FALSE)","v":{"$error":"#N/A"}},{"$f":"HLOOKUP(\"Korrektur\",pqidat!A$4:BZ$1000,$A259+1,FALSE)","v":{"$error":"#N/A"}}]
["250",{"$f":"IF(ISBLANK(HLOOKUP(\"Raumdichte\",pqidat!$A$4:$BZ$500,$A260+1,FALSE)),\"\",A260)","v":"250"},{"$f":"HLOOKUP(\"Asphaltsorte\",pqidat!A$4:BZ$1000,$A260+1,FALSE)","v":{"$error":"#N/A"}},{"$f":"HLOOKUP(\"Standort\",pqidat!A$4:BZ$1000,$A260+1,FALSE)&\" \"&INDEX(pqidat!$A$1:$Z$1000,A260+4,MATCH(\"Standort\",pqidat!$A$4:$Z$4,0)+1)","v":{"$error":"#N/A"}},{"$f":"HLOOKUP(\"Station\",pqidat!A$4:BZ$1000,$A260+1,FALSE)","v":{"$error":"#N/A"}},{"$f":"HLOOKUP(\"Dichte\",pqidat!A$4:BZ$1000,$A260+1,FALSE)","v":{"$error":"#N/A"}},{"$f":"HLOOKUP(\"Verdichtung\",pqidat!A$4:BZ$1000,$A260+1,FALSE)","v":{"$error":"#N/A"}},{"$f":"HLOOKUP(\"Temp. OberflÃ¤che\",pqidat!A$4:BZ$1000,$A260+1,FALSE)","v":{"$error":"#N/A"}},{"$f":"HLOOKUP(\"GPS\",pqidat!A$4:BZ$1000,$A260+1,FALSE)","v":{"$error":"#N/A"}},{"$f":"HLOOKUP(\"Korrektur\",pqidat!A$4:BZ$1000,$A260+1,FALSE)","v":{"$error":"#N/A"}}]
["251",{"$f":"IF(ISBLANK(HLOOKUP(\"Raumdichte\",pqidat!$A$4:$BZ$500,$A261+1,FALSE)),\"\",A261)","v":"251"},{"$f":"HLOOKUP(\"Asphaltsorte\",pqidat!A$4:BZ$1000,$A261+1,FALSE)","v":{"$error":"#N/A"}},{"$f":"HLOOKUP(\"Standort\",pqidat!A$4:BZ$1000,$A261+1,FALSE)&\" \"&INDEX(pqidat!$A$1:$Z$1000,A261+4,MATCH(\"Standort\",pqidat!$A$4:$Z$4,0)+1)","v":{"$error":"#N/A"}},{"$f":"HLOOKUP(\"Station\",pqidat!A$4:BZ$1000,$A261+1,FALSE)","v":{"$error":"#N/A"}},{"$f":"HLOOKUP(\"Dichte\",pqidat!A$4:BZ$1000,$A261+1,FALSE)","v":{"$error":"#N/A"}},{"$f":"HLOOKUP(\"Verdichtung\",pqidat!A$4:BZ$1000,$A261+1,FALSE)","v":{"$error":"#N/A"}},{"$f":"HLOOKUP(\"Temp. OberflÃ¤che\",pqidat!A$4:BZ$1000,$A261+1,FALSE)","v":{"$error":"#N/A"}},{"$f":"HLOOKUP(\"GPS\",pqidat!A$4:BZ$1000,$A261+1,FALSE)","v":{"$error":"#N/A"}},{"$f":"HLOOKUP(\"Korrektur\",pqidat!A$4:BZ$1000,$A261+1,FALSE)","v":{"$error":"#N/A"}}]
["252",{"$f":"IF(ISBLANK(HLOOKUP(\"Raumdichte\",pqidat!$A$4:$BZ$500,$A262+1,FALSE)),\"\",A262)","v":"252"},{"$f":"HLOOKUP(\"Asphaltsorte\",pqidat!A$4:BZ$1000,$A262+1,FALSE)","v":{"$error":"#N/A"}},{"$f":"HLOOKUP(\"Standort\",pqidat!A$4:BZ$1000,$A262+1,FALSE)&\" \"&INDEX(pqidat!$A$1:$Z$1000,A262+4,MATCH(\"Standort\",pqidat!$A$4:$Z$4,0)+1)","v":{"$error":"#N/A"}},{"$f":"HLOOKUP(\"Station\",pqidat!A$4:BZ$1000,$A262+1,FALSE)","v":{"$error":"#N/A"}},{"$f":"HLOOKUP(\"Dichte\",pqidat!A$4:BZ$1000,$A262+1,FALSE)","v":{"$error":"#N/A"}},{"$f":"HLOOKUP(\"Verdichtung\",pqidat!A$4:BZ$1000,$A262+1,FALSE)","v":{"$error":"#N/A"}},{"$f":"HLOOKUP(\"Temp. OberflÃ¤che\",pqidat!A$4:BZ$1000,$A262+1,FALSE)","v":{"$error":"#N/A"}},{"$f":"HLOOKUP(\"GPS\",pqidat!A$4:BZ$1000,$A262+1,FALSE)","v":{"$error":"#N/A"}},{"$f":"HLOOKUP(\"Korrektur\",pqidat!A$4:BZ$1000,$A262+1,FALSE)","v":{"$error":"#N/A"}}]
["253",{"$f":"IF(ISBLANK(HLOOKUP(\"Raumdichte\",pqidat!$A$4:$BZ$500,$A263+1,FALSE)),\"\",A263)","v":"253"},{"$f":"HLOOKUP(\"Asphaltsorte\",pqidat!A$4:BZ$1000,$A263+1,FALSE)","v":{"$error":"#N/A"}},{"$f":"HLOOKUP(\"Standort\",pqidat!A$4:BZ$1000,$A263+1,FALSE)&\" \"&INDEX(pqidat!$A$1:$Z$1000,A263+4,MATCH(\"Standort\",pqidat!$A$4:$Z$4,0)+1)","v":{"$error":"#N/A"}},{"$f":"HLOOKUP(\"Station\",pqidat!A$4:BZ$1000,$A263+1,FALSE)","v":{"$error":"#N/A"}},{"$f":"HLOOKUP(\"Dichte\",pqidat!A$4:BZ$1000,$A263+1,FALSE)","v":{"$error":"#N/A"}},{"$f":"HLOOKUP(\"Verdichtung\",pqidat!A$4:BZ$1000,$A263+1,FALSE)","v":{"$error":"#N/A"}},{"$f":"HLOOKUP(\"Temp. OberflÃ¤che\",pqidat!A$4:BZ$1000,$A263+1,FALSE)","v":{"$error":"#N/A"}},{"$f":"HLOOKUP(\"GPS\",pqidat!A$4:BZ$1000,$A263+1,FALSE)","v":{"$error":"#N/A"}},{"$f":"HLOOKUP(\"Korrektur\",pqidat!A$4:BZ$1000,$A263+1,FALSE)","v":{"$error":"#N/A"}}]
["254",{"$f":"IF(ISBLANK(HLOOKUP(\"Raumdichte\",pqidat!$A$4:$BZ$500,$A264+1,FALSE)),\"\",A264)","v":"254"},{"$f":"HLOOKUP(\"Asphaltsorte\",pqidat!A$4:BZ$1000,$A264+1,FALSE)","v":{"$error":"#N/A"}},{"$f":"HLOOKUP(\"Standort\",pqidat!A$4:BZ$1000,$A264+1,FALSE)&\" \"&INDEX(pqidat!$A$1:$Z$1000,A264+4,MATCH(\"Standort\",pqidat!$A$4:$Z$4,0)+1)","v":{"$error":"#N/A"}},{"$f":"HLOOKUP(\"Station\",pqidat!A$4:BZ$1000,$A264+1,FALSE)","v":{"$error":"#N/A"}},{"$f":"HLOOKUP(\"Dichte\",pqidat!A$4:BZ$1000,$A264+1,FALSE)","v":{"$error":"#N/A"}},{"$f":"HLOOKUP(\"Verdichtung\",pqidat!A$4:BZ$1000,$A264+1,FALSE)","v":{"$error":"#N/A"}},{"$f":"HLOOKUP(\"Temp. OberflÃ¤che\",pqidat!A$4:BZ$1000,$A264+1,FALSE)","v":{"$error":"#N/A"}},{"$f":"HLOOKUP(\"GPS\",pqidat!A$4:BZ$1000,$A264+1,FALSE)","v":{"$error":"#N/A"}},{"$f":"HLOOKUP(\"Korrektur\",pqidat!A$4:BZ$1000,$A264+1,FALSE)","v":{"$error":"#N/A"}}]
["255",{"$f":"IF(ISBLANK(HLOOKUP(\"Raumdichte\",pqidat!$A$4:$BZ$500,$A265+1,FALSE)),\"\",A265)","v":"255"},{"$f":"HLOOKUP(\"Asphaltsorte\",pqidat!A$4:BZ$1000,$A265+1,FALSE)","v":{"$error":"#N/A"}},{"$f":"HLOOKUP(\"Standort\",pqidat!A$4:BZ$1000,$A265+1,FALSE)&\" \"&INDEX(pqidat!$A$1:$Z$1000,A265+4,MATCH(\"Standort\",pqidat!$A$4:$Z$4,0)+1)","v":{"$error":"#N/A"}},{"$f":"HLOOKUP(\"Station\",pqidat!A$4:BZ$1000,$A265+1,FALSE)","v":{"$error":"#N/A"}},{"$f":"HLOOKUP(\"Dichte\",pqidat!A$4:BZ$1000,$A265+1,FALSE)","v":{"$error":"#N/A"}},{"$f":"HLOOKUP(\"Verdichtung\",pqidat!A$4:BZ$1000,$A265+1,FALSE)","v":{"$error":"#N/A"}},{"$f":"HLOOKUP(\"Temp. OberflÃ¤che\",pqidat!A$4:BZ$1000,$A265+1,FALSE)","v":{"$error":"#N/A"}},{"$f":"HLOOKUP(\"GPS\",pqidat!A$4:BZ$1000,$A265+1,FALSE)","v":{"$error":"#N/A"}},{"$f":"HLOOKUP(\"Korrektur\",pqidat!A$4:BZ$1000,$A265+1,FALSE)","v":{"$error":"#N/A"}}]
["256",{"$f":"IF(ISBLANK(HLOOKUP(\"Raumdichte\",pqidat!$A$4:$BZ$500,$A266+1,FALSE)),\"\",A266)","v":"256"},{"$f":"HLOOKUP(\"Asphaltsorte\",pqidat!A$4:BZ$1000,$A266+1,FALSE)","v":{"$error":"#N/A"}},{"$f":"HLOOKUP(\"Standort\",pqidat!A$4:BZ$1000,$A266+1,FALSE)&\" \"&INDEX(pqidat!$A$1:$Z$1000,A266+4,MATCH(\"Standort\",pqidat!$A$4:$Z$4,0)+1)","v":{"$error":"#N/A"}},{"$f":"HLOOKUP(\"Station\",pqidat!A$4:BZ$1000,$A266+1,FALSE)","v":{"$error":"#N/A"}},{"$f":"HLOOKUP(\"Dichte\",pqidat!A$4:BZ$1000,$A266+1,FALSE)","v":{"$error":"#N/A"}},{"$f":"HLOOKUP(\"Verdichtung\",pqidat!A$4:BZ$1000,$A266+1,FALSE)","v":{"$error":"#N/A"}},{"$f":"HLOOKUP(\"Temp. OberflÃ¤che\",pqidat!A$4:BZ$1000,$A266+1,FALSE)","v":{"$error":"#N/A"}},{"$f":"HLOOKUP(\"GPS\",pqidat!A$4:BZ$1000,$A266+1,FALSE)","v":{"$error":"#N/A"}},{"$f":"HLOOKUP(\"Korrektur\",pqidat!A$4:BZ$1000,$A266+1,FALSE)","v":{"$error":"#N/A"}}]
["257",{"$f":"IF(ISBLANK(HLOOKUP(\"Raumdichte\",pqidat!$A$4:$BZ$500,$A267+1,FALSE)),\"\",A267)","v":"257"},{"$f":"HLOOKUP(\"Asphaltsorte\",pqidat!A$4:BZ$1000,$A267+1,FALSE)","v":{"$error":"#N/A"}},{"$f":"HLOOKUP(\"Standort\",pqidat!A$4:BZ$1000,$A267+1,FALSE)&\" \"&INDEX(pqidat!$A$1:$Z$1000,A267+4,MATCH(\"Standort\",pqidat!$A$4:$Z$4,0)+1)","v":{"$error":"#N/A"}},{"$f":"HLOOKUP(\"Station\",pqidat!A$4:BZ$1000,$A267+1,FALSE)","v":{"$error":"#N/A"}},{"$f":"HLOOKUP(\"Dichte\",pqidat!A$4:BZ$1000,$A267+1,FALSE)","v":{"$error":"#N/A"}},{"$f":"HLOOKUP(\"Verdichtung\",pqidat!A$4:BZ$1000,$A267+1,FALSE)","v":{"$error":"#N/A"}},{"$f":"HLOOKUP(\"Temp. OberflÃ¤che\",pqidat!A$4:BZ$1000,$A267+1,FALSE)","v":{"$error":"#N/A"}},{"$f":"HLOOKUP(\"GPS\",pqidat!A$4:BZ$1000,$A267+1,FALSE)","v":{"$error":"#N/A"}},{"$f":"HLOOKUP(\"Korrektur\",pqidat!A$4:BZ$1000,$A267+1,FALSE)","v":{"$error":"#N/A"}}]
["258",{"$f":"IF(ISBLANK(HLOOKUP(\"Raumdichte\",pqidat!$A$4:$BZ$500,$A268+1,FALSE)),\"\",A268)","v":"258"},{"$f":"HLOOKUP(\"Asphaltsorte\",pqidat!A$4:BZ$1000,$A268+1,FALSE)","v":{"$error":"#N/A"}},{"$f":"HLOOKUP(\"Standort\",pqidat!A$4:BZ$1000,$A268+1,FALSE)&\" \"&INDEX(pqidat!$A$1:$Z$1000,A268+4,MATCH(\"Standort\",pqidat!$A$4:$Z$4,0)+1)","v":{"$error":"#N/A"}},{"$f":"HLOOKUP(\"Station\",pqidat!A$4:BZ$1000,$A268+1,FALSE)","v":{"$error":"#N/A"}},{"$f":"HLOOKUP(\"Dichte\",pqidat!A$4:BZ$1000,$A268+1,FALSE)","v":{"$error":"#N/A"}},{"$f":"HLOOKUP(\"Verdichtung\",pqidat!A$4:BZ$1000,$A268+1,FALSE)","v":{"$error":"#N/A"}},{"$f":"HLOOKUP(\"Temp. OberflÃ¤che\",pqidat!A$4:BZ$1000,$A268+1,FALSE)","v":{"$error":"#N/A"}},{"$f":"HLOOKUP(\"GPS\",pqidat!A$4:BZ$1000,$A268+1,FALSE)","v":{"$error":"#N/A"}},{"$f":"HLOOKUP(\"Korrektur\",pqidat!A$4:BZ$1000,$A268+1,FALSE)","v":{"$error":"#N/A"}}]
["259",{"$f":"IF(ISBLANK(HLOOKUP(\"Raumdichte\",pqidat!$A$4:$BZ$500,$A269+1,FALSE)),\"\",A269)","v":"259"},{"$f":"HLOOKUP(\"Asphaltsorte\",pqidat!A$4:BZ$1000,$A269+1,FALSE)","v":{"$error":"#N/A"}},{"$f":"HLOOKUP(\"Standort\",pqidat!A$4:BZ$1000,$A269+1,FALSE)&\" \"&INDEX(pqidat!$A$1:$Z$1000,A269+4,MATCH(\"Standort\",pqidat!$A$4:$Z$4,0)+1)","v":{"$error":"#N/A"}},{"$f":"HLOOKUP(\"Station\",pqidat!A$4:BZ$1000,$A269+1,FALSE)","v":{"$error":"#N/A"}},{"$f":"HLOOKUP(\"Dichte\",pqidat!A$4:BZ$1000,$A269+1,FALSE)","v":{"$error":"#N/A"}},{"$f":"HLOOKUP(\"Verdichtung\",pqidat!A$4:BZ$1000,$A269+1,FALSE)","v":{"$error":"#N/A"}},{"$f":"HLOOKUP(\"Temp. OberflÃ¤che\",pqidat!A$4:BZ$1000,$A269+1,FALSE)","v":{"$error":"#N/A"}},{"$f":"HLOOKUP(\"GPS\",pqidat!A$4:BZ$1000,$A269+1,FALSE)","v":{"$error":"#N/A"}},{"$f":"HLOOKUP(\"Korrektur\",pqidat!A$4:BZ$1000,$A269+1,FALSE)","v":{"$error":"#N/A"}}]
["260",{"$f":"IF(ISBLANK(HLOOKUP(\"Raumdichte\",pqidat!$A$4:$BZ$500,$A270+1,FALSE)),\"\",A270)","v":"260"},{"$f":"HLOOKUP(\"Asphaltsorte\",pqidat!A$4:BZ$1000,$A270+1,FALSE)","v":{"$error":"#N/A"}},{"$f":"HLOOKUP(\"Standort\",pqidat!A$4:BZ$1000,$A270+1,FALSE)&\" \"&INDEX(pqidat!$A$1:$Z$1000,A270+4,MATCH(\"Standort\",pqidat!$A$4:$Z$4,0)+1)","v":{"$error":"#N/A"}},{"$f":"HLOOKUP(\"Station\",pqidat!A$4:BZ$1000,$A270+1,FALSE)","v":{"$error":"#N/A"}},{"$f":"HLOOKUP(\"Dichte\",pqidat!A$4:BZ$1000,$A270+1,FALSE)","v":{"$error":"#N/A"}},{"$f":"HLOOKUP(\"Verdichtung\",pqidat!A$4:BZ$1000,$A270+1,FALSE)","v":{"$error":"#N/A"}},{"$f":"HLOOKUP(\"Temp. OberflÃ¤che\",pqidat!A$4:BZ$1000,$A270+1,FALSE)","v":{"$error":"#N/A"}},{"$f":"HLOOKUP(\"GPS\",pqidat!A$4:BZ$1000,$A270+1,FALSE)","v":{"$error":"#N/A"}},{"$f":"HLOOKUP(\"Korrektur\",pqidat!A$4:BZ$1000,$A270+1,FALSE)","v":{"$error":"#N/A"}}]
["261",{"$f":"IF(ISBLANK(HLOOKUP(\"Raumdichte\",pqidat!$A$4:$BZ$500,$A271+1,FALSE)),\"\",A271)","v":"261"},{"$f":"HLOOKUP(\"Asphaltsorte\",pqidat!A$4:BZ$1000,$A271+1,FALSE)","v":{"$error":"#N/A"}},{"$f":"HLOOKUP(\"Standort\",pqidat!A$4:BZ$1000,$A271+1,FALSE)&\" \"&INDEX(pqidat!$A$1:$Z$1000,A271+4,MATCH(\"Standort\",pqidat!$A$4:$Z$4,0)+1)","v":{"$error":"#N/A"}},{"$f":"HLOOKUP(\"Station\",pqidat!A$4:BZ$1000,$A271+1,FALSE)","v":{"$error":"#N/A"}},{"$f":"HLOOKUP(\"Dichte\",pqidat!A$4:BZ$1000,$A271+1,FALSE)","v":{"$error":"#N/A"}},{"$f":"HLOOKUP(\"Verdichtung\",pqidat!A$4:BZ$1000,$A271+1,FALSE)","v":{"$error":"#N/A"}},{"$f":"HLOOKUP(\"Temp. OberflÃ¤che\",pqidat!A$4:BZ$1000,$A271+1,FALSE)","v":{"$error":"#N/A"}},{"$f":"HLOOKUP(\"GPS\",pqidat!A$4:BZ$1000,$A271+1,FALSE)","v":{"$error":"#N/A"}},{"$f":"HLOOKUP(\"Korrektur\",pqidat!A$4:BZ$1000,$A271+1,FALSE)","v":{"$error":"#N/A"}}]
["262",{"$f":"IF(ISBLANK(HLOOKUP(\"Raumdichte\",pqidat!$A$4:$BZ$500,$A272+1,FALSE)),\"\",A272)","v":"262"},{"$f":"HLOOKUP(\"Asphaltsorte\",pqidat!A$4:BZ$1000,$A272+1,FALSE)","v":{"$error":"#N/A"}},{"$f":"HLOOKUP(\"Standort\",pqidat!A$4:BZ$1000,$A272+1,FALSE)&\" \"&INDEX(pqidat!$A$1:$Z$1000,A272+4,MATCH(\"Standort\",pqidat!$A$4:$Z$4,0)+1)","v":{"$error":"#N/A"}},{"$f":"HLOOKUP(\"Station\",pqidat!A$4:BZ$1000,$A272+1,FALSE)","v":{"$error":"#N/A"}},{"$f":"HLOOKUP(\"Dichte\",pqidat!A$4:BZ$1000,$A272+1,FALSE)","v":{"$error":"#N/A"}},{"$f":"HLOOKUP(\"Verdichtung\",pqidat!A$4:BZ$1000,$A272+1,FALSE)","v":{"$error":"#N/A"}},{"$f":"HLOOKUP(\"Temp. OberflÃ¤che\",pqidat!A$4:BZ$1000,$A272+1,FALSE)","v":{"$error":"#N/A"}},{"$f":"HLOOKUP(\"GPS\",pqidat!A$4:BZ$1000,$A272+1,FALSE)","v":{"$error":"#N/A"}},{"$f":"HLOOKUP(\"Korrektur\",pqidat!A$4:BZ$1000,$A272+1,FALSE)","v":{"$error":"#N/A"}}]
["263",{"$f":"IF(ISBLANK(HLOOKUP(\"Raumdichte\",pqidat!$A$4:$BZ$500,$A273+1,FALSE)),\"\",A273)","v":"263"},{"$f":"HLOOKUP(\"Asphaltsorte\",pqidat!A$4:BZ$1000,$A273+1,FALSE)","v":{"$error":"#N/A"}},{"$f":"HLOOKUP(\"Standort\",pqidat!A$4:BZ$1000,$A273+1,FALSE)&\" \"&INDEX(pqidat!$A$1:$Z$1000,A273+4,MATCH(\"Standort\",pqidat!$A$4:$Z$4,0)+1)","v":{"$error":"#N/A"}},{"$f":"HLOOKUP(\"Station\",pqidat!A$4:BZ$1000,$A273+1,FALSE)","v":{"$error":"#N/A"}},{"$f":"HLOOKUP(\"Dichte\",pqidat!A$4:BZ$1000,$A273+1,FALSE)","v":{"$error":"#N/A"}},{"$f":"HLOOKUP(\"Verdichtung\",pqidat!A$4:BZ$1000,$A273+1,FALSE)","v":{"$error":"#N/A"}},{"$f":"HLOOKUP(\"Temp. OberflÃ¤che\",pqidat!A$4:BZ$1000,$A273+1,FALSE)","v":{"$error":"#N/A"}},{"$f":"HLOOKUP(\"GPS\",pqidat!A$4:BZ$1000,$A273+1,FALSE)","v":{"$error":"#N/A"}},{"$f":"HLOOKUP(\"Korrektur\",pqidat!A$4:BZ$1000,$A273+1,FALSE)","v":{"$error":"#N/A"}}]
["264",{"$f":"IF(ISBLANK(HLOOKUP(\"Raumdichte\",pqidat!$A$4:$BZ$500,$A274+1,FALSE)),\"\",A274)","v":"264"},{"$f":"HLOOKUP(\"Asphaltsorte\",pqidat!A$4:BZ$1000,$A274+1,FALSE)","v":{"$error":"#N/A"}},{"$f":"HLOOKUP(\"Standort\",pqidat!A$4:BZ$1000,$A274+1,FALSE)&\" \"&INDEX(pqidat!$A$1:$Z$1000,A274+4,MATCH(\"Standort\",pqidat!$A$4:$Z$4,0)+1)","v":{"$error":"#N/A"}},{"$f":"HLOOKUP(\"Station\",pqidat!A$4:BZ$1000,$A274+1,FALSE)","v":{"$error":"#N/A"}},{"$f":"HLOOKUP(\"Dichte\",pqidat!A$4:BZ$1000,$A274+1,FALSE)","v":{"$error":"#N/A"}},{"$f":"HLOOKUP(\"Verdichtung\",pqidat!A$4:BZ$1000,$A274+1,FALSE)","v":{"$error":"#N/A"}},{"$f":"HLOOKUP(\"Temp. OberflÃ¤che\",pqidat!A$4:BZ$1000,$A274+1,FALSE)","v":{"$error":"#N/A"}},{"$f":"HLOOKUP(\"GPS\",pqidat!A$4:BZ$1000,$A274+1,FALSE)","v":{"$error":"#N/A"}},{"$f":"HLOOKUP(\"Korrektur\",pqidat!A$4:BZ$1000,$A274+1,FALSE)","v":{"$error":"#N/A"}}]
["265",{"$f":"IF(ISBLANK(HLOOKUP(\"Raumdichte\",pqidat!$A$4:$BZ$500,$A275+1,FALSE)),\"\",A275)","v":"265"},{"$f":"HLOOKUP(\"Asphaltsorte\",pqidat!A$4:BZ$1000,$A275+1,FALSE)","v":{"$error":"#N/A"}},{"$f":"HLOOKUP(\"Standort\",pqidat!A$4:BZ$1000,$A275+1,FALSE)&\" \"&INDEX(pqidat!$A$1:$Z$1000,A275+4,MATCH(\"Standort\",pqidat!$A$4:$Z$4,0)+1)","v":{"$error":"#N/A"}},{"$f":"HLOOKUP(\"Station\",pqidat!A$4:BZ$1000,$A275+1,FALSE)","v":{"$error":"#N/A"}},{"$f":"HLOOKUP(\"Dichte\",pqidat!A$4:BZ$1000,$A275+1,FALSE)","v":{"$error":"#N/A"}},{"$f":"HLOOKUP(\"Verdichtung\",pqidat!A$4:BZ$1000,$A275+1,FALSE)","v":{"$error":"#N/A"}},{"$f":"HLOOKUP(\"Temp. OberflÃ¤che\",pqidat!A$4:BZ$1000,$A275+1,FALSE)","v":{"$error":"#N/A"}},{"$f":"HLOOKUP(\"GPS\",pqidat!A$4:BZ$1000,$A275+1,FALSE)","v":{"$error":"#N/A"}},{"$f":"HLOOKUP(\"Korrektur\",pqidat!A$4:BZ$1000,$A275+1,FALSE)","v":{"$error":"#N/A"}}]
["266",{"$f":"IF(ISBLANK(HLOOKUP(\"Raumdichte\",pqidat!$A$4:$BZ$500,$A276+1,FALSE)),\"\",A276)","v":"266"},{"$f":"HLOOKUP(\"Asphaltsorte\",pqidat!A$4:BZ$1000,$A276+1,FALSE)","v":{"$error":"#N/A"}},{"$f":"HLOOKUP(\"Standort\",pqidat!A$4:BZ$1000,$A276+1,FALSE)&\" \"&INDEX(pqidat!$A$1:$Z$1000,A276+4,MATCH(\"Standort\",pqidat!$A$4:$Z$4,0)+1)","v":{"$error":"#N/A"}},{"$f":"HLOOKUP(\"Station\",pqidat!A$4:BZ$1000,$A276+1,FALSE)","v":{"$error":"#N/A"}},{"$f":"HLOOKUP(\"Dichte\",pqidat!A$4:BZ$1000,$A276+1,FALSE)","v":{"$error":"#N/A"}},{"$f":"HLOOKUP(\"Verdichtung\",pqidat!A$4:BZ$1000,$A276+1,FALSE)","v":{"$error":"#N/A"}},{"$f":"HLOOKUP(\"Temp. OberflÃ¤che\",pqidat!A$4:BZ$1000,$A276+1,FALSE)","v":{"$error":"#N/A"}},{"$f":"HLOOKUP(\"GPS\",pqidat!A$4:BZ$1000,$A276+1,FALSE)","v":{"$error":"#N/A"}},{"$f":"HLOOKUP(\"Korrektur\",pqidat!A$4:BZ$1000,$A276+1,FALSE)","v":{"$error":"#N/A"}}]
["267",{"$f":"IF(ISBLANK(HLOOKUP(\"Raumdichte\",pqidat!$A$4:$BZ$500,$A277+1,FALSE)),\"\",A277)","v":"267"},{"$f":"HLOOKUP(\"Asphaltsorte\",pqidat!A$4:BZ$1000,$A277+1,FALSE)","v":{"$error":"#N/A"}},{"$f":"HLOOKUP(\"Standort\",pqidat!A$4:BZ$1000,$A277+1,FALSE)&\" \"&INDEX(pqidat!$A$1:$Z$1000,A277+4,MATCH(\"Standort\",pqidat!$A$4:$Z$4,0)+1)","v":{"$error":"#N/A"}},{"$f":"HLOOKUP(\"Station\",pqidat!A$4:BZ$1000,$A277+1,FALSE)","v":{"$error":"#N/A"}},{"$f":"HLOOKUP(\"Dichte\",pqidat!A$4:BZ$1000,$A277+1,FALSE)","v":{"$error":"#N/A"}},{"$f":"HLOOKUP(\"Verdichtung\",pqidat!A$4:BZ$1000,$A277+1,FALSE)","v":{"$error":"#N/A"}},{"$f":"HLOOKUP(\"Temp. OberflÃ¤che\",pqidat!A$4:BZ$1000,$A277+1,FALSE)","v":{"$error":"#N/A"}},{"$f":"HLOOKUP(\"GPS\",pqidat!A$4:BZ$1000,$A277+1,FALSE)","v":{"$error":"#N/A"}},{"$f":"HLOOKUP(\"Korrektur\",pqidat!A$4:BZ$1000,$A277+1,FALSE)","v":{"$error":"#N/A"}}]
["268",{"$f":"IF(ISBLANK(HLOOKUP(\"Raumdichte\",pqidat!$A$4:$BZ$500,$A278+1,FALSE)),\"\",A278)","v":"268"},{"$f":"HLOOKUP(\"Asphaltsorte\",pqidat!A$4:BZ$1000,$A278+1,FALSE)","v":{"$error":"#N/A"}},{"$f":"HLOOKUP(\"Standort\",pqidat!A$4:BZ$1000,$A278+1,FALSE)&\" \"&INDEX(pqidat!$A$1:$Z$1000,A278+4,MATCH(\"Standort\",pqidat!$A$4:$Z$4,0)+1)","v":{"$error":"#N/A"}},{"$f":"HLOOKUP(\"Station\",pqidat!A$4:BZ$1000,$A278+1,FALSE)","v":{"$error":"#N/A"}},{"$f":"HLOOKUP(\"Dichte\",pqidat!A$4:BZ$1000,$A278+1,FALSE)","v":{"$error":"#N/A"}},{"$f":"HLOOKUP(\"Verdichtung\",pqidat!A$4:BZ$1000,$A278+1,FALSE)","v":{"$error":"#N/A"}},{"$f":"HLOOKUP(\"Temp. OberflÃ¤che\",pqidat!A$4:BZ$1000,$A278+1,FALSE)","v":{"$error":"#N/A"}},{"$f":"HLOOKUP(\"GPS\",pqidat!A$4:BZ$1000,$A278+1,FALSE)","v":{"$error":"#N/A"}},{"$f":"HLOOKUP(\"Korrektur\",pqidat!A$4:BZ$1000,$A278+1,FALSE)","v":{"$error":"#N/A"}}]
["269",{"$f":"IF(ISBLANK(HLOOKUP(\"Raumdichte\",pqidat!$A$4:$BZ$500,$A279+1,FALSE)),\"\",A279)","v":"269"},{"$f":"HLOOKUP(\"Asphaltsorte\",pqidat!A$4:BZ$1000,$A279+1,FALSE)","v":{"$error":"#N/A"}},{"$f":"HLOOKUP(\"Standort\",pqidat!A$4:BZ$1000,$A279+1,FALSE)&\" \"&INDEX(pqidat!$A$1:$Z$1000,A279+4,MATCH(\"Standort\",pqidat!$A$4:$Z$4,0)+1)","v":{"$error":"#N/A"}},{"$f":"HLOOKUP(\"Station\",pqidat!A$4:BZ$1000,$A279+1,FALSE)","v":{"$error":"#N/A"}},{"$f":"HLOOKUP(\"Dichte\",pqidat!A$4:BZ$1000,$A279+1,FALSE)","v":{"$error":"#N/A"}},{"$f":"HLOOKUP(\"Verdichtung\",pqidat!A$4:BZ$1000,$A279+1,FALSE)","v":{"$error":"#N/A"}},{"$f":"HLOOKUP(\"Temp. OberflÃ¤che\",pqidat!A$4:BZ$1000,$A279+1,FALSE)","v":{"$error":"#N/A"}},{"$f":"HLOOKUP(\"GPS\",pqidat!A$4:BZ$1000,$A279+1,FALSE)","v":{"$error":"#N/A"}},{"$f":"HLOOKUP(\"Korrektur\",pqidat!A$4:BZ$1000,$A279+1,FALSE)","v":{"$error":"#N/A"}}]
["270",{"$f":"IF(ISBLANK(HLOOKUP(\"Raumdichte\",pqidat!$A$4:$BZ$500,$A280+1,FALSE)),\"\",A280)","v":"270"},{"$f":"HLOOKUP(\"Asphaltsorte\",pqidat!A$4:BZ$1000,$A280+1,FALSE)","v":{"$error":"#N/A"}},{"$f":"HLOOKUP(\"Standort\",pqidat!A$4:BZ$1000,$A280+1,FALSE)&\" \"&INDEX(pqidat!$A$1:$Z$1000,A280+4,MATCH(\"Standort\",pqidat!$A$4:$Z$4,0)+1)","v":{"$error":"#N/A"}},{"$f":"HLOOKUP(\"Station\",pqidat!A$4:BZ$1000,$A280+1,FALSE)","v":{"$error":"#N/A"}},{"$f":"HLOOKUP(\"Dichte\",pqidat!A$4:BZ$1000,$A280+1,FALSE)","v":{"$error":"#N/A"}},{"$f":"HLOOKUP(\"Verdichtung\",pqidat!A$4:BZ$1000,$A280+1,FALSE)","v":{"$error":"#N/A"}},{"$f":"HLOOKUP(\"Temp. OberflÃ¤che\",pqidat!A$4:BZ$1000,$A280+1,FALSE)","v":{"$error":"#N/A"}},{"$f":"HLOOKUP(\"GPS\",pqidat!A$4:BZ$1000,$A280+1,FALSE)","v":{"$error":"#N/A"}},{"$f":"HLOOKUP(\"Korrektur\",pqidat!A$4:BZ$1000,$A280+1,FALSE)","v":{"$error":"#N/A"}}]
["271",{"$f":"IF(ISBLANK(HLOOKUP(\"Raumdichte\",pqidat!$A$4:$BZ$500,$A281+1,FALSE)),\"\",A281)","v":"271"},{"$f":"HLOOKUP(\"Asphaltsorte\",pqidat!A$4:BZ$1000,$A281+1,FALSE)","v":{"$error":"#N/A"}},{"$f":"HLOOKUP(\"Standort\",pqidat!A$4:BZ$1000,$A281+1,FALSE)&\" \"&INDEX(pqidat!$A$1:$Z$1000,A281+4,MATCH(\"Standort\",pqidat!$A$4:$Z$4,0)+1)","v":{"$error":"#N/A"}},{"$f":"HLOOKUP(\"Station\",pqidat!A$4:BZ$1000,$A281+1,FALSE)","v":{"$error":"#N/A"}},{"$f":"HLOOKUP(\"Dichte\",pqidat!A$4:BZ$1000,$A281+1,FALSE)","v":{"$error":"#N/A"}},{"$f":"HLOOKUP(\"Verdichtung\",pqidat!A$4:BZ$1000,$A281+1,FALSE)","v":{"$error":"#N/A"}},{"$f":"HLOOKUP(\"Temp. OberflÃ¤che\",pqidat!A$4:BZ$1000,$A281+1,FALSE)","v":{"$error":"#N/A"}},{"$f":"HLOOKUP(\"GPS\",pqidat!A$4:BZ$1000,$A281+1,FALSE)","v":{"$error":"#N/A"}},{"$f":"HLOOKUP(\"Korrektur\",pqidat!A$4:BZ$1000,$A281+1,FALSE)","v":{"$error":"#N/A"}}]
["272",{"$f":"IF(ISBLANK(HLOOKUP(\"Raumdichte\",pqidat!$A$4:$BZ$500,$A282+1,FALSE)),\"\",A282)","v":"272"},{"$f":"HLOOKUP(\"Asphaltsorte\",pqidat!A$4:BZ$1000,$A282+1,FALSE)","v":{"$error":"#N/A"}},{"$f":"HLOOKUP(\"Standort\",pqidat!A$4:BZ$1000,$A282+1,FALSE)&\" \"&INDEX(pqidat!$A$1:$Z$1000,A282+4,MATCH(\"Standort\",pqidat!$A$4:$Z$4,0)+1)","v":{"$error":"#N/A"}},{"$f":"HLOOKUP(\"Station\",pqidat!A$4:BZ$1000,$A282+1,FALSE)","v":{"$error":"#N/A"}},{"$f":"HLOOKUP(\"Dichte\",pqidat!A$4:BZ$1000,$A282+1,FALSE)","v":{"$error":"#N/A"}},{"$f":"HLOOKUP(\"Verdichtung\",pqidat!A$4:BZ$1000,$A282+1,FALSE)","v":{"$error":"#N/A"}},{"$f":"HLOOKUP(\"Temp. OberflÃ¤che\",pqidat!A$4:BZ$1000,$A282+1,FALSE)","v":{"$error":"#N/A"}},{"$f":"HLOOKUP(\"GPS\",pqidat!A$4:BZ$1000,$A282+1,FALSE)","v":{"$error":"#N/A"}},{"$f":"HLOOKUP(\"Korrektur\",pqidat!A$4:BZ$1000,$A282+1,FALSE)","v":{"$error":"#N/A"}}]
["273",{"$f":"IF(ISBLANK(HLOOKUP(\"Raumdichte\",pqidat!$A$4:$BZ$500,$A283+1,FALSE)),\"\",A283)","v":"273"},{"$f":"HLOOKUP(\"Asphaltsorte\",pqidat!A$4:BZ$1000,$A283+1,FALSE)","v":{"$error":"#N/A"}},{"$f":"HLOOKUP(\"Standort\",pqidat!A$4:BZ$1000,$A283+1,FALSE)&\" \"&INDEX(pqidat!$A$1:$Z$1000,A283+4,MATCH(\"Standort\",pqidat!$A$4:$Z$4,0)+1)","v":{"$error":"#N/A"}},{"$f":"HLOOKUP(\"Station\",pqidat!A$4:BZ$1000,$A283+1,FALSE)","v":{"$error":"#N/A"}},{"$f":"HLOOKUP(\"Dichte\",pqidat!A$4:BZ$1000,$A283+1,FALSE)","v":{"$error":"#N/A"}},{"$f":"HLOOKUP(\"Verdichtung\",pqidat!A$4:BZ$1000,$A283+1,FALSE)","v":{"$error":"#N/A"}},{"$f":"HLOOKUP(\"Temp. OberflÃ¤che\",pqidat!A$4:BZ$1000,$A283+1,FALSE)","v":{"$error":"#N/A"}},{"$f":"HLOOKUP(\"GPS\",pqidat!A$4:BZ$1000,$A283+1,FALSE)","v":{"$error":"#N/A"}},{"$f":"HLOOKUP(\"Korrektur\",pqidat!A$4:BZ$1000,$A283+1,FALSE)","v":{"$error":"#N/A"}}]
["274",{"$f":"IF(ISBLANK(HLOOKUP(\"Raumdichte\",pqidat!$A$4:$BZ$500,$A284+1,FALSE)),\"\",A284)","v":"274"},{"$f":"HLOOKUP(\"Asphaltsorte\",pqidat!A$4:BZ$1000,$A284+1,FALSE)","v":{"$error":"#N/A"}},{"$f":"HLOOKUP(\"Standort\",pqidat!A$4:BZ$1000,$A284+1,FALSE)&\" \"&INDEX(pqidat!$A$1:$Z$1000,A284+4,MATCH(\"Standort\",pqidat!$A$4:$Z$4,0)+1)","v":{"$error":"#N/A"}},{"$f":"HLOOKUP(\"Station\",pqidat!A$4:BZ$1000,$A284+1,FALSE)","v":{"$error":"#N/A"}},{"$f":"HLOOKUP(\"Dichte\",pqidat!A$4:BZ$1000,$A284+1,FALSE)","v":{"$error":"#N/A"}},{"$f":"HLOOKUP(\"Verdichtung\",pqidat!A$4:BZ$1000,$A284+1,FALSE)","v":{"$error":"#N/A"}},{"$f":"HLOOKUP(\"Temp. OberflÃ¤che\",pqidat!A$4:BZ$1000,$A284+1,FALSE)","v":{"$error":"#N/A"}},{"$f":"HLOOKUP(\"GPS\",pqidat!A$4:BZ$1000,$A284+1,FALSE)","v":{"$error":"#N/A"}},{"$f":"HLOOKUP(\"Korrektur\",pqidat!A$4:BZ$1000,$A284+1,FALSE)","v":{"$error":"#N/A"}}]
["275",{"$f":"IF(ISBLANK(HLOOKUP(\"Raumdichte\",pqidat!$A$4:$BZ$500,$A285+1,FALSE)),\"\",A285)","v":"275"},{"$f":"HLOOKUP(\"Asphaltsorte\",pqidat!A$4:BZ$1000,$A285+1,FALSE)","v":{"$error":"#N/A"}},{"$f":"HLOOKUP(\"Standort\",pqidat!A$4:BZ$1000,$A285+1,FALSE)&\" \"&INDEX(pqidat!$A$1:$Z$1000,A285+4,MATCH(\"Standort\",pqidat!$A$4:$Z$4,0)+1)","v":{"$error":"#N/A"}},{"$f":"HLOOKUP(\"Station\",pqidat!A$4:BZ$1000,$A285+1,FALSE)","v":{"$error":"#N/A"}},{"$f":"HLOOKUP(\"Dichte\",pqidat!A$4:BZ$1000,$A285+1,FALSE)","v":{"$error":"#N/A"}},{"$f":"HLOOKUP(\"Verdichtung\",pqidat!A$4:BZ$1000,$A285+1,FALSE)","v":{"$error":"#N/A"}},{"$f":"HLOOKUP(\"Temp. OberflÃ¤che\",pqidat!A$4:BZ$1000,$A285+1,FALSE)","v":{"$error":"#N/A"}},{"$f":"HLOOKUP(\"GPS\",pqidat!A$4:BZ$1000,$A285+1,FALSE)","v":{"$error":"#N/A"}},{"$f":"HLOOKUP(\"Korrektur\",pqidat!A$4:BZ$1000,$A285+1,FALSE)","v":{"$error":"#N/A"}}]
["276",{"$f":"IF(ISBLANK(HLOOKUP(\"Raumdichte\",pqidat!$A$4:$BZ$500,$A286+1,FALSE)),\"\",A286)","v":"276"},{"$f":"HLOOKUP(\"Asphaltsorte\",pqidat!A$4:BZ$1000,$A286+1,FALSE)","v":{"$error":"#N/A"}},{"$f":"HLOOKUP(\"Standort\",pqidat!A$4:BZ$1000,$A286+1,FALSE)&\" \"&INDEX(pqidat!$A$1:$Z$1000,A286+4,MATCH(\"Standort\",pqidat!$A$4:$Z$4,0)+1)","v":{"$error":"#N/A"}},{"$f":"HLOOKUP(\"Station\",pqidat!A$4:BZ$1000,$A286+1,FALSE)","v":{"$error":"#N/A"}},{"$f":"HLOOKUP(\"Dichte\",pqidat!A$4:BZ$1000,$A286+1,FALSE)","v":{"$error":"#N/A"}},{"$f":"HLOOKUP(\"Verdichtung\",pqidat!A$4:BZ$1000,$A286+1,FALSE)","v":{"$error":"#N/A"}},{"$f":"HLOOKUP(\"Temp. OberflÃ¤che\",pqidat!A$4:BZ$1000,$A286+1,FALSE)","v":{"$error":"#N/A"}},{"$f":"HLOOKUP(\"GPS\",pqidat!A$4:BZ$1000,$A286+1,FALSE)","v":{"$error":"#N/A"}},{"$f":"HLOOKUP(\"Korrektur\",pqidat!A$4:BZ$1000,$A286+1,FALSE)","v":{"$error":"#N/A"}}]
["277",{"$f":"IF(ISBLANK(HLOOKUP(\"Raumdichte\",pqidat!$A$4:$BZ$500,$A287+1,FALSE)),\"\",A287)","v":"277"},{"$f":"HLOOKUP(\"Asphaltsorte\",pqidat!A$4:BZ$1000,$A287+1,FALSE)","v":{"$error":"#N/A"}},{"$f":"HLOOKUP(\"Standort\",pqidat!A$4:BZ$1000,$A287+1,FALSE)&\" \"&INDEX(pqidat!$A$1:$Z$1000,A287+4,MATCH(\"Standort\",pqidat!$A$4:$Z$4,0)+1)","v":{"$error":"#N/A"}},{"$f":"HLOOKUP(\"Station\",pqidat!A$4:BZ$1000,$A287+1,FALSE)","v":{"$error":"#N/A"}},{"$f":"HLOOKUP(\"Dichte\",pqidat!A$4:BZ$1000,$A287+1,FALSE)","v":{"$error":"#N/A"}},{"$f":"HLOOKUP(\"Verdichtung\",pqidat!A$4:BZ$1000,$A287+1,FALSE)","v":{"$error":"#N/A"}},{"$f":"HLOOKUP(\"Temp. OberflÃ¤che\",pqidat!A$4:BZ$1000,$A287+1,FALSE)","v":{"$error":"#N/A"}},{"$f":"HLOOKUP(\"GPS\",pqidat!A$4:BZ$1000,$A287+1,FALSE)","v":{"$error":"#N/A"}},{"$f":"HLOOKUP(\"Korrektur\",pqidat!A$4:BZ$1000,$A287+1,FALSE)","v":{"$error":"#N/A"}}]
["278",{"$f":"IF(ISBLANK(HLOOKUP(\"Raumdichte\",pqidat!$A$4:$BZ$500,$A288+1,FALSE)),\"\",A288)","v":"278"},{"$f":"HLOOKUP(\"Asphaltsorte\",pqidat!A$4:BZ$1000,$A288+1,FALSE)","v":{"$error":"#N/A"}},{"$f":"HLOOKUP(\"Standort\",pqidat!A$4:BZ$1000,$A288+1,FALSE)&\" \"&INDEX(pqidat!$A$1:$Z$1000,A288+4,MATCH(\"Standort\",pqidat!$A$4:$Z$4,0)+1)","v":{"$error":"#N/A"}},{"$f":"HLOOKUP(\"Station\",pqidat!A$4:BZ$1000,$A288+1,FALSE)","v":{"$error":"#N/A"}},{"$f":"HLOOKUP(\"Dichte\",pqidat!A$4:BZ$1000,$A288+1,FALSE)","v":{"$error":"#N/A"}},{"$f":"HLOOKUP(\"Verdichtung\",pqidat!A$4:BZ$1000,$A288+1,FALSE)","v":{"$error":"#N/A"}},{"$f":"HLOOKUP(\"Temp. OberflÃ¤che\",pqidat!A$4:BZ$1000,$A288+1,FALSE)","v":{"$error":"#N/A"}},{"$f":"HLOOKUP(\"GPS\",pqidat!A$4:BZ$1000,$A288+1,FALSE)","v":{"$error":"#N/A"}},{"$f":"HLOOKUP(\"Korrektur\",pqidat!A$4:BZ$1000,$A288+1,FALSE)","v":{"$error":"#N/A"}}]
["279",{"$f":"IF(ISBLANK(HLOOKUP(\"Raumdichte\",pqidat!$A$4:$BZ$500,$A289+1,FALSE)),\"\",A289)","v":"279"},{"$f":"HLOOKUP(\"Asphaltsorte\",pqidat!A$4:BZ$1000,$A289+1,FALSE)","v":{"$error":"#N/A"}},{"$f":"HLOOKUP(\"Standort\",pqidat!A$4:BZ$1000,$A289+1,FALSE)&\" \"&INDEX(pqidat!$A$1:$Z$1000,A289+4,MATCH(\"Standort\",pqidat!$A$4:$Z$4,0)+1)","v":{"$error":"#N/A"}},{"$f":"HLOOKUP(\"Station\",pqidat!A$4:BZ$1000,$A289+1,FALSE)","v":{"$error":"#N/A"}},{"$f":"HLOOKUP(\"Dichte\",pqidat!A$4:BZ$1000,$A289+1,FALSE)","v":{"$error":"#N/A"}},{"$f":"HLOOKUP(\"Verdichtung\",pqidat!A$4:BZ$1000,$A289+1,FALSE)","v":{"$error":"#N/A"}},{"$f":"HLOOKUP(\"Temp. OberflÃ¤che\",pqidat!A$4:BZ$1000,$A289+1,FALSE)","v":{"$error":"#N/A"}},{"$f":"HLOOKUP(\"GPS\",pqidat!A$4:BZ$1000,$A289+1,FALSE)","v":{"$error":"#N/A"}},{"$f":"HLOOKUP(\"Korrektur\",pqidat!A$4:BZ$1000,$A289+1,FALSE)","v":{"$error":"#N/A"}}]
["280",{"$f":"IF(ISBLANK(HLOOKUP(\"Raumdichte\",pqidat!$A$4:$BZ$500,$A290+1,FALSE)),\"\",A290)","v":"280"},{"$f":"HLOOKUP(\"Asphaltsorte\",pqidat!A$4:BZ$1000,$A290+1,FALSE)","v":{"$error":"#N/A"}},{"$f":"HLOOKUP(\"Standort\",pqidat!A$4:BZ$1000,$A290+1,FALSE)&\" \"&INDEX(pqidat!$A$1:$Z$1000,A290+4,MATCH(\"Standort\",pqidat!$A$4:$Z$4,0)+1)","v":{"$error":"#N/A"}},{"$f":"HLOOKUP(\"Station\",pqidat!A$4:BZ$1000,$A290+1,FALSE)","v":{"$error":"#N/A"}},{"$f":"HLOOKUP(\"Dichte\",pqidat!A$4:BZ$1000,$A290+1,FALSE)","v":{"$error":"#N/A"}},{"$f":"HLOOKUP(\"Verdichtung\",pqidat!A$4:BZ$1000,$A290+1,FALSE)","v":{"$error":"#N/A"}},{"$f":"HLOOKUP(\"Temp. OberflÃ¤che\",pqidat!A$4:BZ$1000,$A290+1,FALSE)","v":{"$error":"#N/A"}},{"$f":"HLOOKUP(\"GPS\",pqidat!A$4:BZ$1000,$A290+1,FALSE)","v":{"$error":"#N/A"}},{"$f":"HLOOKUP(\"Korrektur\",pqidat!A$4:BZ$1000,$A290+1,FALSE)","v":{"$error":"#N/A"}}]
["281",{"$f":"IF(ISBLANK(HLOOKUP(\"Raumdichte\",pqidat!$A$4:$BZ$500,$A291+1,FALSE)),\"\",A291)","v":"281"},{"$f":"HLOOKUP(\"Asphaltsorte\",pqidat!A$4:BZ$1000,$A291+1,FALSE)","v":{"$error":"#N/A"}},{"$f":"HLOOKUP(\"Standort\",pqidat!A$4:BZ$1000,$A291+1,FALSE)&\" \"&INDEX(pqidat!$A$1:$Z$1000,A291+4,MATCH(\"Standort\",pqidat!$A$4:$Z$4,0)+1)","v":{"$error":"#N/A"}},{"$f":"HLOOKUP(\"Station\",pqidat!A$4:BZ$1000,$A291+1,FALSE)","v":{"$error":"#N/A"}},{"$f":"HLOOKUP(\"Dichte\",pqidat!A$4:BZ$1000,$A291+1,FALSE)","v":{"$error":"#N/A"}},{"$f":"HLOOKUP(\"Verdichtung\",pqidat!A$4:BZ$1000,$A291+1,FALSE)","v":{"$error":"#N/A"}},{"$f":"HLOOKUP(\"Temp. OberflÃ¤che\",pqidat!A$4:BZ$1000,$A291+1,FALSE)","v":{"$error":"#N/A"}},{"$f":"HLOOKUP(\"GPS\",pqidat!A$4:BZ$1000,$A291+1,FALSE)","v":{"$error":"#N/A"}},{"$f":"HLOOKUP(\"Korrektur\",pqidat!A$4:BZ$1000,$A291+1,FALSE)","v":{"$error":"#N/A"}}]
["282",{"$f":"IF(ISBLANK(HLOOKUP(\"Raumdichte\",pqidat!$A$4:$BZ$500,$A292+1,FALSE)),\"\",A292)","v":"282"},{"$f":"HLOOKUP(\"Asphaltsorte\",pqidat!A$4:BZ$1000,$A292+1,FALSE)","v":{"$error":"#N/A"}},{"$f":"HLOOKUP(\"Standort\",pqidat!A$4:BZ$1000,$A292+1,FALSE)&\" \"&INDEX(pqidat!$A$1:$Z$1000,A292+4,MATCH(\"Standort\",pqidat!$A$4:$Z$4,0)+1)","v":{"$error":"#N/A"}},{"$f":"HLOOKUP(\"Station\",pqidat!A$4:BZ$1000,$A292+1,FALSE)","v":{"$error":"#N/A"}},{"$f":"HLOOKUP(\"Dichte\",pqidat!A$4:BZ$1000,$A292+1,FALSE)","v":{"$error":"#N/A"}},{"$f":"HLOOKUP(\"Verdichtung\",pqidat!A$4:BZ$1000,$A292+1,FALSE)","v":{"$error":"#N/A"}},{"$f":"HLOOKUP(\"Temp. OberflÃ¤che\",pqidat!A$4:BZ$1000,$A292+1,FALSE)","v":{"$error":"#N/A"}},{"$f":"HLOOKUP(\"GPS\",pqidat!A$4:BZ$1000,$A292+1,FALSE)","v":{"$error":"#N/A"}},{"$f":"HLOOKUP(\"Korrektur\",pqidat!A$4:BZ$1000,$A292+1,FALSE)","v":{"$error":"#N/A"}}]
["283",{"$f":"IF(ISBLANK(HLOOKUP(\"Raumdichte\",pqidat!$A$4:$BZ$500,$A293+1,FALSE)),\"\",A293)","v":"283"},{"$f":"HLOOKUP(\"Asphaltsorte\",pqidat!A$4:BZ$1000,$A293+1,FALSE)","v":{"$error":"#N/A"}},{"$f":"HLOOKUP(\"Standort\",pqidat!A$4:BZ$1000,$A293+1,FALSE)&\" \"&INDEX(pqidat!$A$1:$Z$1000,A293+4,MATCH(\"Standort\",pqidat!$A$4:$Z$4,0)+1)","v":{"$error":"#N/A"}},{"$f":"HLOOKUP(\"Station\",pqidat!A$4:BZ$1000,$A293+1,FALSE)","v":{"$error":"#N/A"}},{"$f":"HLOOKUP(\"Dichte\",pqidat!A$4:BZ$1000,$A293+1,FALSE)","v":{"$error":"#N/A"}},{"$f":"HLOOKUP(\"Verdichtung\",pqidat!A$4:BZ$1000,$A293+1,FALSE)","v":{"$error":"#N/A"}},{"$f":"HLOOKUP(\"Temp. OberflÃ¤che\",pqidat!A$4:BZ$1000,$A293+1,FALSE)","v":{"$error":"#N/A"}},{"$f":"HLOOKUP(\"GPS\",pqidat!A$4:BZ$1000,$A293+1,FALSE)","v":{"$error":"#N/A"}},{"$f":"HLOOKUP(\"Korrektur\",pqidat!A$4:BZ$1000,$A293+1,FALSE)","v":{"$error":"#N/A"}}]
["284",{"$f":"IF(ISBLANK(HLOOKUP(\"Raumdichte\",pqidat!$A$4:$BZ$500,$A294+1,FALSE)),\"\",A294)","v":"284"},{"$f":"HLOOKUP(\"Asphaltsorte\",pqidat!A$4:BZ$1000,$A294+1,FALSE)","v":{"$error":"#N/A"}},{"$f":"HLOOKUP(\"Standort\",pqidat!A$4:BZ$1000,$A294+1,FALSE)&\" \"&INDEX(pqidat!$A$1:$Z$1000,A294+4,MATCH(\"Standort\",pqidat!$A$4:$Z$4,0)+1)","v":{"$error":"#N/A"}},{"$f":"HLOOKUP(\"Station\",pqidat!A$4:BZ$1000,$A294+1,FALSE)","v":{"$error":"#N/A"}},{"$f":"HLOOKUP(\"Dichte\",pqidat!A$4:BZ$1000,$A294+1,FALSE)","v":{"$error":"#N/A"}},{"$f":"HLOOKUP(\"Verdichtung\",pqidat!A$4:BZ$1000,$A294+1,FALSE)","v":{"$error":"#N/A"}},{"$f":"HLOOKUP(\"Temp. OberflÃ¤che\",pqidat!A$4:BZ$1000,$A294+1,FALSE)","v":{"$error":"#N/A"}},{"$f":"HLOOKUP(\"GPS\",pqidat!A$4:BZ$1000,$A294+1,FALSE)","v":{"$error":"#N/A"}},{"$f":"HLOOKUP(\"Korrektur\",pqidat!A$4:BZ$1000,$A294+1,FALSE)","v":{"$error":"#N/A"}}]
["285",{"$f":"IF(ISBLANK(HLOOKUP(\"Raumdichte\",pqidat!$A$4:$BZ$500,$A295+1,FALSE)),\"\",A295)","v":"285"},{"$f":"HLOOKUP(\"Asphaltsorte\",pqidat!A$4:BZ$1000,$A295+1,FALSE)","v":{"$error":"#N/A"}},{"$f":"HLOOKUP(\"Standort\",pqidat!A$4:BZ$1000,$A295+1,FALSE)&\" \"&INDEX(pqidat!$A$1:$Z$1000,A295+4,MATCH(\"Standort\",pqidat!$A$4:$Z$4,0)+1)","v":{"$error":"#N/A"}},{"$f":"HLOOKUP(\"Station\",pqidat!A$4:BZ$1000,$A295+1,FALSE)","v":{"$error":"#N/A"}},{"$f":"HLOOKUP(\"Dichte\",pqidat!A$4:BZ$1000,$A295+1,FALSE)","v":{"$error":"#N/A"}},{"$f":"HLOOKUP(\"Verdichtung\",pqidat!A$4:BZ$1000,$A295+1,FALSE)","v":{"$error":"#N/A"}},{"$f":"HLOOKUP(\"Temp. OberflÃ¤che\",pqidat!A$4:BZ$1000,$A295+1,FALSE)","v":{"$error":"#N/A"}},{"$f":"HLOOKUP(\"GPS\",pqidat!A$4:BZ$1000,$A295+1,FALSE)","v":{"$error":"#N/A"}},{"$f":"HLOOKUP(\"Korrektur\",pqidat!A$4:BZ$1000,$A295+1,FALSE)","v":{"$error":"#N/A"}}]
["286",{"$f":"IF(ISBLANK(HLOOKUP(\"Raumdichte\",pqidat!$A$4:$BZ$500,$A296+1,FALSE)),\"\",A296)","v":"286"},{"$f":"HLOOKUP(\"Asphaltsorte\",pqidat!A$4:BZ$1000,$A296+1,FALSE)","v":{"$error":"#N/A"}},{"$f":"HLOOKUP(\"Standort\",pqidat!A$4:BZ$1000,$A296+1,FALSE)&\" \"&INDEX(pqidat!$A$1:$Z$1000,A296+4,MATCH(\"Standort\",pqidat!$A$4:$Z$4,0)+1)","v":{"$error":"#N/A"}},{"$f":"HLOOKUP(\"Station\",pqidat!A$4:BZ$1000,$A296+1,FALSE)","v":{"$error":"#N/A"}},{"$f":"HLOOKUP(\"Dichte\",pqidat!A$4:BZ$1000,$A296+1,FALSE)","v":{"$error":"#N/A"}},{"$f":"HLOOKUP(\"Verdichtung\",pqidat!A$4:BZ$1000,$A296+1,FALSE)","v":{"$error":"#N/A"}},{"$f":"HLOOKUP(\"Temp. OberflÃ¤che\",pqidat!A$4:BZ$1000,$A296+1,FALSE)","v":{"$error":"#N/A"}},{"$f":"HLOOKUP(\"GPS\",pqidat!A$4:BZ$1000,$A296+1,FALSE)","v":{"$error":"#N/A"}},{"$f":"HLOOKUP(\"Korrektur\",pqidat!A$4:BZ$1000,$A296+1,FALSE)","v":{"$error":"#N/A"}}]
["287",{"$f":"IF(ISBLANK(HLOOKUP(\"Raumdichte\",pqidat!$A$4:$BZ$500,$A297+1,FALSE)),\"\",A297)","v":"287"},{"$f":"HLOOKUP(\"Asphaltsorte\",pqidat!A$4:BZ$1000,$A297+1,FALSE)","v":{"$error":"#N/A"}},{"$f":"HLOOKUP(\"Standort\",pqidat!A$4:BZ$1000,$A297+1,FALSE)&\" \"&INDEX(pqidat!$A$1:$Z$1000,A297+4,MATCH(\"Standort\",pqidat!$A$4:$Z$4,0)+1)","v":{"$error":"#N/A"}},{"$f":"HLOOKUP(\"Station\",pqidat!A$4:BZ$1000,$A297+1,FALSE)","v":{"$error":"#N/A"}},{"$f":"HLOOKUP(\"Dichte\",pqidat!A$4:BZ$1000,$A297+1,FALSE)","v":{"$error":"#N/A"}},{"$f":"HLOOKUP(\"Verdichtung\",pqidat!A$4:BZ$1000,$A297+1,FALSE)","v":{"$error":"#N/A"}},{"$f":"HLOOKUP(\"Temp. OberflÃ¤che\",pqidat!A$4:BZ$1000,$A297+1,FALSE)","v":{"$error":"#N/A"}},{"$f":"HLOOKUP(\"GPS\",pqidat!A$4:BZ$1000,$A297+1,FALSE)","v":{"$error":"#N/A"}},{"$f":"HLOOKUP(\"Korrektur\",pqidat!A$4:BZ$1000,$A297+1,FALSE)","v":{"$error":"#N/A"}}]
["288",{"$f":"IF(ISBLANK(HLOOKUP(\"Raumdichte\",pqidat!$A$4:$BZ$500,$A298+1,FALSE)),\"\",A298)","v":"288"},{"$f":"HLOOKUP(\"Asphaltsorte\",pqidat!A$4:BZ$1000,$A298+1,FALSE)","v":{"$error":"#N/A"}},{"$f":"HLOOKUP(\"Standort\",pqidat!A$4:BZ$1000,$A298+1,FALSE)&\" \"&INDEX(pqidat!$A$1:$Z$1000,A298+4,MATCH(\"Standort\",pqidat!$A$4:$Z$4,0)+1)","v":{"$error":"#N/A"}},{"$f":"HLOOKUP(\"Station\",pqidat!A$4:BZ$1000,$A298+1,FALSE)","v":{"$error":"#N/A"}},{"$f":"HLOOKUP(\"Dichte\",pqidat!A$4:BZ$1000,$A298+1,FALSE)","v":{"$error":"#N/A"}},{"$f":"HLOOKUP(\"Verdichtung\",pqidat!A$4:BZ$1000,$A298+1,FALSE)","v":{"$error":"#N/A"}},{"$f":"HLOOKUP(\"Temp. OberflÃ¤che\",pqidat!A$4:BZ$1000,$A298+1,FALSE)","v":{"$error":"#N/A"}},{"$f":"HLOOKUP(\"GPS\",pqidat!A$4:BZ$1000,$A298+1,FALSE)","v":{"$error":"#N/A"}},{"$f":"HLOOKUP(\"Korrektur\",pqidat!A$4:BZ$1000,$A298+1,FALSE)","v":{"$error":"#N/A"}}]
["289",{"$f":"IF(ISBLANK(HLOOKUP(\"Raumdichte\",pqidat!$A$4:$BZ$500,$A299+1,FALSE)),\"\",A299)","v":"289"},{"$f":"HLOOKUP(\"Asphaltsorte\",pqidat!A$4:BZ$1000,$A299+1,FALSE)","v":{"$error":"#N/A"}},{"$f":"HLOOKUP(\"Standort\",pqidat!A$4:BZ$1000,$A299+1,FALSE)&\" \"&INDEX(pqidat!$A$1:$Z$1000,A299+4,MATCH(\"Standort\",pqidat!$A$4:$Z$4,0)+1)","v":{"$error":"#N/A"}},{"$f":"HLOOKUP(\"Station\",pqidat!A$4:BZ$1000,$A299+1,FALSE)","v":{"$error":"#N/A"}},{"$f":"HLOOKUP(\"Dichte\",pqidat!A$4:BZ$1000,$A299+1,FALSE)","v":{"$error":"#N/A"}},{"$f":"HLOOKUP(\"Verdichtung\",pqidat!A$4:BZ$1000,$A299+1,FALSE)","v":{"$error":"#N/A"}},{"$f":"HLOOKUP(\"Temp. OberflÃ¤che\",pqidat!A$4:BZ$1000,$A299+1,FALSE)","v":{"$error":"#N/A"}},{"$f":"HLOOKUP(\"GPS\",pqidat!A$4:BZ$1000,$A299+1,FALSE)","v":{"$error":"#N/A"}},{"$f":"HLOOKUP(\"Korrektur\",pqidat!A$4:BZ$1000,$A299+1,FALSE)","v":{"$error":"#N/A"}}]
["290",{"$f":"IF(ISBLANK(HLOOKUP(\"Raumdichte\",pqidat!$A$4:$BZ$500,$A300+1,FALSE)),\"\",A300)","v":"290"},{"$f":"HLOOKUP(\"Asphaltsorte\",pqidat!A$4:BZ$1000,$A300+1,FALSE)","v":{"$error":"#N/A"}},{"$f":"HLOOKUP(\"Standort\",pqidat!A$4:BZ$1000,$A300+1,FALSE)&\" \"&INDEX(pqidat!$A$1:$Z$1000,A300+4,MATCH(\"Standort\",pqidat!$A$4:$Z$4,0)+1)","v":{"$error":"#N/A"}},{"$f":"HLOOKUP(\"Station\",pqidat!A$4:BZ$1000,$A300+1,FALSE)","v":{"$error":"#N/A"}},{"$f":"HLOOKUP(\"Dichte\",pqidat!A$4:BZ$1000,$A300+1,FALSE)","v":{"$error":"#N/A"}},{"$f":"HLOOKUP(\"Verdichtung\",pqidat!A$4:BZ$1000,$A300+1,FALSE)","v":{"$error":"#N/A"}},{"$f":"HLOOKUP(\"Temp. OberflÃ¤che\",pqidat!A$4:BZ$1000,$A300+1,FALSE)","v":{"$error":"#N/A"}},{"$f":"HLOOKUP(\"GPS\",pqidat!A$4:BZ$1000,$A300+1,FALSE)","v":{"$error":"#N/A"}},{"$f":"HLOOKUP(\"Korrektur\",pqidat!A$4:BZ$1000,$A300+1,FALSE)","v":{"$error":"#N/A"}}]
["291",{"$f":"IF(ISBLANK(HLOOKUP(\"Raumdichte\",pqidat!$A$4:$BZ$500,$A301+1,FALSE)),\"\",A301)","v":"291"},{"$f":"HLOOKUP(\"Asphaltsorte\",pqidat!A$4:BZ$1000,$A301+1,FALSE)","v":{"$error":"#N/A"}},{"$f":"HLOOKUP(\"Standort\",pqidat!A$4:BZ$1000,$A301+1,FALSE)&\" \"&INDEX(pqidat!$A$1:$Z$1000,A301+4,MATCH(\"Standort\",pqidat!$A$4:$Z$4,0)+1)","v":{"$error":"#N/A"}},{"$f":"HLOOKUP(\"Station\",pqidat!A$4:BZ$1000,$A301+1,FALSE)","v":{"$error":"#N/A"}},{"$f":"HLOOKUP(\"Dichte\",pqidat!A$4:BZ$1000,$A301+1,FALSE)","v":{"$error":"#N/A"}},{"$f":"HLOOKUP(\"Verdichtung\",pqidat!A$4:BZ$1000,$A301+1,FALSE)","v":{"$error":"#N/A"}},{"$f":"HLOOKUP(\"Temp. OberflÃ¤che\",pqidat!A$4:BZ$1000,$A301+1,FALSE)","v":{"$error":"#N/A"}},{"$f":"HLOOKUP(\"GPS\",pqidat!A$4:BZ$1000,$A301+1,FALSE)","v":{"$error":"#N/A"}},{"$f":"HLOOKUP(\"Korrektur\",pqidat!A$4:BZ$1000,$A301+1,FALSE)","v":{"$error":"#N/A"}}]
["292",{"$f":"IF(ISBLANK(HLOOKUP(\"Raumdichte\",pqidat!$A$4:$BZ$500,$A302+1,FALSE)),\"\",A302)","v":"292"},{"$f":"HLOOKUP(\"Asphaltsorte\",pqidat!A$4:BZ$1000,$A302+1,FALSE)","v":{"$error":"#N/A"}},{"$f":"HLOOKUP(\"Standort\",pqidat!A$4:BZ$1000,$A302+1,FALSE)&\" \"&INDEX(pqidat!$A$1:$Z$1000,A302+4,MATCH(\"Standort\",pqidat!$A$4:$Z$4,0)+1)","v":{"$error":"#N/A"}},{"$f":"HLOOKUP(\"Station\",pqidat!A$4:BZ$1000,$A302+1,FALSE)","v":{"$error":"#N/A"}},{"$f":"HLOOKUP(\"Dichte\",pqidat!A$4:BZ$1000,$A302+1,FALSE)","v":{"$error":"#N/A"}},{"$f":"HLOOKUP(\"Verdichtung\",pqidat!A$4:BZ$1000,$A302+1,FALSE)","v":{"$error":"#N/A"}},{"$f":"HLOOKUP(\"Temp. OberflÃ¤che\",pqidat!A$4:BZ$1000,$A302+1,FALSE)","v":{"$error":"#N/A"}},{"$f":"HLOOKUP(\"GPS\",pqidat!A$4:BZ$1000,$A302+1,FALSE)","v":{"$error":"#N/A"}},{"$f":"HLOOKUP(\"Korrektur\",pqidat!A$4:BZ$1000,$A302+1,FALSE)","v":{"$error":"#N/A"}}]
["293",{"$f":"IF(ISBLANK(HLOOKUP(\"Raumdichte\",pqidat!$A$4:$BZ$500,$A303+1,FALSE)),\"\",A303)","v":"293"},{"$f":"HLOOKUP(\"Asphaltsorte\",pqidat!A$4:BZ$1000,$A303+1,FALSE)","v":{"$error":"#N/A"}},{"$f":"HLOOKUP(\"Standort\",pqidat!A$4:BZ$1000,$A303+1,FALSE)&\" \"&INDEX(pqidat!$A$1:$Z$1000,A303+4,MATCH(\"Standort\",pqidat!$A$4:$Z$4,0)+1)","v":{"$error":"#N/A"}},{"$f":"HLOOKUP(\"Station\",pqidat!A$4:BZ$1000,$A303+1,FALSE)","v":{"$error":"#N/A"}},{"$f":"HLOOKUP(\"Dichte\",pqidat!A$4:BZ$1000,$A303+1,FALSE)","v":{"$error":"#N/A"}},{"$f":"HLOOKUP(\"Verdichtung\",pqidat!A$4:BZ$1000,$A303+1,FALSE)","v":{"$error":"#N/A"}},{"$f":"HLOOKUP(\"Temp. OberflÃ¤che\",pqidat!A$4:BZ$1000,$A303+1,FALSE)","v":{"$error":"#N/A"}},{"$f":"HLOOKUP(\"GPS\",pqidat!A$4:BZ$1000,$A303+1,FALSE)","v":{"$error":"#N/A"}},{"$f":"HLOOKUP(\"Korrektur\",pqidat!A$4:BZ$1000,$A303+1,FALSE)","v":{"$error":"#N/A"}}]
["294",{"$f":"IF(ISBLANK(HLOOKUP(\"Raumdichte\",pqidat!$A$4:$BZ$500,$A304+1,FALSE)),\"\",A304)","v":"294"},{"$f":"HLOOKUP(\"Asphaltsorte\",pqidat!A$4:BZ$1000,$A304+1,FALSE)","v":{"$error":"#N/A"}},{"$f":"HLOOKUP(\"Standort\",pqidat!A$4:BZ$1000,$A304+1,FALSE)&\" \"&INDEX(pqidat!$A$1:$Z$1000,A304+4,MATCH(\"Standort\",pqidat!$A$4:$Z$4,0)+1)","v":{"$error":"#N/A"}},{"$f":"HLOOKUP(\"Station\",pqidat!A$4:BZ$1000,$A304+1,FALSE)","v":{"$error":"#N/A"}},{"$f":"HLOOKUP(\"Dichte\",pqidat!A$4:BZ$1000,$A304+1,FALSE)","v":{"$error":"#N/A"}},{"$f":"HLOOKUP(\"Verdichtung\",pqidat!A$4:BZ$1000,$A304+1,FALSE)","v":{"$error":"#N/A"}},{"$f":"HLOOKUP(\"Temp. OberflÃ¤che\",pqidat!A$4:BZ$1000,$A304+1,FALSE)","v":{"$error":"#N/A"}},{"$f":"HLOOKUP(\"GPS\",pqidat!A$4:BZ$1000,$A304+1,FALSE)","v":{"$error":"#N/A"}},{"$f":"HLOOKUP(\"Korrektur\",pqidat!A$4:BZ$1000,$A304+1,FALSE)","v":{"$error":"#N/A"}}]
["295",{"$f":"IF(ISBLANK(HLOOKUP(\"Raumdichte\",pqidat!$A$4:$BZ$500,$A305+1,FALSE)),\"\",A305)","v":"295"},{"$f":"HLOOKUP(\"Asphaltsorte\",pqidat!A$4:BZ$1000,$A305+1,FALSE)","v":{"$error":"#N/A"}},{"$f":"HLOOKUP(\"Standort\",pqidat!A$4:BZ$1000,$A305+1,FALSE)&\" \"&INDEX(pqidat!$A$1:$Z$1000,A305+4,MATCH(\"Standort\",pqidat!$A$4:$Z$4,0)+1)","v":{"$error":"#N/A"}},{"$f":"HLOOKUP(\"Station\",pqidat!A$4:BZ$1000,$A305+1,FALSE)","v":{"$error":"#N/A"}},{"$f":"HLOOKUP(\"Dichte\",pqidat!A$4:BZ$1000,$A305+1,FALSE)","v":{"$error":"#N/A"}},{"$f":"HLOOKUP(\"Verdichtung\",pqidat!A$4:BZ$1000,$A305+1,FALSE)","v":{"$error":"#N/A"}},{"$f":"HLOOKUP(\"Temp. OberflÃ¤che\",pqidat!A$4:BZ$1000,$A305+1,FALSE)","v":{"$error":"#N/A"}},{"$f":"HLOOKUP(\"GPS\",pqidat!A$4:BZ$1000,$A305+1,FALSE)","v":{"$error":"#N/A"}},{"$f":"HLOOKUP(\"Korrektur\",pqidat!A$4:BZ$1000,$A305+1,FALSE)","v":{"$error":"#N/A"}}]
["296",{"$f":"IF(ISBLANK(HLOOKUP(\"Raumdichte\",pqidat!$A$4:$BZ$500,$A306+1,FALSE)),\"\",A306)","v":"296"},{"$f":"HLOOKUP(\"Asphaltsorte\",pqidat!A$4:BZ$1000,$A306+1,FALSE)","v":{"$error":"#N/A"}},{"$f":"HLOOKUP(\"Standort\",pqidat!A$4:BZ$1000,$A306+1,FALSE)&\" \"&INDEX(pqidat!$A$1:$Z$1000,A306+4,MATCH(\"Standort\",pqidat!$A$4:$Z$4,0)+1)","v":{"$error":"#N/A"}},{"$f":"HLOOKUP(\"Station\",pqidat!A$4:BZ$1000,$A306+1,FALSE)","v":{"$error":"#N/A"}},{"$f":"HLOOKUP(\"Dichte\",pqidat!A$4:BZ$1000,$A306+1,FALSE)","v":{"$error":"#N/A"}},{"$f":"HLOOKUP(\"Verdichtung\",pqidat!A$4:BZ$1000,$A306+1,FALSE)","v":{"$error":"#N/A"}},{"$f":"HLOOKUP(\"Temp. OberflÃ¤che\",pqidat!A$4:BZ$1000,$A306+1,FALSE)","v":{"$error":"#N/A"}},{"$f":"HLOOKUP(\"GPS\",pqidat!A$4:BZ$1000,$A306+1,FALSE)","v":{"$error":"#N/A"}},{"$f":"HLOOKUP(\"Korrektur\",pqidat!A$4:BZ$1000,$A306+1,FALSE)","v":{"$error":"#N/A"}}]
["297",{"$f":"IF(ISBLANK(HLOOKUP(\"Raumdichte\",pqidat!$A$4:$BZ$500,$A307+1,FALSE)),\"\",A307)","v":"297"},{"$f":"HLOOKUP(\"Asphaltsorte\",pqidat!A$4:BZ$1000,$A307+1,FALSE)","v":{"$error":"#N/A"}},{"$f":"HLOOKUP(\"Standort\",pqidat!A$4:BZ$1000,$A307+1,FALSE)&\" \"&INDEX(pqidat!$A$1:$Z$1000,A307+4,MATCH(\"Standort\",pqidat!$A$4:$Z$4,0)+1)","v":{"$error":"#N/A"}},{"$f":"HLOOKUP(\"Station\",pqidat!A$4:BZ$1000,$A307+1,FALSE)","v":{"$error":"#N/A"}},{"$f":"HLOOKUP(\"Dichte\",pqidat!A$4:BZ$1000,$A307+1,FALSE)","v":{"$error":"#N/A"}},{"$f":"HLOOKUP(\"Verdichtung\",pqidat!A$4:BZ$1000,$A307+1,FALSE)","v":{"$error":"#N/A"}},{"$f":"HLOOKUP(\"Temp. OberflÃ¤che\",pqidat!A$4:BZ$1000,$A307+1,FALSE)","v":{"$error":"#N/A"}},{"$f":"HLOOKUP(\"GPS\",pqidat!A$4:BZ$1000,$A307+1,FALSE)","v":{"$error":"#N/A"}},{"$f":"HLOOKUP(\"Korrektur\",pqidat!A$4:BZ$1000,$A307+1,FALSE)","v":{"$error":"#N/A"}}]
["298",{"$f":"IF(ISBLANK(HLOOKUP(\"Raumdichte\",pqidat!$A$4:$BZ$500,$A308+1,FALSE)),\"\",A308)","v":"298"},{"$f":"HLOOKUP(\"Asphaltsorte\",pqidat!A$4:BZ$1000,$A308+1,FALSE)","v":{"$error":"#N/A"}},{"$f":"HLOOKUP(\"Standort\",pqidat!A$4:BZ$1000,$A308+1,FALSE)&\" \"&INDEX(pqidat!$A$1:$Z$1000,A308+4,MATCH(\"Standort\",pqidat!$A$4:$Z$4,0)+1)","v":{"$error":"#N/A"}},{"$f":"HLOOKUP(\"Station\",pqidat!A$4:BZ$1000,$A308+1,FALSE)","v":{"$error":"#N/A"}},{"$f":"HLOOKUP(\"Dichte\",pqidat!A$4:BZ$1000,$A308+1,FALSE)","v":{"$error":"#N/A"}},{"$f":"HLOOKUP(\"Verdichtung\",pqidat!A$4:BZ$1000,$A308+1,FALSE)","v":{"$error":"#N/A"}},{"$f":"HLOOKUP(\"Temp. OberflÃ¤che\",pqidat!A$4:BZ$1000,$A308+1,FALSE)","v":{"$error":"#N/A"}},{"$f":"HLOOKUP(\"GPS\",pqidat!A$4:BZ$1000,$A308+1,FALSE)","v":{"$error":"#N/A"}},{"$f":"HLOOKUP(\"Korrektur\",pqidat!A$4:BZ$1000,$A308+1,FALSE)","v":{"$error":"#N/A"}}]
["299",{"$f":"IF(ISBLANK(HLOOKUP(\"Raumdichte\",pqidat!$A$4:$BZ$500,$A309+1,FALSE)),\"\",A309)","v":"299"},{"$f":"HLOOKUP(\"Asphaltsorte\",pqidat!A$4:BZ$1000,$A309+1,FALSE)","v":{"$error":"#N/A"}},{"$f":"HLOOKUP(\"Standort\",pqidat!A$4:BZ$1000,$A309+1,FALSE)&\" \"&INDEX(pqidat!$A$1:$Z$1000,A309+4,MATCH(\"Standort\",pqidat!$A$4:$Z$4,0)+1)","v":{"$error":"#N/A"}},{"$f":"HLOOKUP(\"Station\",pqidat!A$4:BZ$1000,$A309+1,FALSE)","v":{"$error":"#N/A"}},{"$f":"HLOOKUP(\"Dichte\",pqidat!A$4:BZ$1000,$A309+1,FALSE)","v":{"$error":"#N/A"}},{"$f":"HLOOKUP(\"Verdichtung\",pqidat!A$4:BZ$1000,$A309+1,FALSE)","v":{"$error":"#N/A"}},{"$f":"HLOOKUP(\"Temp. OberflÃ¤che\",pqidat!A$4:BZ$1000,$A309+1,FALSE)","v":{"$error":"#N/A"}},{"$f":"HLOOKUP(\"GPS\",pqidat!A$4:BZ$1000,$A309+1,FALSE)","v":{"$error":"#N/A"}},{"$f":"HLOOKUP(\"Korrektur\",pqidat!A$4:BZ$1000,$A309+1,FALSE)","v":{"$error":"#N/A"}}]
["300",{"$f":"IF(ISBLANK(HLOOKUP(\"Raumdichte\",pqidat!$A$4:$BZ$500,$A310+1,FALSE)),\"\",A310)","v":"300"},{"$f":"HLOOKUP(\"Asphaltsorte\",pqidat!A$4:BZ$1000,$A310+1,FALSE)","v":{"$error":"#N/A"}},{"$f":"HLOOKUP(\"Standort\",pqidat!A$4:BZ$1000,$A310+1,FALSE)&\" \"&INDEX(pqidat!$A$1:$Z$1000,A310+4,MATCH(\"Standort\",pqidat!$A$4:$Z$4,0)+1)","v":{"$error":"#N/A"}},{"$f":"HLOOKUP(\"Station\",pqidat!A$4:BZ$1000,$A310+1,FALSE)","v":{"$error":"#N/A"}},{"$f":"HLOOKUP(\"Dichte\",pqidat!A$4:BZ$1000,$A310+1,FALSE)","v":{"$error":"#N/A"}},{"$f":"HLOOKUP(\"Verdichtung\",pqidat!A$4:BZ$1000,$A310+1,FALSE)","v":{"$error":"#N/A"}},{"$f":"HLOOKUP(\"Temp. OberflÃ¤che\",pqidat!A$4:BZ$1000,$A310+1,FALSE)","v":{"$error":"#N/A"}},{"$f":"HLOOKUP(\"GPS\",pqidat!A$4:BZ$1000,$A310+1,FALSE)","v":{"$error":"#N/A"}},{"$f":"HLOOKUP(\"Korrektur\",pqidat!A$4:BZ$1000,$A310+1,FALSE)","v":{"$error":"#N/A"}}]
["301",{"$f":"IF(ISBLANK(HLOOKUP(\"Raumdichte\",pqidat!$A$4:$BZ$500,$A311+1,FALSE)),\"\",A311)","v":"301"},{"$f":"HLOOKUP(\"Asphaltsorte\",pqidat!A$4:BZ$1000,$A311+1,FALSE)","v":{"$error":"#N/A"}},{"$f":"HLOOKUP(\"Standort\",pqidat!A$4:BZ$1000,$A311+1,FALSE)&\" \"&INDEX(pqidat!$A$1:$Z$1000,A311+4,MATCH(\"Standort\",pqidat!$A$4:$Z$4,0)+1)","v":{"$error":"#N/A"}},{"$f":"HLOOKUP(\"Station\",pqidat!A$4:BZ$1000,$A311+1,FALSE)","v":{"$error":"#N/A"}},{"$f":"HLOOKUP(\"Dichte\",pqidat!A$4:BZ$1000,$A311+1,FALSE)","v":{"$error":"#N/A"}},{"$f":"HLOOKUP(\"Verdichtung\",pqidat!A$4:BZ$1000,$A311+1,FALSE)","v":{"$error":"#N/A"}},{"$f":"HLOOKUP(\"Temp. OberflÃ¤che\",pqidat!A$4:BZ$1000,$A311+1,FALSE)","v":{"$error":"#N/A"}},{"$f":"HLOOKUP(\"GPS\",pqidat!A$4:BZ$1000,$A311+1,FALSE)","v":{"$error":"#N/A"}},{"$f":"HLOOKUP(\"Korrektur\",pqidat!A$4:BZ$1000,$A311+1,FALSE)","v":{"$error":"#N/A"}}]
["302",{"$f":"IF(ISBLANK(HLOOKUP(\"Raumdichte\",pqidat!$A$4:$BZ$500,$A312+1,FALSE)),\"\",A312)","v":"302"},{"$f":"HLOOKUP(\"Asphaltsorte\",pqidat!A$4:BZ$1000,$A312+1,FALSE)","v":{"$error":"#N/A"}},{"$f":"HLOOKUP(\"Standort\",pqidat!A$4:BZ$1000,$A312+1,FALSE)&\" \"&INDEX(pqidat!$A$1:$Z$1000,A312+4,MATCH(\"Standort\",pqidat!$A$4:$Z$4,0)+1)","v":{"$error":"#N/A"}},{"$f":"HLOOKUP(\"Station\",pqidat!A$4:BZ$1000,$A312+1,FALSE)","v":{"$error":"#N/A"}},{"$f":"HLOOKUP(\"Dichte\",pqidat!A$4:BZ$1000,$A312+1,FALSE)","v":{"$error":"#N/A"}},{"$f":"HLOOKUP(\"Verdichtung\",pqidat!A$4:BZ$1000,$A312+1,FALSE)","v":{"$error":"#N/A"}},{"$f":"HLOOKUP(\"Temp. OberflÃ¤che\",pqidat!A$4:BZ$1000,$A312+1,FALSE)","v":{"$error":"#N/A"}},{"$f":"HLOOKUP(\"GPS\",pqidat!A$4:BZ$1000,$A312+1,FALSE)","v":{"$error":"#N/A"}},{"$f":"HLOOKUP(\"Korrektur\",pqidat!A$4:BZ$1000,$A312+1,FALSE)","v":{"$error":"#N/A"}}]
["303",{"$f":"IF(ISBLANK(HLOOKUP(\"Raumdichte\",pqidat!$A$4:$BZ$500,$A313+1,FALSE)),\"\",A313)","v":"303"},{"$f":"HLOOKUP(\"Asphaltsorte\",pqidat!A$4:BZ$1000,$A313+1,FALSE)","v":{"$error":"#N/A"}},{"$f":"HLOOKUP(\"Standort\",pqidat!A$4:BZ$1000,$A313+1,FALSE)&\" \"&INDEX(pqidat!$A$1:$Z$1000,A313+4,MATCH(\"Standort\",pqidat!$A$4:$Z$4,0)+1)","v":{"$error":"#N/A"}},{"$f":"HLOOKUP(\"Station\",pqidat!A$4:BZ$1000,$A313+1,FALSE)","v":{"$error":"#N/A"}},{"$f":"HLOOKUP(\"Dichte\",pqidat!A$4:BZ$1000,$A313+1,FALSE)","v":{"$error":"#N/A"}},{"$f":"HLOOKUP(\"Verdichtung\",pqidat!A$4:BZ$1000,$A313+1,FALSE)","v":{"$error":"#N/A"}},{"$f":"HLOOKUP(\"Temp. OberflÃ¤che\",pqidat!A$4:BZ$1000,$A313+1,FALSE)","v":{"$error":"#N/A"}},{"$f":"HLOOKUP(\"GPS\",pqidat!A$4:BZ$1000,$A313+1,FALSE)","v":{"$error":"#N/A"}},{"$f":"HLOOKUP(\"Korrektur\",pqidat!A$4:BZ$1000,$A313+1,FALSE)","v":{"$error":"#N/A"}}]
["304",{"$f":"IF(ISBLANK(HLOOKUP(\"Raumdichte\",pqidat!$A$4:$BZ$500,$A314+1,FALSE)),\"\",A314)","v":"304"},{"$f":"HLOOKUP(\"Asphaltsorte\",pqidat!A$4:BZ$1000,$A314+1,FALSE)","v":{"$error":"#N/A"}},{"$f":"HLOOKUP(\"Standort\",pqidat!A$4:BZ$1000,$A314+1,FALSE)&\" \"&INDEX(pqidat!$A$1:$Z$1000,A314+4,MATCH(\"Standort\",pqidat!$A$4:$Z$4,0)+1)","v":{"$error":"#N/A"}},{"$f":"HLOOKUP(\"Station\",pqidat!A$4:BZ$1000,$A314+1,FALSE)","v":{"$error":"#N/A"}},{"$f":"HLOOKUP(\"Dichte\",pqidat!A$4:BZ$1000,$A314+1,FALSE)","v":{"$error":"#N/A"}},{"$f":"HLOOKUP(\"Verdichtung\",pqidat!A$4:BZ$1000,$A314+1,FALSE)","v":{"$error":"#N/A"}},{"$f":"HLOOKUP(\"Temp. OberflÃ¤che\",pqidat!A$4:BZ$1000,$A314+1,FALSE)","v":{"$error":"#N/A"}},{"$f":"HLOOKUP(\"GPS\",pqidat!A$4:BZ$1000,$A314+1,FALSE)","v":{"$error":"#N/A"}},{"$f":"HLOOKUP(\"Korrektur\",pqidat!A$4:BZ$1000,$A314+1,FALSE)","v":{"$error":"#N/A"}}]
["305",{"$f":"IF(ISBLANK(HLOOKUP(\"Raumdichte\",pqidat!$A$4:$BZ$500,$A315+1,FALSE)),\"\",A315)","v":"305"},{"$f":"HLOOKUP(\"Asphaltsorte\",pqidat!A$4:BZ$1000,$A315+1,FALSE)","v":{"$error":"#N/A"}},{"$f":"HLOOKUP(\"Standort\",pqidat!A$4:BZ$1000,$A315+1,FALSE)&\" \"&INDEX(pqidat!$A$1:$Z$1000,A315+4,MATCH(\"Standort\",pqidat!$A$4:$Z$4,0)+1)","v":{"$error":"#N/A"}},{"$f":"HLOOKUP(\"Station\",pqidat!A$4:BZ$1000,$A315+1,FALSE)","v":{"$error":"#N/A"}},{"$f":"HLOOKUP(\"Dichte\",pqidat!A$4:BZ$1000,$A315+1,FALSE)","v":{"$error":"#N/A"}},{"$f":"HLOOKUP(\"Verdichtung\",pqidat!A$4:BZ$1000,$A315+1,FALSE)","v":{"$error":"#N/A"}},{"$f":"HLOOKUP(\"Temp. OberflÃ¤che\",pqidat!A$4:BZ$1000,$A315+1,FALSE)","v":{"$error":"#N/A"}},{"$f":"HLOOKUP(\"GPS\",pqidat!A$4:BZ$1000,$A315+1,FALSE)","v":{"$error":"#N/A"}},{"$f":"HLOOKUP(\"Korrektur\",pqidat!A$4:BZ$1000,$A315+1,FALSE)","v":{"$error":"#N/A"}}]
["306",{"$f":"IF(ISBLANK(HLOOKUP(\"Raumdichte\",pqidat!$A$4:$BZ$500,$A316+1,FALSE)),\"\",A316)","v":"306"},{"$f":"HLOOKUP(\"Asphaltsorte\",pqidat!A$4:BZ$1000,$A316+1,FALSE)","v":{"$error":"#N/A"}},{"$f":"HLOOKUP(\"Standort\",pqidat!A$4:BZ$1000,$A316+1,FALSE)&\" \"&INDEX(pqidat!$A$1:$Z$1000,A316+4,MATCH(\"Standort\",pqidat!$A$4:$Z$4,0)+1)","v":{"$error":"#N/A"}},{"$f":"HLOOKUP(\"Station\",pqidat!A$4:BZ$1000,$A316+1,FALSE)","v":{"$error":"#N/A"}},{"$f":"HLOOKUP(\"Dichte\",pqidat!A$4:BZ$1000,$A316+1,FALSE)","v":{"$error":"#N/A"}},{"$f":"HLOOKUP(\"Verdichtung\",pqidat!A$4:BZ$1000,$A316+1,FALSE)","v":{"$error":"#N/A"}},{"$f":"HLOOKUP(\"Temp. OberflÃ¤che\",pqidat!A$4:BZ$1000,$A316+1,FALSE)","v":{"$error":"#N/A"}},{"$f":"HLOOKUP(\"GPS\",pqidat!A$4:BZ$1000,$A316+1,FALSE)","v":{"$error":"#N/A"}},{"$f":"HLOOKUP(\"Korrektur\",pqidat!A$4:BZ$1000,$A316+1,FALSE)","v":{"$error":"#N/A"}}]
["307",{"$f":"IF(ISBLANK(HLOOKUP(\"Raumdichte\",pqidat!$A$4:$BZ$500,$A317+1,FALSE)),\"\",A317)","v":"307"},{"$f":"HLOOKUP(\"Asphaltsorte\",pqidat!A$4:BZ$1000,$A317+1,FALSE)","v":{"$error":"#N/A"}},{"$f":"HLOOKUP(\"Standort\",pqidat!A$4:BZ$1000,$A317+1,FALSE)&\" \"&INDEX(pqidat!$A$1:$Z$1000,A317+4,MATCH(\"Standort\",pqidat!$A$4:$Z$4,0)+1)","v":{"$error":"#N/A"}},{"$f":"HLOOKUP(\"Station\",pqidat!A$4:BZ$1000,$A317+1,FALSE)","v":{"$error":"#N/A"}},{"$f":"HLOOKUP(\"Dichte\",pqidat!A$4:BZ$1000,$A317+1,FALSE)","v":{"$error":"#N/A"}},{"$f":"HLOOKUP(\"Verdichtung\",pqidat!A$4:BZ$1000,$A317+1,FALSE)","v":{"$error":"#N/A"}},{"$f":"HLOOKUP(\"Temp. OberflÃ¤che\",pqidat!A$4:BZ$1000,$A317+1,FALSE)","v":{"$error":"#N/A"}},{"$f":"HLOOKUP(\"GPS\",pqidat!A$4:BZ$1000,$A317+1,FALSE)","v":{"$error":"#N/A"}},{"$f":"HLOOKUP(\"Korrektur\",pqidat!A$4:BZ$1000,$A317+1,FALSE)","v":{"$error":"#N/A"}}]
["308",{"$f":"IF(ISBLANK(HLOOKUP(\"Raumdichte\",pqidat!$A$4:$BZ$500,$A318+1,FALSE)),\"\",A318)","v":"308"},{"$f":"HLOOKUP(\"Asphaltsorte\",pqidat!A$4:BZ$1000,$A318+1,FALSE)","v":{"$error":"#N/A"}},{"$f":"HLOOKUP(\"Standort\",pqidat!A$4:BZ$1000,$A318+1,FALSE)&\" \"&INDEX(pqidat!$A$1:$Z$1000,A318+4,MATCH(\"Standort\",pqidat!$A$4:$Z$4,0)+1)","v":{"$error":"#N/A"}},{"$f":"HLOOKUP(\"Station\",pqidat!A$4:BZ$1000,$A318+1,FALSE)","v":{"$error":"#N/A"}},{"$f":"HLOOKUP(\"Dichte\",pqidat!A$4:BZ$1000,$A318+1,FALSE)","v":{"$error":"#N/A"}},{"$f":"HLOOKUP(\"Verdichtung\",pqidat!A$4:BZ$1000,$A318+1,FALSE)","v":{"$error":"#N/A"}},{"$f":"HLOOKUP(\"Temp. OberflÃ¤che\",pqidat!A$4:BZ$1000,$A318+1,FALSE)","v":{"$error":"#N/A"}},{"$f":"HLOOKUP(\"GPS\",pqidat!A$4:BZ$1000,$A318+1,FALSE)","v":{"$error":"#N/A"}},{"$f":"HLOOKUP(\"Korrektur\",pqidat!A$4:BZ$1000,$A318+1,FALSE)","v":{"$error":"#N/A"}}]
["309",{"$f":"IF(ISBLANK(HLOOKUP(\"Raumdichte\",pqidat!$A$4:$BZ$500,$A319+1,FALSE)),\"\",A319)","v":"309"},{"$f":"HLOOKUP(\"Asphaltsorte\",pqidat!A$4:BZ$1000,$A319+1,FALSE)","v":{"$error":"#N/A"}},{"$f":"HLOOKUP(\"Standort\",pqidat!A$4:BZ$1000,$A319+1,FALSE)&\" \"&INDEX(pqidat!$A$1:$Z$1000,A319+4,MATCH(\"Standort\",pqidat!$A$4:$Z$4,0)+1)","v":{"$error":"#N/A"}},{"$f":"HLOOKUP(\"Station\",pqidat!A$4:BZ$1000,$A319+1,FALSE)","v":{"$error":"#N/A"}},{"$f":"HLOOKUP(\"Dichte\",pqidat!A$4:BZ$1000,$A319+1,FALSE)","v":{"$error":"#N/A"}},{"$f":"HLOOKUP(\"Verdichtung\",pqidat!A$4:BZ$1000,$A319+1,FALSE)","v":{"$error":"#N/A"}},{"$f":"HLOOKUP(\"Temp. OberflÃ¤che\",pqidat!A$4:BZ$1000,$A319+1,FALSE)","v":{"$error":"#N/A"}},{"$f":"HLOOKUP(\"GPS\",pqidat!A$4:BZ$1000,$A319+1,FALSE)","v":{"$error":"#N/A"}},{"$f":"HLOOKUP(\"Korrektur\",pqidat!A$4:BZ$1000,$A319+1,FALSE)","v":{"$error":"#N/A"}}]
["310",{"$f":"IF(ISBLANK(HLOOKUP(\"Raumdichte\",pqidat!$A$4:$BZ$500,$A320+1,FALSE)),\"\",A320)","v":"310"},{"$f":"HLOOKUP(\"Asphaltsorte\",pqidat!A$4:BZ$1000,$A320+1,FALSE)","v":{"$error":"#N/A"}},{"$f":"HLOOKUP(\"Standort\",pqidat!A$4:BZ$1000,$A320+1,FALSE)&\" \"&INDEX(pqidat!$A$1:$Z$1000,A320+4,MATCH(\"Standort\",pqidat!$A$4:$Z$4,0)+1)","v":{"$error":"#N/A"}},{"$f":"HLOOKUP(\"Station\",pqidat!A$4:BZ$1000,$A320+1,FALSE)","v":{"$error":"#N/A"}},{"$f":"HLOOKUP(\"Dichte\",pqidat!A$4:BZ$1000,$A320+1,FALSE)","v":{"$error":"#N/A"}},{"$f":"HLOOKUP(\"Verdichtung\",pqidat!A$4:BZ$1000,$A320+1,FALSE)","v":{"$error":"#N/A"}},{"$f":"HLOOKUP(\"Temp. OberflÃ¤che\",pqidat!A$4:BZ$1000,$A320+1,FALSE)","v":{"$error":"#N/A"}},{"$f":"HLOOKUP(\"GPS\",pqidat!A$4:BZ$1000,$A320+1,FALSE)","v":{"$error":"#N/A"}},{"$f":"HLOOKUP(\"Korrektur\",pqidat!A$4:BZ$1000,$A320+1,FALSE)","v":{"$error":"#N/A"}}]
["311",{"$f":"IF(ISBLANK(HLOOKUP(\"Raumdichte\",pqidat!$A$4:$BZ$500,$A321+1,FALSE)),\"\",A321)","v":"311"},{"$f":"HLOOKUP(\"Asphaltsorte\",pqidat!A$4:BZ$1000,$A321+1,FALSE)","v":{"$error":"#N/A"}},{"$f":"HLOOKUP(\"Standort\",pqidat!A$4:BZ$1000,$A321+1,FALSE)&\" \"&INDEX(pqidat!$A$1:$Z$1000,A321+4,MATCH(\"Standort\",pqidat!$A$4:$Z$4,0)+1)","v":{"$error":"#N/A"}},{"$f":"HLOOKUP(\"Station\",pqidat!A$4:BZ$1000,$A321+1,FALSE)","v":{"$error":"#N/A"}},{"$f":"HLOOKUP(\"Dichte\",pqidat!A$4:BZ$1000,$A321+1,FALSE)","v":{"$error":"#N/A"}},{"$f":"HLOOKUP(\"Verdichtung\",pqidat!A$4:BZ$1000,$A321+1,FALSE)","v":{"$error":"#N/A"}},{"$f":"HLOOKUP(\"Temp. OberflÃ¤che\",pqidat!A$4:BZ$1000,$A321+1,FALSE)","v":{"$error":"#N/A"}},{"$f":"HLOOKUP(\"GPS\",pqidat!A$4:BZ$1000,$A321+1,FALSE)","v":{"$error":"#N/A"}},{"$f":"HLOOKUP(\"Korrektur\",pqidat!A$4:BZ$1000,$A321+1,FALSE)","v":{"$error":"#N/A"}}]
["312",{"$f":"IF(ISBLANK(HLOOKUP(\"Raumdichte\",pqidat!$A$4:$BZ$500,$A322+1,FALSE)),\"\",A322)","v":"312"},{"$f":"HLOOKUP(\"Asphaltsorte\",pqidat!A$4:BZ$1000,$A322+1,FALSE)","v":{"$error":"#N/A"}},{"$f":"HLOOKUP(\"Standort\",pqidat!A$4:BZ$1000,$A322+1,FALSE)&\" \"&INDEX(pqidat!$A$1:$Z$1000,A322+4,MATCH(\"Standort\",pqidat!$A$4:$Z$4,0)+1)","v":{"$error":"#N/A"}},{"$f":"HLOOKUP(\"Station\",pqidat!A$4:BZ$1000,$A322+1,FALSE)","v":{"$error":"#N/A"}},{"$f":"HLOOKUP(\"Dichte\",pqidat!A$4:BZ$1000,$A322+1,FALSE)","v":{"$error":"#N/A"}},{"$f":"HLOOKUP(\"Verdichtung\",pqidat!A$4:BZ$1000,$A322+1,FALSE)","v":{"$error":"#N/A"}},{"$f":"HLOOKUP(\"Temp. OberflÃ¤che\",pqidat!A$4:BZ$1000,$A322+1,FALSE)","v":{"$error":"#N/A"}},{"$f":"HLOOKUP(\"GPS\",pqidat!A$4:BZ$1000,$A322+1,FALSE)","v":{"$error":"#N/A"}},{"$f":"HLOOKUP(\"Korrektur\",pqidat!A$4:BZ$1000,$A322+1,FALSE)","v":{"$error":"#N/A"}}]
["313",{"$f":"IF(ISBLANK(HLOOKUP(\"Raumdichte\",pqidat!$A$4:$BZ$500,$A323+1,FALSE)),\"\",A323)","v":"313"},{"$f":"HLOOKUP(\"Asphaltsorte\",pqidat!A$4:BZ$1000,$A323+1,FALSE)","v":{"$error":"#N/A"}},{"$f":"HLOOKUP(\"Standort\",pqidat!A$4:BZ$1000,$A323+1,FALSE)&\" \"&INDEX(pqidat!$A$1:$Z$1000,A323+4,MATCH(\"Standort\",pqidat!$A$4:$Z$4,0)+1)","v":{"$error":"#N/A"}},{"$f":"HLOOKUP(\"Station\",pqidat!A$4:BZ$1000,$A323+1,FALSE)","v":{"$error":"#N/A"}},{"$f":"HLOOKUP(\"Dichte\",pqidat!A$4:BZ$1000,$A323+1,FALSE)","v":{"$error":"#N/A"}},{"$f":"HLOOKUP(\"Verdichtung\",pqidat!A$4:BZ$1000,$A323+1,FALSE)","v":{"$error":"#N/A"}},{"$f":"HLOOKUP(\"Temp. OberflÃ¤che\",pqidat!A$4:BZ$1000,$A323+1,FALSE)","v":{"$error":"#N/A"}},{"$f":"HLOOKUP(\"GPS\",pqidat!A$4:BZ$1000,$A323+1,FALSE)","v":{"$error":"#N/A"}},{"$f":"HLOOKUP(\"Korrektur\",pqidat!A$4:BZ$1000,$A323+1,FALSE)","v":{"$error":"#N/A"}}]
["314",{"$f":"IF(ISBLANK(HLOOKUP(\"Raumdichte\",pqidat!$A$4:$BZ$500,$A324+1,FALSE)),\"\",A324)","v":"314"},{"$f":"HLOOKUP(\"Asphaltsorte\",pqidat!A$4:BZ$1000,$A324+1,FALSE)","v":{"$error":"#N/A"}},{"$f":"HLOOKUP(\"Standort\",pqidat!A$4:BZ$1000,$A324+1,FALSE)&\" \"&INDEX(pqidat!$A$1:$Z$1000,A324+4,MATCH(\"Standort\",pqidat!$A$4:$Z$4,0)+1)","v":{"$error":"#N/A"}},{"$f":"HLOOKUP(\"Station\",pqidat!A$4:BZ$1000,$A324+1,FALSE)","v":{"$error":"#N/A"}},{"$f":"HLOOKUP(\"Dichte\",pqidat!A$4:BZ$1000,$A324+1,FALSE)","v":{"$error":"#N/A"}},{"$f":"HLOOKUP(\"Verdichtung\",pqidat!A$4:BZ$1000,$A324+1,FALSE)","v":{"$error":"#N/A"}},{"$f":"HLOOKUP(\"Temp. OberflÃ¤che\",pqidat!A$4:BZ$1000,$A324+1,FALSE)","v":{"$error":"#N/A"}},{"$f":"HLOOKUP(\"GPS\",pqidat!A$4:BZ$1000,$A324+1,FALSE)","v":{"$error":"#N/A"}},{"$f":"HLOOKUP(\"Korrektur\",pqidat!A$4:BZ$1000,$A324+1,FALSE)","v":{"$error":"#N/A"}}]
["315",{"$f":"IF(ISBLANK(HLOOKUP(\"Raumdichte\",pqidat!$A$4:$BZ$500,$A325+1,FALSE)),\"\",A325)","v":"315"},{"$f":"HLOOKUP(\"Asphaltsorte\",pqidat!A$4:BZ$1000,$A325+1,FALSE)","v":{"$error":"#N/A"}},{"$f":"HLOOKUP(\"Standort\",pqidat!A$4:BZ$1000,$A325+1,FALSE)&\" \"&INDEX(pqidat!$A$1:$Z$1000,A325+4,MATCH(\"Standort\",pqidat!$A$4:$Z$4,0)+1)","v":{"$error":"#N/A"}},{"$f":"HLOOKUP(\"Station\",pqidat!A$4:BZ$1000,$A325+1,FALSE)","v":{"$error":"#N/A"}},{"$f":"HLOOKUP(\"Dichte\",pqidat!A$4:BZ$1000,$A325+1,FALSE)","v":{"$error":"#N/A"}},{"$f":"HLOOKUP(\"Verdichtung\",pqidat!A$4:BZ$1000,$A325+1,FALSE)","v":{"$error":"#N/A"}},{"$f":"HLOOKUP(\"Temp. OberflÃ¤che\",pqidat!A$4:BZ$1000,$A325+1,FALSE)","v":{"$error":"#N/A"}},{"$f":"HLOOKUP(\"GPS\",pqidat!A$4:BZ$1000,$A325+1,FALSE)","v":{"$error":"#N/A"}},{"$f":"HLOOKUP(\"Korrektur\",pqidat!A$4:BZ$1000,$A325+1,FALSE)","v":{"$error":"#N/A"}}]
["316",{"$f":"IF(ISBLANK(HLOOKUP(\"Raumdichte\",pqidat!$A$4:$BZ$500,$A326+1,FALSE)),\"\",A326)","v":"316"},{"$f":"HLOOKUP(\"Asphaltsorte\",pqidat!A$4:BZ$1000,$A326+1,FALSE)","v":{"$error":"#N/A"}},{"$f":"HLOOKUP(\"Standort\",pqidat!A$4:BZ$1000,$A326+1,FALSE)&\" \"&INDEX(pqidat!$A$1:$Z$1000,A326+4,MATCH(\"Standort\",pqidat!$A$4:$Z$4,0)+1)","v":{"$error":"#N/A"}},{"$f":"HLOOKUP(\"Station\",pqidat!A$4:BZ$1000,$A326+1,FALSE)","v":{"$error":"#N/A"}},{"$f":"HLOOKUP(\"Dichte\",pqidat!A$4:BZ$1000,$A326+1,FALSE)","v":{"$error":"#N/A"}},{"$f":"HLOOKUP(\"Verdichtung\",pqidat!A$4:BZ$1000,$A326+1,FALSE)","v":{"$error":"#N/A"}},{"$f":"HLOOKUP(\"Temp. OberflÃ¤che\",pqidat!A$4:BZ$1000,$A326+1,FALSE)","v":{"$error":"#N/A"}},{"$f":"HLOOKUP(\"GPS\",pqidat!A$4:BZ$1000,$A326+1,FALSE)","v":{"$error":"#N/A"}},{"$f":"HLOOKUP(\"Korrektur\",pqidat!A$4:BZ$1000,$A326+1,FALSE)","v":{"$error":"#N/A"}}]
["317",{"$f":"IF(ISBLANK(HLOOKUP(\"Raumdichte\",pqidat!$A$4:$BZ$500,$A327+1,FALSE)),\"\",A327)","v":"317"},{"$f":"HLOOKUP(\"Asphaltsorte\",pqidat!A$4:BZ$1000,$A327+1,FALSE)","v":{"$error":"#N/A"}},{"$f":"HLOOKUP(\"Standort\",pqidat!A$4:BZ$1000,$A327+1,FALSE)&\" \"&INDEX(pqidat!$A$1:$Z$1000,A327+4,MATCH(\"Standort\",pqidat!$A$4:$Z$4,0)+1)","v":{"$error":"#N/A"}},{"$f":"HLOOKUP(\"Station\",pqidat!A$4:BZ$1000,$A327+1,FALSE)","v":{"$error":"#N/A"}},{"$f":"HLOOKUP(\"Dichte\",pqidat!A$4:BZ$1000,$A327+1,FALSE)","v":{"$error":"#N/A"}},{"$f":"HLOOKUP(\"Verdichtung\",pqidat!A$4:BZ$1000,$A327+1,FALSE)","v":{"$error":"#N/A"}},{"$f":"HLOOKUP(\"Temp. OberflÃ¤che\",pqidat!A$4:BZ$1000,$A327+1,FALSE)","v":{"$error":"#N/A"}},{"$f":"HLOOKUP(\"GPS\",pqidat!A$4:BZ$1000,$A327+1,FALSE)","v":{"$error":"#N/A"}},{"$f":"HLOOKUP(\"Korrektur\",pqidat!A$4:BZ$1000,$A327+1,FALSE)","v":{"$error":"#N/A"}}]
["318",{"$f":"IF(ISBLANK(HLOOKUP(\"Raumdichte\",pqidat!$A$4:$BZ$500,$A328+1,FALSE)),\"\",A328)","v":"318"},{"$f":"HLOOKUP(\"Asphaltsorte\",pqidat!A$4:BZ$1000,$A328+1,FALSE)","v":{"$error":"#N/A"}},{"$f":"HLOOKUP(\"Standort\",pqidat!A$4:BZ$1000,$A328+1,FALSE)&\" \"&INDEX(pqidat!$A$1:$Z$1000,A328+4,MATCH(\"Standort\",pqidat!$A$4:$Z$4,0)+1)","v":{"$error":"#N/A"}},{"$f":"HLOOKUP(\"Station\",pqidat!A$4:BZ$1000,$A328+1,FALSE)","v":{"$error":"#N/A"}},{"$f":"HLOOKUP(\"Dichte\",pqidat!A$4:BZ$1000,$A328+1,FALSE)","v":{"$error":"#N/A"}},{"$f":"HLOOKUP(\"Verdichtung\",pqidat!A$4:BZ$1000,$A328+1,FALSE)","v":{"$error":"#N/A"}},{"$f":"HLOOKUP(\"Temp. OberflÃ¤che\",pqidat!A$4:BZ$1000,$A328+1,FALSE)","v":{"$error":"#N/A"}},{"$f":"HLOOKUP(\"GPS\",pqidat!A$4:BZ$1000,$A328+1,FALSE)","v":{"$error":"#N/A"}},{"$f":"HLOOKUP(\"Korrektur\",pqidat!A$4:BZ$1000,$A328+1,FALSE)","v":{"$error":"#N/A"}}]
["319",{"$f":"IF(ISBLANK(HLOOKUP(\"Raumdichte\",pqidat!$A$4:$BZ$500,$A329+1,FALSE)),\"\",A329)","v":"319"},{"$f":"HLOOKUP(\"Asphaltsorte\",pqidat!A$4:BZ$1000,$A329+1,FALSE)","v":{"$error":"#N/A"}},{"$f":"HLOOKUP(\"Standort\",pqidat!A$4:BZ$1000,$A329+1,FALSE)&\" \"&INDEX(pqidat!$A$1:$Z$1000,A329+4,MATCH(\"Standort\",pqidat!$A$4:$Z$4,0)+1)","v":{"$error":"#N/A"}},{"$f":"HLOOKUP(\"Station\",pqidat!A$4:BZ$1000,$A329+1,FALSE)","v":{"$error":"#N/A"}},{"$f":"HLOOKUP(\"Dichte\",pqidat!A$4:BZ$1000,$A329+1,FALSE)","v":{"$error":"#N/A"}},{"$f":"HLOOKUP(\"Verdichtung\",pqidat!A$4:BZ$1000,$A329+1,FALSE)","v":{"$error":"#N/A"}},{"$f":"HLOOKUP(\"Temp. OberflÃ¤che\",pqidat!A$4:BZ$1000,$A329+1,FALSE)","v":{"$error":"#N/A"}},{"$f":"HLOOKUP(\"GPS\",pqidat!A$4:BZ$1000,$A329+1,FALSE)","v":{"$error":"#N/A"}},{"$f":"HLOOKUP(\"Korrektur\",pqidat!A$4:BZ$1000,$A329+1,FALSE)","v":{"$error":"#N/A"}}]
["320",{"$f":"IF(ISBLANK(HLOOKUP(\"Raumdichte\",pqidat!$A$4:$BZ$500,$A330+1,FALSE)),\"\",A330)","v":"320"},{"$f":"HLOOKUP(\"Asphaltsorte\",pqidat!A$4:BZ$1000,$A330+1,FALSE)","v":{"$error":"#N/A"}},{"$f":"HLOOKUP(\"Standort\",pqidat!A$4:BZ$1000,$A330+1,FALSE)&\" \"&INDEX(pqidat!$A$1:$Z$1000,A330+4,MATCH(\"Standort\",pqidat!$A$4:$Z$4,0)+1)","v":{"$error":"#N/A"}},{"$f":"HLOOKUP(\"Station\",pqidat!A$4:BZ$1000,$A330+1,FALSE)","v":{"$error":"#N/A"}},{"$f":"HLOOKUP(\"Dichte\",pqidat!A$4:BZ$1000,$A330+1,FALSE)","v":{"$error":"#N/A"}},{"$f":"HLOOKUP(\"Verdichtung\",pqidat!A$4:BZ$1000,$A330+1,FALSE)","v":{"$error":"#N/A"}},{"$f":"HLOOKUP(\"Temp. OberflÃ¤che\",pqidat!A$4:BZ$1000,$A330+1,FALSE)","v":{"$error":"#N/A"}},{"$f":"HLOOKUP(\"GPS\",pqidat!A$4:BZ$1000,$A330+1,FALSE)","v":{"$error":"#N/A"}},{"$f":"HLOOKUP(\"Korrektur\",pqidat!A$4:BZ$1000,$A330+1,FALSE)","v":{"$error":"#N/A"}}]
["321",{"$f":"IF(ISBLANK(HLOOKUP(\"Raumdichte\",pqidat!$A$4:$BZ$500,$A331+1,FALSE)),\"\",A331)","v":"321"},{"$f":"HLOOKUP(\"Asphaltsorte\",pqidat!A$4:BZ$1000,$A331+1,FALSE)","v":{"$error":"#N/A"}},{"$f":"HLOOKUP(\"Standort\",pqidat!A$4:BZ$1000,$A331+1,FALSE)&\" \"&INDEX(pqidat!$A$1:$Z$1000,A331+4,MATCH(\"Standort\",pqidat!$A$4:$Z$4,0)+1)","v":{"$error":"#N/A"}},{"$f":"HLOOKUP(\"Station\",pqidat!A$4:BZ$1000,$A331+1,FALSE)","v":{"$error":"#N/A"}},{"$f":"HLOOKUP(\"Dichte\",pqidat!A$4:BZ$1000,$A331+1,FALSE)","v":{"$error":"#N/A"}},{"$f":"HLOOKUP(\"Verdichtung\",pqidat!A$4:BZ$1000,$A331+1,FALSE)","v":{"$error":"#N/A"}},{"$f":"HLOOKUP(\"Temp. OberflÃ¤che\",pqidat!A$4:BZ$1000,$A331+1,FALSE)","v":{"$error":"#N/A"}},{"$f":"HLOOKUP(\"GPS\",pqidat!A$4:BZ$1000,$A331+1,FALSE)","v":{"$error":"#N/A"}},{"$f":"HLOOKUP(\"Korrektur\",pqidat!A$4:BZ$1000,$A331+1,FALSE)","v":{"$error":"#N/A"}}]
["322",{"$f":"IF(ISBLANK(HLOOKUP(\"Raumdichte\",pqidat!$A$4:$BZ$500,$A332+1,FALSE)),\"\",A332)","v":"322"},{"$f":"HLOOKUP(\"Asphaltsorte\",pqidat!A$4:BZ$1000,$A332+1,FALSE)","v":{"$error":"#N/A"}},{"$f":"HLOOKUP(\"Standort\",pqidat!A$4:BZ$1000,$A332+1,FALSE)&\" \"&INDEX(pqidat!$A$1:$Z$1000,A332+4,MATCH(\"Standort\",pqidat!$A$4:$Z$4,0)+1)","v":{"$error":"#N/A"}},{"$f":"HLOOKUP(\"Station\",pqidat!A$4:BZ$1000,$A332+1,FALSE)","v":{"$error":"#N/A"}},{"$f":"HLOOKUP(\"Dichte\",pqidat!A$4:BZ$1000,$A332+1,FALSE)","v":{"$error":"#N/A"}},{"$f":"HLOOKUP(\"Verdichtung\",pqidat!A$4:BZ$1000,$A332+1,FALSE)","v":{"$error":"#N/A"}},{"$f":"HLOOKUP(\"Temp. OberflÃ¤che\",pqidat!A$4:BZ$1000,$A332+1,FALSE)","v":{"$error":"#N/A"}},{"$f":"HLOOKUP(\"GPS\",pqidat!A$4:BZ$1000,$A332+1,FALSE)","v":{"$error":"#N/A"}},{"$f":"HLOOKUP(\"Korrektur\",pqidat!A$4:BZ$1000,$A332+1,FALSE)","v":{"$error":"#N/A"}}]
["323",{"$f":"IF(ISBLANK(HLOOKUP(\"Raumdichte\",pqidat!$A$4:$BZ$500,$A333+1,FALSE)),\"\",A333)","v":"323"},{"$f":"HLOOKUP(\"Asphaltsorte\",pqidat!A$4:BZ$1000,$A333+1,FALSE)","v":{"$error":"#N/A"}},{"$f":"HLOOKUP(\"Standort\",pqidat!A$4:BZ$1000,$A333+1,FALSE)&\" \"&INDEX(pqidat!$A$1:$Z$1000,A333+4,MATCH(\"Standort\",pqidat!$A$4:$Z$4,0)+1)","v":{"$error":"#N/A"}},{"$f":"HLOOKUP(\"Station\",pqidat!A$4:BZ$1000,$A333+1,FALSE)","v":{"$error":"#N/A"}},{"$f":"HLOOKUP(\"Dichte\",pqidat!A$4:BZ$1000,$A333+1,FALSE)","v":{"$error":"#N/A"}},{"$f":"HLOOKUP(\"Verdichtung\",pqidat!A$4:BZ$1000,$A333+1,FALSE)","v":{"$error":"#N/A"}},{"$f":"HLOOKUP(\"Temp. OberflÃ¤che\",pqidat!A$4:BZ$1000,$A333+1,FALSE)","v":{"$error":"#N/A"}},{"$f":"HLOOKUP(\"GPS\",pqidat!A$4:BZ$1000,$A333+1,FALSE)","v":{"$error":"#N/A"}},{"$f":"HLOOKUP(\"Korrektur\",pqidat!A$4:BZ$1000,$A333+1,FALSE)","v":{"$error":"#N/A"}}]
["324",{"$f":"IF(ISBLANK(HLOOKUP(\"Raumdichte\",pqidat!$A$4:$BZ$500,$A334+1,FALSE)),\"\",A334)","v":"324"},{"$f":"HLOOKUP(\"Asphaltsorte\",pqidat!A$4:BZ$1000,$A334+1,FALSE)","v":{"$error":"#N/A"}},{"$f":"HLOOKUP(\"Standort\",pqidat!A$4:BZ$1000,$A334+1,FALSE)&\" \"&INDEX(pqidat!$A$1:$Z$1000,A334+4,MATCH(\"Standort\",pqidat!$A$4:$Z$4,0)+1)","v":{"$error":"#N/A"}},{"$f":"HLOOKUP(\"Station\",pqidat!A$4:BZ$1000,$A334+1,FALSE)","v":{"$error":"#N/A"}},{"$f":"HLOOKUP(\"Dichte\",pqidat!A$4:BZ$1000,$A334+1,FALSE)","v":{"$error":"#N/A"}},{"$f":"HLOOKUP(\"Verdichtung\",pqidat!A$4:BZ$1000,$A334+1,FALSE)","v":{"$error":"#N/A"}},{"$f":"HLOOKUP(\"Temp. OberflÃ¤che\",pqidat!A$4:BZ$1000,$A334+1,FALSE)","v":{"$error":"#N/A"}},{"$f":"HLOOKUP(\"GPS\",pqidat!A$4:BZ$1000,$A334+1,FALSE)","v":{"$error":"#N/A"}},{"$f":"HLOOKUP(\"Korrektur\",pqidat!A$4:BZ$1000,$A334+1,FALSE)","v":{"$error":"#N/A"}}]
["325",{"$f":"IF(ISBLANK(HLOOKUP(\"Raumdichte\",pqidat!$A$4:$BZ$500,$A335+1,FALSE)),\"\",A335)","v":"325"},{"$f":"HLOOKUP(\"Asphaltsorte\",pqidat!A$4:BZ$1000,$A335+1,FALSE)","v":{"$error":"#N/A"}},{"$f":"HLOOKUP(\"Standort\",pqidat!A$4:BZ$1000,$A335+1,FALSE)&\" \"&INDEX(pqidat!$A$1:$Z$1000,A335+4,MATCH(\"Standort\",pqidat!$A$4:$Z$4,0)+1)","v":{"$error":"#N/A"}},{"$f":"HLOOKUP(\"Station\",pqidat!A$4:BZ$1000,$A335+1,FALSE)","v":{"$error":"#N/A"}},{"$f":"HLOOKUP(\"Dichte\",pqidat!A$4:BZ$1000,$A335+1,FALSE)","v":{"$error":"#N/A"}},{"$f":"HLOOKUP(\"Verdichtung\",pqidat!A$4:BZ$1000,$A335+1,FALSE)","v":{"$error":"#N/A"}},{"$f":"HLOOKUP(\"Temp. OberflÃ¤che\",pqidat!A$4:BZ$1000,$A335+1,FALSE)","v":{"$error":"#N/A"}},{"$f":"HLOOKUP(\"GPS\",pqidat!A$4:BZ$1000,$A335+1,FALSE)","v":{"$error":"#N/A"}},{"$f":"HLOOKUP(\"Korrektur\",pqidat!A$4:BZ$1000,$A335+1,FALSE)","v":{"$error":"#N/A"}}]
["326",{"$f":"IF(ISBLANK(HLOOKUP(\"Raumdichte\",pqidat!$A$4:$BZ$500,$A336+1,FALSE)),\"\",A336)","v":"326"},{"$f":"HLOOKUP(\"Asphaltsorte\",pqidat!A$4:BZ$1000,$A336+1,FALSE)","v":{"$error":"#N/A"}},{"$f":"HLOOKUP(\"Standort\",pqidat!A$4:BZ$1000,$A336+1,FALSE)&\" \"&INDEX(pqidat!$A$1:$Z$1000,A336+4,MATCH(\"Standort\",pqidat!$A$4:$Z$4,0)+1)","v":{"$error":"#N/A"}},{"$f":"HLOOKUP(\"Station\",pqidat!A$4:BZ$1000,$A336+1,FALSE)","v":{"$error":"#N/A"}},{"$f":"HLOOKUP(\"Dichte\",pqidat!A$4:BZ$1000,$A336+1,FALSE)","v":{"$error":"#N/A"}},{"$f":"HLOOKUP(\"Verdichtung\",pqidat!A$4:BZ$1000,$A336+1,FALSE)","v":{"$error":"#N/A"}},{"$f":"HLOOKUP(\"Temp. OberflÃ¤che\",pqidat!A$4:BZ$1000,$A336+1,FALSE)","v":{"$error":"#N/A"}},{"$f":"HLOOKUP(\"GPS\",pqidat!A$4:BZ$1000,$A336+1,FALSE)","v":{"$error":"#N/A"}},{"$f":"HLOOKUP(\"Korrektur\",pqidat!A$4:BZ$1000,$A336+1,FALSE)","v":{"$error":"#N/A"}}]
["327",{"$f":"IF(ISBLANK(HLOOKUP(\"Raumdichte\",pqidat!$A$4:$BZ$500,$A337+1,FALSE)),\"\",A337)","v":"327"},{"$f":"HLOOKUP(\"Asphaltsorte\",pqidat!A$4:BZ$1000,$A337+1,FALSE)","v":{"$error":"#N/A"}},{"$f":"HLOOKUP(\"Standort\",pqidat!A$4:BZ$1000,$A337+1,FALSE)&\" \"&INDEX(pqidat!$A$1:$Z$1000,A337+4,MATCH(\"Standort\",pqidat!$A$4:$Z$4,0)+1)","v":{"$error":"#N/A"}},{"$f":"HLOOKUP(\"Station\",pqidat!A$4:BZ$1000,$A337+1,FALSE)","v":{"$error":"#N/A"}},{"$f":"HLOOKUP(\"Dichte\",pqidat!A$4:BZ$1000,$A337+1,FALSE)","v":{"$error":"#N/A"}},{"$f":"HLOOKUP(\"Verdichtung\",pqidat!A$4:BZ$1000,$A337+1,FALSE)","v":{"$error":"#N/A"}},{"$f":"HLOOKUP(\"Temp. OberflÃ¤che\",pqidat!A$4:BZ$1000,$A337+1,FALSE)","v":{"$error":"#N/A"}},{"$f":"HLOOKUP(\"GPS\",pqidat!A$4:BZ$1000,$A337+1,FALSE)","v":{"$error":"#N/A"}},{"$f":"HLOOKUP(\"Korrektur\",pqidat!A$4:BZ$1000,$A337+1,FALSE)","v":{"$error":"#N/A"}}]
["328",{"$f":"IF(ISBLANK(HLOOKUP(\"Raumdichte\",pqidat!$A$4:$BZ$500,$A338+1,FALSE)),\"\",A338)","v":"328"},{"$f":"HLOOKUP(\"Asphaltsorte\",pqidat!A$4:BZ$1000,$A338+1,FALSE)","v":{"$error":"#N/A"}},{"$f":"HLOOKUP(\"Standort\",pqidat!A$4:BZ$1000,$A338+1,FALSE)&\" \"&INDEX(pqidat!$A$1:$Z$1000,A338+4,MATCH(\"Standort\",pqidat!$A$4:$Z$4,0)+1)","v":{"$error":"#N/A"}},{"$f":"HLOOKUP(\"Station\",pqidat!A$4:BZ$1000,$A338+1,FALSE)","v":{"$error":"#N/A"}},{"$f":"HLOOKUP(\"Dichte\",pqidat!A$4:BZ$1000,$A338+1,FALSE)","v":{"$error":"#N/A"}},{"$f":"HLOOKUP(\"Verdichtung\",pqidat!A$4:BZ$1000,$A338+1,FALSE)","v":{"$error":"#N/A"}},{"$f":"HLOOKUP(\"Temp. OberflÃ¤che\",pqidat!A$4:BZ$1000,$A338+1,FALSE)","v":{"$error":"#N/A"}},{"$f":"HLOOKUP(\"GPS\",pqidat!A$4:BZ$1000,$A338+1,FALSE)","v":{"$error":"#N/A"}},{"$f":"HLOOKUP(\"Korrektur\",pqidat!A$4:BZ$1000,$A338+1,FALSE)","v":{"$error":"#N/A"}}]
["329",{"$f":"IF(ISBLANK(HLOOKUP(\"Raumdichte\",pqidat!$A$4:$BZ$500,$A339+1,FALSE)),\"\",A339)","v":"329"},{"$f":"HLOOKUP(\"Asphaltsorte\",pqidat!A$4:BZ$1000,$A339+1,FALSE)","v":{"$error":"#N/A"}},{"$f":"HLOOKUP(\"Standort\",pqidat!A$4:BZ$1000,$A339+1,FALSE)&\" \"&INDEX(pqidat!$A$1:$Z$1000,A339+4,MATCH(\"Standort\",pqidat!$A$4:$Z$4,0)+1)","v":{"$error":"#N/A"}},{"$f":"HLOOKUP(\"Station\",pqidat!A$4:BZ$1000,$A339+1,FALSE)","v":{"$error":"#N/A"}},{"$f":"HLOOKUP(\"Dichte\",pqidat!A$4:BZ$1000,$A339+1,FALSE)","v":{"$error":"#N/A"}},{"$f":"HLOOKUP(\"Verdichtung\",pqidat!A$4:BZ$1000,$A339+1,FALSE)","v":{"$error":"#N/A"}},{"$f":"HLOOKUP(\"Temp. OberflÃ¤che\",pqidat!A$4:BZ$1000,$A339+1,FALSE)","v":{"$error":"#N/A"}},{"$f":"HLOOKUP(\"GPS\",pqidat!A$4:BZ$1000,$A339+1,FALSE)","v":{"$error":"#N/A"}},{"$f":"HLOOKUP(\"Korrektur\",pqidat!A$4:BZ$1000,$A339+1,FALSE)","v":{"$error":"#N/A"}}]
["330",{"$f":"IF(ISBLANK(HLOOKUP(\"Raumdichte\",pqidat!$A$4:$BZ$500,$A340+1,FALSE)),\"\",A340)","v":"330"},{"$f":"HLOOKUP(\"Asphaltsorte\",pqidat!A$4:BZ$1000,$A340+1,FALSE)","v":{"$error":"#N/A"}},{"$f":"HLOOKUP(\"Standort\",pqidat!A$4:BZ$1000,$A340+1,FALSE)&\" \"&INDEX(pqidat!$A$1:$Z$1000,A340+4,MATCH(\"Standort\",pqidat!$A$4:$Z$4,0)+1)","v":{"$error":"#N/A"}},{"$f":"HLOOKUP(\"Station\",pqidat!A$4:BZ$1000,$A340+1,FALSE)","v":{"$error":"#N/A"}},{"$f":"HLOOKUP(\"Dichte\",pqidat!A$4:BZ$1000,$A340+1,FALSE)","v":{"$error":"#N/A"}},{"$f":"HLOOKUP(\"Verdichtung\",pqidat!A$4:BZ$1000,$A340+1,FALSE)","v":{"$error":"#N/A"}},{"$f":"HLOOKUP(\"Temp. OberflÃ¤che\",pqidat!A$4:BZ$1000,$A340+1,FALSE)","v":{"$error":"#N/A"}},{"$f":"HLOOKUP(\"GPS\",pqidat!A$4:BZ$1000,$A340+1,FALSE)","v":{"$error":"#N/A"}},{"$f":"HLOOKUP(\"Korrektur\",pqidat!A$4:BZ$1000,$A340+1,FALSE)","v":{"$error":"#N/A"}}]
["331",{"$f":"IF(ISBLANK(HLOOKUP(\"Raumdichte\",pqidat!$A$4:$BZ$500,$A341+1,FALSE)),\"\",A341)","v":"331"},{"$f":"HLOOKUP(\"Asphaltsorte\",pqidat!A$4:BZ$1000,$A341+1,FALSE)","v":{"$error":"#N/A"}},{"$f":"HLOOKUP(\"Standort\",pqidat!A$4:BZ$1000,$A341+1,FALSE)&\" \"&INDEX(pqidat!$A$1:$Z$1000,A341+4,MATCH(\"Standort\",pqidat!$A$4:$Z$4,0)+1)","v":{"$error":"#N/A"}},{"$f":"HLOOKUP(\"Station\",pqidat!A$4:BZ$1000,$A341+1,FALSE)","v":{"$error":"#N/A"}},{"$f":"HLOOKUP(\"Dichte\",pqidat!A$4:BZ$1000,$A341+1,FALSE)","v":{"$error":"#N/A"}},{"$f":"HLOOKUP(\"Verdichtung\",pqidat!A$4:BZ$1000,$A341+1,FALSE)","v":{"$error":"#N/A"}},{"$f":"HLOOKUP(\"Temp. OberflÃ¤che\",pqidat!A$4:BZ$1000,$A341+1,FALSE)","v":{"$error":"#N/A"}},{"$f":"HLOOKUP(\"GPS\",pqidat!A$4:BZ$1000,$A341+1,FALSE)","v":{"$error":"#N/A"}},{"$f":"HLOOKUP(\"Korrektur\",pqidat!A$4:BZ$1000,$A341+1,FALSE)","v":{"$error":"#N/A"}}]
["332",{"$f":"IF(ISBLANK(HLOOKUP(\"Raumdichte\",pqidat!$A$4:$BZ$500,$A342+1,FALSE)),\"\",A342)","v":"332"},{"$f":"HLOOKUP(\"Asphaltsorte\",pqidat!A$4:BZ$1000,$A342+1,FALSE)","v":{"$error":"#N/A"}},{"$f":"HLOOKUP(\"Standort\",pqidat!A$4:BZ$1000,$A342+1,FALSE)&\" \"&INDEX(pqidat!$A$1:$Z$1000,A342+4,MATCH(\"Standort\",pqidat!$A$4:$Z$4,0)+1)","v":{"$error":"#N/A"}},{"$f":"HLOOKUP(\"Station\",pqidat!A$4:BZ$1000,$A342+1,FALSE)","v":{"$error":"#N/A"}},{"$f":"HLOOKUP(\"Dichte\",pqidat!A$4:BZ$1000,$A342+1,FALSE)","v":{"$error":"#N/A"}},{"$f":"HLOOKUP(\"Verdichtung\",pqidat!A$4:BZ$1000,$A342+1,FALSE)","v":{"$error":"#N/A"}},{"$f":"HLOOKUP(\"Temp. OberflÃ¤che\",pqidat!A$4:BZ$1000,$A342+1,FALSE)","v":{"$error":"#N/A"}},{"$f":"HLOOKUP(\"GPS\",pqidat!A$4:BZ$1000,$A342+1,FALSE)","v":{"$error":"#N/A"}},{"$f":"HLOOKUP(\"Korrektur\",pqidat!A$4:BZ$1000,$A342+1,FALSE)","v":{"$error":"#N/A"}}]
["333",{"$f":"IF(ISBLANK(HLOOKUP(\"Raumdichte\",pqidat!$A$4:$BZ$500,$A343+1,FALSE)),\"\",A343)","v":"333"},{"$f":"HLOOKUP(\"Asphaltsorte\",pqidat!A$4:BZ$1000,$A343+1,FALSE)","v":{"$error":"#N/A"}},{"$f":"HLOOKUP(\"Standort\",pqidat!A$4:BZ$1000,$A343+1,FALSE)&\" \"&INDEX(pqidat!$A$1:$Z$1000,A343+4,MATCH(\"Standort\",pqidat!$A$4:$Z$4,0)+1)","v":{"$error":"#N/A"}},{"$f":"HLOOKUP(\"Station\",pqidat!A$4:BZ$1000,$A343+1,FALSE)","v":{"$error":"#N/A"}},{"$f":"HLOOKUP(\"Dichte\",pqidat!A$4:BZ$1000,$A343+1,FALSE)","v":{"$error":"#N/A"}},{"$f":"HLOOKUP(\"Verdichtung\",pqidat!A$4:BZ$1000,$A343+1,FALSE)","v":{"$error":"#N/A"}},{"$f":"HLOOKUP(\"Temp. OberflÃ¤che\",pqidat!A$4:BZ$1000,$A343+1,FALSE)","v":{"$error":"#N/A"}},{"$f":"HLOOKUP(\"GPS\",pqidat!A$4:BZ$1000,$A343+1,FALSE)","v":{"$error":"#N/A"}},{"$f":"HLOOKUP(\"Korrektur\",pqidat!A$4:BZ$1000,$A343+1,FALSE)","v":{"$error":"#N/A"}}]
["334",{"$f":"IF(ISBLANK(HLOOKUP(\"Raumdichte\",pqidat!$A$4:$BZ$500,$A344+1,FALSE)),\"\",A344)","v":"334"},{"$f":"HLOOKUP(\"Asphaltsorte\",pqidat!A$4:BZ$1000,$A344+1,FALSE)","v":{"$error":"#N/A"}},{"$f":"HLOOKUP(\"Standort\",pqidat!A$4:BZ$1000,$A344+1,FALSE)&\" \"&INDEX(pqidat!$A$1:$Z$1000,A344+4,MATCH(\"Standort\",pqidat!$A$4:$Z$4,0)+1)","v":{"$error":"#N/A"}},{"$f":"HLOOKUP(\"Station\",pqidat!A$4:BZ$1000,$A344+1,FALSE)","v":{"$error":"#N/A"}},{"$f":"HLOOKUP(\"Dichte\",pqidat!A$4:BZ$1000,$A344+1,FALSE)","v":{"$error":"#N/A"}},{"$f":"HLOOKUP(\"Verdichtung\",pqidat!A$4:BZ$1000,$A344+1,FALSE)","v":{"$error":"#N/A"}},{"$f":"HLOOKUP(\"Temp. OberflÃ¤che\",pqidat!A$4:BZ$1000,$A344+1,FALSE)","v":{"$error":"#N/A"}},{"$f":"HLOOKUP(\"GPS\",pqidat!A$4:BZ$1000,$A344+1,FALSE)","v":{"$error":"#N/A"}},{"$f":"HLOOKUP(\"Korrektur\",pqidat!A$4:BZ$1000,$A344+1,FALSE)","v":{"$error":"#N/A"}}]
["335",{"$f":"IF(ISBLANK(HLOOKUP(\"Raumdichte\",pqidat!$A$4:$BZ$500,$A345+1,FALSE)),\"\",A345)","v":"335"},{"$f":"HLOOKUP(\"Asphaltsorte\",pqidat!A$4:BZ$1000,$A345+1,FALSE)","v":{"$error":"#N/A"}},{"$f":"HLOOKUP(\"Standort\",pqidat!A$4:BZ$1000,$A345+1,FALSE)&\" \"&INDEX(pqidat!$A$1:$Z$1000,A345+4,MATCH(\"Standort\",pqidat!$A$4:$Z$4,0)+1)","v":{"$error":"#N/A"}},{"$f":"HLOOKUP(\"Station\",pqidat!A$4:BZ$1000,$A345+1,FALSE)","v":{"$error":"#N/A"}},{"$f":"HLOOKUP(\"Dichte\",pqidat!A$4:BZ$1000,$A345+1,FALSE)","v":{"$error":"#N/A"}},{"$f":"HLOOKUP(\"Verdichtung\",pqidat!A$4:BZ$1000,$A345+1,FALSE)","v":{"$error":"#N/A"}},{"$f":"HLOOKUP(\"Temp. OberflÃ¤che\",pqidat!A$4:BZ$1000,$A345+1,FALSE)","v":{"$error":"#N/A"}},{"$f":"HLOOKUP(\"GPS\",pqidat!A$4:BZ$1000,$A345+1,FALSE)","v":{"$error":"#N/A"}},{"$f":"HLOOKUP(\"Korrektur\",pqidat!A$4:BZ$1000,$A345+1,FALSE)","v":{"$error":"#N/A"}}]
["336",{"$f":"IF(ISBLANK(HLOOKUP(\"Raumdichte\",pqidat!$A$4:$BZ$500,$A346+1,FALSE)),\"\",A346)","v":"336"},{"$f":"HLOOKUP(\"Asphaltsorte\",pqidat!A$4:BZ$1000,$A346+1,FALSE)","v":{"$error":"#N/A"}},{"$f":"HLOOKUP(\"Standort\",pqidat!A$4:BZ$1000,$A346+1,FALSE)&\" \"&INDEX(pqidat!$A$1:$Z$1000,A346+4,MATCH(\"Standort\",pqidat!$A$4:$Z$4,0)+1)","v":{"$error":"#N/A"}},{"$f":"HLOOKUP(\"Station\",pqidat!A$4:BZ$1000,$A346+1,FALSE)","v":{"$error":"#N/A"}},{"$f":"HLOOKUP(\"Dichte\",pqidat!A$4:BZ$1000,$A346+1,FALSE)","v":{"$error":"#N/A"}},{"$f":"HLOOKUP(\"Verdichtung\",pqidat!A$4:BZ$1000,$A346+1,FALSE)","v":{"$error":"#N/A"}},{"$f":"HLOOKUP(\"Temp. OberflÃ¤che\",pqidat!A$4:BZ$1000,$A346+1,FALSE)","v":{"$error":"#N/A"}},{"$f":"HLOOKUP(\"GPS\",pqidat!A$4:BZ$1000,$A346+1,FALSE)","v":{"$error":"#N/A"}},{"$f":"HLOOKUP(\"Korrektur\",pqidat!A$4:BZ$1000,$A346+1,FALSE)","v":{"$error":"#N/A"}}]
["337",{"$f":"IF(ISBLANK(HLOOKUP(\"Raumdichte\",pqidat!$A$4:$BZ$500,$A347+1,FALSE)),\"\",A347)","v":"337"},{"$f":"HLOOKUP(\"Asphaltsorte\",pqidat!A$4:BZ$1000,$A347+1,FALSE)","v":{"$error":"#N/A"}},{"$f":"HLOOKUP(\"Standort\",pqidat!A$4:BZ$1000,$A347+1,FALSE)&\" \"&INDEX(pqidat!$A$1:$Z$1000,A347+4,MATCH(\"Standort\",pqidat!$A$4:$Z$4,0)+1)","v":{"$error":"#N/A"}},{"$f":"HLOOKUP(\"Station\",pqidat!A$4:BZ$1000,$A347+1,FALSE)","v":{"$error":"#N/A"}},{"$f":"HLOOKUP(\"Dichte\",pqidat!A$4:BZ$1000,$A347+1,FALSE)","v":{"$error":"#N/A"}},{"$f":"HLOOKUP(\"Verdichtung\",pqidat!A$4:BZ$1000,$A347+1,FALSE)","v":{"$error":"#N/A"}},{"$f":"HLOOKUP(\"Temp. OberflÃ¤che\",pqidat!A$4:BZ$1000,$A347+1,FALSE)","v":{"$error":"#N/A"}},{"$f":"HLOOKUP(\"GPS\",pqidat!A$4:BZ$1000,$A347+1,FALSE)","v":{"$error":"#N/A"}},{"$f":"HLOOKUP(\"Korrektur\",pqidat!A$4:BZ$1000,$A347+1,FALSE)","v":{"$error":"#N/A"}}]
["338",{"$f":"IF(ISBLANK(HLOOKUP(\"Raumdichte\",pqidat!$A$4:$BZ$500,$A348+1,FALSE)),\"\",A348)","v":"338"},{"$f":"HLOOKUP(\"Asphaltsorte\",pqidat!A$4:BZ$1000,$A348+1,FALSE)","v":{"$error":"#N/A"}},{"$f":"HLOOKUP(\"Standort\",pqidat!A$4:BZ$1000,$A348+1,FALSE)&\" \"&INDEX(pqidat!$A$1:$Z$1000,A348+4,MATCH(\"Standort\",pqidat!$A$4:$Z$4,0)+1)","v":{"$error":"#N/A"}},{"$f":"HLOOKUP(\"Station\",pqidat!A$4:BZ$1000,$A348+1,FALSE)","v":{"$error":"#N/A"}},{"$f":"HLOOKUP(\"Dichte\",pqidat!A$4:BZ$1000,$A348+1,FALSE)","v":{"$error":"#N/A"}},{"$f":"HLOOKUP(\"Verdichtung\",pqidat!A$4:BZ$1000,$A348+1,FALSE)","v":{"$error":"#N/A"}},{"$f":"HLOOKUP(\"Temp. OberflÃ¤che\",pqidat!A$4:BZ$1000,$A348+1,FALSE)","v":{"$error":"#N/A"}},{"$f":"HLOOKUP(\"GPS\",pqidat!A$4:BZ$1000,$A348+1,FALSE)","v":{"$error":"#N/A"}},{"$f":"HLOOKUP(\"Korrektur\",pqidat!A$4:BZ$1000,$A348+1,FALSE)","v":{"$error":"#N/A"}}]
["339",{"$f":"IF(ISBLANK(HLOOKUP(\"Raumdichte\",pqidat!$A$4:$BZ$500,$A349+1,FALSE)),\"\",A349)","v":"339"},{"$f":"HLOOKUP(\"Asphaltsorte\",pqidat!A$4:BZ$1000,$A349+1,FALSE)","v":{"$error":"#N/A"}},{"$f":"HLOOKUP(\"Standort\",pqidat!A$4:BZ$1000,$A349+1,FALSE)&\" \"&INDEX(pqidat!$A$1:$Z$1000,A349+4,MATCH(\"Standort\",pqidat!$A$4:$Z$4,0)+1)","v":{"$error":"#N/A"}},{"$f":"HLOOKUP(\"Station\",pqidat!A$4:BZ$1000,$A349+1,FALSE)","v":{"$error":"#N/A"}},{"$f":"HLOOKUP(\"Dichte\",pqidat!A$4:BZ$1000,$A349+1,FALSE)","v":{"$error":"#N/A"}},{"$f":"HLOOKUP(\"Verdichtung\",pqidat!A$4:BZ$1000,$A349+1,FALSE)","v":{"$error":"#N/A"}},{"$f":"HLOOKUP(\"Temp. OberflÃ¤che\",pqidat!A$4:BZ$1000,$A349+1,FALSE)","v":{"$error":"#N/A"}},{"$f":"HLOOKUP(\"GPS\",pqidat!A$4:BZ$1000,$A349+1,FALSE)","v":{"$error":"#N/A"}},{"$f":"HLOOKUP(\"Korrektur\",pqidat!A$4:BZ$1000,$A349+1,FALSE)","v":{"$error":"#N/A"}}]
["340",{"$f":"IF(ISBLANK(HLOOKUP(\"Raumdichte\",pqidat!$A$4:$BZ$500,$A350+1,FALSE)),\"\",A350)","v":"340"},{"$f":"HLOOKUP(\"Asphaltsorte\",pqidat!A$4:BZ$1000,$A350+1,FALSE)","v":{"$error":"#N/A"}},{"$f":"HLOOKUP(\"Standort\",pqidat!A$4:BZ$1000,$A350+1,FALSE)&\" \"&INDEX(pqidat!$A$1:$Z$1000,A350+4,MATCH(\"Standort\",pqidat!$A$4:$Z$4,0)+1)","v":{"$error":"#N/A"}},{"$f":"HLOOKUP(\"Station\",pqidat!A$4:BZ$1000,$A350+1,FALSE)","v":{"$error":"#N/A"}},{"$f":"HLOOKUP(\"Dichte\",pqidat!A$4:BZ$1000,$A350+1,FALSE)","v":{"$error":"#N/A"}},{"$f":"HLOOKUP(\"Verdichtung\",pqidat!A$4:BZ$1000,$A350+1,FALSE)","v":{"$error":"#N/A"}},{"$f":"HLOOKUP(\"Temp. OberflÃ¤che\",pqidat!A$4:BZ$1000,$A350+1,FALSE)","v":{"$error":"#N/A"}},{"$f":"HLOOKUP(\"GPS\",pqidat!A$4:BZ$1000,$A350+1,FALSE)","v":{"$error":"#N/A"}},{"$f":"HLOOKUP(\"Korrektur\",pqidat!A$4:BZ$1000,$A350+1,FALSE)","v":{"$error":"#N/A"}}]
["341",{"$f":"IF(ISBLANK(HLOOKUP(\"Raumdichte\",pqidat!$A$4:$BZ$500,$A351+1,FALSE)),\"\",A351)","v":"341"},{"$f":"HLOOKUP(\"Asphaltsorte\",pqidat!A$4:BZ$1000,$A351+1,FALSE)","v":{"$error":"#N/A"}},{"$f":"HLOOKUP(\"Standort\",pqidat!A$4:BZ$1000,$A351+1,FALSE)&\" \"&INDEX(pqidat!$A$1:$Z$1000,A351+4,MATCH(\"Standort\",pqidat!$A$4:$Z$4,0)+1)","v":{"$error":"#N/A"}},{"$f":"HLOOKUP(\"Station\",pqidat!A$4:BZ$1000,$A351+1,FALSE)","v":{"$error":"#N/A"}},{"$f":"HLOOKUP(\"Dichte\",pqidat!A$4:BZ$1000,$A351+1,FALSE)","v":{"$error":"#N/A"}},{"$f":"HLOOKUP(\"Verdichtung\",pqidat!A$4:BZ$1000,$A351+1,FALSE)","v":{"$error":"#N/A"}},{"$f":"HLOOKUP(\"Temp. OberflÃ¤che\",pqidat!A$4:BZ$1000,$A351+1,FALSE)","v":{"$error":"#N/A"}},{"$f":"HLOOKUP(\"GPS\",pqidat!A$4:BZ$1000,$A351+1,FALSE)","v":{"$error":"#N/A"}},{"$f":"HLOOKUP(\"Korrektur\",pqidat!A$4:BZ$1000,$A351+1,FALSE)","v":{"$error":"#N/A"}}]
["342",{"$f":"IF(ISBLANK(HLOOKUP(\"Raumdichte\",pqidat!$A$4:$BZ$500,$A352+1,FALSE)),\"\",A352)","v":"342"},{"$f":"HLOOKUP(\"Asphaltsorte\",pqidat!A$4:BZ$1000,$A352+1,FALSE)","v":{"$error":"#N/A"}},{"$f":"HLOOKUP(\"Standort\",pqidat!A$4:BZ$1000,$A352+1,FALSE)&\" \"&INDEX(pqidat!$A$1:$Z$1000,A352+4,MATCH(\"Standort\",pqidat!$A$4:$Z$4,0)+1)","v":{"$error":"#N/A"}},{"$f":"HLOOKUP(\"Station\",pqidat!A$4:BZ$1000,$A352+1,FALSE)","v":{"$error":"#N/A"}},{"$f":"HLOOKUP(\"Dichte\",pqidat!A$4:BZ$1000,$A352+1,FALSE)","v":{"$error":"#N/A"}},{"$f":"HLOOKUP(\"Verdichtung\",pqidat!A$4:BZ$1000,$A352+1,FALSE)","v":{"$error":"#N/A"}},{"$f":"HLOOKUP(\"Temp. OberflÃ¤che\",pqidat!A$4:BZ$1000,$A352+1,FALSE)","v":{"$error":"#N/A"}},{"$f":"HLOOKUP(\"GPS\",pqidat!A$4:BZ$1000,$A352+1,FALSE)","v":{"$error":"#N/A"}},{"$f":"HLOOKUP(\"Korrektur\",pqidat!A$4:BZ$1000,$A352+1,FALSE)","v":{"$error":"#N/A"}}]
["343",{"$f":"IF(ISBLANK(HLOOKUP(\"Raumdichte\",pqidat!$A$4:$BZ$500,$A353+1,FALSE)),\"\",A353)","v":"343"},{"$f":"HLOOKUP(\"Asphaltsorte\",pqidat!A$4:BZ$1000,$A353+1,FALSE)","v":{"$error":"#N/A"}},{"$f":"HLOOKUP(\"Standort\",pqidat!A$4:BZ$1000,$A353+1,FALSE)&\" \"&INDEX(pqidat!$A$1:$Z$1000,A353+4,MATCH(\"Standort\",pqidat!$A$4:$Z$4,0)+1)","v":{"$error":"#N/A"}},{"$f":"HLOOKUP(\"Station\",pqidat!A$4:BZ$1000,$A353+1,FALSE)","v":{"$error":"#N/A"}},{"$f":"HLOOKUP(\"Dichte\",pqidat!A$4:BZ$1000,$A353+1,FALSE)","v":{"$error":"#N/A"}},{"$f":"HLOOKUP(\"Verdichtung\",pqidat!A$4:BZ$1000,$A353+1,FALSE)","v":{"$error":"#N/A"}},{"$f":"HLOOKUP(\"Temp. OberflÃ¤che\",pqidat!A$4:BZ$1000,$A353+1,FALSE)","v":{"$error":"#N/A"}},{"$f":"HLOOKUP(\"GPS\",pqidat!A$4:BZ$1000,$A353+1,FALSE)","v":{"$error":"#N/A"}},{"$f":"HLOOKUP(\"Korrektur\",pqidat!A$4:BZ$1000,$A353+1,FALSE)","v":{"$error":"#N/A"}}]
["344",{"$f":"IF(ISBLANK(HLOOKUP(\"Raumdichte\",pqidat!$A$4:$BZ$500,$A354+1,FALSE)),\"\",A354)","v":"344"},{"$f":"HLOOKUP(\"Asphaltsorte\",pqidat!A$4:BZ$1000,$A354+1,FALSE)","v":{"$error":"#N/A"}},{"$f":"HLOOKUP(\"Standort\",pqidat!A$4:BZ$1000,$A354+1,FALSE)&\" \"&INDEX(pqidat!$A$1:$Z$1000,A354+4,MATCH(\"Standort\",pqidat!$A$4:$Z$4,0)+1)","v":{"$error":"#N/A"}},{"$f":"HLOOKUP(\"Station\",pqidat!A$4:BZ$1000,$A354+1,FALSE)","v":{"$error":"#N/A"}},{"$f":"HLOOKUP(\"Dichte\",pqidat!A$4:BZ$1000,$A354+1,FALSE)","v":{"$error":"#N/A"}},{"$f":"HLOOKUP(\"Verdichtung\",pqidat!A$4:BZ$1000,$A354+1,FALSE)","v":{"$error":"#N/A"}},{"$f":"HLOOKUP(\"Temp. OberflÃ¤che\",pqidat!A$4:BZ$1000,$A354+1,FALSE)","v":{"$error":"#N/A"}},{"$f":"HLOOKUP(\"GPS\",pqidat!A$4:BZ$1000,$A354+1,FALSE)","v":{"$error":"#N/A"}},{"$f":"HLOOKUP(\"Korrektur\",pqidat!A$4:BZ$1000,$A354+1,FALSE)","v":{"$error":"#N/A"}}]
["345",{"$f":"IF(ISBLANK(HLOOKUP(\"Raumdichte\",pqidat!$A$4:$BZ$500,$A355+1,FALSE)),\"\",A355)","v":"345"},{"$f":"HLOOKUP(\"Asphaltsorte\",pqidat!A$4:BZ$1000,$A355+1,FALSE)","v":{"$error":"#N/A"}},{"$f":"HLOOKUP(\"Standort\",pqidat!A$4:BZ$1000,$A355+1,FALSE)&\" \"&INDEX(pqidat!$A$1:$Z$1000,A355+4,MATCH(\"Standort\",pqidat!$A$4:$Z$4,0)+1)","v":{"$error":"#N/A"}},{"$f":"HLOOKUP(\"Station\",pqidat!A$4:BZ$1000,$A355+1,FALSE)","v":{"$error":"#N/A"}},{"$f":"HLOOKUP(\"Dichte\",pqidat!A$4:BZ$1000,$A355+1,FALSE)","v":{"$error":"#N/A"}},{"$f":"HLOOKUP(\"Verdichtung\",pqidat!A$4:BZ$1000,$A355+1,FALSE)","v":{"$error":"#N/A"}},{"$f":"HLOOKUP(\"Temp. OberflÃ¤che\",pqidat!A$4:BZ$1000,$A355+1,FALSE)","v":{"$error":"#N/A"}},{"$f":"HLOOKUP(\"GPS\",pqidat!A$4:BZ$1000,$A355+1,FALSE)","v":{"$error":"#N/A"}},{"$f":"HLOOKUP(\"Korrektur\",pqidat!A$4:BZ$1000,$A355+1,FALSE)","v":{"$error":"#N/A"}}]
["346",{"$f":"IF(ISBLANK(HLOOKUP(\"Raumdichte\",pqidat!$A$4:$BZ$500,$A356+1,FALSE)),\"\",A356)","v":"346"},{"$f":"HLOOKUP(\"Asphaltsorte\",pqidat!A$4:BZ$1000,$A356+1,FALSE)","v":{"$error":"#N/A"}},{"$f":"HLOOKUP(\"Standort\",pqidat!A$4:BZ$1000,$A356+1,FALSE)&\" \"&INDEX(pqidat!$A$1:$Z$1000,A356+4,MATCH(\"Standort\",pqidat!$A$4:$Z$4,0)+1)","v":{"$error":"#N/A"}},{"$f":"HLOOKUP(\"Station\",pqidat!A$4:BZ$1000,$A356+1,FALSE)","v":{"$error":"#N/A"}},{"$f":"HLOOKUP(\"Dichte\",pqidat!A$4:BZ$1000,$A356+1,FALSE)","v":{"$error":"#N/A"}},{"$f":"HLOOKUP(\"Verdichtung\",pqidat!A$4:BZ$1000,$A356+1,FALSE)","v":{"$error":"#N/A"}},{"$f":"HLOOKUP(\"Temp. OberflÃ¤che\",pqidat!A$4:BZ$1000,$A356+1,FALSE)","v":{"$error":"#N/A"}},{"$f":"HLOOKUP(\"GPS\",pqidat!A$4:BZ$1000,$A356+1,FALSE)","v":{"$error":"#N/A"}},{"$f":"HLOOKUP(\"Korrektur\",pqidat!A$4:BZ$1000,$A356+1,FALSE)","v":{"$error":"#N/A"}}]
["347",{"$f":"IF(ISBLANK(HLOOKUP(\"Raumdichte\",pqidat!$A$4:$BZ$500,$A357+1,FALSE)),\"\",A357)","v":"347"},{"$f":"HLOOKUP(\"Asphaltsorte\",pqidat!A$4:BZ$1000,$A357+1,FALSE)","v":{"$error":"#N/A"}},{"$f":"HLOOKUP(\"Standort\",pqidat!A$4:BZ$1000,$A357+1,FALSE)&\" \"&INDEX(pqidat!$A$1:$Z$1000,A357+4,MATCH(\"Standort\",pqidat!$A$4:$Z$4,0)+1)","v":{"$error":"#N/A"}},{"$f":"HLOOKUP(\"Station\",pqidat!A$4:BZ$1000,$A357+1,FALSE)","v":{"$error":"#N/A"}},{"$f":"HLOOKUP(\"Dichte\",pqidat!A$4:BZ$1000,$A357+1,FALSE)","v":{"$error":"#N/A"}},{"$f":"HLOOKUP(\"Verdichtung\",pqidat!A$4:BZ$1000,$A357+1,FALSE)","v":{"$error":"#N/A"}},{"$f":"HLOOKUP(\"Temp. OberflÃ¤che\",pqidat!A$4:BZ$1000,$A357+1,FALSE)","v":{"$error":"#N/A"}},{"$f":"HLOOKUP(\"GPS\",pqidat!A$4:BZ$1000,$A357+1,FALSE)","v":{"$error":"#N/A"}},{"$f":"HLOOKUP(\"Korrektur\",pqidat!A$4:BZ$1000,$A357+1,FALSE)","v":{"$error":"#N/A"}}]
["348",{"$f":"IF(ISBLANK(HLOOKUP(\"Raumdichte\",pqidat!$A$4:$BZ$500,$A358+1,FALSE)),\"\",A358)","v":"348"},{"$f":"HLOOKUP(\"Asphaltsorte\",pqidat!A$4:BZ$1000,$A358+1,FALSE)","v":{"$error":"#N/A"}},{"$f":"HLOOKUP(\"Standort\",pqidat!A$4:BZ$1000,$A358+1,FALSE)&\" \"&INDEX(pqidat!$A$1:$Z$1000,A358+4,MATCH(\"Standort\",pqidat!$A$4:$Z$4,0)+1)","v":{"$error":"#N/A"}},{"$f":"HLOOKUP(\"Station\",pqidat!A$4:BZ$1000,$A358+1,FALSE)","v":{"$error":"#N/A"}},{"$f":"HLOOKUP(\"Dichte\",pqidat!A$4:BZ$1000,$A358+1,FALSE)","v":{"$error":"#N/A"}},{"$f":"HLOOKUP(\"Verdichtung\",pqidat!A$4:BZ$1000,$A358+1,FALSE)","v":{"$error":"#N/A"}},{"$f":"HLOOKUP(\"Temp. OberflÃ¤che\",pqidat!A$4:BZ$1000,$A358+1,FALSE)","v":{"$error":"#N/A"}},{"$f":"HLOOKUP(\"GPS\",pqidat!A$4:BZ$1000,$A358+1,FALSE)","v":{"$error":"#N/A"}},{"$f":"HLOOKUP(\"Korrektur\",pqidat!A$4:BZ$1000,$A358+1,FALSE)","v":{"$error":"#N/A"}}]
["349",{"$f":"IF(ISBLANK(HLOOKUP(\"Raumdichte\",pqidat!$A$4:$BZ$500,$A359+1,FALSE)),\"\",A359)","v":"349"},{"$f":"HLOOKUP(\"Asphaltsorte\",pqidat!A$4:BZ$1000,$A359+1,FALSE)","v":{"$error":"#N/A"}},{"$f":"HLOOKUP(\"Standort\",pqidat!A$4:BZ$1000,$A359+1,FALSE)&\" \"&INDEX(pqidat!$A$1:$Z$1000,A359+4,MATCH(\"Standort\",pqidat!$A$4:$Z$4,0)+1)","v":{"$error":"#N/A"}},{"$f":"HLOOKUP(\"Station\",pqidat!A$4:BZ$1000,$A359+1,FALSE)","v":{"$error":"#N/A"}},{"$f":"HLOOKUP(\"Dichte\",pqidat!A$4:BZ$1000,$A359+1,FALSE)","v":{"$error":"#N/A"}},{"$f":"HLOOKUP(\"Verdichtung\",pqidat!A$4:BZ$1000,$A359+1,FALSE)","v":{"$error":"#N/A"}},{"$f":"HLOOKUP(\"Temp. OberflÃ¤che\",pqidat!A$4:BZ$1000,$A359+1,FALSE)","v":{"$error":"#N/A"}},{"$f":"HLOOKUP(\"GPS\",pqidat!A$4:BZ$1000,$A359+1,FALSE)","v":{"$error":"#N/A"}},{"$f":"HLOOKUP(\"Korrektur\",pqidat!A$4:BZ$1000,$A359+1,FALSE)","v":{"$error":"#N/A"}}]
["350",{"$f":"IF(ISBLANK(HLOOKUP(\"Raumdichte\",pqidat!$A$4:$BZ$500,$A360+1,FALSE)),\"\",A360)","v":"350"},{"$f":"HLOOKUP(\"Asphaltsorte\",pqidat!A$4:BZ$1000,$A360+1,FALSE)","v":{"$error":"#N/A"}},{"$f":"HLOOKUP(\"Standort\",pqidat!A$4:BZ$1000,$A360+1,FALSE)&\" \"&INDEX(pqidat!$A$1:$Z$1000,A360+4,MATCH(\"Standort\",pqidat!$A$4:$Z$4,0)+1)","v":{"$error":"#N/A"}},{"$f":"HLOOKUP(\"Station\",pqidat!A$4:BZ$1000,$A360+1,FALSE)","v":{"$error":"#N/A"}},{"$f":"HLOOKUP(\"Dichte\",pqidat!A$4:BZ$1000,$A360+1,FALSE)","v":{"$error":"#N/A"}},{"$f":"HLOOKUP(\"Verdichtung\",pqidat!A$4:BZ$1000,$A360+1,FALSE)","v":{"$error":"#N/A"}},{"$f":"HLOOKUP(\"Temp. OberflÃ¤che\",pqidat!A$4:BZ$1000,$A360+1,FALSE)","v":{"$error":"#N/A"}},{"$f":"HLOOKUP(\"GPS\",pqidat!A$4:BZ$1000,$A360+1,FALSE)","v":{"$error":"#N/A"}},{"$f":"HLOOKUP(\"Korrektur\",pqidat!A$4:BZ$1000,$A360+1,FALSE)","v":{"$error":"#N/A"}}]
["351",{"$f":"IF(ISBLANK(HLOOKUP(\"Raumdichte\",pqidat!$A$4:$BZ$500,$A361+1,FALSE)),\"\",A361)","v":"351"},{"$f":"HLOOKUP(\"Asphaltsorte\",pqidat!A$4:BZ$1000,$A361+1,FALSE)","v":{"$error":"#N/A"}},{"$f":"HLOOKUP(\"Standort\",pqidat!A$4:BZ$1000,$A361+1,FALSE)&\" \"&INDEX(pqidat!$A$1:$Z$1000,A361+4,MATCH(\"Standort\",pqidat!$A$4:$Z$4,0)+1)","v":{"$error":"#N/A"}},{"$f":"HLOOKUP(\"Station\",pqidat!A$4:BZ$1000,$A361+1,FALSE)","v":{"$error":"#N/A"}},{"$f":"HLOOKUP(\"Dichte\",pqidat!A$4:BZ$1000,$A361+1,FALSE)","v":{"$error":"#N/A"}},{"$f":"HLOOKUP(\"Verdichtung\",pqidat!A$4:BZ$1000,$A361+1,FALSE)","v":{"$error":"#N/A"}},{"$f":"HLOOKUP(\"Temp. OberflÃ¤che\",pqidat!A$4:BZ$1000,$A361+1,FALSE)","v":{"$error":"#N/A"}},{"$f":"HLOOKUP(\"GPS\",pqidat!A$4:BZ$1000,$A361+1,FALSE)","v":{"$error":"#N/A"}},{"$f":"HLOOKUP(\"Korrektur\",pqidat!A$4:BZ$1000,$A361+1,FALSE)","v":{"$error":"#N/A"}}]
["352",{"$f":"IF(ISBLANK(HLOOKUP(\"Raumdichte\",pqidat!$A$4:$BZ$500,$A362+1,FALSE)),\"\",A362)","v":"352"},{"$f":"HLOOKUP(\"Asphaltsorte\",pqidat!A$4:BZ$1000,$A362+1,FALSE)","v":{"$error":"#N/A"}},{"$f":"HLOOKUP(\"Standort\",pqidat!A$4:BZ$1000,$A362+1,FALSE)&\" \"&INDEX(pqidat!$A$1:$Z$1000,A362+4,MATCH(\"Standort\",pqidat!$A$4:$Z$4,0)+1)","v":{"$error":"#N/A"}},{"$f":"HLOOKUP(\"Station\",pqidat!A$4:BZ$1000,$A362+1,FALSE)","v":{"$error":"#N/A"}},{"$f":"HLOOKUP(\"Dichte\",pqidat!A$4:BZ$1000,$A362+1,FALSE)","v":{"$error":"#N/A"}},{"$f":"HLOOKUP(\"Verdichtung\",pqidat!A$4:BZ$1000,$A362+1,FALSE)","v":{"$error":"#N/A"}},{"$f":"HLOOKUP(\"Temp. OberflÃ¤che\",pqidat!A$4:BZ$1000,$A362+1,FALSE)","v":{"$error":"#N/A"}},{"$f":"HLOOKUP(\"GPS\",pqidat!A$4:BZ$1000,$A362+1,FALSE)","v":{"$error":"#N/A"}},{"$f":"HLOOKUP(\"Korrektur\",pqidat!A$4:BZ$1000,$A362+1,FALSE)","v":{"$error":"#N/A"}}]
["353",{"$f":"IF(ISBLANK(HLOOKUP(\"Raumdichte\",pqidat!$A$4:$BZ$500,$A363+1,FALSE)),\"\",A363)","v":"353"},{"$f":"HLOOKUP(\"Asphaltsorte\",pqidat!A$4:BZ$1000,$A363+1,FALSE)","v":{"$error":"#N/A"}},{"$f":"HLOOKUP(\"Standort\",pqidat!A$4:BZ$1000,$A363+1,FALSE)&\" \"&INDEX(pqidat!$A$1:$Z$1000,A363+4,MATCH(\"Standort\",pqidat!$A$4:$Z$4,0)+1)","v":{"$error":"#N/A"}},{"$f":"HLOOKUP(\"Station\",pqidat!A$4:BZ$1000,$A363+1,FALSE)","v":{"$error":"#N/A"}},{"$f":"HLOOKUP(\"Dichte\",pqidat!A$4:BZ$1000,$A363+1,FALSE)","v":{"$error":"#N/A"}},{"$f":"HLOOKUP(\"Verdichtung\",pqidat!A$4:BZ$1000,$A363+1,FALSE)","v":{"$error":"#N/A"}},{"$f":"HLOOKUP(\"Temp. OberflÃ¤che\",pqidat!A$4:BZ$1000,$A363+1,FALSE)","v":{"$error":"#N/A"}},{"$f":"HLOOKUP(\"GPS\",pqidat!A$4:BZ$1000,$A363+1,FALSE)","v":{"$error":"#N/A"}},{"$f":"HLOOKUP(\"Korrektur\",pqidat!A$4:BZ$1000,$A363+1,FALSE)","v":{"$error":"#N/A"}}]
["354",{"$f":"IF(ISBLANK(HLOOKUP(\"Raumdichte\",pqidat!$A$4:$BZ$500,$A364+1,FALSE)),\"\",A364)","v":"354"},{"$f":"HLOOKUP(\"Asphaltsorte\",pqidat!A$4:BZ$1000,$A364+1,FALSE)","v":{"$error":"#N/A"}},{"$f":"HLOOKUP(\"Standort\",pqidat!A$4:BZ$1000,$A364+1,FALSE)&\" \"&INDEX(pqidat!$A$1:$Z$1000,A364+4,MATCH(\"Standort\",pqidat!$A$4:$Z$4,0)+1)","v":{"$error":"#N/A"}},{"$f":"HLOOKUP(\"Station\",pqidat!A$4:BZ$1000,$A364+1,FALSE)","v":{"$error":"#N/A"}},{"$f":"HLOOKUP(\"Dichte\",pqidat!A$4:BZ$1000,$A364+1,FALSE)","v":{"$error":"#N/A"}},{"$f":"HLOOKUP(\"Verdichtung\",pqidat!A$4:BZ$1000,$A364+1,FALSE)","v":{"$error":"#N/A"}},{"$f":"HLOOKUP(\"Temp. OberflÃ¤che\",pqidat!A$4:BZ$1000,$A364+1,FALSE)","v":{"$error":"#N/A"}},{"$f":"HLOOKUP(\"GPS\",pqidat!A$4:BZ$1000,$A364+1,FALSE)","v":{"$error":"#N/A"}},{"$f":"HLOOKUP(\"Korrektur\",pqidat!A$4:BZ$1000,$A364+1,FALSE)","v":{"$error":"#N/A"}}]
["355",{"$f":"IF(ISBLANK(HLOOKUP(\"Raumdichte\",pqidat!$A$4:$BZ$500,$A365+1,FALSE)),\"\",A365)","v":"355"},{"$f":"HLOOKUP(\"Asphaltsorte\",pqidat!A$4:BZ$1000,$A365+1,FALSE)","v":{"$error":"#N/A"}},{"$f":"HLOOKUP(\"Standort\",pqidat!A$4:BZ$1000,$A365+1,FALSE)&\" \"&INDEX(pqidat!$A$1:$Z$1000,A365+4,MATCH(\"Standort\",pqidat!$A$4:$Z$4,0)+1)","v":{"$error":"#N/A"}},{"$f":"HLOOKUP(\"Station\",pqidat!A$4:BZ$1000,$A365+1,FALSE)","v":{"$error":"#N/A"}},{"$f":"HLOOKUP(\"Dichte\",pqidat!A$4:BZ$1000,$A365+1,FALSE)","v":{"$error":"#N/A"}},{"$f":"HLOOKUP(\"Verdichtung\",pqidat!A$4:BZ$1000,$A365+1,FALSE)","v":{"$error":"#N/A"}},{"$f":"HLOOKUP(\"Temp. OberflÃ¤che\",pqidat!A$4:BZ$1000,$A365+1,FALSE)","v":{"$error":"#N/A"}},{"$f":"HLOOKUP(\"GPS\",pqidat!A$4:BZ$1000,$A365+1,FALSE)","v":{"$error":"#N/A"}},{"$f":"HLOOKUP(\"Korrektur\",pqidat!A$4:BZ$1000,$A365+1,FALSE)","v":{"$error":"#N/A"}}]
["356",{"$f":"IF(ISBLANK(HLOOKUP(\"Raumdichte\",pqidat!$A$4:$BZ$500,$A366+1,FALSE)),\"\",A366)","v":"356"},{"$f":"HLOOKUP(\"Asphaltsorte\",pqidat!A$4:BZ$1000,$A366+1,FALSE)","v":{"$error":"#N/A"}},{"$f":"HLOOKUP(\"Standort\",pqidat!A$4:BZ$1000,$A366+1,FALSE)&\" \"&INDEX(pqidat!$A$1:$Z$1000,A366+4,MATCH(\"Standort\",pqidat!$A$4:$Z$4,0)+1)","v":{"$error":"#N/A"}},{"$f":"HLOOKUP(\"Station\",pqidat!A$4:BZ$1000,$A366+1,FALSE)","v":{"$error":"#N/A"}},{"$f":"HLOOKUP(\"Dichte\",pqidat!A$4:BZ$1000,$A366+1,FALSE)","v":{"$error":"#N/A"}},{"$f":"HLOOKUP(\"Verdichtung\",pqidat!A$4:BZ$1000,$A366+1,FALSE)","v":{"$error":"#N/A"}},{"$f":"HLOOKUP(\"Temp. OberflÃ¤che\",pqidat!A$4:BZ$1000,$A366+1,FALSE)","v":{"$error":"#N/A"}},{"$f":"HLOOKUP(\"GPS\",pqidat!A$4:BZ$1000,$A366+1,FALSE)","v":{"$error":"#N/A"}},{"$f":"HLOOKUP(\"Korrektur\",pqidat!A$4:BZ$1000,$A366+1,FALSE)","v":{"$error":"#N/A"}}]
["357",{"$f":"IF(ISBLANK(HLOOKUP(\"Raumdichte\",pqidat!$A$4:$BZ$500,$A367+1,FALSE)),\"\",A367)","v":"357"},{"$f":"HLOOKUP(\"Asphaltsorte\",pqidat!A$4:BZ$1000,$A367+1,FALSE)","v":{"$error":"#N/A"}},{"$f":"HLOOKUP(\"Standort\",pqidat!A$4:BZ$1000,$A367+1,FALSE)&\" \"&INDEX(pqidat!$A$1:$Z$1000,A367+4,MATCH(\"Standort\",pqidat!$A$4:$Z$4,0)+1)","v":{"$error":"#N/A"}},{"$f":"HLOOKUP(\"Station\",pqidat!A$4:BZ$1000,$A367+1,FALSE)","v":{"$error":"#N/A"}},{"$f":"HLOOKUP(\"Dichte\",pqidat!A$4:BZ$1000,$A367+1,FALSE)","v":{"$error":"#N/A"}},{"$f":"HLOOKUP(\"Verdichtung\",pqidat!A$4:BZ$1000,$A367+1,FALSE)","v":{"$error":"#N/A"}},{"$f":"HLOOKUP(\"Temp. OberflÃ¤che\",pqidat!A$4:BZ$1000,$A367+1,FALSE)","v":{"$error":"#N/A"}},{"$f":"HLOOKUP(\"GPS\",pqidat!A$4:BZ$1000,$A367+1,FALSE)","v":{"$error":"#N/A"}},{"$f":"HLOOKUP(\"Korrektur\",pqidat!A$4:BZ$1000,$A367+1,FALSE)","v":{"$error":"#N/A"}}]
["358",{"$f":"IF(ISBLANK(HLOOKUP(\"Raumdichte\",pqidat!$A$4:$BZ$500,$A368+1,FALSE)),\"\",A368)","v":"358"},{"$f":"HLOOKUP(\"Asphaltsorte\",pqidat!A$4:BZ$1000,$A368+1,FALSE)","v":{"$error":"#N/A"}},{"$f":"HLOOKUP(\"Standort\",pqidat!A$4:BZ$1000,$A368+1,FALSE)&\" \"&INDEX(pqidat!$A$1:$Z$1000,A368+4,MATCH(\"Standort\",pqidat!$A$4:$Z$4,0)+1)","v":{"$error":"#N/A"}},{"$f":"HLOOKUP(\"Station\",pqidat!A$4:BZ$1000,$A368+1,FALSE)","v":{"$error":"#N/A"}},{"$f":"HLOOKUP(\"Dichte\",pqidat!A$4:BZ$1000,$A368+1,FALSE)","v":{"$error":"#N/A"}},{"$f":"HLOOKUP(\"Verdichtung\",pqidat!A$4:BZ$1000,$A368+1,FALSE)","v":{"$error":"#N/A"}},{"$f":"HLOOKUP(\"Temp. OberflÃ¤che\",pqidat!A$4:BZ$1000,$A368+1,FALSE)","v":{"$error":"#N/A"}},{"$f":"HLOOKUP(\"GPS\",pqidat!A$4:BZ$1000,$A368+1,FALSE)","v":{"$error":"#N/A"}},{"$f":"HLOOKUP(\"Korrektur\",pqidat!A$4:BZ$1000,$A368+1,FALSE)","v":{"$error":"#N/A"}}]
["359",{"$f":"IF(ISBLANK(HLOOKUP(\"Raumdichte\",pqidat!$A$4:$BZ$500,$A369+1,FALSE)),\"\",A369)","v":"359"},{"$f":"HLOOKUP(\"Asphaltsorte\",pqidat!A$4:BZ$1000,$A369+1,FALSE)","v":{"$error":"#N/A"}},{"$f":"HLOOKUP(\"Standort\",pqidat!A$4:BZ$1000,$A369+1,FALSE)&\" \"&INDEX(pqidat!$A$1:$Z$1000,A369+4,MATCH(\"Standort\",pqidat!$A$4:$Z$4,0)+1)","v":{"$error":"#N/A"}},{"$f":"HLOOKUP(\"Station\",pqidat!A$4:BZ$1000,$A369+1,FALSE)","v":{"$error":"#N/A"}},{"$f":"HLOOKUP(\"Dichte\",pqidat!A$4:BZ$1000,$A369+1,FALSE)","v":{"$error":"#N/A"}},{"$f":"HLOOKUP(\"Verdichtung\",pqidat!A$4:BZ$1000,$A369+1,FALSE)","v":{"$error":"#N/A"}},{"$f":"HLOOKUP(\"Temp. OberflÃ¤che\",pqidat!A$4:BZ$1000,$A369+1,FALSE)","v":{"$error":"#N/A"}},{"$f":"HLOOKUP(\"GPS\",pqidat!A$4:BZ$1000,$A369+1,FALSE)","v":{"$error":"#N/A"}},{"$f":"HLOOKUP(\"Korrektur\",pqidat!A$4:BZ$1000,$A369+1,FALSE)","v":{"$error":"#N/A"}}]
["360",{"$f":"IF(ISBLANK(HLOOKUP(\"Raumdichte\",pqidat!$A$4:$BZ$500,$A370+1,FALSE)),\"\",A370)","v":"360"},{"$f":"HLOOKUP(\"Asphaltsorte\",pqidat!A$4:BZ$1000,$A370+1,FALSE)","v":{"$error":"#N/A"}},{"$f":"HLOOKUP(\"Standort\",pqidat!A$4:BZ$1000,$A370+1,FALSE)&\" \"&INDEX(pqidat!$A$1:$Z$1000,A370+4,MATCH(\"Standort\",pqidat!$A$4:$Z$4,0)+1)","v":{"$error":"#N/A"}},{"$f":"HLOOKUP(\"Station\",pqidat!A$4:BZ$1000,$A370+1,FALSE)","v":{"$error":"#N/A"}},{"$f":"HLOOKUP(\"Dichte\",pqidat!A$4:BZ$1000,$A370+1,FALSE)","v":{"$error":"#N/A"}},{"$f":"HLOOKUP(\"Verdichtung\",pqidat!A$4:BZ$1000,$A370+1,FALSE)","v":{"$error":"#N/A"}},{"$f":"HLOOKUP(\"Temp. OberflÃ¤che\",pqidat!A$4:BZ$1000,$A370+1,FALSE)","v":{"$error":"#N/A"}},{"$f":"HLOOKUP(\"GPS\",pqidat!A$4:BZ$1000,$A370+1,FALSE)","v":{"$error":"#N/A"}},{"$f":"HLOOKUP(\"Korrektur\",pqidat!A$4:BZ$1000,$A370+1,FALSE)","v":{"$error":"#N/A"}}]
["361",{"$f":"IF(ISBLANK(HLOOKUP(\"Raumdichte\",pqidat!$A$4:$BZ$500,$A371+1,FALSE)),\"\",A371)","v":"361"},{"$f":"HLOOKUP(\"Asphaltsorte\",pqidat!A$4:BZ$1000,$A371+1,FALSE)","v":{"$error":"#N/A"}},{"$f":"HLOOKUP(\"Standort\",pqidat!A$4:BZ$1000,$A371+1,FALSE)&\" \"&INDEX(pqidat!$A$1:$Z$1000,A371+4,MATCH(\"Standort\",pqidat!$A$4:$Z$4,0)+1)","v":{"$error":"#N/A"}},{"$f":"HLOOKUP(\"Station\",pqidat!A$4:BZ$1000,$A371+1,FALSE)","v":{"$error":"#N/A"}},{"$f":"HLOOKUP(\"Dichte\",pqidat!A$4:BZ$1000,$A371+1,FALSE)","v":{"$error":"#N/A"}},{"$f":"HLOOKUP(\"Verdichtung\",pqidat!A$4:BZ$1000,$A371+1,FALSE)","v":{"$error":"#N/A"}},{"$f":"HLOOKUP(\"Temp. OberflÃ¤che\",pqidat!A$4:BZ$1000,$A371+1,FALSE)","v":{"$error":"#N/A"}},{"$f":"HLOOKUP(\"GPS\",pqidat!A$4:BZ$1000,$A371+1,FALSE)","v":{"$error":"#N/A"}},{"$f":"HLOOKUP(\"Korrektur\",pqidat!A$4:BZ$1000,$A371+1,FALSE)","v":{"$error":"#N/A"}}]
["362",{"$f":"IF(ISBLANK(HLOOKUP(\"Raumdichte\",pqidat!$A$4:$BZ$500,$A372+1,FALSE)),\"\",A372)","v":"362"},{"$f":"HLOOKUP(\"Asphaltsorte\",pqidat!A$4:BZ$1000,$A372+1,FALSE)","v":{"$error":"#N/A"}},{"$f":"HLOOKUP(\"Standort\",pqidat!A$4:BZ$1000,$A372+1,FALSE)&\" \"&INDEX(pqidat!$A$1:$Z$1000,A372+4,MATCH(\"Standort\",pqidat!$A$4:$Z$4,0)+1)","v":{"$error":"#N/A"}},{"$f":"HLOOKUP(\"Station\",pqidat!A$4:BZ$1000,$A372+1,FALSE)","v":{"$error":"#N/A"}},{"$f":"HLOOKUP(\"Dichte\",pqidat!A$4:BZ$1000,$A372+1,FALSE)","v":{"$error":"#N/A"}},{"$f":"HLOOKUP(\"Verdichtung\",pqidat!A$4:BZ$1000,$A372+1,FALSE)","v":{"$error":"#N/A"}},{"$f":"HLOOKUP(\"Temp. OberflÃ¤che\",pqidat!A$4:BZ$1000,$A372+1,FALSE)","v":{"$error":"#N/A"}},{"$f":"HLOOKUP(\"GPS\",pqidat!A$4:BZ$1000,$A372+1,FALSE)","v":{"$error":"#N/A"}},{"$f":"HLOOKUP(\"Korrektur\",pqidat!A$4:BZ$1000,$A372+1,FALSE)","v":{"$error":"#N/A"}}]
["363",{"$f":"IF(ISBLANK(HLOOKUP(\"Raumdichte\",pqidat!$A$4:$BZ$500,$A373+1,FALSE)),\"\",A373)","v":"363"},{"$f":"HLOOKUP(\"Asphaltsorte\",pqidat!A$4:BZ$1000,$A373+1,FALSE)","v":{"$error":"#N/A"}},{"$f":"HLOOKUP(\"Standort\",pqidat!A$4:BZ$1000,$A373+1,FALSE)&\" \"&INDEX(pqidat!$A$1:$Z$1000,A373+4,MATCH(\"Standort\",pqidat!$A$4:$Z$4,0)+1)","v":{"$error":"#N/A"}},{"$f":"HLOOKUP(\"Station\",pqidat!A$4:BZ$1000,$A373+1,FALSE)","v":{"$error":"#N/A"}},{"$f":"HLOOKUP(\"Dichte\",pqidat!A$4:BZ$1000,$A373+1,FALSE)","v":{"$error":"#N/A"}},{"$f":"HLOOKUP(\"Verdichtung\",pqidat!A$4:BZ$1000,$A373+1,FALSE)","v":{"$error":"#N/A"}},{"$f":"HLOOKUP(\"Temp. OberflÃ¤che\",pqidat!A$4:BZ$1000,$A373+1,FALSE)","v":{"$error":"#N/A"}},{"$f":"HLOOKUP(\"GPS\",pqidat!A$4:BZ$1000,$A373+1,FALSE)","v":{"$error":"#N/A"}},{"$f":"HLOOKUP(\"Korrektur\",pqidat!A$4:BZ$1000,$A373+1,FALSE)","v":{"$error":"#N/A"}}]
["364",{"$f":"IF(ISBLANK(HLOOKUP(\"Raumdichte\",pqidat!$A$4:$BZ$500,$A374+1,FALSE)),\"\",A374)","v":"364"},{"$f":"HLOOKUP(\"Asphaltsorte\",pqidat!A$4:BZ$1000,$A374+1,FALSE)","v":{"$error":"#N/A"}},{"$f":"HLOOKUP(\"Standort\",pqidat!A$4:BZ$1000,$A374+1,FALSE)&\" \"&INDEX(pqidat!$A$1:$Z$1000,A374+4,MATCH(\"Standort\",pqidat!$A$4:$Z$4,0)+1)","v":{"$error":"#N/A"}},{"$f":"HLOOKUP(\"Station\",pqidat!A$4:BZ$1000,$A374+1,FALSE)","v":{"$error":"#N/A"}},{"$f":"HLOOKUP(\"Dichte\",pqidat!A$4:BZ$1000,$A374+1,FALSE)","v":{"$error":"#N/A"}},{"$f":"HLOOKUP(\"Verdichtung\",pqidat!A$4:BZ$1000,$A374+1,FALSE)","v":{"$error":"#N/A"}},{"$f":"HLOOKUP(\"Temp. OberflÃ¤che\",pqidat!A$4:BZ$1000,$A374+1,FALSE)","v":{"$error":"#N/A"}},{"$f":"HLOOKUP(\"GPS\",pqidat!A$4:BZ$1000,$A374+1,FALSE)","v":{"$error":"#N/A"}},{"$f":"HLOOKUP(\"Korrektur\",pqidat!A$4:BZ$1000,$A374+1,FALSE)","v":{"$error":"#N/A"}}]
["365",{"$f":"IF(ISBLANK(HLOOKUP(\"Raumdichte\",pqidat!$A$4:$BZ$500,$A375+1,FALSE)),\"\",A375)","v":"365"},{"$f":"HLOOKUP(\"Asphaltsorte\",pqidat!A$4:BZ$1000,$A375+1,FALSE)","v":{"$error":"#N/A"}},{"$f":"HLOOKUP(\"Standort\",pqidat!A$4:BZ$1000,$A375+1,FALSE)&\" \"&INDEX(pqidat!$A$1:$Z$1000,A375+4,MATCH(\"Standort\",pqidat!$A$4:$Z$4,0)+1)","v":{"$error":"#N/A"}},{"$f":"HLOOKUP(\"Station\",pqidat!A$4:BZ$1000,$A375+1,FALSE)","v":{"$error":"#N/A"}},{"$f":"HLOOKUP(\"Dichte\",pqidat!A$4:BZ$1000,$A375+1,FALSE)","v":{"$error":"#N/A"}},{"$f":"HLOOKUP(\"Verdichtung\",pqidat!A$4:BZ$1000,$A375+1,FALSE)","v":{"$error":"#N/A"}},{"$f":"HLOOKUP(\"Temp. OberflÃ¤che\",pqidat!A$4:BZ$1000,$A375+1,FALSE)","v":{"$error":"#N/A"}},{"$f":"HLOOKUP(\"GPS\",pqidat!A$4:BZ$1000,$A375+1,FALSE)","v":{"$error":"#N/A"}},{"$f":"HLOOKUP(\"Korrektur\",pqidat!A$4:BZ$1000,$A375+1,FALSE)","v":{"$error":"#N/A"}}]
["366",{"$f":"IF(ISBLANK(HLOOKUP(\"Raumdichte\",pqidat!$A$4:$BZ$500,$A376+1,FALSE)),\"\",A376)","v":"366"},{"$f":"HLOOKUP(\"Asphaltsorte\",pqidat!A$4:BZ$1000,$A376+1,FALSE)","v":{"$error":"#N/A"}},{"$f":"HLOOKUP(\"Standort\",pqidat!A$4:BZ$1000,$A376+1,FALSE)&\" \"&INDEX(pqidat!$A$1:$Z$1000,A376+4,MATCH(\"Standort\",pqidat!$A$4:$Z$4,0)+1)","v":{"$error":"#N/A"}},{"$f":"HLOOKUP(\"Station\",pqidat!A$4:BZ$1000,$A376+1,FALSE)","v":{"$error":"#N/A"}},{"$f":"HLOOKUP(\"Dichte\",pqidat!A$4:BZ$1000,$A376+1,FALSE)","v":{"$error":"#N/A"}},{"$f":"HLOOKUP(\"Verdichtung\",pqidat!A$4:BZ$1000,$A376+1,FALSE)","v":{"$error":"#N/A"}},{"$f":"HLOOKUP(\"Temp. OberflÃ¤che\",pqidat!A$4:BZ$1000,$A376+1,FALSE)","v":{"$error":"#N/A"}},{"$f":"HLOOKUP(\"GPS\",pqidat!A$4:BZ$1000,$A376+1,FALSE)","v":{"$error":"#N/A"}},{"$f":"HLOOKUP(\"Korrektur\",pqidat!A$4:BZ$1000,$A376+1,FALSE)","v":{"$error":"#N/A"}}]
["367",{"$f":"IF(ISBLANK(HLOOKUP(\"Raumdichte\",pqidat!$A$4:$BZ$500,$A377+1,FALSE)),\"\",A377)","v":"367"},{"$f":"HLOOKUP(\"Asphaltsorte\",pqidat!A$4:BZ$1000,$A377+1,FALSE)","v":{"$error":"#N/A"}},{"$f":"HLOOKUP(\"Standort\",pqidat!A$4:BZ$1000,$A377+1,FALSE)&\" \"&INDEX(pqidat!$A$1:$Z$1000,A377+4,MATCH(\"Standort\",pqidat!$A$4:$Z$4,0)+1)","v":{"$error":"#N/A"}},{"$f":"HLOOKUP(\"Station\",pqidat!A$4:BZ$1000,$A377+1,FALSE)","v":{"$error":"#N/A"}},{"$f":"HLOOKUP(\"Dichte\",pqidat!A$4:BZ$1000,$A377+1,FALSE)","v":{"$error":"#N/A"}},{"$f":"HLOOKUP(\"Verdichtung\",pqidat!A$4:BZ$1000,$A377+1,FALSE)","v":{"$error":"#N/A"}},{"$f":"HLOOKUP(\"Temp. OberflÃ¤che\",pqidat!A$4:BZ$1000,$A377+1,FALSE)","v":{"$error":"#N/A"}},{"$f":"HLOOKUP(\"GPS\",pqidat!A$4:BZ$1000,$A377+1,FALSE)","v":{"$error":"#N/A"}},{"$f":"HLOOKUP(\"Korrektur\",pqidat!A$4:BZ$1000,$A377+1,FALSE)","v":{"$error":"#N/A"}}]
["368",{"$f":"IF(ISBLANK(HLOOKUP(\"Raumdichte\",pqidat!$A$4:$BZ$500,$A378+1,FALSE)),\"\",A378)","v":"368"},{"$f":"HLOOKUP(\"Asphaltsorte\",pqidat!A$4:BZ$1000,$A378+1,FALSE)","v":{"$error":"#N/A"}},{"$f":"HLOOKUP(\"Standort\",pqidat!A$4:BZ$1000,$A378+1,FALSE)&\" \"&INDEX(pqidat!$A$1:$Z$1000,A378+4,MATCH(\"Standort\",pqidat!$A$4:$Z$4,0)+1)","v":{"$error":"#N/A"}},{"$f":"HLOOKUP(\"Station\",pqidat!A$4:BZ$1000,$A378+1,FALSE)","v":{"$error":"#N/A"}},{"$f":"HLOOKUP(\"Dichte\",pqidat!A$4:BZ$1000,$A378+1,FALSE)","v":{"$error":"#N/A"}},{"$f":"HLOOKUP(\"Verdichtung\",pqidat!A$4:BZ$1000,$A378+1,FALSE)","v":{"$error":"#N/A"}},{"$f":"HLOOKUP(\"Temp. OberflÃ¤che\",pqidat!A$4:BZ$1000,$A378+1,FALSE)","v":{"$error":"#N/A"}},{"$f":"HLOOKUP(\"GPS\",pqidat!A$4:BZ$1000,$A378+1,FALSE)","v":{"$error":"#N/A"}},{"$f":"HLOOKUP(\"Korrektur\",pqidat!A$4:BZ$1000,$A378+1,FALSE)","v":{"$error":"#N/A"}}]
["369",{"$f":"IF(ISBLANK(HLOOKUP(\"Raumdichte\",pqidat!$A$4:$BZ$500,$A379+1,FALSE)),\"\",A379)","v":"369"},{"$f":"HLOOKUP(\"Asphaltsorte\",pqidat!A$4:BZ$1000,$A379+1,FALSE)","v":{"$error":"#N/A"}},{"$f":"HLOOKUP(\"Standort\",pqidat!A$4:BZ$1000,$A379+1,FALSE)&\" \"&INDEX(pqidat!$A$1:$Z$1000,A379+4,MATCH(\"Standort\",pqidat!$A$4:$Z$4,0)+1)","v":{"$error":"#N/A"}},{"$f":"HLOOKUP(\"Station\",pqidat!A$4:BZ$1000,$A379+1,FALSE)","v":{"$error":"#N/A"}},{"$f":"HLOOKUP(\"Dichte\",pqidat!A$4:BZ$1000,$A379+1,FALSE)","v":{"$error":"#N/A"}},{"$f":"HLOOKUP(\"Verdichtung\",pqidat!A$4:BZ$1000,$A379+1,FALSE)","v":{"$error":"#N/A"}},{"$f":"HLOOKUP(\"Temp. OberflÃ¤che\",pqidat!A$4:BZ$1000,$A379+1,FALSE)","v":{"$error":"#N/A"}},{"$f":"HLOOKUP(\"GPS\",pqidat!A$4:BZ$1000,$A379+1,FALSE)","v":{"$error":"#N/A"}},{"$f":"HLOOKUP(\"Korrektur\",pqidat!A$4:BZ$1000,$A379+1,FALSE)","v":{"$error":"#N/A"}}]
["370",{"$f":"IF(ISBLANK(HLOOKUP(\"Raumdichte\",pqidat!$A$4:$BZ$500,$A380+1,FALSE)),\"\",A380)","v":"370"},{"$f":"HLOOKUP(\"Asphaltsorte\",pqidat!A$4:BZ$1000,$A380+1,FALSE)","v":{"$error":"#N/A"}},{"$f":"HLOOKUP(\"Standort\",pqidat!A$4:BZ$1000,$A380+1,FALSE)&\" \"&INDEX(pqidat!$A$1:$Z$1000,A380+4,MATCH(\"Standort\",pqidat!$A$4:$Z$4,0)+1)","v":{"$error":"#N/A"}},{"$f":"HLOOKUP(\"Station\",pqidat!A$4:BZ$1000,$A380+1,FALSE)","v":{"$error":"#N/A"}},{"$f":"HLOOKUP(\"Dichte\",pqidat!A$4:BZ$1000,$A380+1,FALSE)","v":{"$error":"#N/A"}},{"$f":"HLOOKUP(\"Verdichtung\",pqidat!A$4:BZ$1000,$A380+1,FALSE)","v":{"$error":"#N/A"}},{"$f":"HLOOKUP(\"Temp. OberflÃ¤che\",pqidat!A$4:BZ$1000,$A380+1,FALSE)","v":{"$error":"#N/A"}},{"$f":"HLOOKUP(\"GPS\",pqidat!A$4:BZ$1000,$A380+1,FALSE)","v":{"$error":"#N/A"}},{"$f":"HLOOKUP(\"Korrektur\",pqidat!A$4:BZ$1000,$A380+1,FALSE)","v":{"$error":"#N/A"}}]
["371",{"$f":"IF(ISBLANK(HLOOKUP(\"Raumdichte\",pqidat!$A$4:$BZ$500,$A381+1,FALSE)),\"\",A381)","v":"371"},{"$f":"HLOOKUP(\"Asphaltsorte\",pqidat!A$4:BZ$1000,$A381+1,FALSE)","v":{"$error":"#N/A"}},{"$f":"HLOOKUP(\"Standort\",pqidat!A$4:BZ$1000,$A381+1,FALSE)&\" \"&INDEX(pqidat!$A$1:$Z$1000,A381+4,MATCH(\"Standort\",pqidat!$A$4:$Z$4,0)+1)","v":{"$error":"#N/A"}},{"$f":"HLOOKUP(\"Station\",pqidat!A$4:BZ$1000,$A381+1,FALSE)","v":{"$error":"#N/A"}},{"$f":"HLOOKUP(\"Dichte\",pqidat!A$4:BZ$1000,$A381+1,FALSE)","v":{"$error":"#N/A"}},{"$f":"HLOOKUP(\"Verdichtung\",pqidat!A$4:BZ$1000,$A381+1,FALSE)","v":{"$error":"#N/A"}},{"$f":"HLOOKUP(\"Temp. OberflÃ¤che\",pqidat!A$4:BZ$1000,$A381+1,FALSE)","v":{"$error":"#N/A"}},{"$f":"HLOOKUP(\"GPS\",pqidat!A$4:BZ$1000,$A381+1,FALSE)","v":{"$error":"#N/A"}},{"$f":"HLOOKUP(\"Korrektur\",pqidat!A$4:BZ$1000,$A381+1,FALSE)","v":{"$error":"#N/A"}}]
["372",{"$f":"IF(ISBLANK(HLOOKUP(\"Raumdichte\",pqidat!$A$4:$BZ$500,$A382+1,FALSE)),\"\",A382)","v":"372"},{"$f":"HLOOKUP(\"Asphaltsorte\",pqidat!A$4:BZ$1000,$A382+1,FALSE)","v":{"$error":"#N/A"}},{"$f":"HLOOKUP(\"Standort\",pqidat!A$4:BZ$1000,$A382+1,FALSE)&\" \"&INDEX(pqidat!$A$1:$Z$1000,A382+4,MATCH(\"Standort\",pqidat!$A$4:$Z$4,0)+1)","v":{"$error":"#N/A"}},{"$f":"HLOOKUP(\"Station\",pqidat!A$4:BZ$1000,$A382+1,FALSE)","v":{"$error":"#N/A"}},{"$f":"HLOOKUP(\"Dichte\",pqidat!A$4:BZ$1000,$A382+1,FALSE)","v":{"$error":"#N/A"}},{"$f":"HLOOKUP(\"Verdichtung\",pqidat!A$4:BZ$1000,$A382+1,FALSE)","v":{"$error":"#N/A"}},{"$f":"HLOOKUP(\"Temp. OberflÃ¤che\",pqidat!A$4:BZ$1000,$A382+1,FALSE)","v":{"$error":"#N/A"}},{"$f":"HLOOKUP(\"GPS\",pqidat!A$4:BZ$1000,$A382+1,FALSE)","v":{"$error":"#N/A"}},{"$f":"HLOOKUP(\"Korrektur\",pqidat!A$4:BZ$1000,$A382+1,FALSE)","v":{"$error":"#N/A"}}]
["373",{"$f":"IF(ISBLANK(HLOOKUP(\"Raumdichte\",pqidat!$A$4:$BZ$500,$A383+1,FALSE)),\"\",A383)","v":"373"},{"$f":"HLOOKUP(\"Asphaltsorte\",pqidat!A$4:BZ$1000,$A383+1,FALSE)","v":{"$error":"#N/A"}},{"$f":"HLOOKUP(\"Standort\",pqidat!A$4:BZ$1000,$A383+1,FALSE)&\" \"&INDEX(pqidat!$A$1:$Z$1000,A383+4,MATCH(\"Standort\",pqidat!$A$4:$Z$4,0)+1)","v":{"$error":"#N/A"}},{"$f":"HLOOKUP(\"Station\",pqidat!A$4:BZ$1000,$A383+1,FALSE)","v":{"$error":"#N/A"}},{"$f":"HLOOKUP(\"Dichte\",pqidat!A$4:BZ$1000,$A383+1,FALSE)","v":{"$error":"#N/A"}},{"$f":"HLOOKUP(\"Verdichtung\",pqidat!A$4:BZ$1000,$A383+1,FALSE)","v":{"$error":"#N/A"}},{"$f":"HLOOKUP(\"Temp. OberflÃ¤che\",pqidat!A$4:BZ$1000,$A383+1,FALSE)","v":{"$error":"#N/A"}},{"$f":"HLOOKUP(\"GPS\",pqidat!A$4:BZ$1000,$A383+1,FALSE)","v":{"$error":"#N/A"}},{"$f":"HLOOKUP(\"Korrektur\",pqidat!A$4:BZ$1000,$A383+1,FALSE)","v":{"$error":"#N/A"}}]
["374",{"$f":"IF(ISBLANK(HLOOKUP(\"Raumdichte\",pqidat!$A$4:$BZ$500,$A384+1,FALSE)),\"\",A384)","v":"374"},{"$f":"HLOOKUP(\"Asphaltsorte\",pqidat!A$4:BZ$1000,$A384+1,FALSE)","v":{"$error":"#N/A"}},{"$f":"HLOOKUP(\"Standort\",pqidat!A$4:BZ$1000,$A384+1,FALSE)&\" \"&INDEX(pqidat!$A$1:$Z$1000,A384+4,MATCH(\"Standort\",pqidat!$A$4:$Z$4,0)+1)","v":{"$error":"#N/A"}},{"$f":"HLOOKUP(\"Station\",pqidat!A$4:BZ$1000,$A384+1,FALSE)","v":{"$error":"#N/A"}},{"$f":"HLOOKUP(\"Dichte\",pqidat!A$4:BZ$1000,$A384+1,FALSE)","v":{"$error":"#N/A"}},{"$f":"HLOOKUP(\"Verdichtung\",pqidat!A$4:BZ$1000,$A384+1,FALSE)","v":{"$error":"#N/A"}},{"$f":"HLOOKUP(\"Temp. OberflÃ¤che\",pqidat!A$4:BZ$1000,$A384+1,FALSE)","v":{"$error":"#N/A"}},{"$f":"HLOOKUP(\"GPS\",pqidat!A$4:BZ$1000,$A384+1,FALSE)","v":{"$error":"#N/A"}},{"$f":"HLOOKUP(\"Korrektur\",pqidat!A$4:BZ$1000,$A384+1,FALSE)","v":{"$error":"#N/A"}}]
["375",{"$f":"IF(ISBLANK(HLOOKUP(\"Raumdichte\",pqidat!$A$4:$BZ$500,$A385+1,FALSE)),\"\",A385)","v":"375"},{"$f":"HLOOKUP(\"Asphaltsorte\",pqidat!A$4:BZ$1000,$A385+1,FALSE)","v":{"$error":"#N/A"}},{"$f":"HLOOKUP(\"Standort\",pqidat!A$4:BZ$1000,$A385+1,FALSE)&\" \"&INDEX(pqidat!$A$1:$Z$1000,A385+4,MATCH(\"Standort\",pqidat!$A$4:$Z$4,0)+1)","v":{"$error":"#N/A"}},{"$f":"HLOOKUP(\"Station\",pqidat!A$4:BZ$1000,$A385+1,FALSE)","v":{"$error":"#N/A"}},{"$f":"HLOOKUP(\"Dichte\",pqidat!A$4:BZ$1000,$A385+1,FALSE)","v":{"$error":"#N/A"}},{"$f":"HLOOKUP(\"Verdichtung\",pqidat!A$4:BZ$1000,$A385+1,FALSE)","v":{"$error":"#N/A"}},{"$f":"HLOOKUP(\"Temp. OberflÃ¤che\",pqidat!A$4:BZ$1000,$A385+1,FALSE)","v":{"$error":"#N/A"}},{"$f":"HLOOKUP(\"GPS\",pqidat!A$4:BZ$1000,$A385+1,FALSE)","v":{"$error":"#N/A"}},{"$f":"HLOOKUP(\"Korrektur\",pqidat!A$4:BZ$1000,$A385+1,FALSE)","v":{"$error":"#N/A"}}]
["376",{"$f":"IF(ISBLANK(HLOOKUP(\"Raumdichte\",pqidat!$A$4:$BZ$500,$A386+1,FALSE)),\"\",A386)","v":"376"},{"$f":"HLOOKUP(\"Asphaltsorte\",pqidat!A$4:BZ$1000,$A386+1,FALSE)","v":{"$error":"#N/A"}},{"$f":"HLOOKUP(\"Standort\",pqidat!A$4:BZ$1000,$A386+1,FALSE)&\" \"&INDEX(pqidat!$A$1:$Z$1000,A386+4,MATCH(\"Standort\",pqidat!$A$4:$Z$4,0)+1)","v":{"$error":"#N/A"}},{"$f":"HLOOKUP(\"Station\",pqidat!A$4:BZ$1000,$A386+1,FALSE)","v":{"$error":"#N/A"}},{"$f":"HLOOKUP(\"Dichte\",pqidat!A$4:BZ$1000,$A386+1,FALSE)","v":{"$error":"#N/A"}},{"$f":"HLOOKUP(\"Verdichtung\",pqidat!A$4:BZ$1000,$A386+1,FALSE)","v":{"$error":"#N/A"}},{"$f":"HLOOKUP(\"Temp. OberflÃ¤che\",pqidat!A$4:BZ$1000,$A386+1,FALSE)","v":{"$error":"#N/A"}},{"$f":"HLOOKUP(\"GPS\",pqidat!A$4:BZ$1000,$A386+1,FALSE)","v":{"$error":"#N/A"}},{"$f":"HLOOKUP(\"Korrektur\",pqidat!A$4:BZ$1000,$A386+1,FALSE)","v":{"$error":"#N/A"}}]
["377",{"$f":"IF(ISBLANK(HLOOKUP(\"Raumdichte\",pqidat!$A$4:$BZ$500,$A387+1,FALSE)),\"\",A387)","v":"377"},{"$f":"HLOOKUP(\"Asphaltsorte\",pqidat!A$4:BZ$1000,$A387+1,FALSE)","v":{"$error":"#N/A"}},{"$f":"HLOOKUP(\"Standort\",pqidat!A$4:BZ$1000,$A387+1,FALSE)&\" \"&INDEX(pqidat!$A$1:$Z$1000,A387+4,MATCH(\"Standort\",pqidat!$A$4:$Z$4,0)+1)","v":{"$error":"#N/A"}},{"$f":"HLOOKUP(\"Station\",pqidat!A$4:BZ$1000,$A387+1,FALSE)","v":{"$error":"#N/A"}},{"$f":"HLOOKUP(\"Dichte\",pqidat!A$4:BZ$1000,$A387+1,FALSE)","v":{"$error":"#N/A"}},{"$f":"HLOOKUP(\"Verdichtung\",pqidat!A$4:BZ$1000,$A387+1,FALSE)","v":{"$error":"#N/A"}},{"$f":"HLOOKUP(\"Temp. OberflÃ¤che\",pqidat!A$4:BZ$1000,$A387+1,FALSE)","v":{"$error":"#N/A"}},{"$f":"HLOOKUP(\"GPS\",pqidat!A$4:BZ$1000,$A387+1,FALSE)","v":{"$error":"#N/A"}},{"$f":"HLOOKUP(\"Korrektur\",pqidat!A$4:BZ$1000,$A387+1,FALSE)","v":{"$error":"#N/A"}}]
["378",{"$f":"IF(ISBLANK(HLOOKUP(\"Raumdichte\",pqidat!$A$4:$BZ$500,$A388+1,FALSE)),\"\",A388)","v":"378"},{"$f":"HLOOKUP(\"Asphaltsorte\",pqidat!A$4:BZ$1000,$A388+1,FALSE)","v":{"$error":"#N/A"}},{"$f":"HLOOKUP(\"Standort\",pqidat!A$4:BZ$1000,$A388+1,FALSE)&\" \"&INDEX(pqidat!$A$1:$Z$1000,A388+4,MATCH(\"Standort\",pqidat!$A$4:$Z$4,0)+1)","v":{"$error":"#N/A"}},{"$f":"HLOOKUP(\"Station\",pqidat!A$4:BZ$1000,$A388+1,FALSE)","v":{"$error":"#N/A"}},{"$f":"HLOOKUP(\"Dichte\",pqidat!A$4:BZ$1000,$A388+1,FALSE)","v":{"$error":"#N/A"}},{"$f":"HLOOKUP(\"Verdichtung\",pqidat!A$4:BZ$1000,$A388+1,FALSE)","v":{"$error":"#N/A"}},{"$f":"HLOOKUP(\"Temp. OberflÃ¤che\",pqidat!A$4:BZ$1000,$A388+1,FALSE)","v":{"$error":"#N/A"}},{"$f":"HLOOKUP(\"GPS\",pqidat!A$4:BZ$1000,$A388+1,FALSE)","v":{"$error":"#N/A"}},{"$f":"HLOOKUP(\"Korrektur\",pqidat!A$4:BZ$1000,$A388+1,FALSE)","v":{"$error":"#N/A"}}]
["379",{"$f":"IF(ISBLANK(HLOOKUP(\"Raumdichte\",pqidat!$A$4:$BZ$500,$A389+1,FALSE)),\"\",A389)","v":"379"},{"$f":"HLOOKUP(\"Asphaltsorte\",pqidat!A$4:BZ$1000,$A389+1,FALSE)","v":{"$error":"#N/A"}},{"$f":"HLOOKUP(\"Standort\",pqidat!A$4:BZ$1000,$A389+1,FALSE)&\" \"&INDEX(pqidat!$A$1:$Z$1000,A389+4,MATCH(\"Standort\",pqidat!$A$4:$Z$4,0)+1)","v":{"$error":"#N/A"}},{"$f":"HLOOKUP(\"Station\",pqidat!A$4:BZ$1000,$A389+1,FALSE)","v":{"$error":"#N/A"}},{"$f":"HLOOKUP(\"Dichte\",pqidat!A$4:BZ$1000,$A389+1,FALSE)","v":{"$error":"#N/A"}},{"$f":"HLOOKUP(\"Verdichtung\",pqidat!A$4:BZ$1000,$A389+1,FALSE)","v":{"$error":"#N/A"}},{"$f":"HLOOKUP(\"Temp. OberflÃ¤che\",pqidat!A$4:BZ$1000,$A389+1,FALSE)","v":{"$error":"#N/A"}},{"$f":"HLOOKUP(\"GPS\",pqidat!A$4:BZ$1000,$A389+1,FALSE)","v":{"$error":"#N/A"}},{"$f":"HLOOKUP(\"Korrektur\",pqidat!A$4:BZ$1000,$A389+1,FALSE)","v":{"$error":"#N/A"}}]
["380",{"$f":"IF(ISBLANK(HLOOKUP(\"Raumdichte\",pqidat!$A$4:$BZ$500,$A390+1,FALSE)),\"\",A390)","v":"380"},{"$f":"HLOOKUP(\"Asphaltsorte\",pqidat!A$4:BZ$1000,$A390+1,FALSE)","v":{"$error":"#N/A"}},{"$f":"HLOOKUP(\"Standort\",pqidat!A$4:BZ$1000,$A390+1,FALSE)&\" \"&INDEX(pqidat!$A$1:$Z$1000,A390+4,MATCH(\"Standort\",pqidat!$A$4:$Z$4,0)+1)","v":{"$error":"#N/A"}},{"$f":"HLOOKUP(\"Station\",pqidat!A$4:BZ$1000,$A390+1,FALSE)","v":{"$error":"#N/A"}},{"$f":"HLOOKUP(\"Dichte\",pqidat!A$4:BZ$1000,$A390+1,FALSE)","v":{"$error":"#N/A"}},{"$f":"HLOOKUP(\"Verdichtung\",pqidat!A$4:BZ$1000,$A390+1,FALSE)","v":{"$error":"#N/A"}},{"$f":"HLOOKUP(\"Temp. OberflÃ¤che\",pqidat!A$4:BZ$1000,$A390+1,FALSE)","v":{"$error":"#N/A"}},{"$f":"HLOOKUP(\"GPS\",pqidat!A$4:BZ$1000,$A390+1,FALSE)","v":{"$error":"#N/A"}},{"$f":"HLOOKUP(\"Korrektur\",pqidat!A$4:BZ$1000,$A390+1,FALSE)","v":{"$error":"#N/A"}}]
["381",{"$f":"IF(ISBLANK(HLOOKUP(\"Raumdichte\",pqidat!$A$4:$BZ$500,$A391+1,FALSE)),\"\",A391)","v":"381"},{"$f":"HLOOKUP(\"Asphaltsorte\",pqidat!A$4:BZ$1000,$A391+1,FALSE)","v":{"$error":"#N/A"}},{"$f":"HLOOKUP(\"Standort\",pqidat!A$4:BZ$1000,$A391+1,FALSE)&\" \"&INDEX(pqidat!$A$1:$Z$1000,A391+4,MATCH(\"Standort\",pqidat!$A$4:$Z$4,0)+1)","v":{"$error":"#N/A"}},{"$f":"HLOOKUP(\"Station\",pqidat!A$4:BZ$1000,$A391+1,FALSE)","v":{"$error":"#N/A"}},{"$f":"HLOOKUP(\"Dichte\",pqidat!A$4:BZ$1000,$A391+1,FALSE)","v":{"$error":"#N/A"}},{"$f":"HLOOKUP(\"Verdichtung\",pqidat!A$4:BZ$1000,$A391+1,FALSE)","v":{"$error":"#N/A"}},{"$f":"HLOOKUP(\"Temp. OberflÃ¤che\",pqidat!A$4:BZ$1000,$A391+1,FALSE)","v":{"$error":"#N/A"}},{"$f":"HLOOKUP(\"GPS\",pqidat!A$4:BZ$1000,$A391+1,FALSE)","v":{"$error":"#N/A"}},{"$f":"HLOOKUP(\"Korrektur\",pqidat!A$4:BZ$1000,$A391+1,FALSE)","v":{"$error":"#N/A"}}]
["382",{"$f":"IF(ISBLANK(HLOOKUP(\"Raumdichte\",pqidat!$A$4:$BZ$500,$A392+1,FALSE)),\"\",A392)","v":"382"},{"$f":"HLOOKUP(\"Asphaltsorte\",pqidat!A$4:BZ$1000,$A392+1,FALSE)","v":{"$error":"#N/A"}},{"$f":"HLOOKUP(\"Standort\",pqidat!A$4:BZ$1000,$A392+1,FALSE)&\" \"&INDEX(pqidat!$A$1:$Z$1000,A392+4,MATCH(\"Standort\",pqidat!$A$4:$Z$4,0)+1)","v":{"$error":"#N/A"}},{"$f":"HLOOKUP(\"Station\",pqidat!A$4:BZ$1000,$A392+1,FALSE)","v":{"$error":"#N/A"}},{"$f":"HLOOKUP(\"Dichte\",pqidat!A$4:BZ$1000,$A392+1,FALSE)","v":{"$error":"#N/A"}},{"$f":"HLOOKUP(\"Verdichtung\",pqidat!A$4:BZ$1000,$A392+1,FALSE)","v":{"$error":"#N/A"}},{"$f":"HLOOKUP(\"Temp. OberflÃ¤che\",pqidat!A$4:BZ$1000,$A392+1,FALSE)","v":{"$error":"#N/A"}},{"$f":"HLOOKUP(\"GPS\",pqidat!A$4:BZ$1000,$A392+1,FALSE)","v":{"$error":"#N/A"}},{"$f":"HLOOKUP(\"Korrektur\",pqidat!A$4:BZ$1000,$A392+1,FALSE)","v":{"$error":"#N/A"}}]
["383",{"$f":"IF(ISBLANK(HLOOKUP(\"Raumdichte\",pqidat!$A$4:$BZ$500,$A393+1,FALSE)),\"\",A393)","v":"383"},{"$f":"HLOOKUP(\"Asphaltsorte\",pqidat!A$4:BZ$1000,$A393+1,FALSE)","v":{"$error":"#N/A"}},{"$f":"HLOOKUP(\"Standort\",pqidat!A$4:BZ$1000,$A393+1,FALSE)&\" \"&INDEX(pqidat!$A$1:$Z$1000,A393+4,MATCH(\"Standort\",pqidat!$A$4:$Z$4,0)+1)","v":{"$error":"#N/A"}},{"$f":"HLOOKUP(\"Station\",pqidat!A$4:BZ$1000,$A393+1,FALSE)","v":{"$error":"#N/A"}},{"$f":"HLOOKUP(\"Dichte\",pqidat!A$4:BZ$1000,$A393+1,FALSE)","v":{"$error":"#N/A"}},{"$f":"HLOOKUP(\"Verdichtung\",pqidat!A$4:BZ$1000,$A393+1,FALSE)","v":{"$error":"#N/A"}},{"$f":"HLOOKUP(\"Temp. OberflÃ¤che\",pqidat!A$4:BZ$1000,$A393+1,FALSE)","v":{"$error":"#N/A"}},{"$f":"HLOOKUP(\"GPS\",pqidat!A$4:BZ$1000,$A393+1,FALSE)","v":{"$error":"#N/A"}},{"$f":"HLOOKUP(\"Korrektur\",pqidat!A$4:BZ$1000,$A393+1,FALSE)","v":{"$error":"#N/A"}}]
["384",{"$f":"IF(ISBLANK(HLOOKUP(\"Raumdichte\",pqidat!$A$4:$BZ$500,$A394+1,FALSE)),\"\",A394)","v":"384"},{"$f":"HLOOKUP(\"Asphaltsorte\",pqidat!A$4:BZ$1000,$A394+1,FALSE)","v":{"$error":"#N/A"}},{"$f":"HLOOKUP(\"Standort\",pqidat!A$4:BZ$1000,$A394+1,FALSE)&\" \"&INDEX(pqidat!$A$1:$Z$1000,A394+4,MATCH(\"Standort\",pqidat!$A$4:$Z$4,0)+1)","v":{"$error":"#N/A"}},{"$f":"HLOOKUP(\"Station\",pqidat!A$4:BZ$1000,$A394+1,FALSE)","v":{"$error":"#N/A"}},{"$f":"HLOOKUP(\"Dichte\",pqidat!A$4:BZ$1000,$A394+1,FALSE)","v":{"$error":"#N/A"}},{"$f":"HLOOKUP(\"Verdichtung\",pqidat!A$4:BZ$1000,$A394+1,FALSE)","v":{"$error":"#N/A"}},{"$f":"HLOOKUP(\"Temp. OberflÃ¤che\",pqidat!A$4:BZ$1000,$A394+1,FALSE)","v":{"$error":"#N/A"}},{"$f":"HLOOKUP(\"GPS\",pqidat!A$4:BZ$1000,$A394+1,FALSE)","v":{"$error":"#N/A"}},{"$f":"HLOOKUP(\"Korrektur\",pqidat!A$4:BZ$1000,$A394+1,FALSE)","v":{"$error":"#N/A"}}]
["385",{"$f":"IF(ISBLANK(HLOOKUP(\"Raumdichte\",pqidat!$A$4:$BZ$500,$A395+1,FALSE)),\"\",A395)","v":"385"},{"$f":"HLOOKUP(\"Asphaltsorte\",pqidat!A$4:BZ$1000,$A395+1,FALSE)","v":{"$error":"#N/A"}},{"$f":"HLOOKUP(\"Standort\",pqidat!A$4:BZ$1000,$A395+1,FALSE)&\" \"&INDEX(pqidat!$A$1:$Z$1000,A395+4,MATCH(\"Standort\",pqidat!$A$4:$Z$4,0)+1)","v":{"$error":"#N/A"}},{"$f":"HLOOKUP(\"Station\",pqidat!A$4:BZ$1000,$A395+1,FALSE)","v":{"$error":"#N/A"}},{"$f":"HLOOKUP(\"Dichte\",pqidat!A$4:BZ$1000,$A395+1,FALSE)","v":{"$error":"#N/A"}},{"$f":"HLOOKUP(\"Verdichtung\",pqidat!A$4:BZ$1000,$A395+1,FALSE)","v":{"$error":"#N/A"}},{"$f":"HLOOKUP(\"Temp. OberflÃ¤che\",pqidat!A$4:BZ$1000,$A395+1,FALSE)","v":{"$error":"#N/A"}},{"$f":"HLOOKUP(\"GPS\",pqidat!A$4:BZ$1000,$A395+1,FALSE)","v":{"$error":"#N/A"}},{"$f":"HLOOKUP(\"Korrektur\",pqidat!A$4:BZ$1000,$A395+1,FALSE)","v":{"$error":"#N/A"}}]
["386",{"$f":"IF(ISBLANK(HLOOKUP(\"Raumdichte\",pqidat!$A$4:$BZ$500,$A396+1,FALSE)),\"\",A396)","v":"386"},{"$f":"HLOOKUP(\"Asphaltsorte\",pqidat!A$4:BZ$1000,$A396+1,FALSE)","v":{"$error":"#N/A"}},{"$f":"HLOOKUP(\"Standort\",pqidat!A$4:BZ$1000,$A396+1,FALSE)&\" \"&INDEX(pqidat!$A$1:$Z$1000,A396+4,MATCH(\"Standort\",pqidat!$A$4:$Z$4,0)+1)","v":{"$error":"#N/A"}},{"$f":"HLOOKUP(\"Station\",pqidat!A$4:BZ$1000,$A396+1,FALSE)","v":{"$error":"#N/A"}},{"$f":"HLOOKUP(\"Dichte\",pqidat!A$4:BZ$1000,$A396+1,FALSE)","v":{"$error":"#N/A"}},{"$f":"HLOOKUP(\"Verdichtung\",pqidat!A$4:BZ$1000,$A396+1,FALSE)","v":{"$error":"#N/A"}},{"$f":"HLOOKUP(\"Temp. OberflÃ¤che\",pqidat!A$4:BZ$1000,$A396+1,FALSE)","v":{"$error":"#N/A"}},{"$f":"HLOOKUP(\"GPS\",pqidat!A$4:BZ$1000,$A396+1,FALSE)","v":{"$error":"#N/A"}},{"$f":"HLOOKUP(\"Korrektur\",pqidat!A$4:BZ$1000,$A396+1,FALSE)","v":{"$error":"#N/A"}}]
["387",{"$f":"IF(ISBLANK(HLOOKUP(\"Raumdichte\",pqidat!$A$4:$BZ$500,$A397+1,FALSE)),\"\",A397)","v":"387"},{"$f":"HLOOKUP(\"Asphaltsorte\",pqidat!A$4:BZ$1000,$A397+1,FALSE)","v":{"$error":"#N/A"}},{"$f":"HLOOKUP(\"Standort\",pqidat!A$4:BZ$1000,$A397+1,FALSE)&\" \"&INDEX(pqidat!$A$1:$Z$1000,A397+4,MATCH(\"Standort\",pqidat!$A$4:$Z$4,0)+1)","v":{"$error":"#N/A"}},{"$f":"HLOOKUP(\"Station\",pqidat!A$4:BZ$1000,$A397+1,FALSE)","v":{"$error":"#N/A"}},{"$f":"HLOOKUP(\"Dichte\",pqidat!A$4:BZ$1000,$A397+1,FALSE)","v":{"$error":"#N/A"}},{"$f":"HLOOKUP(\"Verdichtung\",pqidat!A$4:BZ$1000,$A397+1,FALSE)","v":{"$error":"#N/A"}},{"$f":"HLOOKUP(\"Temp. OberflÃ¤che\",pqidat!A$4:BZ$1000,$A397+1,FALSE)","v":{"$error":"#N/A"}},{"$f":"HLOOKUP(\"GPS\",pqidat!A$4:BZ$1000,$A397+1,FALSE)","v":{"$error":"#N/A"}},{"$f":"HLOOKUP(\"Korrektur\",pqidat!A$4:BZ$1000,$A397+1,FALSE)","v":{"$error":"#N/A"}}]
["388",{"$f":"IF(ISBLANK(HLOOKUP(\"Raumdichte\",pqidat!$A$4:$BZ$500,$A398+1,FALSE)),\"\",A398)","v":"388"},{"$f":"HLOOKUP(\"Asphaltsorte\",pqidat!A$4:BZ$1000,$A398+1,FALSE)","v":{"$error":"#N/A"}},{"$f":"HLOOKUP(\"Standort\",pqidat!A$4:BZ$1000,$A398+1,FALSE)&\" \"&INDEX(pqidat!$A$1:$Z$1000,A398+4,MATCH(\"Standort\",pqidat!$A$4:$Z$4,0)+1)","v":{"$error":"#N/A"}},{"$f":"HLOOKUP(\"Station\",pqidat!A$4:BZ$1000,$A398+1,FALSE)","v":{"$error":"#N/A"}},{"$f":"HLOOKUP(\"Dichte\",pqidat!A$4:BZ$1000,$A398+1,FALSE)","v":{"$error":"#N/A"}},{"$f":"HLOOKUP(\"Verdichtung\",pqidat!A$4:BZ$1000,$A398+1,FALSE)","v":{"$error":"#N/A"}},{"$f":"HLOOKUP(\"Temp. OberflÃ¤che\",pqidat!A$4:BZ$1000,$A398+1,FALSE)","v":{"$error":"#N/A"}},{"$f":"HLOOKUP(\"GPS\",pqidat!A$4:BZ$1000,$A398+1,FALSE)","v":{"$error":"#N/A"}},{"$f":"HLOOKUP(\"Korrektur\",pqidat!A$4:BZ$1000,$A398+1,FALSE)","v":{"$error":"#N/A"}}]
["389",{"$f":"IF(ISBLANK(HLOOKUP(\"Raumdichte\",pqidat!$A$4:$BZ$500,$A399+1,FALSE)),\"\",A399)","v":"389"},{"$f":"HLOOKUP(\"Asphaltsorte\",pqidat!A$4:BZ$1000,$A399+1,FALSE)","v":{"$error":"#N/A"}},{"$f":"HLOOKUP(\"Standort\",pqidat!A$4:BZ$1000,$A399+1,FALSE)&\" \"&INDEX(pqidat!$A$1:$Z$1000,A399+4,MATCH(\"Standort\",pqidat!$A$4:$Z$4,0)+1)","v":{"$error":"#N/A"}},{"$f":"HLOOKUP(\"Station\",pqidat!A$4:BZ$1000,$A399+1,FALSE)","v":{"$error":"#N/A"}},{"$f":"HLOOKUP(\"Dichte\",pqidat!A$4:BZ$1000,$A399+1,FALSE)","v":{"$error":"#N/A"}},{"$f":"HLOOKUP(\"Verdichtung\",pqidat!A$4:BZ$1000,$A399+1,FALSE)","v":{"$error":"#N/A"}},{"$f":"HLOOKUP(\"Temp. OberflÃ¤che\",pqidat!A$4:BZ$1000,$A399+1,FALSE)","v":{"$error":"#N/A"}},{"$f":"HLOOKUP(\"GPS\",pqidat!A$4:BZ$1000,$A399+1,FALSE)","v":{"$error":"#N/A"}},{"$f":"HLOOKUP(\"Korrektur\",pqidat!A$4:BZ$1000,$A399+1,FALSE)","v":{"$error":"#N/A"}}]
["390",{"$f":"IF(ISBLANK(HLOOKUP(\"Raumdichte\",pqidat!$A$4:$BZ$500,$A400+1,FALSE)),\"\",A400)","v":"390"},{"$f":"HLOOKUP(\"Asphaltsorte\",pqidat!A$4:BZ$1000,$A400+1,FALSE)","v":{"$error":"#N/A"}},{"$f":"HLOOKUP(\"Standort\",pqidat!A$4:BZ$1000,$A400+1,FALSE)&\" \"&INDEX(pqidat!$A$1:$Z$1000,A400+4,MATCH(\"Standort\",pqidat!$A$4:$Z$4,0)+1)","v":{"$error":"#N/A"}},{"$f":"HLOOKUP(\"Station\",pqidat!A$4:BZ$1000,$A400+1,FALSE)","v":{"$error":"#N/A"}},{"$f":"HLOOKUP(\"Dichte\",pqidat!A$4:BZ$1000,$A400+1,FALSE)","v":{"$error":"#N/A"}},{"$f":"HLOOKUP(\"Verdichtung\",pqidat!A$4:BZ$1000,$A400+1,FALSE)","v":{"$error":"#N/A"}},{"$f":"HLOOKUP(\"Temp. OberflÃ¤che\",pqidat!A$4:BZ$1000,$A400+1,FALSE)","v":{"$error":"#N/A"}},{"$f":"HLOOKUP(\"GPS\",pqidat!A$4:BZ$1000,$A400+1,FALSE)","v":{"$error":"#N/A"}},{"$f":"HLOOKUP(\"Korrektur\",pqidat!A$4:BZ$1000,$A400+1,FALSE)","v":{"$error":"#N/A"}}]
["391",{"$f":"IF(ISBLANK(HLOOKUP(\"Raumdichte\",pqidat!$A$4:$BZ$500,$A401+1,FALSE)),\"\",A401)","v":"391"},{"$f":"HLOOKUP(\"Asphaltsorte\",pqidat!A$4:BZ$1000,$A401+1,FALSE)","v":{"$error":"#N/A"}},{"$f":"HLOOKUP(\"Standort\",pqidat!A$4:BZ$1000,$A401+1,FALSE)&\" \"&INDEX(pqidat!$A$1:$Z$1000,A401+4,MATCH(\"Standort\",pqidat!$A$4:$Z$4,0)+1)","v":{"$error":"#N/A"}},{"$f":"HLOOKUP(\"Station\",pqidat!A$4:BZ$1000,$A401+1,FALSE)","v":{"$error":"#N/A"}},{"$f":"HLOOKUP(\"Dichte\",pqidat!A$4:BZ$1000,$A401+1,FALSE)","v":{"$error":"#N/A"}},{"$f":"HLOOKUP(\"Verdichtung\",pqidat!A$4:BZ$1000,$A401+1,FALSE)","v":{"$error":"#N/A"}},{"$f":"HLOOKUP(\"Temp. OberflÃ¤che\",pqidat!A$4:BZ$1000,$A401+1,FALSE)","v":{"$error":"#N/A"}},{"$f":"HLOOKUP(\"GPS\",pqidat!A$4:BZ$1000,$A401+1,FALSE)","v":{"$error":"#N/A"}},{"$f":"HLOOKUP(\"Korrektur\",pqidat!A$4:BZ$1000,$A401+1,FALSE)","v":{"$error":"#N/A"}}]
["392",{"$f":"IF(ISBLANK(HLOOKUP(\"Raumdichte\",pqidat!$A$4:$BZ$500,$A402+1,FALSE)),\"\",A402)","v":"392"},{"$f":"HLOOKUP(\"Asphaltsorte\",pqidat!A$4:BZ$1000,$A402+1,FALSE)","v":{"$error":"#N/A"}},{"$f":"HLOOKUP(\"Standort\",pqidat!A$4:BZ$1000,$A402+1,FALSE)&\" \"&INDEX(pqidat!$A$1:$Z$1000,A402+4,MATCH(\"Standort\",pqidat!$A$4:$Z$4,0)+1)","v":{"$error":"#N/A"}},{"$f":"HLOOKUP(\"Station\",pqidat!A$4:BZ$1000,$A402+1,FALSE)","v":{"$error":"#N/A"}},{"$f":"HLOOKUP(\"Dichte\",pqidat!A$4:BZ$1000,$A402+1,FALSE)","v":{"$error":"#N/A"}},{"$f":"HLOOKUP(\"Verdichtung\",pqidat!A$4:BZ$1000,$A402+1,FALSE)","v":{"$error":"#N/A"}},{"$f":"HLOOKUP(\"Temp. OberflÃ¤che\",pqidat!A$4:BZ$1000,$A402+1,FALSE)","v":{"$error":"#N/A"}},{"$f":"HLOOKUP(\"GPS\",pqidat!A$4:BZ$1000,$A402+1,FALSE)","v":{"$error":"#N/A"}},{"$f":"HLOOKUP(\"Korrektur\",pqidat!A$4:BZ$1000,$A402+1,FALSE)","v":{"$error":"#N/A"}}]
["393",{"$f":"IF(ISBLANK(HLOOKUP(\"Raumdichte\",pqidat!$A$4:$BZ$500,$A403+1,FALSE)),\"\",A403)","v":"393"},{"$f":"HLOOKUP(\"Asphaltsorte\",pqidat!A$4:BZ$1000,$A403+1,FALSE)","v":{"$error":"#N/A"}},{"$f":"HLOOKUP(\"Standort\",pqidat!A$4:BZ$1000,$A403+1,FALSE)&\" \"&INDEX(pqidat!$A$1:$Z$1000,A403+4,MATCH(\"Standort\",pqidat!$A$4:$Z$4,0)+1)","v":{"$error":"#N/A"}},{"$f":"HLOOKUP(\"Station\",pqidat!A$4:BZ$1000,$A403+1,FALSE)","v":{"$error":"#N/A"}},{"$f":"HLOOKUP(\"Dichte\",pqidat!A$4:BZ$1000,$A403+1,FALSE)","v":{"$error":"#N/A"}},{"$f":"HLOOKUP(\"Verdichtung\",pqidat!A$4:BZ$1000,$A403+1,FALSE)","v":{"$error":"#N/A"}},{"$f":"HLOOKUP(\"Temp. OberflÃ¤che\",pqidat!A$4:BZ$1000,$A403+1,FALSE)","v":{"$error":"#N/A"}},{"$f":"HLOOKUP(\"GPS\",pqidat!A$4:BZ$1000,$A403+1,FALSE)","v":{"$error":"#N/A"}},{"$f":"HLOOKUP(\"Korrektur\",pqidat!A$4:BZ$1000,$A403+1,FALSE)","v":{"$error":"#N/A"}}]
["394",{"$f":"IF(ISBLANK(HLOOKUP(\"Raumdichte\",pqidat!$A$4:$BZ$500,$A404+1,FALSE)),\"\",A404)","v":"394"},{"$f":"HLOOKUP(\"Asphaltsorte\",pqidat!A$4:BZ$1000,$A404+1,FALSE)","v":{"$error":"#N/A"}},{"$f":"HLOOKUP(\"Standort\",pqidat!A$4:BZ$1000,$A404+1,FALSE)&\" \"&INDEX(pqidat!$A$1:$Z$1000,A404+4,MATCH(\"Standort\",pqidat!$A$4:$Z$4,0)+1)","v":{"$error":"#N/A"}},{"$f":"HLOOKUP(\"Station\",pqidat!A$4:BZ$1000,$A404+1,FALSE)","v":{"$error":"#N/A"}},{"$f":"HLOOKUP(\"Dichte\",pqidat!A$4:BZ$1000,$A404+1,FALSE)","v":{"$error":"#N/A"}},{"$f":"HLOOKUP(\"Verdichtung\",pqidat!A$4:BZ$1000,$A404+1,FALSE)","v":{"$error":"#N/A"}},{"$f":"HLOOKUP(\"Temp. OberflÃ¤che\",pqidat!A$4:BZ$1000,$A404+1,FALSE)","v":{"$error":"#N/A"}},{"$f":"HLOOKUP(\"GPS\",pqidat!A$4:BZ$1000,$A404+1,FALSE)","v":{"$error":"#N/A"}},{"$f":"HLOOKUP(\"Korrektur\",pqidat!A$4:BZ$1000,$A404+1,FALSE)","v":{"$error":"#N/A"}}]
["395",{"$f":"IF(ISBLANK(HLOOKUP(\"Raumdichte\",pqidat!$A$4:$BZ$500,$A405+1,FALSE)),\"\",A405)","v":"395"},{"$f":"HLOOKUP(\"Asphaltsorte\",pqidat!A$4:BZ$1000,$A405+1,FALSE)","v":{"$error":"#N/A"}},{"$f":"HLOOKUP(\"Standort\",pqidat!A$4:BZ$1000,$A405+1,FALSE)&\" \"&INDEX(pqidat!$A$1:$Z$1000,A405+4,MATCH(\"Standort\",pqidat!$A$4:$Z$4,0)+1)","v":{"$error":"#N/A"}},{"$f":"HLOOKUP(\"Station\",pqidat!A$4:BZ$1000,$A405+1,FALSE)","v":{"$error":"#N/A"}},{"$f":"HLOOKUP(\"Dichte\",pqidat!A$4:BZ$1000,$A405+1,FALSE)","v":{"$error":"#N/A"}},{"$f":"HLOOKUP(\"Verdichtung\",pqidat!A$4:BZ$1000,$A405+1,FALSE)","v":{"$error":"#N/A"}},{"$f":"HLOOKUP(\"Temp. OberflÃ¤che\",pqidat!A$4:BZ$1000,$A405+1,FALSE)","v":{"$error":"#N/A"}},{"$f":"HLOOKUP(\"GPS\",pqidat!A$4:BZ$1000,$A405+1,FALSE)","v":{"$error":"#N/A"}},{"$f":"HLOOKUP(\"Korrektur\",pqidat!A$4:BZ$1000,$A405+1,FALSE)","v":{"$error":"#N/A"}}]
["396",{"$f":"IF(ISBLANK(HLOOKUP(\"Raumdichte\",pqidat!$A$4:$BZ$500,$A406+1,FALSE)),\"\",A406)","v":"396"},{"$f":"HLOOKUP(\"Asphaltsorte\",pqidat!A$4:BZ$1000,$A406+1,FALSE)","v":{"$error":"#N/A"}},{"$f":"HLOOKUP(\"Standort\",pqidat!A$4:BZ$1000,$A406+1,FALSE)&\" \"&INDEX(pqidat!$A$1:$Z$1000,A406+4,MATCH(\"Standort\",pqidat!$A$4:$Z$4,0)+1)","v":{"$error":"#N/A"}},{"$f":"HLOOKUP(\"Station\",pqidat!A$4:BZ$1000,$A406+1,FALSE)","v":{"$error":"#N/A"}},{"$f":"HLOOKUP(\"Dichte\",pqidat!A$4:BZ$1000,$A406+1,FALSE)","v":{"$error":"#N/A"}},{"$f":"HLOOKUP(\"Verdichtung\",pqidat!A$4:BZ$1000,$A406+1,FALSE)","v":{"$error":"#N/A"}},{"$f":"HLOOKUP(\"Temp. OberflÃ¤che\",pqidat!A$4:BZ$1000,$A406+1,FALSE)","v":{"$error":"#N/A"}},{"$f":"HLOOKUP(\"GPS\",pqidat!A$4:BZ$1000,$A406+1,FALSE)","v":{"$error":"#N/A"}},{"$f":"HLOOKUP(\"Korrektur\",pqidat!A$4:BZ$1000,$A406+1,FALSE)","v":{"$error":"#N/A"}}]
["397",{"$f":"IF(ISBLANK(HLOOKUP(\"Raumdichte\",pqidat!$A$4:$BZ$500,$A407+1,FALSE)),\"\",A407)","v":"397"},{"$f":"HLOOKUP(\"Asphaltsorte\",pqidat!A$4:BZ$1000,$A407+1,FALSE)","v":{"$error":"#N/A"}},{"$f":"HLOOKUP(\"Standort\",pqidat!A$4:BZ$1000,$A407+1,FALSE)&\" \"&INDEX(pqidat!$A$1:$Z$1000,A407+4,MATCH(\"Standort\",pqidat!$A$4:$Z$4,0)+1)","v":{"$error":"#N/A"}},{"$f":"HLOOKUP(\"Station\",pqidat!A$4:BZ$1000,$A407+1,FALSE)","v":{"$error":"#N/A"}},{"$f":"HLOOKUP(\"Dichte\",pqidat!A$4:BZ$1000,$A407+1,FALSE)","v":{"$error":"#N/A"}},{"$f":"HLOOKUP(\"Verdichtung\",pqidat!A$4:BZ$1000,$A407+1,FALSE)","v":{"$error":"#N/A"}},{"$f":"HLOOKUP(\"Temp. OberflÃ¤che\",pqidat!A$4:BZ$1000,$A407+1,FALSE)","v":{"$error":"#N/A"}},{"$f":"HLOOKUP(\"GPS\",pqidat!A$4:BZ$1000,$A407+1,FALSE)","v":{"$error":"#N/A"}},{"$f":"HLOOKUP(\"Korrektur\",pqidat!A$4:BZ$1000,$A407+1,FALSE)","v":{"$error":"#N/A"}}]
["398",{"$f":"IF(ISBLANK(HLOOKUP(\"Raumdichte\",pqidat!$A$4:$BZ$500,$A408+1,FALSE)),\"\",A408)","v":"398"},{"$f":"HLOOKUP(\"Asphaltsorte\",pqidat!A$4:BZ$1000,$A408+1,FALSE)","v":{"$error":"#N/A"}},{"$f":"HLOOKUP(\"Standort\",pqidat!A$4:BZ$1000,$A408+1,FALSE)&\" \"&INDEX(pqidat!$A$1:$Z$1000,A408+4,MATCH(\"Standort\",pqidat!$A$4:$Z$4,0)+1)","v":{"$error":"#N/A"}},{"$f":"HLOOKUP(\"Station\",pqidat!A$4:BZ$1000,$A408+1,FALSE)","v":{"$error":"#N/A"}},{"$f":"HLOOKUP(\"Dichte\",pqidat!A$4:BZ$1000,$A408+1,FALSE)","v":{"$error":"#N/A"}},{"$f":"HLOOKUP(\"Verdichtung\",pqidat!A$4:BZ$1000,$A408+1,FALSE)","v":{"$error":"#N/A"}},{"$f":"HLOOKUP(\"Temp. OberflÃ¤che\",pqidat!A$4:BZ$1000,$A408+1,FALSE)","v":{"$error":"#N/A"}},{"$f":"HLOOKUP(\"GPS\",pqidat!A$4:BZ$1000,$A408+1,FALSE)","v":{"$error":"#N/A"}},{"$f":"HLOOKUP(\"Korrektur\",pqidat!A$4:BZ$1000,$A408+1,FALSE)","v":{"$error":"#N/A"}}]
["399",{"$f":"IF(ISBLANK(HLOOKUP(\"Raumdichte\",pqidat!$A$4:$BZ$500,$A409+1,FALSE)),\"\",A409)","v":"399"},{"$f":"HLOOKUP(\"Asphaltsorte\",pqidat!A$4:BZ$1000,$A409+1,FALSE)","v":{"$error":"#N/A"}},{"$f":"HLOOKUP(\"Standort\",pqidat!A$4:BZ$1000,$A409+1,FALSE)&\" \"&INDEX(pqidat!$A$1:$Z$1000,A409+4,MATCH(\"Standort\",pqidat!$A$4:$Z$4,0)+1)","v":{"$error":"#N/A"}},{"$f":"HLOOKUP(\"Station\",pqidat!A$4:BZ$1000,$A409+1,FALSE)","v":{"$error":"#N/A"}},{"$f":"HLOOKUP(\"Dichte\",pqidat!A$4:BZ$1000,$A409+1,FALSE)","v":{"$error":"#N/A"}},{"$f":"HLOOKUP(\"Verdichtung\",pqidat!A$4:BZ$1000,$A409+1,FALSE)","v":{"$error":"#N/A"}},{"$f":"HLOOKUP(\"Temp. OberflÃ¤che\",pqidat!A$4:BZ$1000,$A409+1,FALSE)","v":{"$error":"#N/A"}},{"$f":"HLOOKUP(\"GPS\",pqidat!A$4:BZ$1000,$A409+1,FALSE)","v":{"$error":"#N/A"}},{"$f":"HLOOKUP(\"Korrektur\",pqidat!A$4:BZ$1000,$A409+1,FALSE)","v":{"$error":"#N/A"}}]
["400",{"$f":"IF(ISBLANK(HLOOKUP(\"Raumdichte\",pqidat!$A$4:$BZ$500,$A410+1,FALSE)),\"\",A410)","v":"400"},{"$f":"HLOOKUP(\"Asphaltsorte\",pqidat!A$4:BZ$1000,$A410+1,FALSE)","v":{"$error":"#N/A"}},{"$f":"HLOOKUP(\"Standort\",pqidat!A$4:BZ$1000,$A410+1,FALSE)&\" \"&INDEX(pqidat!$A$1:$Z$1000,A410+4,MATCH(\"Standort\",pqidat!$A$4:$Z$4,0)+1)","v":{"$error":"#N/A"}},{"$f":"HLOOKUP(\"Station\",pqidat!A$4:BZ$1000,$A410+1,FALSE)","v":{"$error":"#N/A"}},{"$f":"HLOOKUP(\"Dichte\",pqidat!A$4:BZ$1000,$A410+1,FALSE)","v":{"$error":"#N/A"}},{"$f":"HLOOKUP(\"Verdichtung\",pqidat!A$4:BZ$1000,$A410+1,FALSE)","v":{"$error":"#N/A"}},{"$f":"HLOOKUP(\"Temp. OberflÃ¤che\",pqidat!A$4:BZ$1000,$A410+1,FALSE)","v":{"$error":"#N/A"}},{"$f":"HLOOKUP(\"GPS\",pqidat!A$4:BZ$1000,$A410+1,FALSE)","v":{"$error":"#N/A"}},{"$f":"HLOOKUP(\"Korrektur\",pqidat!A$4:BZ$1000,$A410+1,FALSE)","v":{"$error":"#N/A"}}]
["401",{"$f":"IF(ISBLANK(HLOOKUP(\"Raumdichte\",pqidat!$A$4:$BZ$500,$A411+1,FALSE)),\"\",A411)","v":"401"},{"$f":"HLOOKUP(\"Asphaltsorte\",pqidat!A$4:BZ$1000,$A411+1,FALSE)","v":{"$error":"#N/A"}},{"$f":"HLOOKUP(\"Standort\",pqidat!A$4:BZ$1000,$A411+1,FALSE)&\" \"&INDEX(pqidat!$A$1:$Z$1000,A411+4,MATCH(\"Standort\",pqidat!$A$4:$Z$4,0)+1)","v":{"$error":"#N/A"}},{"$f":"HLOOKUP(\"Station\",pqidat!A$4:BZ$1000,$A411+1,FALSE)","v":{"$error":"#N/A"}},{"$f":"HLOOKUP(\"Dichte\",pqidat!A$4:BZ$1000,$A411+1,FALSE)","v":{"$error":"#N/A"}},{"$f":"HLOOKUP(\"Verdichtung\",pqidat!A$4:BZ$1000,$A411+1,FALSE)","v":{"$error":"#N/A"}},{"$f":"HLOOKUP(\"Temp. OberflÃ¤che\",pqidat!A$4:BZ$1000,$A411+1,FALSE)","v":{"$error":"#N/A"}},{"$f":"HLOOKUP(\"GPS\",pqidat!A$4:BZ$1000,$A411+1,FALSE)","v":{"$error":"#N/A"}},{"$f":"HLOOKUP(\"Korrektur\",pqidat!A$4:BZ$1000,$A411+1,FALSE)","v":{"$error":"#N/A"}}]
["402",{"$f":"IF(ISBLANK(HLOOKUP(\"Raumdichte\",pqidat!$A$4:$BZ$500,$A412+1,FALSE)),\"\",A412)","v":"402"},{"$f":"HLOOKUP(\"Asphaltsorte\",pqidat!A$4:BZ$1000,$A412+1,FALSE)","v":{"$error":"#N/A"}},{"$f":"HLOOKUP(\"Standort\",pqidat!A$4:BZ$1000,$A412+1,FALSE)&\" \"&INDEX(pqidat!$A$1:$Z$1000,A412+4,MATCH(\"Standort\",pqidat!$A$4:$Z$4,0)+1)","v":{"$error":"#N/A"}},{"$f":"HLOOKUP(\"Station\",pqidat!A$4:BZ$1000,$A412+1,FALSE)","v":{"$error":"#N/A"}},{"$f":"HLOOKUP(\"Dichte\",pqidat!A$4:BZ$1000,$A412+1,FALSE)","v":{"$error":"#N/A"}},{"$f":"HLOOKUP(\"Verdichtung\",pqidat!A$4:BZ$1000,$A412+1,FALSE)","v":{"$error":"#N/A"}},{"$f":"HLOOKUP(\"Temp. OberflÃ¤che\",pqidat!A$4:BZ$1000,$A412+1,FALSE)","v":{"$error":"#N/A"}},{"$f":"HLOOKUP(\"GPS\",pqidat!A$4:BZ$1000,$A412+1,FALSE)","v":{"$error":"#N/A"}},{"$f":"HLOOKUP(\"Korrektur\",pqidat!A$4:BZ$1000,$A412+1,FALSE)","v":{"$error":"#N/A"}}]
["403",{"$f":"IF(ISBLANK(HLOOKUP(\"Raumdichte\",pqidat!$A$4:$BZ$500,$A413+1,FALSE)),\"\",A413)","v":"403"},{"$f":"HLOOKUP(\"Asphaltsorte\",pqidat!A$4:BZ$1000,$A413+1,FALSE)","v":{"$error":"#N/A"}},{"$f":"HLOOKUP(\"Standort\",pqidat!A$4:BZ$1000,$A413+1,FALSE)&\" \"&INDEX(pqidat!$A$1:$Z$1000,A413+4,MATCH(\"Standort\",pqidat!$A$4:$Z$4,0)+1)","v":{"$error":"#N/A"}},{"$f":"HLOOKUP(\"Station\",pqidat!A$4:BZ$1000,$A413+1,FALSE)","v":{"$error":"#N/A"}},{"$f":"HLOOKUP(\"Dichte\",pqidat!A$4:BZ$1000,$A413+1,FALSE)","v":{"$error":"#N/A"}},{"$f":"HLOOKUP(\"Verdichtung\",pqidat!A$4:BZ$1000,$A413+1,FALSE)","v":{"$error":"#N/A"}},{"$f":"HLOOKUP(\"Temp. OberflÃ¤che\",pqidat!A$4:BZ$1000,$A413+1,FALSE)","v":{"$error":"#N/A"}},{"$f":"HLOOKUP(\"GPS\",pqidat!A$4:BZ$1000,$A413+1,FALSE)","v":{"$error":"#N/A"}},{"$f":"HLOOKUP(\"Korrektur\",pqidat!A$4:BZ$1000,$A413+1,FALSE)","v":{"$error":"#N/A"}}]
["404",{"$f":"IF(ISBLANK(HLOOKUP(\"Raumdichte\",pqidat!$A$4:$BZ$500,$A414+1,FALSE)),\"\",A414)","v":"404"},{"$f":"HLOOKUP(\"Asphaltsorte\",pqidat!A$4:BZ$1000,$A414+1,FALSE)","v":{"$error":"#N/A"}},{"$f":"HLOOKUP(\"Standort\",pqidat!A$4:BZ$1000,$A414+1,FALSE)&\" \"&INDEX(pqidat!$A$1:$Z$1000,A414+4,MATCH(\"Standort\",pqidat!$A$4:$Z$4,0)+1)","v":{"$error":"#N/A"}},{"$f":"HLOOKUP(\"Station\",pqidat!A$4:BZ$1000,$A414+1,FALSE)","v":{"$error":"#N/A"}},{"$f":"HLOOKUP(\"Dichte\",pqidat!A$4:BZ$1000,$A414+1,FALSE)","v":{"$error":"#N/A"}},{"$f":"HLOOKUP(\"Verdichtung\",pqidat!A$4:BZ$1000,$A414+1,FALSE)","v":{"$error":"#N/A"}},{"$f":"HLOOKUP(\"Temp. OberflÃ¤che\",pqidat!A$4:BZ$1000,$A414+1,FALSE)","v":{"$error":"#N/A"}},{"$f":"HLOOKUP(\"GPS\",pqidat!A$4:BZ$1000,$A414+1,FALSE)","v":{"$error":"#N/A"}},{"$f":"HLOOKUP(\"Korrektur\",pqidat!A$4:BZ$1000,$A414+1,FALSE)","v":{"$error":"#N/A"}}]
["405",{"$f":"IF(ISBLANK(HLOOKUP(\"Raumdichte\",pqidat!$A$4:$BZ$500,$A415+1,FALSE)),\"\",A415)","v":"405"},{"$f":"HLOOKUP(\"Asphaltsorte\",pqidat!A$4:BZ$1000,$A415+1,FALSE)","v":{"$error":"#N/A"}},{"$f":"HLOOKUP(\"Standort\",pqidat!A$4:BZ$1000,$A415+1,FALSE)&\" \"&INDEX(pqidat!$A$1:$Z$1000,A415+4,MATCH(\"Standort\",pqidat!$A$4:$Z$4,0)+1)","v":{"$error":"#N/A"}},{"$f":"HLOOKUP(\"Station\",pqidat!A$4:BZ$1000,$A415+1,FALSE)","v":{"$error":"#N/A"}},{"$f":"HLOOKUP(\"Dichte\",pqidat!A$4:BZ$1000,$A415+1,FALSE)","v":{"$error":"#N/A"}},{"$f":"HLOOKUP(\"Verdichtung\",pqidat!A$4:BZ$1000,$A415+1,FALSE)","v":{"$error":"#N/A"}},{"$f":"HLOOKUP(\"Temp. OberflÃ¤che\",pqidat!A$4:BZ$1000,$A415+1,FALSE)","v":{"$error":"#N/A"}},{"$f":"HLOOKUP(\"GPS\",pqidat!A$4:BZ$1000,$A415+1,FALSE)","v":{"$error":"#N/A"}},{"$f":"HLOOKUP(\"Korrektur\",pqidat!A$4:BZ$1000,$A415+1,FALSE)","v":{"$error":"#N/A"}}]
["406",{"$f":"IF(ISBLANK(HLOOKUP(\"Raumdichte\",pqidat!$A$4:$BZ$500,$A416+1,FALSE)),\"\",A416)","v":"406"},{"$f":"HLOOKUP(\"Asphaltsorte\",pqidat!A$4:BZ$1000,$A416+1,FALSE)","v":{"$error":"#N/A"}},{"$f":"HLOOKUP(\"Standort\",pqidat!A$4:BZ$1000,$A416+1,FALSE)&\" \"&INDEX(pqidat!$A$1:$Z$1000,A416+4,MATCH(\"Standort\",pqidat!$A$4:$Z$4,0)+1)","v":{"$error":"#N/A"}},{"$f":"HLOOKUP(\"Station\",pqidat!A$4:BZ$1000,$A416+1,FALSE)","v":{"$error":"#N/A"}},{"$f":"HLOOKUP(\"Dichte\",pqidat!A$4:BZ$1000,$A416+1,FALSE)","v":{"$error":"#N/A"}},{"$f":"HLOOKUP(\"Verdichtung\",pqidat!A$4:BZ$1000,$A416+1,FALSE)","v":{"$error":"#N/A"}},{"$f":"HLOOKUP(\"Temp. OberflÃ¤che\",pqidat!A$4:BZ$1000,$A416+1,FALSE)","v":{"$error":"#N/A"}},{"$f":"HLOOKUP(\"GPS\",pqidat!A$4:BZ$1000,$A416+1,FALSE)","v":{"$error":"#N/A"}},{"$f":"HLOOKUP(\"Korrektur\",pqidat!A$4:BZ$1000,$A416+1,FALSE)","v":{"$error":"#N/A"}}]
["407",{"$f":"IF(ISBLANK(HLOOKUP(\"Raumdichte\",pqidat!$A$4:$BZ$500,$A417+1,FALSE)),\"\",A417)","v":"407"},{"$f":"HLOOKUP(\"Asphaltsorte\",pqidat!A$4:BZ$1000,$A417+1,FALSE)","v":{"$error":"#N/A"}},{"$f":"HLOOKUP(\"Standort\",pqidat!A$4:BZ$1000,$A417+1,FALSE)&\" \"&INDEX(pqidat!$A$1:$Z$1000,A417+4,MATCH(\"Standort\",pqidat!$A$4:$Z$4,0)+1)","v":{"$error":"#N/A"}},{"$f":"HLOOKUP(\"Station\",pqidat!A$4:BZ$1000,$A417+1,FALSE)","v":{"$error":"#N/A"}},{"$f":"HLOOKUP(\"Dichte\",pqidat!A$4:BZ$1000,$A417+1,FALSE)","v":{"$error":"#N/A"}},{"$f":"HLOOKUP(\"Verdichtung\",pqidat!A$4:BZ$1000,$A417+1,FALSE)","v":{"$error":"#N/A"}},{"$f":"HLOOKUP(\"Temp. OberflÃ¤che\",pqidat!A$4:BZ$1000,$A417+1,FALSE)","v":{"$error":"#N/A"}},{"$f":"HLOOKUP(\"GPS\",pqidat!A$4:BZ$1000,$A417+1,FALSE)","v":{"$error":"#N/A"}},{"$f":"HLOOKUP(\"Korrektur\",pqidat!A$4:BZ$1000,$A417+1,FALSE)","v":{"$error":"#N/A"}}]
["408",{"$f":"IF(ISBLANK(HLOOKUP(\"Raumdichte\",pqidat!$A$4:$BZ$500,$A418+1,FALSE)),\"\",A418)","v":"408"},{"$f":"HLOOKUP(\"Asphaltsorte\",pqidat!A$4:BZ$1000,$A418+1,FALSE)","v":{"$error":"#N/A"}},{"$f":"HLOOKUP(\"Standort\",pqidat!A$4:BZ$1000,$A418+1,FALSE)&\" \"&INDEX(pqidat!$A$1:$Z$1000,A418+4,MATCH(\"Standort\",pqidat!$A$4:$Z$4,0)+1)","v":{"$error":"#N/A"}},{"$f":"HLOOKUP(\"Station\",pqidat!A$4:BZ$1000,$A418+1,FALSE)","v":{"$error":"#N/A"}},{"$f":"HLOOKUP(\"Dichte\",pqidat!A$4:BZ$1000,$A418+1,FALSE)","v":{"$error":"#N/A"}},{"$f":"HLOOKUP(\"Verdichtung\",pqidat!A$4:BZ$1000,$A418+1,FALSE)","v":{"$error":"#N/A"}},{"$f":"HLOOKUP(\"Temp. OberflÃ¤che\",pqidat!A$4:BZ$1000,$A418+1,FALSE)","v":{"$error":"#N/A"}},{"$f":"HLOOKUP(\"GPS\",pqidat!A$4:BZ$1000,$A418+1,FALSE)","v":{"$error":"#N/A"}},{"$f":"HLOOKUP(\"Korrektur\",pqidat!A$4:BZ$1000,$A418+1,FALSE)","v":{"$error":"#N/A"}}]
["409",{"$f":"IF(ISBLANK(HLOOKUP(\"Raumdichte\",pqidat!$A$4:$BZ$500,$A419+1,FALSE)),\"\",A419)","v":"409"},{"$f":"HLOOKUP(\"Asphaltsorte\",pqidat!A$4:BZ$1000,$A419+1,FALSE)","v":{"$error":"#N/A"}},{"$f":"HLOOKUP(\"Standort\",pqidat!A$4:BZ$1000,$A419+1,FALSE)&\" \"&INDEX(pqidat!$A$1:$Z$1000,A419+4,MATCH(\"Standort\",pqidat!$A$4:$Z$4,0)+1)","v":{"$error":"#N/A"}},{"$f":"HLOOKUP(\"Station\",pqidat!A$4:BZ$1000,$A419+1,FALSE)","v":{"$error":"#N/A"}},{"$f":"HLOOKUP(\"Dichte\",pqidat!A$4:BZ$1000,$A419+1,FALSE)","v":{"$error":"#N/A"}},{"$f":"HLOOKUP(\"Verdichtung\",pqidat!A$4:BZ$1000,$A419+1,FALSE)","v":{"$error":"#N/A"}},{"$f":"HLOOKUP(\"Temp. OberflÃ¤che\",pqidat!A$4:BZ$1000,$A419+1,FALSE)","v":{"$error":"#N/A"}},{"$f":"HLOOKUP(\"GPS\",pqidat!A$4:BZ$1000,$A419+1,FALSE)","v":{"$error":"#N/A"}},{"$f":"HLOOKUP(\"Korrektur\",pqidat!A$4:BZ$1000,$A419+1,FALSE)","v":{"$error":"#N/A"}}]
["410",{"$f":"IF(ISBLANK(HLOOKUP(\"Raumdichte\",pqidat!$A$4:$BZ$500,$A420+1,FALSE)),\"\",A420)","v":"410"},{"$f":"HLOOKUP(\"Asphaltsorte\",pqidat!A$4:BZ$1000,$A420+1,FALSE)","v":{"$error":"#N/A"}},{"$f":"HLOOKUP(\"Standort\",pqidat!A$4:BZ$1000,$A420+1,FALSE)&\" \"&INDEX(pqidat!$A$1:$Z$1000,A420+4,MATCH(\"Standort\",pqidat!$A$4:$Z$4,0)+1)","v":{"$error":"#N/A"}},{"$f":"HLOOKUP(\"Station\",pqidat!A$4:BZ$1000,$A420+1,FALSE)","v":{"$error":"#N/A"}},{"$f":"HLOOKUP(\"Dichte\",pqidat!A$4:BZ$1000,$A420+1,FALSE)","v":{"$error":"#N/A"}},{"$f":"HLOOKUP(\"Verdichtung\",pqidat!A$4:BZ$1000,$A420+1,FALSE)","v":{"$error":"#N/A"}},{"$f":"HLOOKUP(\"Temp. OberflÃ¤che\",pqidat!A$4:BZ$1000,$A420+1,FALSE)","v":{"$error":"#N/A"}},{"$f":"HLOOKUP(\"GPS\",pqidat!A$4:BZ$1000,$A420+1,FALSE)","v":{"$error":"#N/A"}},{"$f":"HLOOKUP(\"Korrektur\",pqidat!A$4:BZ$1000,$A420+1,FALSE)","v":{"$error":"#N/A"}}]
["411",{"$f":"IF(ISBLANK(HLOOKUP(\"Raumdichte\",pqidat!$A$4:$BZ$500,$A421+1,FALSE)),\"\",A421)","v":"411"},{"$f":"HLOOKUP(\"Asphaltsorte\",pqidat!A$4:BZ$1000,$A421+1,FALSE)","v":{"$error":"#N/A"}},{"$f":"HLOOKUP(\"Standort\",pqidat!A$4:BZ$1000,$A421+1,FALSE)&\" \"&INDEX(pqidat!$A$1:$Z$1000,A421+4,MATCH(\"Standort\",pqidat!$A$4:$Z$4,0)+1)","v":{"$error":"#N/A"}},{"$f":"HLOOKUP(\"Station\",pqidat!A$4:BZ$1000,$A421+1,FALSE)","v":{"$error":"#N/A"}},{"$f":"HLOOKUP(\"Dichte\",pqidat!A$4:BZ$1000,$A421+1,FALSE)","v":{"$error":"#N/A"}},{"$f":"HLOOKUP(\"Verdichtung\",pqidat!A$4:BZ$1000,$A421+1,FALSE)","v":{"$error":"#N/A"}},{"$f":"HLOOKUP(\"Temp. OberflÃ¤che\",pqidat!A$4:BZ$1000,$A421+1,FALSE)","v":{"$error":"#N/A"}},{"$f":"HLOOKUP(\"GPS\",pqidat!A$4:BZ$1000,$A421+1,FALSE)","v":{"$error":"#N/A"}},{"$f":"HLOOKUP(\"Korrektur\",pqidat!A$4:BZ$1000,$A421+1,FALSE)","v":{"$error":"#N/A"}}]
["412",{"$f":"IF(ISBLANK(HLOOKUP(\"Raumdichte\",pqidat!$A$4:$BZ$500,$A422+1,FALSE)),\"\",A422)","v":"412"},{"$f":"HLOOKUP(\"Asphaltsorte\",pqidat!A$4:BZ$1000,$A422+1,FALSE)","v":{"$error":"#N/A"}},{"$f":"HLOOKUP(\"Standort\",pqidat!A$4:BZ$1000,$A422+1,FALSE)&\" \"&INDEX(pqidat!$A$1:$Z$1000,A422+4,MATCH(\"Standort\",pqidat!$A$4:$Z$4,0)+1)","v":{"$error":"#N/A"}},{"$f":"HLOOKUP(\"Station\",pqidat!A$4:BZ$1000,$A422+1,FALSE)","v":{"$error":"#N/A"}},{"$f":"HLOOKUP(\"Dichte\",pqidat!A$4:BZ$1000,$A422+1,FALSE)","v":{"$error":"#N/A"}},{"$f":"HLOOKUP(\"Verdichtung\",pqidat!A$4:BZ$1000,$A422+1,FALSE)","v":{"$error":"#N/A"}},{"$f":"HLOOKUP(\"Temp. OberflÃ¤che\",pqidat!A$4:BZ$1000,$A422+1,FALSE)","v":{"$error":"#N/A"}},{"$f":"HLOOKUP(\"GPS\",pqidat!A$4:BZ$1000,$A422+1,FALSE)","v":{"$error":"#N/A"}},{"$f":"HLOOKUP(\"Korrektur\",pqidat!A$4:BZ$1000,$A422+1,FALSE)","v":{"$error":"#N/A"}}]
["413",{"$f":"IF(ISBLANK(HLOOKUP(\"Raumdichte\",pqidat!$A$4:$BZ$500,$A423+1,FALSE)),\"\",A423)","v":"413"},{"$f":"HLOOKUP(\"Asphaltsorte\",pqidat!A$4:BZ$1000,$A423+1,FALSE)","v":{"$error":"#N/A"}},{"$f":"HLOOKUP(\"Standort\",pqidat!A$4:BZ$1000,$A423+1,FALSE)&\" \"&INDEX(pqidat!$A$1:$Z$1000,A423+4,MATCH(\"Standort\",pqidat!$A$4:$Z$4,0)+1)","v":{"$error":"#N/A"}},{"$f":"HLOOKUP(\"Station\",pqidat!A$4:BZ$1000,$A423+1,FALSE)","v":{"$error":"#N/A"}},{"$f":"HLOOKUP(\"Dichte\",pqidat!A$4:BZ$1000,$A423+1,FALSE)","v":{"$error":"#N/A"}},{"$f":"HLOOKUP(\"Verdichtung\",pqidat!A$4:BZ$1000,$A423+1,FALSE)","v":{"$error":"#N/A"}},{"$f":"HLOOKUP(\"Temp. OberflÃ¤che\",pqidat!A$4:BZ$1000,$A423+1,FALSE)","v":{"$error":"#N/A"}},{"$f":"HLOOKUP(\"GPS\",pqidat!A$4:BZ$1000,$A423+1,FALSE)","v":{"$error":"#N/A"}},{"$f":"HLOOKUP(\"Korrektur\",pqidat!A$4:BZ$1000,$A423+1,FALSE)","v":{"$error":"#N/A"}}]
["414",{"$f":"IF(ISBLANK(HLOOKUP(\"Raumdichte\",pqidat!$A$4:$BZ$500,$A424+1,FALSE)),\"\",A424)","v":"414"},{"$f":"HLOOKUP(\"Asphaltsorte\",pqidat!A$4:BZ$1000,$A424+1,FALSE)","v":{"$error":"#N/A"}},{"$f":"HLOOKUP(\"Standort\",pqidat!A$4:BZ$1000,$A424+1,FALSE)&\" \"&INDEX(pqidat!$A$1:$Z$1000,A424+4,MATCH(\"Standort\",pqidat!$A$4:$Z$4,0)+1)","v":{"$error":"#N/A"}},{"$f":"HLOOKUP(\"Station\",pqidat!A$4:BZ$1000,$A424+1,FALSE)","v":{"$error":"#N/A"}},{"$f":"HLOOKUP(\"Dichte\",pqidat!A$4:BZ$1000,$A424+1,FALSE)","v":{"$error":"#N/A"}},{"$f":"HLOOKUP(\"Verdichtung\",pqidat!A$4:BZ$1000,$A424+1,FALSE)","v":{"$error":"#N/A"}},{"$f":"HLOOKUP(\"Temp. OberflÃ¤che\",pqidat!A$4:BZ$1000,$A424+1,FALSE)","v":{"$error":"#N/A"}},{"$f":"HLOOKUP(\"GPS\",pqidat!A$4:BZ$1000,$A424+1,FALSE)","v":{"$error":"#N/A"}},{"$f":"HLOOKUP(\"Korrektur\",pqidat!A$4:BZ$1000,$A424+1,FALSE)","v":{"$error":"#N/A"}}]
["415",{"$f":"IF(ISBLANK(HLOOKUP(\"Raumdichte\",pqidat!$A$4:$BZ$500,$A425+1,FALSE)),\"\",A425)","v":"415"},{"$f":"HLOOKUP(\"Asphaltsorte\",pqidat!A$4:BZ$1000,$A425+1,FALSE)","v":{"$error":"#N/A"}},{"$f":"HLOOKUP(\"Standort\",pqidat!A$4:BZ$1000,$A425+1,FALSE)&\" \"&INDEX(pqidat!$A$1:$Z$1000,A425+4,MATCH(\"Standort\",pqidat!$A$4:$Z$4,0)+1)","v":{"$error":"#N/A"}},{"$f":"HLOOKUP(\"Station\",pqidat!A$4:BZ$1000,$A425+1,FALSE)","v":{"$error":"#N/A"}},{"$f":"HLOOKUP(\"Dichte\",pqidat!A$4:BZ$1000,$A425+1,FALSE)","v":{"$error":"#N/A"}},{"$f":"HLOOKUP(\"Verdichtung\",pqidat!A$4:BZ$1000,$A425+1,FALSE)","v":{"$error":"#N/A"}},{"$f":"HLOOKUP(\"Temp. OberflÃ¤che\",pqidat!A$4:BZ$1000,$A425+1,FALSE)","v":{"$error":"#N/A"}},{"$f":"HLOOKUP(\"GPS\",pqidat!A$4:BZ$1000,$A425+1,FALSE)","v":{"$error":"#N/A"}},{"$f":"HLOOKUP(\"Korrektur\",pqidat!A$4:BZ$1000,$A425+1,FALSE)","v":{"$error":"#N/A"}}]
["416",{"$f":"IF(ISBLANK(HLOOKUP(\"Raumdichte\",pqidat!$A$4:$BZ$500,$A426+1,FALSE)),\"\",A426)","v":"416"},{"$f":"HLOOKUP(\"Asphaltsorte\",pqidat!A$4:BZ$1000,$A426+1,FALSE)","v":{"$error":"#N/A"}},{"$f":"HLOOKUP(\"Standort\",pqidat!A$4:BZ$1000,$A426+1,FALSE)&\" \"&INDEX(pqidat!$A$1:$Z$1000,A426+4,MATCH(\"Standort\",pqidat!$A$4:$Z$4,0)+1)","v":{"$error":"#N/A"}},{"$f":"HLOOKUP(\"Station\",pqidat!A$4:BZ$1000,$A426+1,FALSE)","v":{"$error":"#N/A"}},{"$f":"HLOOKUP(\"Dichte\",pqidat!A$4:BZ$1000,$A426+1,FALSE)","v":{"$error":"#N/A"}},{"$f":"HLOOKUP(\"Verdichtung\",pqidat!A$4:BZ$1000,$A426+1,FALSE)","v":{"$error":"#N/A"}},{"$f":"HLOOKUP(\"Temp. OberflÃ¤che\",pqidat!A$4:BZ$1000,$A426+1,FALSE)","v":{"$error":"#N/A"}},{"$f":"HLOOKUP(\"GPS\",pqidat!A$4:BZ$1000,$A426+1,FALSE)","v":{"$error":"#N/A"}},{"$f":"HLOOKUP(\"Korrektur\",pqidat!A$4:BZ$1000,$A426+1,FALSE)","v":{"$error":"#N/A"}}]
["417",{"$f":"IF(ISBLANK(HLOOKUP(\"Raumdichte\",pqidat!$A$4:$BZ$500,$A427+1,FALSE)),\"\",A427)","v":"417"},{"$f":"HLOOKUP(\"Asphaltsorte\",pqidat!A$4:BZ$1000,$A427+1,FALSE)","v":{"$error":"#N/A"}},{"$f":"HLOOKUP(\"Standort\",pqidat!A$4:BZ$1000,$A427+1,FALSE)&\" \"&INDEX(pqidat!$A$1:$Z$1000,A427+4,MATCH(\"Standort\",pqidat!$A$4:$Z$4,0)+1)","v":{"$error":"#N/A"}},{"$f":"HLOOKUP(\"Station\",pqidat!A$4:BZ$1000,$A427+1,FALSE)","v":{"$error":"#N/A"}},{"$f":"HLOOKUP(\"Dichte\",pqidat!A$4:BZ$1000,$A427+1,FALSE)","v":{"$error":"#N/A"}},{"$f":"HLOOKUP(\"Verdichtung\",pqidat!A$4:BZ$1000,$A427+1,FALSE)","v":{"$error":"#N/A"}},{"$f":"HLOOKUP(\"Temp. OberflÃ¤che\",pqidat!A$4:BZ$1000,$A427+1,FALSE)","v":{"$error":"#N/A"}},{"$f":"HLOOKUP(\"GPS\",pqidat!A$4:BZ$1000,$A427+1,FALSE)","v":{"$error":"#N/A"}},{"$f":"HLOOKUP(\"Korrektur\",pqidat!A$4:BZ$1000,$A427+1,FALSE)","v":{"$error":"#N/A"}}]
["418",{"$f":"IF(ISBLANK(HLOOKUP(\"Raumdichte\",pqidat!$A$4:$BZ$500,$A428+1,FALSE)),\"\",A428)","v":"418"},{"$f":"HLOOKUP(\"Asphaltsorte\",pqidat!A$4:BZ$1000,$A428+1,FALSE)","v":{"$error":"#N/A"}},{"$f":"HLOOKUP(\"Standort\",pqidat!A$4:BZ$1000,$A428+1,FALSE)&\" \"&INDEX(pqidat!$A$1:$Z$1000,A428+4,MATCH(\"Standort\",pqidat!$A$4:$Z$4,0)+1)","v":{"$error":"#N/A"}},{"$f":"HLOOKUP(\"Station\",pqidat!A$4:BZ$1000,$A428+1,FALSE)","v":{"$error":"#N/A"}},{"$f":"HLOOKUP(\"Dichte\",pqidat!A$4:BZ$1000,$A428+1,FALSE)","v":{"$error":"#N/A"}},{"$f":"HLOOKUP(\"Verdichtung\",pqidat!A$4:BZ$1000,$A428+1,FALSE)","v":{"$error":"#N/A"}},{"$f":"HLOOKUP(\"Temp. OberflÃ¤che\",pqidat!A$4:BZ$1000,$A428+1,FALSE)","v":{"$error":"#N/A"}},{"$f":"HLOOKUP(\"GPS\",pqidat!A$4:BZ$1000,$A428+1,FALSE)","v":{"$error":"#N/A"}},{"$f":"HLOOKUP(\"Korrektur\",pqidat!A$4:BZ$1000,$A428+1,FALSE)","v":{"$error":"#N/A"}}]
["419",{"$f":"IF(ISBLANK(HLOOKUP(\"Raumdichte\",pqidat!$A$4:$BZ$500,$A429+1,FALSE)),\"\",A429)","v":"419"},{"$f":"HLOOKUP(\"Asphaltsorte\",pqidat!A$4:BZ$1000,$A429+1,FALSE)","v":{"$error":"#N/A"}},{"$f":"HLOOKUP(\"Standort\",pqidat!A$4:BZ$1000,$A429+1,FALSE)&\" \"&INDEX(pqidat!$A$1:$Z$1000,A429+4,MATCH(\"Standort\",pqidat!$A$4:$Z$4,0)+1)","v":{"$error":"#N/A"}},{"$f":"HLOOKUP(\"Station\",pqidat!A$4:BZ$1000,$A429+1,FALSE)","v":{"$error":"#N/A"}},{"$f":"HLOOKUP(\"Dichte\",pqidat!A$4:BZ$1000,$A429+1,FALSE)","v":{"$error":"#N/A"}},{"$f":"HLOOKUP(\"Verdichtung\",pqidat!A$4:BZ$1000,$A429+1,FALSE)","v":{"$error":"#N/A"}},{"$f":"HLOOKUP(\"Temp. OberflÃ¤che\",pqidat!A$4:BZ$1000,$A429+1,FALSE)","v":{"$error":"#N/A"}},{"$f":"HLOOKUP(\"GPS\",pqidat!A$4:BZ$1000,$A429+1,FALSE)","v":{"$error":"#N/A"}},{"$f":"HLOOKUP(\"Korrektur\",pqidat!A$4:BZ$1000,$A429+1,FALSE)","v":{"$error":"#N/A"}}]
["420",{"$f":"IF(ISBLANK(HLOOKUP(\"Raumdichte\",pqidat!$A$4:$BZ$500,$A430+1,FALSE)),\"\",A430)","v":"420"},{"$f":"HLOOKUP(\"Asphaltsorte\",pqidat!A$4:BZ$1000,$A430+1,FALSE)","v":{"$error":"#N/A"}},{"$f":"HLOOKUP(\"Standort\",pqidat!A$4:BZ$1000,$A430+1,FALSE)&\" \"&INDEX(pqidat!$A$1:$Z$1000,A430+4,MATCH(\"Standort\",pqidat!$A$4:$Z$4,0)+1)","v":{"$error":"#N/A"}},{"$f":"HLOOKUP(\"Station\",pqidat!A$4:BZ$1000,$A430+1,FALSE)","v":{"$error":"#N/A"}},{"$f":"HLOOKUP(\"Dichte\",pqidat!A$4:BZ$1000,$A430+1,FALSE)","v":{"$error":"#N/A"}},{"$f":"HLOOKUP(\"Verdichtung\",pqidat!A$4:BZ$1000,$A430+1,FALSE)","v":{"$error":"#N/A"}},{"$f":"HLOOKUP(\"Temp. OberflÃ¤che\",pqidat!A$4:BZ$1000,$A430+1,FALSE)","v":{"$error":"#N/A"}},{"$f":"HLOOKUP(\"GPS\",pqidat!A$4:BZ$1000,$A430+1,FALSE)","v":{"$error":"#N/A"}},{"$f":"HLOOKUP(\"Korrektur\",pqidat!A$4:BZ$1000,$A430+1,FALSE)","v":{"$error":"#N/A"}}]
["421",{"$f":"IF(ISBLANK(HLOOKUP(\"Raumdichte\",pqidat!$A$4:$BZ$500,$A431+1,FALSE)),\"\",A431)","v":"421"},{"$f":"HLOOKUP(\"Asphaltsorte\",pqidat!A$4:BZ$1000,$A431+1,FALSE)","v":{"$error":"#N/A"}},{"$f":"HLOOKUP(\"Standort\",pqidat!A$4:BZ$1000,$A431+1,FALSE)&\" \"&INDEX(pqidat!$A$1:$Z$1000,A431+4,MATCH(\"Standort\",pqidat!$A$4:$Z$4,0)+1)","v":{"$error":"#N/A"}},{"$f":"HLOOKUP(\"Station\",pqidat!A$4:BZ$1000,$A431+1,FALSE)","v":{"$error":"#N/A"}},{"$f":"HLOOKUP(\"Dichte\",pqidat!A$4:BZ$1000,$A431+1,FALSE)","v":{"$error":"#N/A"}},{"$f":"HLOOKUP(\"Verdichtung\",pqidat!A$4:BZ$1000,$A431+1,FALSE)","v":{"$error":"#N/A"}},{"$f":"HLOOKUP(\"Temp. OberflÃ¤che\",pqidat!A$4:BZ$1000,$A431+1,FALSE)","v":{"$error":"#N/A"}},{"$f":"HLOOKUP(\"GPS\",pqidat!A$4:BZ$1000,$A431+1,FALSE)","v":{"$error":"#N/A"}},{"$f":"HLOOKUP(\"Korrektur\",pqidat!A$4:BZ$1000,$A431+1,FALSE)","v":{"$error":"#N/A"}}]
["422",{"$f":"IF(ISBLANK(HLOOKUP(\"Raumdichte\",pqidat!$A$4:$BZ$500,$A432+1,FALSE)),\"\",A432)","v":"422"},{"$f":"HLOOKUP(\"Asphaltsorte\",pqidat!A$4:BZ$1000,$A432+1,FALSE)","v":{"$error":"#N/A"}},{"$f":"HLOOKUP(\"Standort\",pqidat!A$4:BZ$1000,$A432+1,FALSE)&\" \"&INDEX(pqidat!$A$1:$Z$1000,A432+4,MATCH(\"Standort\",pqidat!$A$4:$Z$4,0)+1)","v":{"$error":"#N/A"}},{"$f":"HLOOKUP(\"Station\",pqidat!A$4:BZ$1000,$A432+1,FALSE)","v":{"$error":"#N/A"}},{"$f":"HLOOKUP(\"Dichte\",pqidat!A$4:BZ$1000,$A432+1,FALSE)","v":{"$error":"#N/A"}},{"$f":"HLOOKUP(\"Verdichtung\",pqidat!A$4:BZ$1000,$A432+1,FALSE)","v":{"$error":"#N/A"}},{"$f":"HLOOKUP(\"Temp. OberflÃ¤che\",pqidat!A$4:BZ$1000,$A432+1,FALSE)","v":{"$error":"#N/A"}},{"$f":"HLOOKUP(\"GPS\",pqidat!A$4:BZ$1000,$A432+1,FALSE)","v":{"$error":"#N/A"}},{"$f":"HLOOKUP(\"Korrektur\",pqidat!A$4:BZ$1000,$A432+1,FALSE)","v":{"$error":"#N/A"}}]
["423",{"$f":"IF(ISBLANK(HLOOKUP(\"Raumdichte\",pqidat!$A$4:$BZ$500,$A433+1,FALSE)),\"\",A433)","v":"423"},{"$f":"HLOOKUP(\"Asphaltsorte\",pqidat!A$4:BZ$1000,$A433+1,FALSE)","v":{"$error":"#N/A"}},{"$f":"HLOOKUP(\"Standort\",pqidat!A$4:BZ$1000,$A433+1,FALSE)&\" \"&INDEX(pqidat!$A$1:$Z$1000,A433+4,MATCH(\"Standort\",pqidat!$A$4:$Z$4,0)+1)","v":{"$error":"#N/A"}},{"$f":"HLOOKUP(\"Station\",pqidat!A$4:BZ$1000,$A433+1,FALSE)","v":{"$error":"#N/A"}},{"$f":"HLOOKUP(\"Dichte\",pqidat!A$4:BZ$1000,$A433+1,FALSE)","v":{"$error":"#N/A"}},{"$f":"HLOOKUP(\"Verdichtung\",pqidat!A$4:BZ$1000,$A433+1,FALSE)","v":{"$error":"#N/A"}},{"$f":"HLOOKUP(\"Temp. OberflÃ¤che\",pqidat!A$4:BZ$1000,$A433+1,FALSE)","v":{"$error":"#N/A"}},{"$f":"HLOOKUP(\"GPS\",pqidat!A$4:BZ$1000,$A433+1,FALSE)","v":{"$error":"#N/A"}},{"$f":"HLOOKUP(\"Korrektur\",pqidat!A$4:BZ$1000,$A433+1,FALSE)","v":{"$error":"#N/A"}}]
["424",{"$f":"IF(ISBLANK(HLOOKUP(\"Raumdichte\",pqidat!$A$4:$BZ$500,$A434+1,FALSE)),\"\",A434)","v":"424"},{"$f":"HLOOKUP(\"Asphaltsorte\",pqidat!A$4:BZ$1000,$A434+1,FALSE)","v":{"$error":"#N/A"}},{"$f":"HLOOKUP(\"Standort\",pqidat!A$4:BZ$1000,$A434+1,FALSE)&\" \"&INDEX(pqidat!$A$1:$Z$1000,A434+4,MATCH(\"Standort\",pqidat!$A$4:$Z$4,0)+1)","v":{"$error":"#N/A"}},{"$f":"HLOOKUP(\"Station\",pqidat!A$4:BZ$1000,$A434+1,FALSE)","v":{"$error":"#N/A"}},{"$f":"HLOOKUP(\"Dichte\",pqidat!A$4:BZ$1000,$A434+1,FALSE)","v":{"$error":"#N/A"}},{"$f":"HLOOKUP(\"Verdichtung\",pqidat!A$4:BZ$1000,$A434+1,FALSE)","v":{"$error":"#N/A"}},{"$f":"HLOOKUP(\"Temp. OberflÃ¤che\",pqidat!A$4:BZ$1000,$A434+1,FALSE)","v":{"$error":"#N/A"}},{"$f":"HLOOKUP(\"GPS\",pqidat!A$4:BZ$1000,$A434+1,FALSE)","v":{"$error":"#N/A"}},{"$f":"HLOOKUP(\"Korrektur\",pqidat!A$4:BZ$1000,$A434+1,FALSE)","v":{"$error":"#N/A"}}]
["425",{"$f":"IF(ISBLANK(HLOOKUP(\"Raumdichte\",pqidat!$A$4:$BZ$500,$A435+1,FALSE)),\"\",A435)","v":"425"},{"$f":"HLOOKUP(\"Asphaltsorte\",pqidat!A$4:BZ$1000,$A435+1,FALSE)","v":{"$error":"#N/A"}},{"$f":"HLOOKUP(\"Standort\",pqidat!A$4:BZ$1000,$A435+1,FALSE)&\" \"&INDEX(pqidat!$A$1:$Z$1000,A435+4,MATCH(\"Standort\",pqidat!$A$4:$Z$4,0)+1)","v":{"$error":"#N/A"}},{"$f":"HLOOKUP(\"Station\",pqidat!A$4:BZ$1000,$A435+1,FALSE)","v":{"$error":"#N/A"}},{"$f":"HLOOKUP(\"Dichte\",pqidat!A$4:BZ$1000,$A435+1,FALSE)","v":{"$error":"#N/A"}},{"$f":"HLOOKUP(\"Verdichtung\",pqidat!A$4:BZ$1000,$A435+1,FALSE)","v":{"$error":"#N/A"}},{"$f":"HLOOKUP(\"Temp. OberflÃ¤che\",pqidat!A$4:BZ$1000,$A435+1,FALSE)","v":{"$error":"#N/A"}},{"$f":"HLOOKUP(\"GPS\",pqidat!A$4:BZ$1000,$A435+1,FALSE)","v":{"$error":"#N/A"}},{"$f":"HLOOKUP(\"Korrektur\",pqidat!A$4:BZ$1000,$A435+1,FALSE)","v":{"$error":"#N/A"}}]
["426",{"$f":"IF(ISBLANK(HLOOKUP(\"Raumdichte\",pqidat!$A$4:$BZ$500,$A436+1,FALSE)),\"\",A436)","v":"426"},{"$f":"HLOOKUP(\"Asphaltsorte\",pqidat!A$4:BZ$1000,$A436+1,FALSE)","v":{"$error":"#N/A"}},{"$f":"HLOOKUP(\"Standort\",pqidat!A$4:BZ$1000,$A436+1,FALSE)&\" \"&INDEX(pqidat!$A$1:$Z$1000,A436+4,MATCH(\"Standort\",pqidat!$A$4:$Z$4,0)+1)","v":{"$error":"#N/A"}},{"$f":"HLOOKUP(\"Station\",pqidat!A$4:BZ$1000,$A436+1,FALSE)","v":{"$error":"#N/A"}},{"$f":"HLOOKUP(\"Dichte\",pqidat!A$4:BZ$1000,$A436+1,FALSE)","v":{"$error":"#N/A"}},{"$f":"HLOOKUP(\"Verdichtung\",pqidat!A$4:BZ$1000,$A436+1,FALSE)","v":{"$error":"#N/A"}},{"$f":"HLOOKUP(\"Temp. OberflÃ¤che\",pqidat!A$4:BZ$1000,$A436+1,FALSE)","v":{"$error":"#N/A"}},{"$f":"HLOOKUP(\"GPS\",pqidat!A$4:BZ$1000,$A436+1,FALSE)","v":{"$error":"#N/A"}},{"$f":"HLOOKUP(\"Korrektur\",pqidat!A$4:BZ$1000,$A436+1,FALSE)","v":{"$error":"#N/A"}}]
["427",{"$f":"IF(ISBLANK(HLOOKUP(\"Raumdichte\",pqidat!$A$4:$BZ$500,$A437+1,FALSE)),\"\",A437)","v":"427"},{"$f":"HLOOKUP(\"Asphaltsorte\",pqidat!A$4:BZ$1000,$A437+1,FALSE)","v":{"$error":"#N/A"}},{"$f":"HLOOKUP(\"Standort\",pqidat!A$4:BZ$1000,$A437+1,FALSE)&\" \"&INDEX(pqidat!$A$1:$Z$1000,A437+4,MATCH(\"Standort\",pqidat!$A$4:$Z$4,0)+1)","v":{"$error":"#N/A"}},{"$f":"HLOOKUP(\"Station\",pqidat!A$4:BZ$1000,$A437+1,FALSE)","v":{"$error":"#N/A"}},{"$f":"HLOOKUP(\"Dichte\",pqidat!A$4:BZ$1000,$A437+1,FALSE)","v":{"$error":"#N/A"}},{"$f":"HLOOKUP(\"Verdichtung\",pqidat!A$4:BZ$1000,$A437+1,FALSE)","v":{"$error":"#N/A"}},{"$f":"HLOOKUP(\"Temp. OberflÃ¤che\",pqidat!A$4:BZ$1000,$A437+1,FALSE)","v":{"$error":"#N/A"}},{"$f":"HLOOKUP(\"GPS\",pqidat!A$4:BZ$1000,$A437+1,FALSE)","v":{"$error":"#N/A"}},{"$f":"HLOOKUP(\"Korrektur\",pqidat!A$4:BZ$1000,$A437+1,FALSE)","v":{"$error":"#N/A"}}]
["428",{"$f":"IF(ISBLANK(HLOOKUP(\"Raumdichte\",pqidat!$A$4:$BZ$500,$A438+1,FALSE)),\"\",A438)","v":"428"},{"$f":"HLOOKUP(\"Asphaltsorte\",pqidat!A$4:BZ$1000,$A438+1,FALSE)","v":{"$error":"#N/A"}},{"$f":"HLOOKUP(\"Standort\",pqidat!A$4:BZ$1000,$A438+1,FALSE)&\" \"&INDEX(pqidat!$A$1:$Z$1000,A438+4,MATCH(\"Standort\",pqidat!$A$4:$Z$4,0)+1)","v":{"$error":"#N/A"}},{"$f":"HLOOKUP(\"Station\",pqidat!A$4:BZ$1000,$A438+1,FALSE)","v":{"$error":"#N/A"}},{"$f":"HLOOKUP(\"Dichte\",pqidat!A$4:BZ$1000,$A438+1,FALSE)","v":{"$error":"#N/A"}},{"$f":"HLOOKUP(\"Verdichtung\",pqidat!A$4:BZ$1000,$A438+1,FALSE)","v":{"$error":"#N/A"}},{"$f":"HLOOKUP(\"Temp. OberflÃ¤che\",pqidat!A$4:BZ$1000,$A438+1,FALSE)","v":{"$error":"#N/A"}},{"$f":"HLOOKUP(\"GPS\",pqidat!A$4:BZ$1000,$A438+1,FALSE)","v":{"$error":"#N/A"}},{"$f":"HLOOKUP(\"Korrektur\",pqidat!A$4:BZ$1000,$A438+1,FALSE)","v":{"$error":"#N/A"}}]
["429",{"$f":"IF(ISBLANK(HLOOKUP(\"Raumdichte\",pqidat!$A$4:$BZ$500,$A439+1,FALSE)),\"\",A439)","v":"429"},{"$f":"HLOOKUP(\"Asphaltsorte\",pqidat!A$4:BZ$1000,$A439+1,FALSE)","v":{"$error":"#N/A"}},{"$f":"HLOOKUP(\"Standort\",pqidat!A$4:BZ$1000,$A439+1,FALSE)&\" \"&INDEX(pqidat!$A$1:$Z$1000,A439+4,MATCH(\"Standort\",pqidat!$A$4:$Z$4,0)+1)","v":{"$error":"#N/A"}},{"$f":"HLOOKUP(\"Station\",pqidat!A$4:BZ$1000,$A439+1,FALSE)","v":{"$error":"#N/A"}},{"$f":"HLOOKUP(\"Dichte\",pqidat!A$4:BZ$1000,$A439+1,FALSE)","v":{"$error":"#N/A"}},{"$f":"HLOOKUP(\"Verdichtung\",pqidat!A$4:BZ$1000,$A439+1,FALSE)","v":{"$error":"#N/A"}},{"$f":"HLOOKUP(\"Temp. OberflÃ¤che\",pqidat!A$4:BZ$1000,$A439+1,FALSE)","v":{"$error":"#N/A"}},{"$f":"HLOOKUP(\"GPS\",pqidat!A$4:BZ$1000,$A439+1,FALSE)","v":{"$error":"#N/A"}},{"$f":"HLOOKUP(\"Korrektur\",pqidat!A$4:BZ$1000,$A439+1,FALSE)","v":{"$error":"#N/A"}}]
["430",{"$f":"IF(ISBLANK(HLOOKUP(\"Raumdichte\",pqidat!$A$4:$BZ$500,$A440+1,FALSE)),\"\",A440)","v":"430"},{"$f":"HLOOKUP(\"Asphaltsorte\",pqidat!A$4:BZ$1000,$A440+1,FALSE)","v":{"$error":"#N/A"}},{"$f":"HLOOKUP(\"Standort\",pqidat!A$4:BZ$1000,$A440+1,FALSE)&\" \"&INDEX(pqidat!$A$1:$Z$1000,A440+4,MATCH(\"Standort\",pqidat!$A$4:$Z$4,0)+1)","v":{"$error":"#N/A"}},{"$f":"HLOOKUP(\"Station\",pqidat!A$4:BZ$1000,$A440+1,FALSE)","v":{"$error":"#N/A"}},{"$f":"HLOOKUP(\"Dichte\",pqidat!A$4:BZ$1000,$A440+1,FALSE)","v":{"$error":"#N/A"}},{"$f":"HLOOKUP(\"Verdichtung\",pqidat!A$4:BZ$1000,$A440+1,FALSE)","v":{"$error":"#N/A"}},{"$f":"HLOOKUP(\"Temp. OberflÃ¤che\",pqidat!A$4:BZ$1000,$A440+1,FALSE)","v":{"$error":"#N/A"}},{"$f":"HLOOKUP(\"GPS\",pqidat!A$4:BZ$1000,$A440+1,FALSE)","v":{"$error":"#N/A"}},{"$f":"HLOOKUP(\"Korrektur\",pqidat!A$4:BZ$1000,$A440+1,FALSE)","v":{"$error":"#N/A"}}]
["431",{"$f":"IF(ISBLANK(HLOOKUP(\"Raumdichte\",pqidat!$A$4:$BZ$500,$A441+1,FALSE)),\"\",A441)","v":"431"},{"$f":"HLOOKUP(\"Asphaltsorte\",pqidat!A$4:BZ$1000,$A441+1,FALSE)","v":{"$error":"#N/A"}},{"$f":"HLOOKUP(\"Standort\",pqidat!A$4:BZ$1000,$A441+1,FALSE)&\" \"&INDEX(pqidat!$A$1:$Z$1000,A441+4,MATCH(\"Standort\",pqidat!$A$4:$Z$4,0)+1)","v":{"$error":"#N/A"}},{"$f":"HLOOKUP(\"Station\",pqidat!A$4:BZ$1000,$A441+1,FALSE)","v":{"$error":"#N/A"}},{"$f":"HLOOKUP(\"Dichte\",pqidat!A$4:BZ$1000,$A441+1,FALSE)","v":{"$error":"#N/A"}},{"$f":"HLOOKUP(\"Verdichtung\",pqidat!A$4:BZ$1000,$A441+1,FALSE)","v":{"$error":"#N/A"}},{"$f":"HLOOKUP(\"Temp. OberflÃ¤che\",pqidat!A$4:BZ$1000,$A441+1,FALSE)","v":{"$error":"#N/A"}},{"$f":"HLOOKUP(\"GPS\",pqidat!A$4:BZ$1000,$A441+1,FALSE)","v":{"$error":"#N/A"}},{"$f":"HLOOKUP(\"Korrektur\",pqidat!A$4:BZ$1000,$A441+1,FALSE)","v":{"$error":"#N/A"}}]
["432",{"$f":"IF(ISBLANK(HLOOKUP(\"Raumdichte\",pqidat!$A$4:$BZ$500,$A442+1,FALSE)),\"\",A442)","v":"432"},{"$f":"HLOOKUP(\"Asphaltsorte\",pqidat!A$4:BZ$1000,$A442+1,FALSE)","v":{"$error":"#N/A"}},{"$f":"HLOOKUP(\"Standort\",pqidat!A$4:BZ$1000,$A442+1,FALSE)&\" \"&INDEX(pqidat!$A$1:$Z$1000,A442+4,MATCH(\"Standort\",pqidat!$A$4:$Z$4,0)+1)","v":{"$error":"#N/A"}},{"$f":"HLOOKUP(\"Station\",pqidat!A$4:BZ$1000,$A442+1,FALSE)","v":{"$error":"#N/A"}},{"$f":"HLOOKUP(\"Dichte\",pqidat!A$4:BZ$1000,$A442+1,FALSE)","v":{"$error":"#N/A"}},{"$f":"HLOOKUP(\"Verdichtung\",pqidat!A$4:BZ$1000,$A442+1,FALSE)","v":{"$error":"#N/A"}},{"$f":"HLOOKUP(\"Temp. OberflÃ¤che\",pqidat!A$4:BZ$1000,$A442+1,FALSE)","v":{"$error":"#N/A"}},{"$f":"HLOOKUP(\"GPS\",pqidat!A$4:BZ$1000,$A442+1,FALSE)","v":{"$error":"#N/A"}},{"$f":"HLOOKUP(\"Korrektur\",pqidat!A$4:BZ$1000,$A442+1,FALSE)","v":{"$error":"#N/A"}}]
["433",{"$f":"IF(ISBLANK(HLOOKUP(\"Raumdichte\",pqidat!$A$4:$BZ$500,$A443+1,FALSE)),\"\",A443)","v":"433"},{"$f":"HLOOKUP(\"Asphaltsorte\",pqidat!A$4:BZ$1000,$A443+1,FALSE)","v":{"$error":"#N/A"}},{"$f":"HLOOKUP(\"Standort\",pqidat!A$4:BZ$1000,$A443+1,FALSE)&\" \"&INDEX(pqidat!$A$1:$Z$1000,A443+4,MATCH(\"Standort\",pqidat!$A$4:$Z$4,0)+1)","v":{"$error":"#N/A"}},{"$f":"HLOOKUP(\"Station\",pqidat!A$4:BZ$1000,$A443+1,FALSE)","v":{"$error":"#N/A"}},{"$f":"HLOOKUP(\"Dichte\",pqidat!A$4:BZ$1000,$A443+1,FALSE)","v":{"$error":"#N/A"}},{"$f":"HLOOKUP(\"Verdichtung\",pqidat!A$4:BZ$1000,$A443+1,FALSE)","v":{"$error":"#N/A"}},{"$f":"HLOOKUP(\"Temp. OberflÃ¤che\",pqidat!A$4:BZ$1000,$A443+1,FALSE)","v":{"$error":"#N/A"}},{"$f":"HLOOKUP(\"GPS\",pqidat!A$4:BZ$1000,$A443+1,FALSE)","v":{"$error":"#N/A"}},{"$f":"HLOOKUP(\"Korrektur\",pqidat!A$4:BZ$1000,$A443+1,FALSE)","v":{"$error":"#N/A"}}]
["434",{"$f":"IF(ISBLANK(HLOOKUP(\"Raumdichte\",pqidat!$A$4:$BZ$500,$A444+1,FALSE)),\"\",A444)","v":"434"},{"$f":"HLOOKUP(\"Asphaltsorte\",pqidat!A$4:BZ$1000,$A444+1,FALSE)","v":{"$error":"#N/A"}},{"$f":"HLOOKUP(\"Standort\",pqidat!A$4:BZ$1000,$A444+1,FALSE)&\" \"&INDEX(pqidat!$A$1:$Z$1000,A444+4,MATCH(\"Standort\",pqidat!$A$4:$Z$4,0)+1)","v":{"$error":"#N/A"}},{"$f":"HLOOKUP(\"Station\",pqidat!A$4:BZ$1000,$A444+1,FALSE)","v":{"$error":"#N/A"}},{"$f":"HLOOKUP(\"Dichte\",pqidat!A$4:BZ$1000,$A444+1,FALSE)","v":{"$error":"#N/A"}},{"$f":"HLOOKUP(\"Verdichtung\",pqidat!A$4:BZ$1000,$A444+1,FALSE)","v":{"$error":"#N/A"}},{"$f":"HLOOKUP(\"Temp. OberflÃ¤che\",pqidat!A$4:BZ$1000,$A444+1,FALSE)","v":{"$error":"#N/A"}},{"$f":"HLOOKUP(\"GPS\",pqidat!A$4:BZ$1000,$A444+1,FALSE)","v":{"$error":"#N/A"}},{"$f":"HLOOKUP(\"Korrektur\",pqidat!A$4:BZ$1000,$A444+1,FALSE)","v":{"$error":"#N/A"}}]
["435",{"$f":"IF(ISBLANK(HLOOKUP(\"Raumdichte\",pqidat!$A$4:$BZ$500,$A445+1,FALSE)),\"\",A445)","v":"435"},{"$f":"HLOOKUP(\"Asphaltsorte\",pqidat!A$4:BZ$1000,$A445+1,FALSE)","v":{"$error":"#N/A"}},{"$f":"HLOOKUP(\"Standort\",pqidat!A$4:BZ$1000,$A445+1,FALSE)&\" \"&INDEX(pqidat!$A$1:$Z$1000,A445+4,MATCH(\"Standort\",pqidat!$A$4:$Z$4,0)+1)","v":{"$error":"#N/A"}},{"$f":"HLOOKUP(\"Station\",pqidat!A$4:BZ$1000,$A445+1,FALSE)","v":{"$error":"#N/A"}},{"$f":"HLOOKUP(\"Dichte\",pqidat!A$4:BZ$1000,$A445+1,FALSE)","v":{"$error":"#N/A"}},{"$f":"HLOOKUP(\"Verdichtung\",pqidat!A$4:BZ$1000,$A445+1,FALSE)","v":{"$error":"#N/A"}},{"$f":"HLOOKUP(\"Temp. OberflÃ¤che\",pqidat!A$4:BZ$1000,$A445+1,FALSE)","v":{"$error":"#N/A"}},{"$f":"HLOOKUP(\"GPS\",pqidat!A$4:BZ$1000,$A445+1,FALSE)","v":{"$error":"#N/A"}},{"$f":"HLOOKUP(\"Korrektur\",pqidat!A$4:BZ$1000,$A445+1,FALSE)","v":{"$error":"#N/A"}}]
["436",{"$f":"IF(ISBLANK(HLOOKUP(\"Raumdichte\",pqidat!$A$4:$BZ$500,$A446+1,FALSE)),\"\",A446)","v":"436"},{"$f":"HLOOKUP(\"Asphaltsorte\",pqidat!A$4:BZ$1000,$A446+1,FALSE)","v":{"$error":"#N/A"}},{"$f":"HLOOKUP(\"Standort\",pqidat!A$4:BZ$1000,$A446+1,FALSE)&\" \"&INDEX(pqidat!$A$1:$Z$1000,A446+4,MATCH(\"Standort\",pqidat!$A$4:$Z$4,0)+1)","v":{"$error":"#N/A"}},{"$f":"HLOOKUP(\"Station\",pqidat!A$4:BZ$1000,$A446+1,FALSE)","v":{"$error":"#N/A"}},{"$f":"HLOOKUP(\"Dichte\",pqidat!A$4:BZ$1000,$A446+1,FALSE)","v":{"$error":"#N/A"}},{"$f":"HLOOKUP(\"Verdichtung\",pqidat!A$4:BZ$1000,$A446+1,FALSE)","v":{"$error":"#N/A"}},{"$f":"HLOOKUP(\"Temp. OberflÃ¤che\",pqidat!A$4:BZ$1000,$A446+1,FALSE)","v":{"$error":"#N/A"}},{"$f":"HLOOKUP(\"GPS\",pqidat!A$4:BZ$1000,$A446+1,FALSE)","v":{"$error":"#N/A"}},{"$f":"HLOOKUP(\"Korrektur\",pqidat!A$4:BZ$1000,$A446+1,FALSE)","v":{"$error":"#N/A"}}]
["437",{"$f":"IF(ISBLANK(HLOOKUP(\"Raumdichte\",pqidat!$A$4:$BZ$500,$A447+1,FALSE)),\"\",A447)","v":"437"},{"$f":"HLOOKUP(\"Asphaltsorte\",pqidat!A$4:BZ$1000,$A447+1,FALSE)","v":{"$error":"#N/A"}},{"$f":"HLOOKUP(\"Standort\",pqidat!A$4:BZ$1000,$A447+1,FALSE)&\" \"&INDEX(pqidat!$A$1:$Z$1000,A447+4,MATCH(\"Standort\",pqidat!$A$4:$Z$4,0)+1)","v":{"$error":"#N/A"}},{"$f":"HLOOKUP(\"Station\",pqidat!A$4:BZ$1000,$A447+1,FALSE)","v":{"$error":"#N/A"}},{"$f":"HLOOKUP(\"Dichte\",pqidat!A$4:BZ$1000,$A447+1,FALSE)","v":{"$error":"#N/A"}},{"$f":"HLOOKUP(\"Verdichtung\",pqidat!A$4:BZ$1000,$A447+1,FALSE)","v":{"$error":"#N/A"}},{"$f":"HLOOKUP(\"Temp. OberflÃ¤che\",pqidat!A$4:BZ$1000,$A447+1,FALSE)","v":{"$error":"#N/A"}},{"$f":"HLOOKUP(\"GPS\",pqidat!A$4:BZ$1000,$A447+1,FALSE)","v":{"$error":"#N/A"}},{"$f":"HLOOKUP(\"Korrektur\",pqidat!A$4:BZ$1000,$A447+1,FALSE)","v":{"$error":"#N/A"}}]
["438",{"$f":"IF(ISBLANK(HLOOKUP(\"Raumdichte\",pqidat!$A$4:$BZ$500,$A448+1,FALSE)),\"\",A448)","v":"438"},{"$f":"HLOOKUP(\"Asphaltsorte\",pqidat!A$4:BZ$1000,$A448+1,FALSE)","v":{"$error":"#N/A"}},{"$f":"HLOOKUP(\"Standort\",pqidat!A$4:BZ$1000,$A448+1,FALSE)&\" \"&INDEX(pqidat!$A$1:$Z$1000,A448+4,MATCH(\"Standort\",pqidat!$A$4:$Z$4,0)+1)","v":{"$error":"#N/A"}},{"$f":"HLOOKUP(\"Station\",pqidat!A$4:BZ$1000,$A448+1,FALSE)","v":{"$error":"#N/A"}},{"$f":"HLOOKUP(\"Dichte\",pqidat!A$4:BZ$1000,$A448+1,FALSE)","v":{"$error":"#N/A"}},{"$f":"HLOOKUP(\"Verdichtung\",pqidat!A$4:BZ$1000,$A448+1,FALSE)","v":{"$error":"#N/A"}},{"$f":"HLOOKUP(\"Temp. OberflÃ¤che\",pqidat!A$4:BZ$1000,$A448+1,FALSE)","v":{"$error":"#N/A"}},{"$f":"HLOOKUP(\"GPS\",pqidat!A$4:BZ$1000,$A448+1,FALSE)","v":{"$error":"#N/A"}},{"$f":"HLOOKUP(\"Korrektur\",pqidat!A$4:BZ$1000,$A448+1,FALSE)","v":{"$error":"#N/A"}}]
["439",{"$f":"IF(ISBLANK(HLOOKUP(\"Raumdichte\",pqidat!$A$4:$BZ$500,$A449+1,FALSE)),\"\",A449)","v":"439"},{"$f":"HLOOKUP(\"Asphaltsorte\",pqidat!A$4:BZ$1000,$A449+1,FALSE)","v":{"$error":"#N/A"}},{"$f":"HLOOKUP(\"Standort\",pqidat!A$4:BZ$1000,$A449+1,FALSE)&\" \"&INDEX(pqidat!$A$1:$Z$1000,A449+4,MATCH(\"Standort\",pqidat!$A$4:$Z$4,0)+1)","v":{"$error":"#N/A"}},{"$f":"HLOOKUP(\"Station\",pqidat!A$4:BZ$1000,$A449+1,FALSE)","v":{"$error":"#N/A"}},{"$f":"HLOOKUP(\"Dichte\",pqidat!A$4:BZ$1000,$A449+1,FALSE)","v":{"$error":"#N/A"}},{"$f":"HLOOKUP(\"Verdichtung\",pqidat!A$4:BZ$1000,$A449+1,FALSE)","v":{"$error":"#N/A"}},{"$f":"HLOOKUP(\"Temp. OberflÃ¤che\",pqidat!A$4:BZ$1000,$A449+1,FALSE)","v":{"$error":"#N/A"}},{"$f":"HLOOKUP(\"GPS\",pqidat!A$4:BZ$1000,$A449+1,FALSE)","v":{"$error":"#N/A"}},{"$f":"HLOOKUP(\"Korrektur\",pqidat!A$4:BZ$1000,$A449+1,FALSE)","v":{"$error":"#N/A"}}]
["440",{"$f":"IF(ISBLANK(HLOOKUP(\"Raumdichte\",pqidat!$A$4:$BZ$500,$A450+1,FALSE)),\"\",A450)","v":"440"},{"$f":"HLOOKUP(\"Asphaltsorte\",pqidat!A$4:BZ$1000,$A450+1,FALSE)","v":{"$error":"#N/A"}},{"$f":"HLOOKUP(\"Standort\",pqidat!A$4:BZ$1000,$A450+1,FALSE)&\" \"&INDEX(pqidat!$A$1:$Z$1000,A450+4,MATCH(\"Standort\",pqidat!$A$4:$Z$4,0)+1)","v":{"$error":"#N/A"}},{"$f":"HLOOKUP(\"Station\",pqidat!A$4:BZ$1000,$A450+1,FALSE)","v":{"$error":"#N/A"}},{"$f":"HLOOKUP(\"Dichte\",pqidat!A$4:BZ$1000,$A450+1,FALSE)","v":{"$error":"#N/A"}},{"$f":"HLOOKUP(\"Verdichtung\",pqidat!A$4:BZ$1000,$A450+1,FALSE)","v":{"$error":"#N/A"}},{"$f":"HLOOKUP(\"Temp. OberflÃ¤che\",pqidat!A$4:BZ$1000,$A450+1,FALSE)","v":{"$error":"#N/A"}},{"$f":"HLOOKUP(\"GPS\",pqidat!A$4:BZ$1000,$A450+1,FALSE)","v":{"$error":"#N/A"}},{"$f":"HLOOKUP(\"Korrektur\",pqidat!A$4:BZ$1000,$A450+1,FALSE)","v":{"$error":"#N/A"}}]
["441",{"$f":"IF(ISBLANK(HLOOKUP(\"Raumdichte\",pqidat!$A$4:$BZ$500,$A451+1,FALSE)),\"\",A451)","v":"441"},{"$f":"HLOOKUP(\"Asphaltsorte\",pqidat!A$4:BZ$1000,$A451+1,FALSE)","v":{"$error":"#N/A"}},{"$f":"HLOOKUP(\"Standort\",pqidat!A$4:BZ$1000,$A451+1,FALSE)&\" \"&INDEX(pqidat!$A$1:$Z$1000,A451+4,MATCH(\"Standort\",pqidat!$A$4:$Z$4,0)+1)","v":{"$error":"#N/A"}},{"$f":"HLOOKUP(\"Station\",pqidat!A$4:BZ$1000,$A451+1,FALSE)","v":{"$error":"#N/A"}},{"$f":"HLOOKUP(\"Dichte\",pqidat!A$4:BZ$1000,$A451+1,FALSE)","v":{"$error":"#N/A"}},{"$f":"HLOOKUP(\"Verdichtung\",pqidat!A$4:BZ$1000,$A451+1,FALSE)","v":{"$error":"#N/A"}},{"$f":"HLOOKUP(\"Temp. OberflÃ¤che\",pqidat!A$4:BZ$1000,$A451+1,FALSE)","v":{"$error":"#N/A"}},{"$f":"HLOOKUP(\"GPS\",pqidat!A$4:BZ$1000,$A451+1,FALSE)","v":{"$error":"#N/A"}},{"$f":"HLOOKUP(\"Korrektur\",pqidat!A$4:BZ$1000,$A451+1,FALSE)","v":{"$error":"#N/A"}}]
["442",{"$f":"IF(ISBLANK(HLOOKUP(\"Raumdichte\",pqidat!$A$4:$BZ$500,$A452+1,FALSE)),\"\",A452)","v":"442"},{"$f":"HLOOKUP(\"Asphaltsorte\",pqidat!A$4:BZ$1000,$A452+1,FALSE)","v":{"$error":"#N/A"}},{"$f":"HLOOKUP(\"Standort\",pqidat!A$4:BZ$1000,$A452+1,FALSE)&\" \"&INDEX(pqidat!$A$1:$Z$1000,A452+4,MATCH(\"Standort\",pqidat!$A$4:$Z$4,0)+1)","v":{"$error":"#N/A"}},{"$f":"HLOOKUP(\"Station\",pqidat!A$4:BZ$1000,$A452+1,FALSE)","v":{"$error":"#N/A"}},{"$f":"HLOOKUP(\"Dichte\",pqidat!A$4:BZ$1000,$A452+1,FALSE)","v":{"$error":"#N/A"}},{"$f":"HLOOKUP(\"Verdichtung\",pqidat!A$4:BZ$1000,$A452+1,FALSE)","v":{"$error":"#N/A"}},{"$f":"HLOOKUP(\"Temp. OberflÃ¤che\",pqidat!A$4:BZ$1000,$A452+1,FALSE)","v":{"$error":"#N/A"}},{"$f":"HLOOKUP(\"GPS\",pqidat!A$4:BZ$1000,$A452+1,FALSE)","v":{"$error":"#N/A"}},{"$f":"HLOOKUP(\"Korrektur\",pqidat!A$4:BZ$1000,$A452+1,FALSE)","v":{"$error":"#N/A"}}]
["443",{"$f":"IF(ISBLANK(HLOOKUP(\"Raumdichte\",pqidat!$A$4:$BZ$500,$A453+1,FALSE)),\"\",A453)","v":"443"},{"$f":"HLOOKUP(\"Asphaltsorte\",pqidat!A$4:BZ$1000,$A453+1,FALSE)","v":{"$error":"#N/A"}},{"$f":"HLOOKUP(\"Standort\",pqidat!A$4:BZ$1000,$A453+1,FALSE)&\" \"&INDEX(pqidat!$A$1:$Z$1000,A453+4,MATCH(\"Standort\",pqidat!$A$4:$Z$4,0)+1)","v":{"$error":"#N/A"}},{"$f":"HLOOKUP(\"Station\",pqidat!A$4:BZ$1000,$A453+1,FALSE)","v":{"$error":"#N/A"}},{"$f":"HLOOKUP(\"Dichte\",pqidat!A$4:BZ$1000,$A453+1,FALSE)","v":{"$error":"#N/A"}},{"$f":"HLOOKUP(\"Verdichtung\",pqidat!A$4:BZ$1000,$A453+1,FALSE)","v":{"$error":"#N/A"}},{"$f":"HLOOKUP(\"Temp. OberflÃ¤che\",pqidat!A$4:BZ$1000,$A453+1,FALSE)","v":{"$error":"#N/A"}},{"$f":"HLOOKUP(\"GPS\",pqidat!A$4:BZ$1000,$A453+1,FALSE)","v":{"$error":"#N/A"}},{"$f":"HLOOKUP(\"Korrektur\",pqidat!A$4:BZ$1000,$A453+1,FALSE)","v":{"$error":"#N/A"}}]
["444",{"$f":"IF(ISBLANK(HLOOKUP(\"Raumdichte\",pqidat!$A$4:$BZ$500,$A454+1,FALSE)),\"\",A454)","v":"444"},{"$f":"HLOOKUP(\"Asphaltsorte\",pqidat!A$4:BZ$1000,$A454+1,FALSE)","v":{"$error":"#N/A"}},{"$f":"HLOOKUP(\"Standort\",pqidat!A$4:BZ$1000,$A454+1,FALSE)&\" \"&INDEX(pqidat!$A$1:$Z$1000,A454+4,MATCH(\"Standort\",pqidat!$A$4:$Z$4,0)+1)","v":{"$error":"#N/A"}},{"$f":"HLOOKUP(\"Station\",pqidat!A$4:BZ$1000,$A454+1,FALSE)","v":{"$error":"#N/A"}},{"$f":"HLOOKUP(\"Dichte\",pqidat!A$4:BZ$1000,$A454+1,FALSE)","v":{"$error":"#N/A"}},{"$f":"HLOOKUP(\"Verdichtung\",pqidat!A$4:BZ$1000,$A454+1,FALSE)","v":{"$error":"#N/A"}},{"$f":"HLOOKUP(\"Temp. OberflÃ¤che\",pqidat!A$4:BZ$1000,$A454+1,FALSE)","v":{"$error":"#N/A"}},{"$f":"HLOOKUP(\"GPS\",pqidat!A$4:BZ$1000,$A454+1,FALSE)","v":{"$error":"#N/A"}},{"$f":"HLOOKUP(\"Korrektur\",pqidat!A$4:BZ$1000,$A454+1,FALSE)","v":{"$error":"#N/A"}}]
["445",{"$f":"IF(ISBLANK(HLOOKUP(\"Raumdichte\",pqidat!$A$4:$BZ$500,$A455+1,FALSE)),\"\",A455)","v":"445"},{"$f":"HLOOKUP(\"Asphaltsorte\",pqidat!A$4:BZ$1000,$A455+1,FALSE)","v":{"$error":"#N/A"}},{"$f":"HLOOKUP(\"Standort\",pqidat!A$4:BZ$1000,$A455+1,FALSE)&\" \"&INDEX(pqidat!$A$1:$Z$1000,A455+4,MATCH(\"Standort\",pqidat!$A$4:$Z$4,0)+1)","v":{"$error":"#N/A"}},{"$f":"HLOOKUP(\"Station\",pqidat!A$4:BZ$1000,$A455+1,FALSE)","v":{"$error":"#N/A"}},{"$f":"HLOOKUP(\"Dichte\",pqidat!A$4:BZ$1000,$A455+1,FALSE)","v":{"$error":"#N/A"}},{"$f":"HLOOKUP(\"Verdichtung\",pqidat!A$4:BZ$1000,$A455+1,FALSE)","v":{"$error":"#N/A"}},{"$f":"HLOOKUP(\"Temp. OberflÃ¤che\",pqidat!A$4:BZ$1000,$A455+1,FALSE)","v":{"$error":"#N/A"}},{"$f":"HLOOKUP(\"GPS\",pqidat!A$4:BZ$1000,$A455+1,FALSE)","v":{"$error":"#N/A"}},{"$f":"HLOOKUP(\"Korrektur\",pqidat!A$4:BZ$1000,$A455+1,FALSE)","v":{"$error":"#N/A"}}]
["446",{"$f":"IF(ISBLANK(HLOOKUP(\"Raumdichte\",pqidat!$A$4:$BZ$500,$A456+1,FALSE)),\"\",A456)","v":"446"},{"$f":"HLOOKUP(\"Asphaltsorte\",pqidat!A$4:BZ$1000,$A456+1,FALSE)","v":{"$error":"#N/A"}},{"$f":"HLOOKUP(\"Standort\",pqidat!A$4:BZ$1000,$A456+1,FALSE)&\" \"&INDEX(pqidat!$A$1:$Z$1000,A456+4,MATCH(\"Standort\",pqidat!$A$4:$Z$4,0)+1)","v":{"$error":"#N/A"}},{"$f":"HLOOKUP(\"Station\",pqidat!A$4:BZ$1000,$A456+1,FALSE)","v":{"$error":"#N/A"}},{"$f":"HLOOKUP(\"Dichte\",pqidat!A$4:BZ$1000,$A456+1,FALSE)","v":{"$error":"#N/A"}},{"$f":"HLOOKUP(\"Verdichtung\",pqidat!A$4:BZ$1000,$A456+1,FALSE)","v":{"$error":"#N/A"}},{"$f":"HLOOKUP(\"Temp. OberflÃ¤che\",pqidat!A$4:BZ$1000,$A456+1,FALSE)","v":{"$error":"#N/A"}},{"$f":"HLOOKUP(\"GPS\",pqidat!A$4:BZ$1000,$A456+1,FALSE)","v":{"$error":"#N/A"}},{"$f":"HLOOKUP(\"Korrektur\",pqidat!A$4:BZ$1000,$A456+1,FALSE)","v":{"$error":"#N/A"}}]
["447",{"$f":"IF(ISBLANK(HLOOKUP(\"Raumdichte\",pqidat!$A$4:$BZ$500,$A457+1,FALSE)),\"\",A457)","v":"447"},{"$f":"HLOOKUP(\"Asphaltsorte\",pqidat!A$4:BZ$1000,$A457+1,FALSE)","v":{"$error":"#N/A"}},{"$f":"HLOOKUP(\"Standort\",pqidat!A$4:BZ$1000,$A457+1,FALSE)&\" \"&INDEX(pqidat!$A$1:$Z$1000,A457+4,MATCH(\"Standort\",pqidat!$A$4:$Z$4,0)+1)","v":{"$error":"#N/A"}},{"$f":"HLOOKUP(\"Station\",pqidat!A$4:BZ$1000,$A457+1,FALSE)","v":{"$error":"#N/A"}},{"$f":"HLOOKUP(\"Dichte\",pqidat!A$4:BZ$1000,$A457+1,FALSE)","v":{"$error":"#N/A"}},{"$f":"HLOOKUP(\"Verdichtung\",pqidat!A$4:BZ$1000,$A457+1,FALSE)","v":{"$error":"#N/A"}},{"$f":"HLOOKUP(\"Temp. OberflÃ¤che\",pqidat!A$4:BZ$1000,$A457+1,FALSE)","v":{"$error":"#N/A"}},{"$f":"HLOOKUP(\"GPS\",pqidat!A$4:BZ$1000,$A457+1,FALSE)","v":{"$error":"#N/A"}},{"$f":"HLOOKUP(\"Korrektur\",pqidat!A$4:BZ$1000,$A457+1,FALSE)","v":{"$error":"#N/A"}}]
["448",{"$f":"IF(ISBLANK(HLOOKUP(\"Raumdichte\",pqidat!$A$4:$BZ$500,$A458+1,FALSE)),\"\",A458)","v":"448"},{"$f":"HLOOKUP(\"Asphaltsorte\",pqidat!A$4:BZ$1000,$A458+1,FALSE)","v":{"$error":"#N/A"}},{"$f":"HLOOKUP(\"Standort\",pqidat!A$4:BZ$1000,$A458+1,FALSE)&\" \"&INDEX(pqidat!$A$1:$Z$1000,A458+4,MATCH(\"Standort\",pqidat!$A$4:$Z$4,0)+1)","v":{"$error":"#N/A"}},{"$f":"HLOOKUP(\"Station\",pqidat!A$4:BZ$1000,$A458+1,FALSE)","v":{"$error":"#N/A"}},{"$f":"HLOOKUP(\"Dichte\",pqidat!A$4:BZ$1000,$A458+1,FALSE)","v":{"$error":"#N/A"}},{"$f":"HLOOKUP(\"Verdichtung\",pqidat!A$4:BZ$1000,$A458+1,FALSE)","v":{"$error":"#N/A"}},{"$f":"HLOOKUP(\"Temp. OberflÃ¤che\",pqidat!A$4:BZ$1000,$A458+1,FALSE)","v":{"$error":"#N/A"}},{"$f":"HLOOKUP(\"GPS\",pqidat!A$4:BZ$1000,$A458+1,FALSE)","v":{"$error":"#N/A"}},{"$f":"HLOOKUP(\"Korrektur\",pqidat!A$4:BZ$1000,$A458+1,FALSE)","v":{"$error":"#N/A"}}]
["449",{"$f":"IF(ISBLANK(HLOOKUP(\"Raumdichte\",pqidat!$A$4:$BZ$500,$A459+1,FALSE)),\"\",A459)","v":"449"},{"$f":"HLOOKUP(\"Asphaltsorte\",pqidat!A$4:BZ$1000,$A459+1,FALSE)","v":{"$error":"#N/A"}},{"$f":"HLOOKUP(\"Standort\",pqidat!A$4:BZ$1000,$A459+1,FALSE)&\" \"&INDEX(pqidat!$A$1:$Z$1000,A459+4,MATCH(\"Standort\",pqidat!$A$4:$Z$4,0)+1)","v":{"$error":"#N/A"}},{"$f":"HLOOKUP(\"Station\",pqidat!A$4:BZ$1000,$A459+1,FALSE)","v":{"$error":"#N/A"}},{"$f":"HLOOKUP(\"Dichte\",pqidat!A$4:BZ$1000,$A459+1,FALSE)","v":{"$error":"#N/A"}},{"$f":"HLOOKUP(\"Verdichtung\",pqidat!A$4:BZ$1000,$A459+1,FALSE)","v":{"$error":"#N/A"}},{"$f":"HLOOKUP(\"Temp. OberflÃ¤che\",pqidat!A$4:BZ$1000,$A459+1,FALSE)","v":{"$error":"#N/A"}},{"$f":"HLOOKUP(\"GPS\",pqidat!A$4:BZ$1000,$A459+1,FALSE)","v":{"$error":"#N/A"}},{"$f":"HLOOKUP(\"Korrektur\",pqidat!A$4:BZ$1000,$A459+1,FALSE)","v":{"$error":"#N/A"}}]
["450",{"$f":"IF(ISBLANK(HLOOKUP(\"Raumdichte\",pqidat!$A$4:$BZ$500,$A460+1,FALSE)),\"\",A460)","v":"450"},{"$f":"HLOOKUP(\"Asphaltsorte\",pqidat!A$4:BZ$1000,$A460+1,FALSE)","v":{"$error":"#N/A"}},{"$f":"HLOOKUP(\"Standort\",pqidat!A$4:BZ$1000,$A460+1,FALSE)&\" \"&INDEX(pqidat!$A$1:$Z$1000,A460+4,MATCH(\"Standort\",pqidat!$A$4:$Z$4,0)+1)","v":{"$error":"#N/A"}},{"$f":"HLOOKUP(\"Station\",pqidat!A$4:BZ$1000,$A460+1,FALSE)","v":{"$error":"#N/A"}},{"$f":"HLOOKUP(\"Dichte\",pqidat!A$4:BZ$1000,$A460+1,FALSE)","v":{"$error":"#N/A"}},{"$f":"HLOOKUP(\"Verdichtung\",pqidat!A$4:BZ$1000,$A460+1,FALSE)","v":{"$error":"#N/A"}},{"$f":"HLOOKUP(\"Temp. OberflÃ¤che\",pqidat!A$4:BZ$1000,$A460+1,FALSE)","v":{"$error":"#N/A"}},{"$f":"HLOOKUP(\"GPS\",pqidat!A$4:BZ$1000,$A460+1,FALSE)","v":{"$error":"#N/A"}},{"$f":"HLOOKUP(\"Korrektur\",pqidat!A$4:BZ$1000,$A460+1,FALSE)","v":{"$error":"#N/A"}}]
["451",{"$f":"IF(ISBLANK(HLOOKUP(\"Raumdichte\",pqidat!$A$4:$BZ$500,$A461+1,FALSE)),\"\",A461)","v":"451"},{"$f":"HLOOKUP(\"Asphaltsorte\",pqidat!A$4:BZ$1000,$A461+1,FALSE)","v":{"$error":"#N/A"}},{"$f":"HLOOKUP(\"Standort\",pqidat!A$4:BZ$1000,$A461+1,FALSE)&\" \"&INDEX(pqidat!$A$1:$Z$1000,A461+4,MATCH(\"Standort\",pqidat!$A$4:$Z$4,0)+1)","v":{"$error":"#N/A"}},{"$f":"HLOOKUP(\"Station\",pqidat!A$4:BZ$1000,$A461+1,FALSE)","v":{"$error":"#N/A"}},{"$f":"HLOOKUP(\"Dichte\",pqidat!A$4:BZ$1000,$A461+1,FALSE)","v":{"$error":"#N/A"}},{"$f":"HLOOKUP(\"Verdichtung\",pqidat!A$4:BZ$1000,$A461+1,FALSE)","v":{"$error":"#N/A"}},{"$f":"HLOOKUP(\"Temp. OberflÃ¤che\",pqidat!A$4:BZ$1000,$A461+1,FALSE)","v":{"$error":"#N/A"}},{"$f":"HLOOKUP(\"GPS\",pqidat!A$4:BZ$1000,$A461+1,FALSE)","v":{"$error":"#N/A"}},{"$f":"HLOOKUP(\"Korrektur\",pqidat!A$4:BZ$1000,$A461+1,FALSE)","v":{"$error":"#N/A"}}]
["452",{"$f":"IF(ISBLANK(HLOOKUP(\"Raumdichte\",pqidat!$A$4:$BZ$500,$A462+1,FALSE)),\"\",A462)","v":"452"},{"$f":"HLOOKUP(\"Asphaltsorte\",pqidat!A$4:BZ$1000,$A462+1,FALSE)","v":{"$error":"#N/A"}},{"$f":"HLOOKUP(\"Standort\",pqidat!A$4:BZ$1000,$A462+1,FALSE)&\" \"&INDEX(pqidat!$A$1:$Z$1000,A462+4,MATCH(\"Standort\",pqidat!$A$4:$Z$4,0)+1)","v":{"$error":"#N/A"}},{"$f":"HLOOKUP(\"Station\",pqidat!A$4:BZ$1000,$A462+1,FALSE)","v":{"$error":"#N/A"}},{"$f":"HLOOKUP(\"Dichte\",pqidat!A$4:BZ$1000,$A462+1,FALSE)","v":{"$error":"#N/A"}},{"$f":"HLOOKUP(\"Verdichtung\",pqidat!A$4:BZ$1000,$A462+1,FALSE)","v":{"$error":"#N/A"}},{"$f":"HLOOKUP(\"Temp. OberflÃ¤che\",pqidat!A$4:BZ$1000,$A462+1,FALSE)","v":{"$error":"#N/A"}},{"$f":"HLOOKUP(\"GPS\",pqidat!A$4:BZ$1000,$A462+1,FALSE)","v":{"$error":"#N/A"}},{"$f":"HLOOKUP(\"Korrektur\",pqidat!A$4:BZ$1000,$A462+1,FALSE)","v":{"$error":"#N/A"}}]
["453",{"$f":"IF(ISBLANK(HLOOKUP(\"Raumdichte\",pqidat!$A$4:$BZ$500,$A463+1,FALSE)),\"\",A463)","v":"453"},{"$f":"HLOOKUP(\"Asphaltsorte\",pqidat!A$4:BZ$1000,$A463+1,FALSE)","v":{"$error":"#N/A"}},{"$f":"HLOOKUP(\"Standort\",pqidat!A$4:BZ$1000,$A463+1,FALSE)&\" \"&INDEX(pqidat!$A$1:$Z$1000,A463+4,MATCH(\"Standort\",pqidat!$A$4:$Z$4,0)+1)","v":{"$error":"#N/A"}},{"$f":"HLOOKUP(\"Station\",pqidat!A$4:BZ$1000,$A463+1,FALSE)","v":{"$error":"#N/A"}},{"$f":"HLOOKUP(\"Dichte\",pqidat!A$4:BZ$1000,$A463+1,FALSE)","v":{"$error":"#N/A"}},{"$f":"HLOOKUP(\"Verdichtung\",pqidat!A$4:BZ$1000,$A463+1,FALSE)","v":{"$error":"#N/A"}},{"$f":"HLOOKUP(\"Temp. OberflÃ¤che\",pqidat!A$4:BZ$1000,$A463+1,FALSE)","v":{"$error":"#N/A"}},{"$f":"HLOOKUP(\"GPS\",pqidat!A$4:BZ$1000,$A463+1,FALSE)","v":{"$error":"#N/A"}},{"$f":"HLOOKUP(\"Korrektur\",pqidat!A$4:BZ$1000,$A463+1,FALSE)","v":{"$error":"#N/A"}}]
["454",{"$f":"IF(ISBLANK(HLOOKUP(\"Raumdichte\",pqidat!$A$4:$BZ$500,$A464+1,FALSE)),\"\",A464)","v":"454"},{"$f":"HLOOKUP(\"Asphaltsorte\",pqidat!A$4:BZ$1000,$A464+1,FALSE)","v":{"$error":"#N/A"}},{"$f":"HLOOKUP(\"Standort\",pqidat!A$4:BZ$1000,$A464+1,FALSE)&\" \"&INDEX(pqidat!$A$1:$Z$1000,A464+4,MATCH(\"Standort\",pqidat!$A$4:$Z$4,0)+1)","v":{"$error":"#N/A"}},{"$f":"HLOOKUP(\"Station\",pqidat!A$4:BZ$1000,$A464+1,FALSE)","v":{"$error":"#N/A"}},{"$f":"HLOOKUP(\"Dichte\",pqidat!A$4:BZ$1000,$A464+1,FALSE)","v":{"$error":"#N/A"}},{"$f":"HLOOKUP(\"Verdichtung\",pqidat!A$4:BZ$1000,$A464+1,FALSE)","v":{"$error":"#N/A"}},{"$f":"HLOOKUP(\"Temp. OberflÃ¤che\",pqidat!A$4:BZ$1000,$A464+1,FALSE)","v":{"$error":"#N/A"}},{"$f":"HLOOKUP(\"GPS\",pqidat!A$4:BZ$1000,$A464+1,FALSE)","v":{"$error":"#N/A"}},{"$f":"HLOOKUP(\"Korrektur\",pqidat!A$4:BZ$1000,$A464+1,FALSE)","v":{"$error":"#N/A"}}]
["455",{"$f":"IF(ISBLANK(HLOOKUP(\"Raumdichte\",pqidat!$A$4:$BZ$500,$A465+1,FALSE)),\"\",A465)","v":"455"},{"$f":"HLOOKUP(\"Asphaltsorte\",pqidat!A$4:BZ$1000,$A465+1,FALSE)","v":{"$error":"#N/A"}},{"$f":"HLOOKUP(\"Standort\",pqidat!A$4:BZ$1000,$A465+1,FALSE)&\" \"&INDEX(pqidat!$A$1:$Z$1000,A465+4,MATCH(\"Standort\",pqidat!$A$4:$Z$4,0)+1)","v":{"$error":"#N/A"}},{"$f":"HLOOKUP(\"Station\",pqidat!A$4:BZ$1000,$A465+1,FALSE)","v":{"$error":"#N/A"}},{"$f":"HLOOKUP(\"Dichte\",pqidat!A$4:BZ$1000,$A465+1,FALSE)","v":{"$error":"#N/A"}},{"$f":"HLOOKUP(\"Verdichtung\",pqidat!A$4:BZ$1000,$A465+1,FALSE)","v":{"$error":"#N/A"}},{"$f":"HLOOKUP(\"Temp. OberflÃ¤che\",pqidat!A$4:BZ$1000,$A465+1,FALSE)","v":{"$error":"#N/A"}},{"$f":"HLOOKUP(\"GPS\",pqidat!A$4:BZ$1000,$A465+1,FALSE)","v":{"$error":"#N/A"}},{"$f":"HLOOKUP(\"Korrektur\",pqidat!A$4:BZ$1000,$A465+1,FALSE)","v":{"$error":"#N/A"}}]
["456",{"$f":"IF(ISBLANK(HLOOKUP(\"Raumdichte\",pqidat!$A$4:$BZ$500,$A466+1,FALSE)),\"\",A466)","v":"456"},{"$f":"HLOOKUP(\"Asphaltsorte\",pqidat!A$4:BZ$1000,$A466+1,FALSE)","v":{"$error":"#N/A"}},{"$f":"HLOOKUP(\"Standort\",pqidat!A$4:BZ$1000,$A466+1,FALSE)&\" \"&INDEX(pqidat!$A$1:$Z$1000,A466+4,MATCH(\"Standort\",pqidat!$A$4:$Z$4,0)+1)","v":{"$error":"#N/A"}},{"$f":"HLOOKUP(\"Station\",pqidat!A$4:BZ$1000,$A466+1,FALSE)","v":{"$error":"#N/A"}},{"$f":"HLOOKUP(\"Dichte\",pqidat!A$4:BZ$1000,$A466+1,FALSE)","v":{"$error":"#N/A"}},{"$f":"HLOOKUP(\"Verdichtung\",pqidat!A$4:BZ$1000,$A466+1,FALSE)","v":{"$error":"#N/A"}},{"$f":"HLOOKUP(\"Temp. OberflÃ¤che\",pqidat!A$4:BZ$1000,$A466+1,FALSE)","v":{"$error":"#N/A"}},{"$f":"HLOOKUP(\"GPS\",pqidat!A$4:BZ$1000,$A466+1,FALSE)","v":{"$error":"#N/A"}},{"$f":"HLOOKUP(\"Korrektur\",pqidat!A$4:BZ$1000,$A466+1,FALSE)","v":{"$error":"#N/A"}}]
["457",{"$f":"IF(ISBLANK(HLOOKUP(\"Raumdichte\",pqidat!$A$4:$BZ$500,$A467+1,FALSE)),\"\",A467)","v":"457"},{"$f":"HLOOKUP(\"Asphaltsorte\",pqidat!A$4:BZ$1000,$A467+1,FALSE)","v":{"$error":"#N/A"}},{"$f":"HLOOKUP(\"Standort\",pqidat!A$4:BZ$1000,$A467+1,FALSE)&\" \"&INDEX(pqidat!$A$1:$Z$1000,A467+4,MATCH(\"Standort\",pqidat!$A$4:$Z$4,0)+1)","v":{"$error":"#N/A"}},{"$f":"HLOOKUP(\"Station\",pqidat!A$4:BZ$1000,$A467+1,FALSE)","v":{"$error":"#N/A"}},{"$f":"HLOOKUP(\"Dichte\",pqidat!A$4:BZ$1000,$A467+1,FALSE)","v":{"$error":"#N/A"}},{"$f":"HLOOKUP(\"Verdichtung\",pqidat!A$4:BZ$1000,$A467+1,FALSE)","v":{"$error":"#N/A"}},{"$f":"HLOOKUP(\"Temp. OberflÃ¤che\",pqidat!A$4:BZ$1000,$A467+1,FALSE)","v":{"$error":"#N/A"}},{"$f":"HLOOKUP(\"GPS\",pqidat!A$4:BZ$1000,$A467+1,FALSE)","v":{"$error":"#N/A"}},{"$f":"HLOOKUP(\"Korrektur\",pqidat!A$4:BZ$1000,$A467+1,FALSE)","v":{"$error":"#N/A"}}]
["458",{"$f":"IF(ISBLANK(HLOOKUP(\"Raumdichte\",pqidat!$A$4:$BZ$500,$A468+1,FALSE)),\"\",A468)","v":"458"},{"$f":"HLOOKUP(\"Asphaltsorte\",pqidat!A$4:BZ$1000,$A468+1,FALSE)","v":{"$error":"#N/A"}},{"$f":"HLOOKUP(\"Standort\",pqidat!A$4:BZ$1000,$A468+1,FALSE)&\" \"&INDEX(pqidat!$A$1:$Z$1000,A468+4,MATCH(\"Standort\",pqidat!$A$4:$Z$4,0)+1)","v":{"$error":"#N/A"}},{"$f":"HLOOKUP(\"Station\",pqidat!A$4:BZ$1000,$A468+1,FALSE)","v":{"$error":"#N/A"}},{"$f":"HLOOKUP(\"Dichte\",pqidat!A$4:BZ$1000,$A468+1,FALSE)","v":{"$error":"#N/A"}},{"$f":"HLOOKUP(\"Verdichtung\",pqidat!A$4:BZ$1000,$A468+1,FALSE)","v":{"$error":"#N/A"}},{"$f":"HLOOKUP(\"Temp. OberflÃ¤che\",pqidat!A$4:BZ$1000,$A468+1,FALSE)","v":{"$error":"#N/A"}},{"$f":"HLOOKUP(\"GPS\",pqidat!A$4:BZ$1000,$A468+1,FALSE)","v":{"$error":"#N/A"}},{"$f":"HLOOKUP(\"Korrektur\",pqidat!A$4:BZ$1000,$A468+1,FALSE)","v":{"$error":"#N/A"}}]
["459",{"$f":"IF(ISBLANK(HLOOKUP(\"Raumdichte\",pqidat!$A$4:$BZ$500,$A469+1,FALSE)),\"\",A469)","v":"459"},{"$f":"HLOOKUP(\"Asphaltsorte\",pqidat!A$4:BZ$1000,$A469+1,FALSE)","v":{"$error":"#N/A"}},{"$f":"HLOOKUP(\"Standort\",pqidat!A$4:BZ$1000,$A469+1,FALSE)&\" \"&INDEX(pqidat!$A$1:$Z$1000,A469+4,MATCH(\"Standort\",pqidat!$A$4:$Z$4,0)+1)","v":{"$error":"#N/A"}},{"$f":"HLOOKUP(\"Station\",pqidat!A$4:BZ$1000,$A469+1,FALSE)","v":{"$error":"#N/A"}},{"$f":"HLOOKUP(\"Dichte\",pqidat!A$4:BZ$1000,$A469+1,FALSE)","v":{"$error":"#N/A"}},{"$f":"HLOOKUP(\"Verdichtung\",pqidat!A$4:BZ$1000,$A469+1,FALSE)","v":{"$error":"#N/A"}},{"$f":"HLOOKUP(\"Temp. OberflÃ¤che\",pqidat!A$4:BZ$1000,$A469+1,FALSE)","v":{"$error":"#N/A"}},{"$f":"HLOOKUP(\"GPS\",pqidat!A$4:BZ$1000,$A469+1,FALSE)","v":{"$error":"#N/A"}},{"$f":"HLOOKUP(\"Korrektur\",pqidat!A$4:BZ$1000,$A469+1,FALSE)","v":{"$error":"#N/A"}}]
["460",{"$f":"IF(ISBLANK(HLOOKUP(\"Raumdichte\",pqidat!$A$4:$BZ$500,$A470+1,FALSE)),\"\",A470)","v":"460"},{"$f":"HLOOKUP(\"Asphaltsorte\",pqidat!A$4:BZ$1000,$A470+1,FALSE)","v":{"$error":"#N/A"}},{"$f":"HLOOKUP(\"Standort\",pqidat!A$4:BZ$1000,$A470+1,FALSE)&\" \"&INDEX(pqidat!$A$1:$Z$1000,A470+4,MATCH(\"Standort\",pqidat!$A$4:$Z$4,0)+1)","v":{"$error":"#N/A"}},{"$f":"HLOOKUP(\"Station\",pqidat!A$4:BZ$1000,$A470+1,FALSE)","v":{"$error":"#N/A"}},{"$f":"HLOOKUP(\"Dichte\",pqidat!A$4:BZ$1000,$A470+1,FALSE)","v":{"$error":"#N/A"}},{"$f":"HLOOKUP(\"Verdichtung\",pqidat!A$4:BZ$1000,$A470+1,FALSE)","v":{"$error":"#N/A"}},{"$f":"HLOOKUP(\"Temp. OberflÃ¤che\",pqidat!A$4:BZ$1000,$A470+1,FALSE)","v":{"$error":"#N/A"}},{"$f":"HLOOKUP(\"GPS\",pqidat!A$4:BZ$1000,$A470+1,FALSE)","v":{"$error":"#N/A"}},{"$f":"HLOOKUP(\"Korrektur\",pqidat!A$4:BZ$1000,$A470+1,FALSE)","v":{"$error":"#N/A"}}]
["461",{"$f":"IF(ISBLANK(HLOOKUP(\"Raumdichte\",pqidat!$A$4:$BZ$500,$A471+1,FALSE)),\"\",A471)","v":"461"},{"$f":"HLOOKUP(\"Asphaltsorte\",pqidat!A$4:BZ$1000,$A471+1,FALSE)","v":{"$error":"#N/A"}},{"$f":"HLOOKUP(\"Standort\",pqidat!A$4:BZ$1000,$A471+1,FALSE)&\" \"&INDEX(pqidat!$A$1:$Z$1000,A471+4,MATCH(\"Standort\",pqidat!$A$4:$Z$4,0)+1)","v":{"$error":"#N/A"}},{"$f":"HLOOKUP(\"Station\",pqidat!A$4:BZ$1000,$A471+1,FALSE)","v":{"$error":"#N/A"}},{"$f":"HLOOKUP(\"Dichte\",pqidat!A$4:BZ$1000,$A471+1,FALSE)","v":{"$error":"#N/A"}},{"$f":"HLOOKUP(\"Verdichtung\",pqidat!A$4:BZ$1000,$A471+1,FALSE)","v":{"$error":"#N/A"}},{"$f":"HLOOKUP(\"Temp. OberflÃ¤che\",pqidat!A$4:BZ$1000,$A471+1,FALSE)","v":{"$error":"#N/A"}},{"$f":"HLOOKUP(\"GPS\",pqidat!A$4:BZ$1000,$A471+1,FALSE)","v":{"$error":"#N/A"}},{"$f":"HLOOKUP(\"Korrektur\",pqidat!A$4:BZ$1000,$A471+1,FALSE)","v":{"$error":"#N/A"}}]
["462",{"$f":"IF(ISBLANK(HLOOKUP(\"Raumdichte\",pqidat!$A$4:$BZ$500,$A472+1,FALSE)),\"\",A472)","v":"462"},{"$f":"HLOOKUP(\"Asphaltsorte\",pqidat!A$4:BZ$1000,$A472+1,FALSE)","v":{"$error":"#N/A"}},{"$f":"HLOOKUP(\"Standort\",pqidat!A$4:BZ$1000,$A472+1,FALSE)&\" \"&INDEX(pqidat!$A$1:$Z$1000,A472+4,MATCH(\"Standort\",pqidat!$A$4:$Z$4,0)+1)","v":{"$error":"#N/A"}},{"$f":"HLOOKUP(\"Station\",pqidat!A$4:BZ$1000,$A472+1,FALSE)","v":{"$error":"#N/A"}},{"$f":"HLOOKUP(\"Dichte\",pqidat!A$4:BZ$1000,$A472+1,FALSE)","v":{"$error":"#N/A"}},{"$f":"HLOOKUP(\"Verdichtung\",pqidat!A$4:BZ$1000,$A472+1,FALSE)","v":{"$error":"#N/A"}},{"$f":"HLOOKUP(\"Temp. OberflÃ¤che\",pqidat!A$4:BZ$1000,$A472+1,FALSE)","v":{"$error":"#N/A"}},{"$f":"HLOOKUP(\"GPS\",pqidat!A$4:BZ$1000,$A472+1,FALSE)","v":{"$error":"#N/A"}},{"$f":"HLOOKUP(\"Korrektur\",pqidat!A$4:BZ$1000,$A472+1,FALSE)","v":{"$error":"#N/A"}}]
["463",{"$f":"IF(ISBLANK(HLOOKUP(\"Raumdichte\",pqidat!$A$4:$BZ$500,$A473+1,FALSE)),\"\",A473)","v":"463"},{"$f":"HLOOKUP(\"Asphaltsorte\",pqidat!A$4:BZ$1000,$A473+1,FALSE)","v":{"$error":"#N/A"}},{"$f":"HLOOKUP(\"Standort\",pqidat!A$4:BZ$1000,$A473+1,FALSE)&\" \"&INDEX(pqidat!$A$1:$Z$1000,A473+4,MATCH(\"Standort\",pqidat!$A$4:$Z$4,0)+1)","v":{"$error":"#N/A"}},{"$f":"HLOOKUP(\"Station\",pqidat!A$4:BZ$1000,$A473+1,FALSE)","v":{"$error":"#N/A"}},{"$f":"HLOOKUP(\"Dichte\",pqidat!A$4:BZ$1000,$A473+1,FALSE)","v":{"$error":"#N/A"}},{"$f":"HLOOKUP(\"Verdichtung\",pqidat!A$4:BZ$1000,$A473+1,FALSE)","v":{"$error":"#N/A"}},{"$f":"HLOOKUP(\"Temp. OberflÃ¤che\",pqidat!A$4:BZ$1000,$A473+1,FALSE)","v":{"$error":"#N/A"}},{"$f":"HLOOKUP(\"GPS\",pqidat!A$4:BZ$1000,$A473+1,FALSE)","v":{"$error":"#N/A"}},{"$f":"HLOOKUP(\"Korrektur\",pqidat!A$4:BZ$1000,$A473+1,FALSE)","v":{"$error":"#N/A"}}]
["464",{"$f":"IF(ISBLANK(HLOOKUP(\"Raumdichte\",pqidat!$A$4:$BZ$500,$A474+1,FALSE)),\"\",A474)","v":"464"},{"$f":"HLOOKUP(\"Asphaltsorte\",pqidat!A$4:BZ$1000,$A474+1,FALSE)","v":{"$error":"#N/A"}},{"$f":"HLOOKUP(\"Standort\",pqidat!A$4:BZ$1000,$A474+1,FALSE)&\" \"&INDEX(pqidat!$A$1:$Z$1000,A474+4,MATCH(\"Standort\",pqidat!$A$4:$Z$4,0)+1)","v":{"$error":"#N/A"}},{"$f":"HLOOKUP(\"Station\",pqidat!A$4:BZ$1000,$A474+1,FALSE)","v":{"$error":"#N/A"}},{"$f":"HLOOKUP(\"Dichte\",pqidat!A$4:BZ$1000,$A474+1,FALSE)","v":{"$error":"#N/A"}},{"$f":"HLOOKUP(\"Verdichtung\",pqidat!A$4:BZ$1000,$A474+1,FALSE)","v":{"$error":"#N/A"}},{"$f":"HLOOKUP(\"Temp. OberflÃ¤che\",pqidat!A$4:BZ$1000,$A474+1,FALSE)","v":{"$error":"#N/A"}},{"$f":"HLOOKUP(\"GPS\",pqidat!A$4:BZ$1000,$A474+1,FALSE)","v":{"$error":"#N/A"}},{"$f":"HLOOKUP(\"Korrektur\",pqidat!A$4:BZ$1000,$A474+1,FALSE)","v":{"$error":"#N/A"}}]
["465",{"$f":"IF(ISBLANK(HLOOKUP(\"Raumdichte\",pqidat!$A$4:$BZ$500,$A475+1,FALSE)),\"\",A475)","v":"465"},{"$f":"HLOOKUP(\"Asphaltsorte\",pqidat!A$4:BZ$1000,$A475+1,FALSE)","v":{"$error":"#N/A"}},{"$f":"HLOOKUP(\"Standort\",pqidat!A$4:BZ$1000,$A475+1,FALSE)&\" \"&INDEX(pqidat!$A$1:$Z$1000,A475+4,MATCH(\"Standort\",pqidat!$A$4:$Z$4,0)+1)","v":{"$error":"#N/A"}},{"$f":"HLOOKUP(\"Station\",pqidat!A$4:BZ$1000,$A475+1,FALSE)","v":{"$error":"#N/A"}},{"$f":"HLOOKUP(\"Dichte\",pqidat!A$4:BZ$1000,$A475+1,FALSE)","v":{"$error":"#N/A"}},{"$f":"HLOOKUP(\"Verdichtung\",pqidat!A$4:BZ$1000,$A475+1,FALSE)","v":{"$error":"#N/A"}},{"$f":"HLOOKUP(\"Temp. OberflÃ¤che\",pqidat!A$4:BZ$1000,$A475+1,FALSE)","v":{"$error":"#N/A"}},{"$f":"HLOOKUP(\"GPS\",pqidat!A$4:BZ$1000,$A475+1,FALSE)","v":{"$error":"#N/A"}},{"$f":"HLOOKUP(\"Korrektur\",pqidat!A$4:BZ$1000,$A475+1,FALSE)","v":{"$error":"#N/A"}}]
["466",{"$f":"IF(ISBLANK(HLOOKUP(\"Raumdichte\",pqidat!$A$4:$BZ$500,$A476+1,FALSE)),\"\",A476)","v":"466"},{"$f":"HLOOKUP(\"Asphaltsorte\",pqidat!A$4:BZ$1000,$A476+1,FALSE)","v":{"$error":"#N/A"}},{"$f":"HLOOKUP(\"Standort\",pqidat!A$4:BZ$1000,$A476+1,FALSE)&\" \"&INDEX(pqidat!$A$1:$Z$1000,A476+4,MATCH(\"Standort\",pqidat!$A$4:$Z$4,0)+1)","v":{"$error":"#N/A"}},{"$f":"HLOOKUP(\"Station\",pqidat!A$4:BZ$1000,$A476+1,FALSE)","v":{"$error":"#N/A"}},{"$f":"HLOOKUP(\"Dichte\",pqidat!A$4:BZ$1000,$A476+1,FALSE)","v":{"$error":"#N/A"}},{"$f":"HLOOKUP(\"Verdichtung\",pqidat!A$4:BZ$1000,$A476+1,FALSE)","v":{"$error":"#N/A"}},{"$f":"HLOOKUP(\"Temp. OberflÃ¤che\",pqidat!A$4:BZ$1000,$A476+1,FALSE)","v":{"$error":"#N/A"}},{"$f":"HLOOKUP(\"GPS\",pqidat!A$4:BZ$1000,$A476+1,FALSE)","v":{"$error":"#N/A"}},{"$f":"HLOOKUP(\"Korrektur\",pqidat!A$4:BZ$1000,$A476+1,FALSE)","v":{"$error":"#N/A"}}]
["467",{"$f":"IF(ISBLANK(HLOOKUP(\"Raumdichte\",pqidat!$A$4:$BZ$500,$A477+1,FALSE)),\"\",A477)","v":"467"},{"$f":"HLOOKUP(\"Asphaltsorte\",pqidat!A$4:BZ$1000,$A477+1,FALSE)","v":{"$error":"#N/A"}},{"$f":"HLOOKUP(\"Standort\",pqidat!A$4:BZ$1000,$A477+1,FALSE)&\" \"&INDEX(pqidat!$A$1:$Z$1000,A477+4,MATCH(\"Standort\",pqidat!$A$4:$Z$4,0)+1)","v":{"$error":"#N/A"}},{"$f":"HLOOKUP(\"Station\",pqidat!A$4:BZ$1000,$A477+1,FALSE)","v":{"$error":"#N/A"}},{"$f":"HLOOKUP(\"Dichte\",pqidat!A$4:BZ$1000,$A477+1,FALSE)","v":{"$error":"#N/A"}},{"$f":"HLOOKUP(\"Verdichtung\",pqidat!A$4:BZ$1000,$A477+1,FALSE)","v":{"$error":"#N/A"}},{"$f":"HLOOKUP(\"Temp. OberflÃ¤che\",pqidat!A$4:BZ$1000,$A477+1,FALSE)","v":{"$error":"#N/A"}},{"$f":"HLOOKUP(\"GPS\",pqidat!A$4:BZ$1000,$A477+1,FALSE)","v":{"$error":"#N/A"}},{"$f":"HLOOKUP(\"Korrektur\",pqidat!A$4:BZ$1000,$A477+1,FALSE)","v":{"$error":"#N/A"}}]
["468",{"$f":"IF(ISBLANK(HLOOKUP(\"Raumdichte\",pqidat!$A$4:$BZ$500,$A478+1,FALSE)),\"\",A478)","v":"468"},{"$f":"HLOOKUP(\"Asphaltsorte\",pqidat!A$4:BZ$1000,$A478+1,FALSE)","v":{"$error":"#N/A"}},{"$f":"HLOOKUP(\"Standort\",pqidat!A$4:BZ$1000,$A478+1,FALSE)&\" \"&INDEX(pqidat!$A$1:$Z$1000,A478+4,MATCH(\"Standort\",pqidat!$A$4:$Z$4,0)+1)","v":{"$error":"#N/A"}},{"$f":"HLOOKUP(\"Station\",pqidat!A$4:BZ$1000,$A478+1,FALSE)","v":{"$error":"#N/A"}},{"$f":"HLOOKUP(\"Dichte\",pqidat!A$4:BZ$1000,$A478+1,FALSE)","v":{"$error":"#N/A"}},{"$f":"HLOOKUP(\"Verdichtung\",pqidat!A$4:BZ$1000,$A478+1,FALSE)","v":{"$error":"#N/A"}},{"$f":"HLOOKUP(\"Temp. OberflÃ¤che\",pqidat!A$4:BZ$1000,$A478+1,FALSE)","v":{"$error":"#N/A"}},{"$f":"HLOOKUP(\"GPS\",pqidat!A$4:BZ$1000,$A478+1,FALSE)","v":{"$error":"#N/A"}},{"$f":"HLOOKUP(\"Korrektur\",pqidat!A$4:BZ$1000,$A478+1,FALSE)","v":{"$error":"#N/A"}}]
["469",{"$f":"IF(ISBLANK(HLOOKUP(\"Raumdichte\",pqidat!$A$4:$BZ$500,$A479+1,FALSE)),\"\",A479)","v":"469"},{"$f":"HLOOKUP(\"Asphaltsorte\",pqidat!A$4:BZ$1000,$A479+1,FALSE)","v":{"$error":"#N/A"}},{"$f":"HLOOKUP(\"Standort\",pqidat!A$4:BZ$1000,$A479+1,FALSE)&\" \"&INDEX(pqidat!$A$1:$Z$1000,A479+4,MATCH(\"Standort\",pqidat!$A$4:$Z$4,0)+1)","v":{"$error":"#N/A"}},{"$f":"HLOOKUP(\"Station\",pqidat!A$4:BZ$1000,$A479+1,FALSE)","v":{"$error":"#N/A"}},{"$f":"HLOOKUP(\"Dichte\",pqidat!A$4:BZ$1000,$A479+1,FALSE)","v":{"$error":"#N/A"}},{"$f":"HLOOKUP(\"Verdichtung\",pqidat!A$4:BZ$1000,$A479+1,FALSE)","v":{"$error":"#N/A"}},{"$f":"HLOOKUP(\"Temp. OberflÃ¤che\",pqidat!A$4:BZ$1000,$A479+1,FALSE)","v":{"$error":"#N/A"}},{"$f":"HLOOKUP(\"GPS\",pqidat!A$4:BZ$1000,$A479+1,FALSE)","v":{"$error":"#N/A"}},{"$f":"HLOOKUP(\"Korrektur\",pqidat!A$4:BZ$1000,$A479+1,FALSE)","v":{"$error":"#N/A"}}]
["470",{"$f":"IF(ISBLANK(HLOOKUP(\"Raumdichte\",pqidat!$A$4:$BZ$500,$A480+1,FALSE)),\"\",A480)","v":"470"},{"$f":"HLOOKUP(\"Asphaltsorte\",pqidat!A$4:BZ$1000,$A480+1,FALSE)","v":{"$error":"#N/A"}},{"$f":"HLOOKUP(\"Standort\",pqidat!A$4:BZ$1000,$A480+1,FALSE)&\" \"&INDEX(pqidat!$A$1:$Z$1000,A480+4,MATCH(\"Standort\",pqidat!$A$4:$Z$4,0)+1)","v":{"$error":"#N/A"}},{"$f":"HLOOKUP(\"Station\",pqidat!A$4:BZ$1000,$A480+1,FALSE)","v":{"$error":"#N/A"}},{"$f":"HLOOKUP(\"Dichte\",pqidat!A$4:BZ$1000,$A480+1,FALSE)","v":{"$error":"#N/A"}},{"$f":"HLOOKUP(\"Verdichtung\",pqidat!A$4:BZ$1000,$A480+1,FALSE)","v":{"$error":"#N/A"}},{"$f":"HLOOKUP(\"Temp. OberflÃ¤che\",pqidat!A$4:BZ$1000,$A480+1,FALSE)","v":{"$error":"#N/A"}},{"$f":"HLOOKUP(\"GPS\",pqidat!A$4:BZ$1000,$A480+1,FALSE)","v":{"$error":"#N/A"}},{"$f":"HLOOKUP(\"Korrektur\",pqidat!A$4:BZ$1000,$A480+1,FALSE)","v":{"$error":"#N/A"}}]
["471",{"$f":"IF(ISBLANK(HLOOKUP(\"Raumdichte\",pqidat!$A$4:$BZ$500,$A481+1,FALSE)),\"\",A481)","v":"471"},{"$f":"HLOOKUP(\"Asphaltsorte\",pqidat!A$4:BZ$1000,$A481+1,FALSE)","v":{"$error":"#N/A"}},{"$f":"HLOOKUP(\"Standort\",pqidat!A$4:BZ$1000,$A481+1,FALSE)&\" \"&INDEX(pqidat!$A$1:$Z$1000,A481+4,MATCH(\"Standort\",pqidat!$A$4:$Z$4,0)+1)","v":{"$error":"#N/A"}},{"$f":"HLOOKUP(\"Station\",pqidat!A$4:BZ$1000,$A481+1,FALSE)","v":{"$error":"#N/A"}},{"$f":"HLOOKUP(\"Dichte\",pqidat!A$4:BZ$1000,$A481+1,FALSE)","v":{"$error":"#N/A"}},{"$f":"HLOOKUP(\"Verdichtung\",pqidat!A$4:BZ$1000,$A481+1,FALSE)","v":{"$error":"#N/A"}},{"$f":"HLOOKUP(\"Temp. OberflÃ¤che\",pqidat!A$4:BZ$1000,$A481+1,FALSE)","v":{"$error":"#N/A"}},{"$f":"HLOOKUP(\"GPS\",pqidat!A$4:BZ$1000,$A481+1,FALSE)","v":{"$error":"#N/A"}},{"$f":"HLOOKUP(\"Korrektur\",pqidat!A$4:BZ$1000,$A481+1,FALSE)","v":{"$error":"#N/A"}}]
["472",{"$f":"IF(ISBLANK(HLOOKUP(\"Raumdichte\",pqidat!$A$4:$BZ$500,$A482+1,FALSE)),\"\",A482)","v":"472"},{"$f":"HLOOKUP(\"Asphaltsorte\",pqidat!A$4:BZ$1000,$A482+1,FALSE)","v":{"$error":"#N/A"}},{"$f":"HLOOKUP(\"Standort\",pqidat!A$4:BZ$1000,$A482+1,FALSE)&\" \"&INDEX(pqidat!$A$1:$Z$1000,A482+4,MATCH(\"Standort\",pqidat!$A$4:$Z$4,0)+1)","v":{"$error":"#N/A"}},{"$f":"HLOOKUP(\"Station\",pqidat!A$4:BZ$1000,$A482+1,FALSE)","v":{"$error":"#N/A"}},{"$f":"HLOOKUP(\"Dichte\",pqidat!A$4:BZ$1000,$A482+1,FALSE)","v":{"$error":"#N/A"}},{"$f":"HLOOKUP(\"Verdichtung\",pqidat!A$4:BZ$1000,$A482+1,FALSE)","v":{"$error":"#N/A"}},{"$f":"HLOOKUP(\"Temp. OberflÃ¤che\",pqidat!A$4:BZ$1000,$A482+1,FALSE)","v":{"$error":"#N/A"}},{"$f":"HLOOKUP(\"GPS\",pqidat!A$4:BZ$1000,$A482+1,FALSE)","v":{"$error":"#N/A"}},{"$f":"HLOOKUP(\"Korrektur\",pqidat!A$4:BZ$1000,$A482+1,FALSE)","v":{"$error":"#N/A"}}]
["473",{"$f":"IF(ISBLANK(HLOOKUP(\"Raumdichte\",pqidat!$A$4:$BZ$500,$A483+1,FALSE)),\"\",A483)","v":"473"},{"$f":"HLOOKUP(\"Asphaltsorte\",pqidat!A$4:BZ$1000,$A483+1,FALSE)","v":{"$error":"#N/A"}},{"$f":"HLOOKUP(\"Standort\",pqidat!A$4:BZ$1000,$A483+1,FALSE)&\" \"&INDEX(pqidat!$A$1:$Z$1000,A483+4,MATCH(\"Standort\",pqidat!$A$4:$Z$4,0)+1)","v":{"$error":"#N/A"}},{"$f":"HLOOKUP(\"Station\",pqidat!A$4:BZ$1000,$A483+1,FALSE)","v":{"$error":"#N/A"}},{"$f":"HLOOKUP(\"Dichte\",pqidat!A$4:BZ$1000,$A483+1,FALSE)","v":{"$error":"#N/A"}},{"$f":"HLOOKUP(\"Verdichtung\",pqidat!A$4:BZ$1000,$A483+1,FALSE)","v":{"$error":"#N/A"}},{"$f":"HLOOKUP(\"Temp. OberflÃ¤che\",pqidat!A$4:BZ$1000,$A483+1,FALSE)","v":{"$error":"#N/A"}},{"$f":"HLOOKUP(\"GPS\",pqidat!A$4:BZ$1000,$A483+1,FALSE)","v":{"$error":"#N/A"}},{"$f":"HLOOKUP(\"Korrektur\",pqidat!A$4:BZ$1000,$A483+1,FALSE)","v":{"$error":"#N/A"}}]
["474",{"$f":"IF(ISBLANK(HLOOKUP(\"Raumdichte\",pqidat!$A$4:$BZ$500,$A484+1,FALSE)),\"\",A484)","v":"474"},{"$f":"HLOOKUP(\"Asphaltsorte\",pqidat!A$4:BZ$1000,$A484+1,FALSE)","v":{"$error":"#N/A"}},{"$f":"HLOOKUP(\"Standort\",pqidat!A$4:BZ$1000,$A484+1,FALSE)&\" \"&INDEX(pqidat!$A$1:$Z$1000,A484+4,MATCH(\"Standort\",pqidat!$A$4:$Z$4,0)+1)","v":{"$error":"#N/A"}},{"$f":"HLOOKUP(\"Station\",pqidat!A$4:BZ$1000,$A484+1,FALSE)","v":{"$error":"#N/A"}},{"$f":"HLOOKUP(\"Dichte\",pqidat!A$4:BZ$1000,$A484+1,FALSE)","v":{"$error":"#N/A"}},{"$f":"HLOOKUP(\"Verdichtung\",pqidat!A$4:BZ$1000,$A484+1,FALSE)","v":{"$error":"#N/A"}},{"$f":"HLOOKUP(\"Temp. OberflÃ¤che\",pqidat!A$4:BZ$1000,$A484+1,FALSE)","v":{"$error":"#N/A"}},{"$f":"HLOOKUP(\"GPS\",pqidat!A$4:BZ$1000,$A484+1,FALSE)","v":{"$error":"#N/A"}},{"$f":"HLOOKUP(\"Korrektur\",pqidat!A$4:BZ$1000,$A484+1,FALSE)","v":{"$error":"#N/A"}}]
["475",{"$f":"IF(ISBLANK(HLOOKUP(\"Raumdichte\",pqidat!$A$4:$BZ$500,$A485+1,FALSE)),\"\",A485)","v":"475"},{"$f":"HLOOKUP(\"Asphaltsorte\",pqidat!A$4:BZ$1000,$A485+1,FALSE)","v":{"$error":"#N/A"}},{"$f":"HLOOKUP(\"Standort\",pqidat!A$4:BZ$1000,$A485+1,FALSE)&\" \"&INDEX(pqidat!$A$1:$Z$1000,A485+4,MATCH(\"Standort\",pqidat!$A$4:$Z$4,0)+1)","v":{"$error":"#N/A"}},{"$f":"HLOOKUP(\"Station\",pqidat!A$4:BZ$1000,$A485+1,FALSE)","v":{"$error":"#N/A"}},{"$f":"HLOOKUP(\"Dichte\",pqidat!A$4:BZ$1000,$A485+1,FALSE)","v":{"$error":"#N/A"}},{"$f":"HLOOKUP(\"Verdichtung\",pqidat!A$4:BZ$1000,$A485+1,FALSE)","v":{"$error":"#N/A"}},{"$f":"HLOOKUP(\"Temp. OberflÃ¤che\",pqidat!A$4:BZ$1000,$A485+1,FALSE)","v":{"$error":"#N/A"}},{"$f":"HLOOKUP(\"GPS\",pqidat!A$4:BZ$1000,$A485+1,FALSE)","v":{"$error":"#N/A"}},{"$f":"HLOOKUP(\"Korrektur\",pqidat!A$4:BZ$1000,$A485+1,FALSE)","v":{"$error":"#N/A"}}]
["476",{"$f":"IF(ISBLANK(HLOOKUP(\"Raumdichte\",pqidat!$A$4:$BZ$500,$A486+1,FALSE)),\"\",A486)","v":"476"},{"$f":"HLOOKUP(\"Asphaltsorte\",pqidat!A$4:BZ$1000,$A486+1,FALSE)","v":{"$error":"#N/A"}},{"$f":"HLOOKUP(\"Standort\",pqidat!A$4:BZ$1000,$A486+1,FALSE)&\" \"&INDEX(pqidat!$A$1:$Z$1000,A486+4,MATCH(\"Standort\",pqidat!$A$4:$Z$4,0)+1)","v":{"$error":"#N/A"}},{"$f":"HLOOKUP(\"Station\",pqidat!A$4:BZ$1000,$A486+1,FALSE)","v":{"$error":"#N/A"}},{"$f":"HLOOKUP(\"Dichte\",pqidat!A$4:BZ$1000,$A486+1,FALSE)","v":{"$error":"#N/A"}},{"$f":"HLOOKUP(\"Verdichtung\",pqidat!A$4:BZ$1000,$A486+1,FALSE)","v":{"$error":"#N/A"}},{"$f":"HLOOKUP(\"Temp. OberflÃ¤che\",pqidat!A$4:BZ$1000,$A486+1,FALSE)","v":{"$error":"#N/A"}},{"$f":"HLOOKUP(\"GPS\",pqidat!A$4:BZ$1000,$A486+1,FALSE)","v":{"$error":"#N/A"}},{"$f":"HLOOKUP(\"Korrektur\",pqidat!A$4:BZ$1000,$A486+1,FALSE)","v":{"$error":"#N/A"}}]
["477",{"$f":"IF(ISBLANK(HLOOKUP(\"Raumdichte\",pqidat!$A$4:$BZ$500,$A487+1,FALSE)),\"\",A487)","v":"477"},{"$f":"HLOOKUP(\"Asphaltsorte\",pqidat!A$4:BZ$1000,$A487+1,FALSE)","v":{"$error":"#N/A"}},{"$f":"HLOOKUP(\"Standort\",pqidat!A$4:BZ$1000,$A487+1,FALSE)&\" \"&INDEX(pqidat!$A$1:$Z$1000,A487+4,MATCH(\"Standort\",pqidat!$A$4:$Z$4,0)+1)","v":{"$error":"#N/A"}},{"$f":"HLOOKUP(\"Station\",pqidat!A$4:BZ$1000,$A487+1,FALSE)","v":{"$error":"#N/A"}},{"$f":"HLOOKUP(\"Dichte\",pqidat!A$4:BZ$1000,$A487+1,FALSE)","v":{"$error":"#N/A"}},{"$f":"HLOOKUP(\"Verdichtung\",pqidat!A$4:BZ$1000,$A487+1,FALSE)","v":{"$error":"#N/A"}},{"$f":"HLOOKUP(\"Temp. OberflÃ¤che\",pqidat!A$4:BZ$1000,$A487+1,FALSE)","v":{"$error":"#N/A"}},{"$f":"HLOOKUP(\"GPS\",pqidat!A$4:BZ$1000,$A487+1,FALSE)","v":{"$error":"#N/A"}},{"$f":"HLOOKUP(\"Korrektur\",pqidat!A$4:BZ$1000,$A487+1,FALSE)","v":{"$error":"#N/A"}}]
["478",{"$f":"IF(ISBLANK(HLOOKUP(\"Raumdichte\",pqidat!$A$4:$BZ$500,$A488+1,FALSE)),\"\",A488)","v":"478"},{"$f":"HLOOKUP(\"Asphaltsorte\",pqidat!A$4:BZ$1000,$A488+1,FALSE)","v":{"$error":"#N/A"}},{"$f":"HLOOKUP(\"Standort\",pqidat!A$4:BZ$1000,$A488+1,FALSE)&\" \"&INDEX(pqidat!$A$1:$Z$1000,A488+4,MATCH(\"Standort\",pqidat!$A$4:$Z$4,0)+1)","v":{"$error":"#N/A"}},{"$f":"HLOOKUP(\"Station\",pqidat!A$4:BZ$1000,$A488+1,FALSE)","v":{"$error":"#N/A"}},{"$f":"HLOOKUP(\"Dichte\",pqidat!A$4:BZ$1000,$A488+1,FALSE)","v":{"$error":"#N/A"}},{"$f":"HLOOKUP(\"Verdichtung\",pqidat!A$4:BZ$1000,$A488+1,FALSE)","v":{"$error":"#N/A"}},{"$f":"HLOOKUP(\"Temp. OberflÃ¤che\",pqidat!A$4:BZ$1000,$A488+1,FALSE)","v":{"$error":"#N/A"}},{"$f":"HLOOKUP(\"GPS\",pqidat!A$4:BZ$1000,$A488+1,FALSE)","v":{"$error":"#N/A"}},{"$f":"HLOOKUP(\"Korrektur\",pqidat!A$4:BZ$1000,$A488+1,FALSE)","v":{"$error":"#N/A"}}]
["479",{"$f":"IF(ISBLANK(HLOOKUP(\"Raumdichte\",pqidat!$A$4:$BZ$500,$A489+1,FALSE)),\"\",A489)","v":"479"},{"$f":"HLOOKUP(\"Asphaltsorte\",pqidat!A$4:BZ$1000,$A489+1,FALSE)","v":{"$error":"#N/A"}},{"$f":"HLOOKUP(\"Standort\",pqidat!A$4:BZ$1000,$A489+1,FALSE)&\" \"&INDEX(pqidat!$A$1:$Z$1000,A489+4,MATCH(\"Standort\",pqidat!$A$4:$Z$4,0)+1)","v":{"$error":"#N/A"}},{"$f":"HLOOKUP(\"Station\",pqidat!A$4:BZ$1000,$A489+1,FALSE)","v":{"$error":"#N/A"}},{"$f":"HLOOKUP(\"Dichte\",pqidat!A$4:BZ$1000,$A489+1,FALSE)","v":{"$error":"#N/A"}},{"$f":"HLOOKUP(\"Verdichtung\",pqidat!A$4:BZ$1000,$A489+1,FALSE)","v":{"$error":"#N/A"}},{"$f":"HLOOKUP(\"Temp. OberflÃ¤che\",pqidat!A$4:BZ$1000,$A489+1,FALSE)","v":{"$error":"#N/A"}},{"$f":"HLOOKUP(\"GPS\",pqidat!A$4:BZ$1000,$A489+1,FALSE)","v":{"$error":"#N/A"}},{"$f":"HLOOKUP(\"Korrektur\",pqidat!A$4:BZ$1000,$A489+1,FALSE)","v":{"$error":"#N/A"}}]
["480",{"$f":"IF(ISBLANK(HLOOKUP(\"Raumdichte\",pqidat!$A$4:$BZ$500,$A490+1,FALSE)),\"\",A490)","v":"480"},{"$f":"HLOOKUP(\"Asphaltsorte\",pqidat!A$4:BZ$1000,$A490+1,FALSE)","v":{"$error":"#N/A"}},{"$f":"HLOOKUP(\"Standort\",pqidat!A$4:BZ$1000,$A490+1,FALSE)&\" \"&INDEX(pqidat!$A$1:$Z$1000,A490+4,MATCH(\"Standort\",pqidat!$A$4:$Z$4,0)+1)","v":{"$error":"#N/A"}},{"$f":"HLOOKUP(\"Station\",pqidat!A$4:BZ$1000,$A490+1,FALSE)","v":{"$error":"#N/A"}},{"$f":"HLOOKUP(\"Dichte\",pqidat!A$4:BZ$1000,$A490+1,FALSE)","v":{"$error":"#N/A"}},{"$f":"HLOOKUP(\"Verdichtung\",pqidat!A$4:BZ$1000,$A490+1,FALSE)","v":{"$error":"#N/A"}},{"$f":"HLOOKUP(\"Temp. OberflÃ¤che\",pqidat!A$4:BZ$1000,$A490+1,FALSE)","v":{"$error":"#N/A"}},{"$f":"HLOOKUP(\"GPS\",pqidat!A$4:BZ$1000,$A490+1,FALSE)","v":{"$error":"#N/A"}},{"$f":"HLOOKUP(\"Korrektur\",pqidat!A$4:BZ$1000,$A490+1,FALSE)","v":{"$error":"#N/A"}}]
["481",{"$f":"IF(ISBLANK(HLOOKUP(\"Raumdichte\",pqidat!$A$4:$BZ$500,$A491+1,FALSE)),\"\",A491)","v":"481"},{"$f":"HLOOKUP(\"Asphaltsorte\",pqidat!A$4:BZ$1000,$A491+1,FALSE)","v":{"$error":"#N/A"}},{"$f":"HLOOKUP(\"Standort\",pqidat!A$4:BZ$1000,$A491+1,FALSE)&\" \"&INDEX(pqidat!$A$1:$Z$1000,A491+4,MATCH(\"Standort\",pqidat!$A$4:$Z$4,0)+1)","v":{"$error":"#N/A"}},{"$f":"HLOOKUP(\"Station\",pqidat!A$4:BZ$1000,$A491+1,FALSE)","v":{"$error":"#N/A"}},{"$f":"HLOOKUP(\"Dichte\",pqidat!A$4:BZ$1000,$A491+1,FALSE)","v":{"$error":"#N/A"}},{"$f":"HLOOKUP(\"Verdichtung\",pqidat!A$4:BZ$1000,$A491+1,FALSE)","v":{"$error":"#N/A"}},{"$f":"HLOOKUP(\"Temp. OberflÃ¤che\",pqidat!A$4:BZ$1000,$A491+1,FALSE)","v":{"$error":"#N/A"}},{"$f":"HLOOKUP(\"GPS\",pqidat!A$4:BZ$1000,$A491+1,FALSE)","v":{"$error":"#N/A"}},{"$f":"HLOOKUP(\"Korrektur\",pqidat!A$4:BZ$1000,$A491+1,FALSE)","v":{"$error":"#N/A"}}]
["482",{"$f":"IF(ISBLANK(HLOOKUP(\"Raumdichte\",pqidat!$A$4:$BZ$500,$A492+1,FALSE)),\"\",A492)","v":"482"},{"$f":"HLOOKUP(\"Asphaltsorte\",pqidat!A$4:BZ$1000,$A492+1,FALSE)","v":{"$error":"#N/A"}},{"$f":"HLOOKUP(\"Standort\",pqidat!A$4:BZ$1000,$A492+1,FALSE)&\" \"&INDEX(pqidat!$A$1:$Z$1000,A492+4,MATCH(\"Standort\",pqidat!$A$4:$Z$4,0)+1)","v":{"$error":"#N/A"}},{"$f":"HLOOKUP(\"Station\",pqidat!A$4:BZ$1000,$A492+1,FALSE)","v":{"$error":"#N/A"}},{"$f":"HLOOKUP(\"Dichte\",pqidat!A$4:BZ$1000,$A492+1,FALSE)","v":{"$error":"#N/A"}},{"$f":"HLOOKUP(\"Verdichtung\",pqidat!A$4:BZ$1000,$A492+1,FALSE)","v":{"$error":"#N/A"}},{"$f":"HLOOKUP(\"Temp. OberflÃ¤che\",pqidat!A$4:BZ$1000,$A492+1,FALSE)","v":{"$error":"#N/A"}},{"$f":"HLOOKUP(\"GPS\",pqidat!A$4:BZ$1000,$A492+1,FALSE)","v":{"$error":"#N/A"}},{"$f":"HLOOKUP(\"Korrektur\",pqidat!A$4:BZ$1000,$A492+1,FALSE)","v":{"$error":"#N/A"}}]
["483",{"$f":"IF(ISBLANK(HLOOKUP(\"Raumdichte\",pqidat!$A$4:$BZ$500,$A493+1,FALSE)),\"\",A493)","v":"483"},{"$f":"HLOOKUP(\"Asphaltsorte\",pqidat!A$4:BZ$1000,$A493+1,FALSE)","v":{"$error":"#N/A"}},{"$f":"HLOOKUP(\"Standort\",pqidat!A$4:BZ$1000,$A493+1,FALSE)&\" \"&INDEX(pqidat!$A$1:$Z$1000,A493+4,MATCH(\"Standort\",pqidat!$A$4:$Z$4,0)+1)","v":{"$error":"#N/A"}},{"$f":"HLOOKUP(\"Station\",pqidat!A$4:BZ$1000,$A493+1,FALSE)","v":{"$error":"#N/A"}},{"$f":"HLOOKUP(\"Dichte\",pqidat!A$4:BZ$1000,$A493+1,FALSE)","v":{"$error":"#N/A"}},{"$f":"HLOOKUP(\"Verdichtung\",pqidat!A$4:BZ$1000,$A493+1,FALSE)","v":{"$error":"#N/A"}},{"$f":"HLOOKUP(\"Temp. OberflÃ¤che\",pqidat!A$4:BZ$1000,$A493+1,FALSE)","v":{"$error":"#N/A"}},{"$f":"HLOOKUP(\"GPS\",pqidat!A$4:BZ$1000,$A493+1,FALSE)","v":{"$error":"#N/A"}},{"$f":"HLOOKUP(\"Korrektur\",pqidat!A$4:BZ$1000,$A493+1,FALSE)","v":{"$error":"#N/A"}}]
["484",{"$f":"IF(ISBLANK(HLOOKUP(\"Raumdichte\",pqidat!$A$4:$BZ$500,$A494+1,FALSE)),\"\",A494)","v":"484"},{"$f":"HLOOKUP(\"Asphaltsorte\",pqidat!A$4:BZ$1000,$A494+1,FALSE)","v":{"$error":"#N/A"}},{"$f":"HLOOKUP(\"Standort\",pqidat!A$4:BZ$1000,$A494+1,FALSE)&\" \"&INDEX(pqidat!$A$1:$Z$1000,A494+4,MATCH(\"Standort\",pqidat!$A$4:$Z$4,0)+1)","v":{"$error":"#N/A"}},{"$f":"HLOOKUP(\"Station\",pqidat!A$4:BZ$1000,$A494+1,FALSE)","v":{"$error":"#N/A"}},{"$f":"HLOOKUP(\"Dichte\",pqidat!A$4:BZ$1000,$A494+1,FALSE)","v":{"$error":"#N/A"}},{"$f":"HLOOKUP(\"Verdichtung\",pqidat!A$4:BZ$1000,$A494+1,FALSE)","v":{"$error":"#N/A"}},{"$f":"HLOOKUP(\"Temp. OberflÃ¤che\",pqidat!A$4:BZ$1000,$A494+1,FALSE)","v":{"$error":"#N/A"}},{"$f":"HLOOKUP(\"GPS\",pqidat!A$4:BZ$1000,$A494+1,FALSE)","v":{"$error":"#N/A"}},{"$f":"HLOOKUP(\"Korrektur\",pqidat!A$4:BZ$1000,$A494+1,FALSE)","v":{"$error":"#N/A"}}]
["485",{"$f":"IF(ISBLANK(HLOOKUP(\"Raumdichte\",pqidat!$A$4:$BZ$500,$A495+1,FALSE)),\"\",A495)","v":"485"},{"$f":"HLOOKUP(\"Asphaltsorte\",pqidat!A$4:BZ$1000,$A495+1,FALSE)","v":{"$error":"#N/A"}},{"$f":"HLOOKUP(\"Standort\",pqidat!A$4:BZ$1000,$A495+1,FALSE)&\" \"&INDEX(pqidat!$A$1:$Z$1000,A495+4,MATCH(\"Standort\",pqidat!$A$4:$Z$4,0)+1)","v":{"$error":"#N/A"}},{"$f":"HLOOKUP(\"Station\",pqidat!A$4:BZ$1000,$A495+1,FALSE)","v":{"$error":"#N/A"}},{"$f":"HLOOKUP(\"Dichte\",pqidat!A$4:BZ$1000,$A495+1,FALSE)","v":{"$error":"#N/A"}},{"$f":"HLOOKUP(\"Verdichtung\",pqidat!A$4:BZ$1000,$A495+1,FALSE)","v":{"$error":"#N/A"}},{"$f":"HLOOKUP(\"Temp. OberflÃ¤che\",pqidat!A$4:BZ$1000,$A495+1,FALSE)","v":{"$error":"#N/A"}},{"$f":"HLOOKUP(\"GPS\",pqidat!A$4:BZ$1000,$A495+1,FALSE)","v":{"$error":"#N/A"}},{"$f":"HLOOKUP(\"Korrektur\",pqidat!A$4:BZ$1000,$A495+1,FALSE)","v":{"$error":"#N/A"}}]
["486",{"$f":"IF(ISBLANK(HLOOKUP(\"Raumdichte\",pqidat!$A$4:$BZ$500,$A496+1,FALSE)),\"\",A496)","v":"486"},{"$f":"HLOOKUP(\"Asphaltsorte\",pqidat!A$4:BZ$1000,$A496+1,FALSE)","v":{"$error":"#N/A"}},{"$f":"HLOOKUP(\"Standort\",pqidat!A$4:BZ$1000,$A496+1,FALSE)&\" \"&INDEX(pqidat!$A$1:$Z$1000,A496+4,MATCH(\"Standort\",pqidat!$A$4:$Z$4,0)+1)","v":{"$error":"#N/A"}},{"$f":"HLOOKUP(\"Station\",pqidat!A$4:BZ$1000,$A496+1,FALSE)","v":{"$error":"#N/A"}},{"$f":"HLOOKUP(\"Dichte\",pqidat!A$4:BZ$1000,$A496+1,FALSE)","v":{"$error":"#N/A"}},{"$f":"HLOOKUP(\"Verdichtung\",pqidat!A$4:BZ$1000,$A496+1,FALSE)","v":{"$error":"#N/A"}},{"$f":"HLOOKUP(\"Temp. OberflÃ¤che\",pqidat!A$4:BZ$1000,$A496+1,FALSE)","v":{"$error":"#N/A"}},{"$f":"HLOOKUP(\"GPS\",pqidat!A$4:BZ$1000,$A496+1,FALSE)","v":{"$error":"#N/A"}},{"$f":"HLOOKUP(\"Korrektur\",pqidat!A$4:BZ$1000,$A496+1,FALSE)","v":{"$error":"#N/A"}}]
["487",{"$f":"IF(ISBLANK(HLOOKUP(\"Raumdichte\",pqidat!$A$4:$BZ$500,$A497+1,FALSE)),\"\",A497)","v":"487"},{"$f":"HLOOKUP(\"Asphaltsorte\",pqidat!A$4:BZ$1000,$A497+1,FALSE)","v":{"$error":"#N/A"}},{"$f":"HLOOKUP(\"Standort\",pqidat!A$4:BZ$1000,$A497+1,FALSE)","v":{"$error":"#N/A"}},{"$f":"HLOOKUP(\"Station\",pqidat!A$4:BZ$1000,$A497+1,FALSE)","v":{"$error":"#N/A"}},{"$f":"HLOOKUP(\"Dichte\",pqidat!A$4:BZ$1000,$A497+1,FALSE)","v":{"$error":"#N/A"}},{"$f":"HLOOKUP(\"Verdichtung\",pqidat!A$4:BZ$1000,$A497+1,FALSE)","v":{"$error":"#N/A"}},{"$f":"HLOOKUP(\"Temp. OberflÃ¤che\",pqidat!A$4:BZ$1000,$A497+1,FALSE)","v":{"$error":"#N/A"}},{"$f":"HLOOKUP(\"GPS\",pqidat!A$4:BZ$1000,$A497+1,FALSE)","v":{"$error":"#N/A"}},{"$f":"HLOOKUP(\"Korrektur\",pqidat!A$4:BZ$1000,$A497+1,FALSE)","v":{"$error":"#N/A"}}]
["488",{"$f":"IF(ISBLANK(HLOOKUP(\"Raumdichte\",pqidat!$A$4:$BZ$500,$A498+1,FALSE)),\"\",A498)","v":"488"},{"$f":"HLOOKUP(\"Asphaltsorte\",pqidat!A$4:BZ$1000,$A498+1,FALSE)","v":{"$error":"#N/A"}},{"$f":"HLOOKUP(\"Standort\",pqidat!A$4:BZ$1000,$A498+1,FALSE)","v":{"$error":"#N/A"}},{"$f":"HLOOKUP(\"Standort\",pqidat!A$4:BZ$1000,$A498+1,FALSE)","v":{"$error":"#N/A"}},{"$f":"HLOOKUP(\"Dichte\",pqidat!A$4:BZ$1000,$A498+1,FALSE)","v":{"$error":"#N/A"}},{"$f":"HLOOKUP(\"Verdichtung\",pqidat!A$4:BZ$1000,$A498+1,FALSE)","v":{"$error":"#N/A"}},{"$f":"HLOOKUP(\"Temp. OberflÃ¤che\",pqidat!A$4:BZ$1000,$A498+1,FALSE)","v":{"$error":"#N/A"}},{"$f":"HLOOKUP(\"GPS\",pqidat!A$4:BZ$1000,$A498+1,FALSE)","v":{"$error":"#N/A"}},{"$f":"HLOOKUP(\"Korrektur\",pqidat!A$4:BZ$1000,$A498+1,FALSE)","v":{"$error":"#N/A"}}]
["489",{"$f":"IF(ISBLANK(HLOOKUP(\"Raumdichte\",pqidat!$A$4:$BZ$500,$A499+1,FALSE)),\"\",A499)","v":"489"},{"$f":"HLOOKUP(\"Asphaltsorte\",pqidat!A$4:BZ$1000,$A499+1,FALSE)","v":{"$error":"#N/A"}},{"$f":"HLOOKUP(\"Standort\",pqidat!A$4:BZ$1000,$A499+1,FALSE)","v":{"$error":"#N/A"}},{"$f":"HLOOKUP(\"Standort\",pqidat!A$4:BZ$1000,$A499+1,FALSE)","v":{"$error":"#N/A"}},{"$f":"HLOOKUP(\"Dichte\",pqidat!A$4:BZ$1000,$A499+1,FALSE)","v":{"$error":"#N/A"}},{"$f":"HLOOKUP(\"Verdichtung\",pqidat!A$4:BZ$1000,$A499+1,FALSE)","v":{"$error":"#N/A"}},{"$f":"HLOOKUP(\"Temp. OberflÃ¤che\",pqidat!A$4:BZ$1000,$A499+1,FALSE)","v":{"$error":"#N/A"}},{"$f":"HLOOKUP(\"GPS\",pqidat!A$4:BZ$1000,$A499+1,FALSE)","v":{"$error":"#N/A"}},{"$f":"HLOOKUP(\"Korrektur\",pqidat!A$4:BZ$1000,$A499+1,FALSE)","v":{"$error":"#N/A"}}]
["490",{"$f":"IF(ISBLANK(HLOOKUP(\"Raumdichte\",pqidat!$A$4:$BZ$500,$A500+1,FALSE)),\"\",A500)","v":"490"},{"$f":"HLOOKUP(\"Asphaltsorte\",pqidat!A$4:BZ$1000,$A500+1,FALSE)","v":{"$error":"#N/A"}},{"$f":"HLOOKUP(\"Standort\",pqidat!A$4:BZ$1000,$A500+1,FALSE)","v":{"$error":"#N/A"}},{"$f":"HLOOKUP(\"Standort\",pqidat!A$4:BZ$1000,$A500+1,FALSE)","v":{"$error":"#N/A"}},{"$f":"HLOOKUP(\"Dichte\",pqidat!A$4:BZ$1000,$A500+1,FALSE)","v":{"$error":"#N/A"}},{"$f":"HLOOKUP(\"Verdichtung\",pqidat!A$4:BZ$1000,$A500+1,FALSE)","v":{"$error":"#N/A"}},{"$f":"HLOOKUP(\"Temp. OberflÃ¤che\",pqidat!A$4:BZ$1000,$A500+1,FALSE)","v":{"$error":"#N/A"}},{"$f":"HLOOKUP(\"GPS\",pqidat!A$4:BZ$1000,$A500+1,FALSE)","v":{"$error":"#N/A"}},{"$f":"HLOOKUP(\"Korrektur\",pqidat!A$4:BZ$1000,$A500+1,FALSE)","v":{"$error":"#N/A"}}]
["491",{"$f":"IF(ISBLANK(HLOOKUP(\"Raumdichte\",pqidat!$A$4:$BZ$500,$A501+1,FALSE)),\"\",A501)","v":"491"},{"$f":"HLOOKUP(\"Asphaltsorte\",pqidat!A$4:BZ$1000,$A501+1,FALSE)","v":{"$error":"#N/A"}},{"$f":"HLOOKUP(\"Standort\",pqidat!A$4:BZ$1000,$A501+1,FALSE)","v":{"$error":"#N/A"}},{"$f":"HLOOKUP(\"Standort\",pqidat!A$4:BZ$1000,$A501+1,FALSE)","v":{"$error":"#N/A"}},{"$f":"HLOOKUP(\"Dichte\",pqidat!A$4:BZ$1000,$A501+1,FALSE)","v":{"$error":"#N/A"}},{"$f":"HLOOKUP(\"Verdichtung\",pqidat!A$4:BZ$1000,$A501+1,FALSE)","v":{"$error":"#N/A"}},{"$f":"HLOOKUP(\"Temp. OberflÃ¤che\",pqidat!A$4:BZ$1000,$A501+1,FALSE)","v":{"$error":"#N/A"}},{"$f":"HLOOKUP(\"GPS\",pqidat!A$4:BZ$1000,$A501+1,FALSE)","v":{"$error":"#N/A"}},{"$f":"HLOOKUP(\"Korrektur\",pqidat!A$4:BZ$1000,$A501+1,FALSE)","v":{"$error":"#N/A"}}]

{"sheet":"info","index":1,"n_rows":573,"n_cols":22,"rows_kept":573,"cut":false,"hidden":true,"merged":[]}
[{"$f":"pqidat!A3","v":0}]
[{"$f":"pqidat!A4","v":0},{"$f":"pqidat!B4","v":0},{"$f":"pqidat!C4","v":0},{"$f":"pqidat!D4","v":0},{"$f":"pqidat!E4","v":0},{"$f":"pqidat!F4","v":0},{"$f":"pqidat!G4","v":0},{"$f":"pqidat!H4","v":0},{"$f":"pqidat!I4","v":0},{"$f":"pqidat!J4","v":0},{"$f":"pqidat!K4","v":0},{"$f":"pqidat!L4","v":0},{"$f":"pqidat!M4","v":0},{"$f":"pqidat!N4","v":0},{"$f":"pqidat!O4","v":0},{"$f":"pqidat!P4","v":0},"Pass/Fail",{"$f":"pqidat!Q4","v":0},{"$f":"pqidat!R4","v":0},{"$f":"pqidat!S4","v":0},{"$f":"pqidat!T4","v":0},{"$f":"pqidat!U4","v":0}]
[{"$f":"pqidat!A5","v":0},{"$f":"pqidat!B5","v":0},{"$f":"pqidat!C5","v":0},{"$f":"pqidat!D5","v":0},{"$f":"pqidat!E5","v":0},{"$f":"pqidat!F5","v":0},{"$f":"pqidat!G5","v":0},{"$f":"pqidat!H5","v":0},{"$f":"pqidat!I5","v":0},{"$f":"pqidat!J5","v":0},{"$f":"pqidat!K5","v":0},{"$f":"pqidat!L5","v":0},{"$f":"pqidat!M5","v":0},{"$f":"pqidat!N5","v":0},{"$f":"pqidat!O5","v":0},{"$f":"pqidat!P5","v":0},{"$f":"IF(P3=0,0,IF(P3>Minimum,\"Pass\",\"Fail\"))","v":0},{"$f":"pqidat!Q5","v":0},{"$f":"pqidat!R5","v":0},{"$f":"pqidat!S5","v":0},{"$f":"pqidat!T5","v":0},{"$f":"pqidat!U5","v":0}]
[{"$f":"pqidat!A6","v":0},{"$f":"pqidat!B6","v":0},{"$f":"pqidat!C6","v":0},{"$f":"pqidat!D6","v":0},{"$f":"pqidat!E6","v":0},{"$f":"pqidat!F6","v":0},{"$f":"pqidat!G6","v":0},{"$f":"pqidat!H6","v":0},{"$f":"pqidat!I6","v":0},{"$f":"pqidat!J6","v":0},{"$f":"pqidat!K6","v":0},{"$f":"pqidat!L6","v":0},{"$f":"pqidat!M6","v":0},{"$f":"pqidat!N6","v":0},{"$f":"pqidat!O6","v":0},{"$f":"pqidat!P6","v":0},0,{"$f":"pqidat!Q6","v":0},{"$f":"pqidat!R6","v":0},{"$f":"pqidat!S6","v":0},{"$f":"pqidat!T6","v":0},{"$f":"pqidat!U6","v":0}]
[{"$f":"pqidat!A7","v":0},{"$f":"pqidat!B7","v":0},{"$f":"pqidat!C7","v":0},{"$f":"pqidat!D7","v":0},{"$f":"pqidat!E7","v":0},{"$f":"pqidat!F7","v":0},{"$f":"pqidat!G7","v":0},{"$f":"pqidat!H7","v":0},{"$f":"pqidat!I7","v":0},{"$f":"pqidat!J7","v":0},{"$f":"pqidat!K7","v":0},{"$f":"pqidat!L7","v":0},{"$f":"pqidat!M7","v":0},{"$f":"pqidat!N7","v":0},{"$f":"pqidat!O7","v":0},{"$f":"pqidat!P7","v":0},0,{"$f":"pqidat!Q7","v":0},{"$f":"pqidat!R7","v":0},{"$f":"pqidat!S7","v":0},{"$f":"pqidat!T7","v":0},{"$f":"pqidat!U7","v":0}]
[{"$f":"pqidat!A8","v":0},{"$f":"pqidat!B8","v":0},{"$f":"pqidat!C8","v":0},{"$f":"pqidat!D8","v":0},{"$f":"pqidat!E8","v":0},{"$f":"pqidat!F8","v":0},{"$f":"pqidat!G8","v":0},{"$f":"pqidat!H8","v":0},{"$f":"pqidat!I8","v":0},{"$f":"pqidat!J8","v":0},{"$f":"pqidat!K8","v":0},{"$f":"pqidat!L8","v":0},{"$f":"pqidat!M8","v":0},{"$f":"pqidat!N8","v":0},{"$f":"pqidat!O8","v":0},{"$f":"pqidat!P8","v":0},0,{"$f":"pqidat!Q8","v":0},{"$f":"pqidat!R8","v":0},{"$f":"pqidat!S8","v":0},{"$f":"pqidat!T8","v":0},{"$f":"pqidat!U8","v":0}]
[{"$f":"pqidat!A9","v":0},{"$f":"pqidat!B9","v":0},{"$f":"pqidat!C9","v":0},{"$f":"pqidat!D9","v":0},{"$f":"pqidat!E9","v":0},{"$f":"pqidat!F9","v":0},{"$f":"pqidat!G9","v":0},{"$f":"pqidat!H9","v":0},{"$f":"pqidat!I9","v":0},{"$f":"pqidat!J9","v":0},{"$f":"pqidat!K9","v":0},{"$f":"pqidat!L9","v":0},{"$f":"pqidat!M9","v":0},{"$f":"pqidat!N9","v":0},{"$f":"pqidat!O9","v":0},{"$f":"pqidat!P9","v":0},0,{"$f":"pqidat!Q9","v":0},{"$f":"pqidat!R9","v":0},{"$f":"pqidat!S9","v":0},{"$f":"pqidat!T9","v":0},{"$f":"pqidat!U9","v":0}]
[{"$f":"pqidat!A10","v":0},{"$f":"pqidat!B10","v":0},{"$f":"pqidat!C10","v":0},{"$f":"pqidat!D10","v":0},{"$f":"pqidat!E10","v":0},{"$f":"pqidat!F10","v":0},{"$f":"pqidat!G10","v":0},{"$f":"pqidat!H10","v":0},{"$f":"pqidat!I10","v":0},{"$f":"pqidat!J10","v":0},{"$f":"pqidat!K10","v":0},{"$f":"pqidat!L10","v":0},{"$f":"pqidat!M10","v":0},{"$f":"pqidat!N10","v":0},{"$f":"pqidat!O10","v":0},{"$f":"pqidat!P10","v":0},0,{"$f":"pqidat!Q10","v":0},{"$f":"pqidat!R10","v":0},{"$f":"pqidat!S10","v":0},{"$f":"pqidat!T10","v":0},{"$f":"pqidat!U10","v":0}]
[{"$f":"pqidat!A11","v":0},{"$f":"pqidat!B11","v":0},{"$f":"pqidat!C11","v":0},{"$f":"pqidat!D11","v":0},{"$f":"pqidat!E11","v":0},{"$f":"pqidat!F11","v":0},{"$f":"pqidat!G11","v":0},{"$f":"pqidat!H11","v":0},{"$f":"pqidat!I11","v":0},{"$f":"pqidat!J11","v":0},{"$f":"pqidat!K11","v":0},{"$f":"pqidat!L11","v":0},{"$f":"pqidat!M11","v":0},{"$f":"pqidat!N11","v":0},{"$f":"pqidat!O11","v":0},{"$f":"pqidat!P11","v":0},0,{"$f":"pqidat!Q11","v":0},{"$f":"pqidat!R11","v":0},{"$f":"pqidat!S11","v":0},{"$f":"pqidat!T11","v":0},{"$f":"pqidat!U11","v":0}]
[{"$f":"pqidat!A12","v":0},{"$f":"pqidat!B12","v":0},{"$f":"pqidat!C12","v":0},{"$f":"pqidat!D12","v":0},{"$f":"pqidat!E12","v":0},{"$f":"pqidat!F12","v":0},{"$f":"pqidat!G12","v":0},{"$f":"pqidat!H12","v":0},{"$f":"pqidat!I12","v":0},{"$f":"pqidat!J12","v":0},{"$f":"pqidat!K12","v":0},{"$f":"pqidat!L12","v":0},{"$f":"pqidat!M12","v":0},{"$f":"pqidat!N12","v":0},{"$f":"pqidat!O12","v":0},{"$f":"pqidat!P12","v":0},0,{"$f":"pqidat!Q12","v":0},{"$f":"pqidat!R12","v":0},{"$f":"pqidat!S12","v":0},{"$f":"pqidat!T12","v":0},{"$f":"pqidat!U12","v":0}]
[{"$f":"pqidat!A13","v":0},{"$f":"pqidat!B13","v":0},{"$f":"pqidat!C13","v":0},{"$f":"pqidat!D13","v":0},{"$f":"pqidat!E13","v":0},{"$f":"pqidat!F13","v":0},{"$f":"pqidat!G13","v":0},{"$f":"pqidat!H13","v":0},{"$f":"pqidat!I13","v":0},{"$f":"pqidat!J13","v":0},{"$f":"pqidat!K13","v":0},{"$f":"pqidat!L13","v":0},{"$f":"pqidat!M13","v":0},{"$f":"pqidat!N13","v":0},{"$f":"pqidat!O13","v":0},{"$f":"pqidat!P13","v":0},0,{"$f":"pqidat!Q13","v":0},{"$f":"pqidat!R13","v":0},{"$f":"pqidat!S13","v":0},{"$f":"pqidat!T13","v":0},{"$f":"pqidat!U13","v":0}]
[{"$f":"pqidat!A14","v":0},{"$f":"pqidat!B14","v":0},{"$f":"pqidat!C14","v":0},{"$f":"pqidat!D14","v":0},{"$f":"pqidat!E14","v":0},{"$f":"pqidat!F14","v":0},{"$f":"pqidat!G14","v":0},{"$f":"pqidat!H14","v":0},{"$f":"pqidat!I14","v":0},{"$f":"pqidat!J14","v":0},{"$f":"pqidat!K14","v":0},{"$f":"pqidat!L14","v":0},{"$f":"pqidat!M14","v":0},{"$f":"pqidat!N14","v":0},{"$f":"pqidat!O14","v":0},{"$f":"pqidat!P14","v":0},0,{"$f":"pqidat!Q14","v":0},{"$f":"pqidat!R14","v":0},{"$f":"pqidat!S14","v":0},{"$f":"pqidat!T14","v":0},{"$f":"pqidat!U14","v":0}]
[{"$f":"pqidat!A15","v":0},{"$f":"pqidat!B15","v":0},{"$f":"pqidat!C15","v":0},{"$f":"pqidat!D15","v":0},{"$f":"pqidat!E15","v":0},{"$f":"pqidat!F15","v":0},{"$f":"pqidat!G15","v":0},{"$f":"pqidat!H15","v":0},{"$f":"pqidat!I15","v":0},{"$f":"pqidat!J15","v":0},{"$f":"pqidat!K15","v":0},{"$f":"pqidat!L15","v":0},{"$f":"pqidat!M15","v":0},{"$f":"pqidat!N15","v":0},{"$f":"pqidat!O15","v":0},{"$f":"pqidat!P15","v":0},0,{"$f":"pqidat!Q15","v":0},{"$f":"pqidat!R15","v":0},{"$f":"pqidat!S15","v":0},{"$f":"pqidat!T15","v":0},{"$f":"pqidat!U15","v":0}]
[{"$f":"pqidat!A16","v":0},{"$f":"pqidat!B16","v":0},{"$f":"pqidat!C16","v":0},{"$f":"pqidat!D16","v":0},{"$f":"pqidat!E16","v":0},{"$f":"pqidat!F16","v":0},{"$f":"pqidat!G16","v":0},{"$f":"pqidat!H16","v":0},{"$f":"pqidat!I16","v":0},{"$f":"pqidat!J16","v":0},{"$f":"pqidat!K16","v":0},{"$f":"pqidat!L16","v":0},{"$f":"pqidat!M16","v":0},{"$f":"pqidat!N16","v":0},{"$f":"pqidat!O16","v":0},{"$f":"pqidat!P16","v":0},0,{"$f":"pqidat!Q16","v":0},{"$f":"pqidat!R16","v":0},{"$f":"pqidat!S16","v":0},{"$f":"pqidat!T16","v":0},{"$f":"pqidat!U16","v":0}]
[{"$f":"pqidat!A17","v":0},{"$f":"pqidat!B17","v":0},{"$f":"pqidat!C17","v":0},{"$f":"pqidat!D17","v":0},{"$f":"pqidat!E17","v":0},{"$f":"pqidat!F17","v":0},{"$f":"pqidat!G17","v":0},{"$f":"pqidat!H17","v":0},{"$f":"pqidat!I17","v":0},{"$f":"pqidat!J17","v":0},{"$f":"pqidat!K17","v":0},{"$f":"pqidat!L17","v":0},{"$f":"pqidat!M17","v":0},{"$f":"pqidat!N17","v":0},{"$f":"pqidat!O17","v":0},{"$f":"pqidat!P17","v":0},0,{"$f":"pqidat!Q17","v":0},{"$f":"pqidat!R17","v":0},{"$f":"pqidat!S17","v":0},{"$f":"pqidat!T17","v":0},{"$f":"pqidat!U17","v":0}]
[{"$f":"pqidat!A18","v":0},{"$f":"pqidat!B18","v":0},{"$f":"pqidat!C18","v":0},{"$f":"pqidat!D18","v":0},{"$f":"pqidat!E18","v":0},{"$f":"pqidat!F18","v":0},{"$f":"pqidat!G18","v":0},{"$f":"pqidat!H18","v":0},{"$f":"pqidat!I18","v":0},{"$f":"pqidat!J18","v":0},{"$f":"pqidat!K18","v":0},{"$f":"pqidat!L18","v":0},{"$f":"pqidat!M18","v":0},{"$f":"pqidat!N18","v":0},{"$f":"pqidat!O18","v":0},{"$f":"pqidat!P18","v":0},0,{"$f":"pqidat!Q18","v":0},{"$f":"pqidat!R18","v":0},{"$f":"pqidat!S18","v":0},{"$f":"pqidat!T18","v":0},{"$f":"pqidat!U18","v":0}]
[{"$f":"pqidat!A19","v":0},{"$f":"pqidat!B19","v":0},{"$f":"pqidat!C19","v":0},{"$f":"pqidat!D19","v":0},{"$f":"pqidat!E19","v":0},{"$f":"pqidat!F19","v":0},{"$f":"pqidat!G19","v":0},{"$f":"pqidat!H19","v":0},{"$f":"pqidat!I19","v":0},{"$f":"pqidat!J19","v":0},{"$f":"pqidat!K19","v":0},{"$f":"pqidat!L19","v":0},{"$f":"pqidat!M19","v":0},{"$f":"pqidat!N19","v":0},{"$f":"pqidat!O19","v":0},{"$f":"pqidat!P19","v":0},0,{"$f":"pqidat!Q19","v":0},{"$f":"pqidat!R19","v":0},{"$f":"pqidat!S19","v":0},{"$f":"pqidat!T19","v":0},{"$f":"pqidat!U19","v":0}]
[{"$f":"pqidat!A20","v":0},{"$f":"pqidat!B20","v":0},{"$f":"pqidat!C20","v":0},{"$f":"pqidat!D20","v":0},{"$f":"pqidat!E20","v":0},{"$f":"pqidat!F20","v":0},{"$f":"pqidat!G20","v":0},{"$f":"pqidat!H20","v":0},{"$f":"pqidat!I20","v":0},{"$f":"pqidat!J20","v":0},{"$f":"pqidat!K20","v":0},{"$f":"pqidat!L20","v":0},{"$f":"pqidat!M20","v":0},{"$f":"pqidat!N20","v":0},{"$f":"pqidat!O20","v":0},{"$f":"pqidat!P20","v":0},0,{"$f":"pqidat!Q20","v":0},{"$f":"pqidat!R20","v":0},{"$f":"pqidat!S20","v":0},{"$f":"pqidat!T20","v":0},{"$f":"pqidat!U20","v":0}]
[{"$f":"pqidat!A21","v":0},{"$f":"pqidat!B21","v":0},{"$f":"pqidat!C21","v":0},{"$f":"pqidat!D21","v":0},{"$f":"pqidat!E21","v":0},{"$f":"pqidat!F21","v":0},{"$f":"pqidat!G21","v":0},{"$f":"pqidat!H21","v":0},{"$f":"pqidat!I21","v":0},{"$f":"pqidat!J21","v":0},{"$f":"pqidat!K21","v":0},{"$f":"pqidat!L21","v":0},{"$f":"pqidat!M21","v":0},{"$f":"pqidat!N21","v":0},{"$f":"pqidat!O21","v":0},{"$f":"pqidat!P21","v":0},0,{"$f":"pqidat!Q21","v":0},{"$f":"pqidat!R21","v":0},{"$f":"pqidat!S21","v":0},{"$f":"pqidat!T21","v":0},{"$f":"pqidat!U21","v":0}]
[{"$f":"pqidat!A22","v":0},{"$f":"pqidat!B22","v":0},{"$f":"pqidat!C22","v":0},{"$f":"pqidat!D22","v":0},{"$f":"pqidat!E22","v":0},{"$f":"pqidat!F22","v":0},{"$f":"pqidat!G22","v":0},{"$f":"pqidat!H22","v":0},{"$f":"pqidat!I22","v":0},{"$f":"pqidat!J22","v":0},{"$f":"pqidat!K22","v":0},{"$f":"pqidat!L22","v":0},{"$f":"pqidat!M22","v":0},{"$f":"pqidat!N22","v":0},{"$f":"pqidat!O22","v":0},{"$f":"pqidat!P22","v":0},0,{"$f":"pqidat!Q22","v":0},{"$f":"pqidat!R22","v":0},{"$f":"pqidat!S22","v":0},{"$f":"pqidat!T22","v":0},{"$f":"pqidat!U22","v":0}]
[{"$f":"pqidat!A23","v":0},{"$f":"pqidat!B23","v":0},{"$f":"pqidat!C23","v":0},{"$f":"pqidat!D23","v":0},{"$f":"pqidat!E23","v":0},{"$f":"pqidat!F23","v":0},{"$f":"pqidat!G23","v":0},{"$f":"pqidat!H23","v":0},{"$f":"pqidat!I23","v":0},{"$f":"pqidat!J23","v":0},{"$f":"pqidat!K23","v":0},{"$f":"pqidat!L23","v":0},{"$f":"pqidat!M23","v":0},{"$f":"pqidat!N23","v":0},{"$f":"pqidat!O23","v":0},{"$f":"pqidat!P23","v":0},0,{"$f":"pqidat!Q23","v":0},{"$f":"pqidat!R23","v":0},{"$f":"pqidat!S23","v":0},{"$f":"pqidat!T23","v":0},{"$f":"pqidat!U23","v":0}]
[{"$f":"pqidat!A24","v":0},{"$f":"pqidat!B24","v":0},{"$f":"pqidat!C24","v":0},{"$f":"pqidat!D24","v":0},{"$f":"pqidat!E24","v":0},{"$f":"pqidat!F24","v":0},{"$f":"pqidat!G24","v":0},{"$f":"pqidat!H24","v":0},{"$f":"pqidat!I24","v":0},{"$f":"pqidat!J24","v":0},{"$f":"pqidat!K24","v":0},{"$f":"pqidat!L24","v":0},{"$f":"pqidat!M24","v":0},{"$f":"pqidat!N24","v":0},{"$f":"pqidat!O24","v":0},{"$f":"pqidat!P24","v":0},0,{"$f":"pqidat!Q24","v":0},{"$f":"pqidat!R24","v":0},{"$f":"pqidat!S24","v":0},{"$f":"pqidat!T24","v":0},{"$f":"pqidat!U24","v":0}]
[{"$f":"pqidat!A25","v":0},{"$f":"pqidat!B25","v":0},{"$f":"pqidat!C25","v":0},{"$f":"pqidat!D25","v":0},{"$f":"pqidat!E25","v":0},{"$f":"pqidat!F25","v":0},{"$f":"pqidat!G25","v":0},{"$f":"pqidat!H25","v":0},{"$f":"pqidat!I25","v":0},{"$f":"pqidat!J25","v":0},{"$f":"pqidat!K25","v":0},{"$f":"pqidat!L25","v":0},{"$f":"pqidat!M25","v":0},{"$f":"pqidat!N25","v":0},{"$f":"pqidat!O25","v":0},{"$f":"pqidat!P25","v":0},0,{"$f":"pqidat!Q25","v":0},{"$f":"pqidat!R25","v":0},{"$f":"pqidat!S25","v":0},{"$f":"pqidat!T25","v":0},{"$f":"pqidat!U25","v":0}]
[{"$f":"pqidat!A26","v":0},{"$f":"pqidat!B26","v":0},{"$f":"pqidat!C26","v":0},{"$f":"pqidat!D26","v":0},{"$f":"pqidat!E26","v":0},{"$f":"pqidat!F26","v":0},{"$f":"pqidat!G26","v":0},{"$f":"pqidat!H26","v":0},{"$f":"pqidat!I26","v":0},{"$f":"pqidat!J26","v":0},{"$f":"pqidat!K26","v":0},{"$f":"pqidat!L26","v":0},{"$f":"pqidat!M26","v":0},{"$f":"pqidat!N26","v":0},{"$f":"pqidat!O26","v":0},{"$f":"pqidat!P26","v":0},0,{"$f":"pqidat!Q26","v":0},{"$f":"pqidat!R26","v":0},{"$f":"pqidat!S26","v":0},{"$f":"pqidat!T26","v":0},{"$f":"pqidat!U26","v":0}]
[{"$f":"pqidat!A27","v":0},{"$f":"pqidat!B27","v":0},{"$f":"pqidat!C27","v":0},{"$f":"pqidat!D27","v":0},{"$f":"pqidat!E27","v":0},{"$f":"pqidat!F27","v":0},{"$f":"pqidat!G27","v":0},{"$f":"pqidat!H27","v":0},{"$f":"pqidat!I27","v":0},{"$f":"pqidat!J27","v":0},{"$f":"pqidat!K27","v":0},{"$f":"pqidat!L27","v":0},{"$f":"pqidat!M27","v":0},{"$f":"pqidat!N27","v":0},{"$f":"pqidat!O27","v":0},{"$f":"pqidat!P27","v":0},0,{"$f":"pqidat!Q27","v":0},{"$f":"pqidat!R27","v":0},{"$f":"pqidat!S27","v":0},{"$f":"pqidat!T27","v":0},{"$f":"pqidat!U27","v":0}]
[{"$f":"pqidat!A28","v":0},{"$f":"pqidat!B28","v":0},{"$f":"pqidat!C28","v":0},{"$f":"pqidat!D28","v":0},{"$f":"pqidat!E28","v":0},{"$f":"pqidat!F28","v":0},{"$f":"pqidat!G28","v":0},{"$f":"pqidat!H28","v":0},{"$f":"pqidat!I28","v":0},{"$f":"pqidat!J28","v":0},{"$f":"pqidat!K28","v":0},{"$f":"pqidat!L28","v":0},{"$f":"pqidat!M28","v":0},{"$f":"pqidat!N28","v":0},{"$f":"pqidat!O28","v":0},{"$f":"pqidat!P28","v":0},0,{"$f":"pqidat!Q28","v":0},{"$f":"pqidat!R28","v":0},{"$f":"pqidat!S28","v":0},{"$f":"pqidat!T28","v":0},{"$f":"pqidat!U28","v":0}]
[{"$f":"pqidat!A29","v":0},{"$f":"pqidat!B29","v":0},{"$f":"pqidat!C29","v":0},{"$f":"pqidat!D29","v":0},{"$f":"pqidat!E29","v":0},{"$f":"pqidat!F29","v":0},{"$f":"pqidat!G29","v":0},{"$f":"pqidat!H29","v":0},{"$f":"pqidat!I29","v":0},{"$f":"pqidat!J29","v":0},{"$f":"pqidat!K29","v":0},{"$f":"pqidat!L29","v":0},{"$f":"pqidat!M29","v":0},{"$f":"pqidat!N29","v":0},{"$f":"pqidat!O29","v":0},{"$f":"pqidat!P29","v":0},0,{"$f":"pqidat!Q29","v":0},{"$f":"pqidat!R29","v":0},{"$f":"pqidat!S29","v":0},{"$f":"pqidat!T29","v":0},{"$f":"pqidat!U29","v":0}]
[{"$f":"pqidat!A30","v":0},{"$f":"pqidat!B30","v":0},{"$f":"pqidat!C30","v":0},{"$f":"pqidat!D30","v":0},{"$f":"pqidat!E30","v":0},{"$f":"pqidat!F30","v":0},{"$f":"pqidat!G30","v":0},{"$f":"pqidat!H30","v":0},{"$f":"pqidat!I30","v":0},{"$f":"pqidat!J30","v":0},{"$f":"pqidat!K30","v":0},{"$f":"pqidat!L30","v":0},{"$f":"pqidat!M30","v":0},{"$f":"pqidat!N30","v":0},{"$f":"pqidat!O30","v":0},{"$f":"pqidat!P30","v":0},0,{"$f":"pqidat!Q30","v":0},{"$f":"pqidat!R30","v":0},{"$f":"pqidat!S30","v":0},{"$f":"pqidat!T30","v":0},{"$f":"pqidat!U30","v":0}]
[{"$f":"pqidat!A31","v":0},{"$f":"pqidat!B31","v":0},{"$f":"pqidat!C31","v":0},{"$f":"pqidat!D31","v":0},{"$f":"pqidat!E31","v":0},{"$f":"pqidat!F31","v":0},{"$f":"pqidat!G31","v":0},{"$f":"pqidat!H31","v":0},{"$f":"pqidat!I31","v":0},{"$f":"pqidat!J31","v":0},{"$f":"pqidat!K31","v":0},{"$f":"pqidat!L31","v":0},{"$f":"pqidat!M31","v":0},{"$f":"pqidat!N31","v":0},{"$f":"pqidat!O31","v":0},{"$f":"pqidat!P31","v":0},0,{"$f":"pqidat!Q31","v":0},{"$f":"pqidat!R31","v":0},{"$f":"pqidat!S31","v":0},{"$f":"pqidat!T31","v":0},{"$f":"pqidat!U31","v":0}]
[{"$f":"pqidat!A32","v":0},{"$f":"pqidat!B32","v":0},{"$f":"pqidat!C32","v":0},{"$f":"pqidat!D32","v":0},{"$f":"pqidat!E32","v":0},{"$f":"pqidat!F32","v":0},{"$f":"pqidat!G32","v":0},{"$f":"pqidat!H32","v":0},{"$f":"pqidat!I32","v":0},{"$f":"pqidat!J32","v":0},{"$f":"pqidat!K32","v":0},{"$f":"pqidat!L32","v":0},{"$f":"pqidat!M32","v":0},{"$f":"pqidat!N32","v":0},{"$f":"pqidat!O32","v":0},{"$f":"pqidat!P32","v":0},0,{"$f":"pqidat!Q32","v":0},{"$f":"pqidat!R32","v":0},{"$f":"pqidat!S32","v":0},{"$f":"pqidat!T32","v":0},{"$f":"pqidat!U32","v":0}]
[{"$f":"pqidat!A33","v":0},{"$f":"pqidat!B33","v":0},{"$f":"pqidat!C33","v":0},{"$f":"pqidat!D33","v":0},{"$f":"pqidat!E33","v":0},{"$f":"pqidat!F33","v":0},{"$f":"pqidat!G33","v":0},{"$f":"pqidat!H33","v":0},{"$f":"pqidat!I33","v":0},{"$f":"pqidat!J33","v":0},{"$f":"pqidat!K33","v":0},{"$f":"pqidat!L33","v":0},{"$f":"pqidat!M33","v":0},{"$f":"pqidat!N33","v":0},{"$f":"pqidat!O33","v":0},{"$f":"pqidat!P33","v":0},0,{"$f":"pqidat!Q33","v":0},{"$f":"pqidat!R33","v":0},{"$f":"pqidat!S33","v":0},{"$f":"pqidat!T33","v":0},{"$f":"pqidat!U33","v":0}]
[{"$f":"pqidat!A34","v":0},{"$f":"pqidat!B34","v":0},{"$f":"pqidat!C34","v":0},{"$f":"pqidat!D34","v":0},{"$f":"pqidat!E34","v":0},{"$f":"pqidat!F34","v":0},{"$f":"pqidat!G34","v":0},{"$f":"pqidat!H34","v":0},{"$f":"pqidat!I34","v":0},{"$f":"pqidat!J34","v":0},{"$f":"pqidat!K34","v":0},{"$f":"pqidat!L34","v":0},{"$f":"pqidat!M34","v":0},{"$f":"pqidat!N34","v":0},{"$f":"pqidat!O34","v":0},{"$f":"pqidat!P34","v":0},0,{"$f":"pqidat!Q34","v":0},{"$f":"pqidat!R34","v":0},{"$f":"pqidat!S34","v":0},{"$f":"pqidat!T34","v":0},{"$f":"pqidat!U34","v":0}]
[{"$f":"pqidat!A35","v":0},{"$f":"pqidat!B35","v":0},{"$f":"pqidat!C35","v":0},{"$f":"pqidat!D35","v":0},{"$f":"pqidat!E35","v":0},{"$f":"pqidat!F35","v":0},{"$f":"pqidat!G35","v":0},{"$f":"pqidat!H35","v":0},{"$f":"pqidat!I35","v":0},{"$f":"pqidat!J35","v":0},{"$f":"pqidat!K35","v":0},{"$f":"pqidat!L35","v":0},{"$f":"pqidat!M35","v":0},{"$f":"pqidat!N35","v":0},{"$f":"pqidat!O35","v":0},{"$f":"pqidat!P35","v":0},0,{"$f":"pqidat!Q35","v":0},{"$f":"pqidat!R35","v":0},{"$f":"pqidat!S35","v":0},{"$f":"pqidat!T35","v":0},{"$f":"pqidat!U35","v":0}]
[{"$f":"pqidat!A36","v":0},{"$f":"pqidat!B36","v":0},{"$f":"pqidat!C36","v":0},{"$f":"pqidat!D36","v":0},{"$f":"pqidat!E36","v":0},{"$f":"pqidat!F36","v":0},{"$f":"pqidat!G36","v":0},{"$f":"pqidat!H36","v":0},{"$f":"pqidat!I36","v":0},{"$f":"pqidat!J36","v":0},{"$f":"pqidat!K36","v":0},{"$f":"pqidat!L36","v":0},{"$f":"pqidat!M36","v":0},{"$f":"pqidat!N36","v":0},{"$f":"pqidat!O36","v":0},{"$f":"pqidat!P36","v":0},0,{"$f":"pqidat!Q36","v":0},{"$f":"pqidat!R36","v":0},{"$f":"pqidat!S36","v":0},{"$f":"pqidat!T36","v":0},{"$f":"pqidat!U36","v":0}]
[{"$f":"pqidat!A37","v":0},{"$f":"pqidat!B37","v":0},{"$f":"pqidat!C37","v":0},{"$f":"pqidat!D37","v":0},{"$f":"pqidat!E37","v":0},{"$f":"pqidat!F37","v":0},{"$f":"pqidat!G37","v":0},{"$f":"pqidat!H37","v":0},{"$f":"pqidat!I37","v":0},{"$f":"pqidat!J37","v":0},{"$f":"pqidat!K37","v":0},{"$f":"pqidat!L37","v":0},{"$f":"pqidat!M37","v":0},{"$f":"pqidat!N37","v":0},{"$f":"pqidat!O37","v":0},{"$f":"pqidat!P37","v":0},0,{"$f":"pqidat!Q37","v":0},{"$f":"pqidat!R37","v":0},{"$f":"pqidat!S37","v":0},{"$f":"pqidat!T37","v":0},{"$f":"pqidat!U37","v":0}]
[{"$f":"pqidat!A38","v":0},{"$f":"pqidat!B38","v":0},{"$f":"pqidat!C38","v":0},{"$f":"pqidat!D38","v":0},{"$f":"pqidat!E38","v":0},{"$f":"pqidat!F38","v":0},{"$f":"pqidat!G38","v":0},{"$f":"pqidat!H38","v":0},{"$f":"pqidat!I38","v":0},{"$f":"pqidat!J38","v":0},{"$f":"pqidat!K38","v":0},{"$f":"pqidat!L38","v":0},{"$f":"pqidat!M38","v":0},{"$f":"pqidat!N38","v":0},{"$f":"pqidat!O38","v":0},{"$f":"pqidat!P38","v":0},0,{"$f":"pqidat!Q38","v":0},{"$f":"pqidat!R38","v":0},{"$f":"pqidat!S38","v":0},{"$f":"pqidat!T38","v":0},{"$f":"pqidat!U38","v":0}]
[{"$f":"pqidat!A39","v":0},{"$f":"pqidat!B39","v":0},{"$f":"pqidat!C39","v":0},{"$f":"pqidat!D39","v":0},{"$f":"pqidat!E39","v":0},{"$f":"pqidat!F39","v":0},{"$f":"pqidat!G39","v":0},{"$f":"pqidat!H39","v":0},{"$f":"pqidat!I39","v":0},{"$f":"pqidat!J39","v":0},{"$f":"pqidat!K39","v":0},{"$f":"pqidat!L39","v":0},{"$f":"pqidat!M39","v":0},{"$f":"pqidat!N39","v":0},{"$f":"pqidat!O39","v":0},{"$f":"pqidat!P39","v":0},0,{"$f":"pqidat!Q39","v":0},{"$f":"pqidat!R39","v":0},{"$f":"pqidat!S39","v":0},{"$f":"pqidat!T39","v":0},{"$f":"pqidat!U39","v":0}]
[{"$f":"pqidat!A40","v":0},{"$f":"pqidat!B40","v":0},{"$f":"pqidat!C40","v":0},{"$f":"pqidat!D40","v":0},{"$f":"pqidat!E40","v":0},{"$f":"pqidat!F40","v":0},{"$f":"pqidat!G40","v":0},{"$f":"pqidat!H40","v":0},{"$f":"pqidat!I40","v":0},{"$f":"pqidat!J40","v":0},{"$f":"pqidat!K40","v":0},{"$f":"pqidat!L40","v":0},{"$f":"pqidat!M40","v":0},{"$f":"pqidat!N40","v":0},{"$f":"pqidat!O40","v":0},{"$f":"pqidat!P40","v":0},0,{"$f":"pqidat!Q40","v":0},{"$f":"pqidat!R40","v":0},{"$f":"pqidat!S40","v":0},{"$f":"pqidat!T40","v":0},{"$f":"pqidat!U40","v":0}]
[{"$f":"pqidat!A41","v":0},{"$f":"pqidat!B41","v":0},{"$f":"pqidat!C41","v":0},{"$f":"pqidat!D41","v":0},{"$f":"pqidat!E41","v":0},{"$f":"pqidat!F41","v":0},{"$f":"pqidat!G41","v":0},{"$f":"pqidat!H41","v":0},{"$f":"pqidat!I41","v":0},{"$f":"pqidat!J41","v":0},{"$f":"pqidat!K41","v":0},{"$f":"pqidat!L41","v":0},{"$f":"pqidat!M41","v":0},{"$f":"pqidat!N41","v":0},{"$f":"pqidat!O41","v":0},{"$f":"pqidat!P41","v":0},0,{"$f":"pqidat!Q41","v":0},{"$f":"pqidat!R41","v":0},{"$f":"pqidat!S41","v":0},{"$f":"pqidat!T41","v":0},{"$f":"pqidat!U41","v":0}]
[{"$f":"pqidat!A42","v":0},{"$f":"pqidat!B42","v":0},{"$f":"pqidat!C42","v":0},{"$f":"pqidat!D42","v":0},{"$f":"pqidat!E42","v":0},{"$f":"pqidat!F42","v":0},{"$f":"pqidat!G42","v":0},{"$f":"pqidat!H42","v":0},{"$f":"pqidat!I42","v":0},{"$f":"pqidat!J42","v":0},{"$f":"pqidat!K42","v":0},{"$f":"pqidat!L42","v":0},{"$f":"pqidat!M42","v":0},{"$f":"pqidat!N42","v":0},{"$f":"pqidat!O42","v":0},{"$f":"pqidat!P42","v":0},0,{"$f":"pqidat!Q42","v":0},{"$f":"pqidat!R42","v":0},{"$f":"pqidat!S42","v":0},{"$f":"pqidat!T42","v":0},{"$f":"pqidat!U42","v":0}]
[{"$f":"pqidat!A43","v":0},{"$f":"pqidat!B43","v":0},{"$f":"pqidat!C43","v":0},{"$f":"pqidat!D43","v":0},{"$f":"pqidat!E43","v":0},{"$f":"pqidat!F43","v":0},{"$f":"pqidat!G43","v":0},{"$f":"pqidat!H43","v":0},{"$f":"pqidat!I43","v":0},{"$f":"pqidat!J43","v":0},{"$f":"pqidat!K43","v":0},{"$f":"pqidat!L43","v":0},{"$f":"pqidat!M43","v":0},{"$f":"pqidat!N43","v":0},{"$f":"pqidat!O43","v":0},{"$f":"pqidat!P43","v":0},0,{"$f":"pqidat!Q43","v":0},{"$f":"pqidat!R43","v":0},{"$f":"pqidat!S43","v":0},{"$f":"pqidat!T43","v":0},{"$f":"pqidat!U43","v":0}]
[{"$f":"pqidat!A44","v":0},{"$f":"pqidat!B44","v":0},{"$f":"pqidat!C44","v":0},{"$f":"pqidat!D44","v":0},{"$f":"pqidat!E44","v":0},{"$f":"pqidat!F44","v":0},{"$f":"pqidat!G44","v":0},{"$f":"pqidat!H44","v":0},{"$f":"pqidat!I44","v":0},{"$f":"pqidat!J44","v":0},{"$f":"pqidat!K44","v":0},{"$f":"pqidat!L44","v":0},{"$f":"pqidat!M44","v":0},{"$f":"pqidat!N44","v":0},{"$f":"pqidat!O44","v":0},{"$f":"pqidat!P44","v":0},0,{"$f":"pqidat!Q44","v":0},{"$f":"pqidat!R44","v":0},{"$f":"pqidat!S44","v":0},{"$f":"pqidat!T44","v":0},{"$f":"pqidat!U44","v":0}]
[{"$f":"pqidat!A45","v":0},{"$f":"pqidat!B45","v":0},{"$f":"pqidat!C45","v":0},{"$f":"pqidat!D45","v":0},{"$f":"pqidat!E45","v":0},{"$f":"pqidat!F45","v":0},{"$f":"pqidat!G45","v":0},{"$f":"pqidat!H45","v":0},{"$f":"pqidat!I45","v":0},{"$f":"pqidat!J45","v":0},{"$f":"pqidat!K45","v":0},{"$f":"pqidat!L45","v":0},{"$f":"pqidat!M45","v":0},{"$f":"pqidat!N45","v":0},{"$f":"pqidat!O45","v":0},{"$f":"pqidat!P45","v":0},0,{"$f":"pqidat!Q45","v":0},{"$f":"pqidat!R45","v":0},{"$f":"pqidat!S45","v":0},{"$f":"pqidat!T45","v":0},{"$f":"pqidat!U45","v":0}]
[{"$f":"pqidat!A46","v":0},{"$f":"pqidat!B46","v":0},{"$f":"pqidat!C46","v":0},{"$f":"pqidat!D46","v":0},{"$f":"pqidat!E46","v":0},{"$f":"pqidat!F46","v":0},{"$f":"pqidat!G46","v":0},{"$f":"pqidat!H46","v":0},{"$f":"pqidat!I46","v":0},{"$f":"pqidat!J46","v":0},{"$f":"pqidat!K46","v":0},{"$f":"pqidat!L46","v":0},{"$f":"pqidat!M46","v":0},{"$f":"pqidat!N46","v":0},{"$f":"pqidat!O46","v":0},{"$f":"pqidat!P46","v":0},0,{"$f":"pqidat!Q46","v":0},{"$f":"pqidat!R46","v":0},{"$f":"pqidat!S46","v":0},{"$f":"pqidat!T46","v":0},{"$f":"pqidat!U46","v":0}]
[{"$f":"pqidat!A47","v":0},{"$f":"pqidat!B47","v":0},{"$f":"pqidat!C47","v":0},{"$f":"pqidat!D47","v":0},{"$f":"pqidat!E47","v":0},{"$f":"pqidat!F47","v":0},{"$f":"pqidat!G47","v":0},{"$f":"pqidat!H47","v":0},{"$f":"pqidat!I47","v":0},{"$f":"pqidat!J47","v":0},{"$f":"pqidat!K47","v":0},{"$f":"pqidat!L47","v":0},{"$f":"pqidat!M47","v":0},{"$f":"pqidat!N47","v":0},{"$f":"pqidat!O47","v":0},{"$f":"pqidat!P47","v":0},0,{"$f":"pqidat!Q47","v":0},{"$f":"pqidat!R47","v":0},{"$f":"pqidat!S47","v":0},{"$f":"pqidat!T47","v":0},{"$f":"pqidat!U47","v":0}]
[{"$f":"pqidat!A48","v":0},{"$f":"pqidat!B48","v":0},{"$f":"pqidat!C48","v":0},{"$f":"pqidat!D48","v":0},{"$f":"pqidat!E48","v":0},{"$f":"pqidat!F48","v":0},{"$f":"pqidat!G48","v":0},{"$f":"pqidat!H48","v":0},{"$f":"pqidat!I48","v":0},{"$f":"pqidat!J48","v":0},{"$f":"pqidat!K48","v":0},{"$f":"pqidat!L48","v":0},{"$f":"pqidat!M48","v":0},{"$f":"pqidat!N48","v":0},{"$f":"pqidat!O48","v":0},{"$f":"pqidat!P48","v":0},0,{"$f":"pqidat!Q48","v":0},{"$f":"pqidat!R48","v":0},{"$f":"pqidat!S48","v":0},{"$f":"pqidat!T48","v":0},{"$f":"pqidat!U48","v":0}]
[{"$f":"pqidat!A49","v":0},{"$f":"pqidat!B49","v":0},{"$f":"pqidat!C49","v":0},{"$f":"pqidat!D49","v":0},{"$f":"pqidat!E49","v":0},{"$f":"pqidat!F49","v":0},{"$f":"pqidat!G49","v":0},{"$f":"pqidat!H49","v":0},{"$f":"pqidat!I49","v":0},{"$f":"pqidat!J49","v":0},{"$f":"pqidat!K49","v":0},{"$f":"pqidat!L49","v":0},{"$f":"pqidat!M49","v":0},{"$f":"pqidat!N49","v":0},{"$f":"pqidat!O49","v":0},{"$f":"pqidat!P49","v":0},0,{"$f":"pqidat!Q49","v":0},{"$f":"pqidat!R49","v":0},{"$f":"pqidat!S49","v":0},{"$f":"pqidat!T49","v":0},{"$f":"pqidat!U49","v":0}]
[{"$f":"pqidat!A50","v":0},{"$f":"pqidat!B50","v":0},{"$f":"pqidat!C50","v":0},{"$f":"pqidat!D50","v":0},{"$f":"pqidat!E50","v":0},{"$f":"pqidat!F50","v":0},{"$f":"pqidat!G50","v":0},{"$f":"pqidat!H50","v":0},{"$f":"pqidat!I50","v":0},{"$f":"pqidat!J50","v":0},{"$f":"pqidat!K50","v":0},{"$f":"pqidat!L50","v":0},{"$f":"pqidat!M50","v":0},{"$f":"pqidat!N50","v":0},{"$f":"pqidat!O50","v":0},{"$f":"pqidat!P50","v":0},0,{"$f":"pqidat!Q50","v":0},{"$f":"pqidat!R50","v":0},{"$f":"pqidat!S50","v":0},{"$f":"pqidat!T50","v":0},{"$f":"pqidat!U50","v":0}]
[{"$f":"pqidat!A51","v":0},{"$f":"pqidat!B51","v":0},{"$f":"pqidat!C51","v":0},{"$f":"pqidat!D51","v":0},{"$f":"pqidat!E51","v":0},{"$f":"pqidat!F51","v":0},{"$f":"pqidat!G51","v":0},{"$f":"pqidat!H51","v":0},{"$f":"pqidat!I51","v":0},{"$f":"pqidat!J51","v":0},{"$f":"pqidat!K51","v":0},{"$f":"pqidat!L51","v":0},{"$f":"pqidat!M51","v":0},{"$f":"pqidat!N51","v":0},{"$f":"pqidat!O51","v":0},{"$f":"pqidat!P51","v":0},0,{"$f":"pqidat!Q51","v":0},{"$f":"pqidat!R51","v":0},{"$f":"pqidat!S51","v":0},{"$f":"pqidat!T51","v":0},{"$f":"pqidat!U51","v":0}]
[{"$f":"pqidat!A52","v":0},{"$f":"pqidat!B52","v":0},{"$f":"pqidat!C52","v":0},{"$f":"pqidat!D52","v":0},{"$f":"pqidat!E52","v":0},{"$f":"pqidat!F52","v":0},{"$f":"pqidat!G52","v":0},{"$f":"pqidat!H52","v":0},{"$f":"pqidat!I52","v":0},{"$f":"pqidat!J52","v":0},{"$f":"pqidat!K52","v":0},{"$f":"pqidat!L52","v":0},{"$f":"pqidat!M52","v":0},{"$f":"pqidat!N52","v":0},{"$f":"pqidat!O52","v":0},{"$f":"pqidat!P52","v":0},0,{"$f":"pqidat!Q52","v":0},{"$f":"pqidat!R52","v":0},{"$f":"pqidat!S52","v":0},{"$f":"pqidat!T52","v":0},{"$f":"pqidat!U52","v":0}]
[{"$f":"pqidat!A53","v":0},{"$f":"pqidat!B53","v":0},{"$f":"pqidat!C53","v":0},{"$f":"pqidat!D53","v":0},{"$f":"pqidat!E53","v":0},{"$f":"pqidat!F53","v":0},{"$f":"pqidat!G53","v":0},{"$f":"pqidat!H53","v":0},{"$f":"pqidat!I53","v":0},{"$f":"pqidat!J53","v":0},{"$f":"pqidat!K53","v":0},{"$f":"pqidat!L53","v":0},{"$f":"pqidat!M53","v":0},{"$f":"pqidat!N53","v":0},{"$f":"pqidat!O53","v":0},{"$f":"pqidat!P53","v":0},0,{"$f":"pqidat!Q53","v":0},{"$f":"pqidat!R53","v":0},{"$f":"pqidat!S53","v":0},{"$f":"pqidat!T53","v":0},{"$f":"pqidat!U53","v":0}]
[{"$f":"pqidat!A54","v":0},{"$f":"pqidat!B54","v":0},{"$f":"pqidat!C54","v":0},{"$f":"pqidat!D54","v":0},{"$f":"pqidat!E54","v":0},{"$f":"pqidat!F54","v":0},{"$f":"pqidat!G54","v":0},{"$f":"pqidat!H54","v":0},{"$f":"pqidat!I54","v":0},{"$f":"pqidat!J54","v":0},{"$f":"pqidat!K54","v":0},{"$f":"pqidat!L54","v":0},{"$f":"pqidat!M54","v":0},{"$f":"pqidat!N54","v":0},{"$f":"pqidat!O54","v":0},{"$f":"pqidat!P54","v":0},0,{"$f":"pqidat!Q54","v":0},{"$f":"pqidat!R54","v":0},{"$f":"pqidat!S54","v":0},{"$f":"pqidat!T54","v":0},{"$f":"pqidat!U54","v":0}]
[{"$f":"pqidat!A55","v":0},{"$f":"pqidat!B55","v":0},{"$f":"pqidat!C55","v":0},{"$f":"pqidat!D55","v":0},{"$f":"pqidat!E55","v":0},{"$f":"pqidat!F55","v":0},{"$f":"pqidat!G55","v":0},{"$f":"pqidat!H55","v":0},{"$f":"pqidat!I55","v":0},{"$f":"pqidat!J55","v":0},{"$f":"pqidat!K55","v":0},{"$f":"pqidat!L55","v":0},{"$f":"pqidat!M55","v":0},{"$f":"pqidat!N55","v":0},{"$f":"pqidat!O55","v":0},{"$f":"pqidat!P55","v":0},0,{"$f":"pqidat!Q55","v":0},{"$f":"pqidat!R55","v":0},{"$f":"pqidat!S55","v":0},{"$f":"pqidat!T55","v":0},{"$f":"pqidat!U55","v":0}]
[{"$f":"pqidat!A56","v":0},{"$f":"pqidat!B56","v":0},{"$f":"pqidat!C56","v":0},{"$f":"pqidat!D56","v":0},{"$f":"pqidat!E56","v":0},{"$f":"pqidat!F56","v":0},{"$f":"pqidat!G56","v":0},{"$f":"pqidat!H56","v":0},{"$f":"pqidat!I56","v":0},{"$f":"pqidat!J56","v":0},{"$f":"pqidat!K56","v":0},{"$f":"pqidat!L56","v":0},{"$f":"pqidat!M56","v":0},{"$f":"pqidat!N56","v":0},{"$f":"pqidat!O56","v":0},{"$f":"pqidat!P56","v":0},0,{"$f":"pqidat!Q56","v":0},{"$f":"pqidat!R56","v":0},{"$f":"pqidat!S56","v":0},{"$f":"pqidat!T56","v":0},{"$f":"pqidat!U56","v":0}]
[{"$f":"pqidat!A57","v":0},{"$f":"pqidat!B57","v":0},{"$f":"pqidat!C57","v":0},{"$f":"pqidat!D57","v":0},{"$f":"pqidat!E57","v":0},{"$f":"pqidat!F57","v":0},{"$f":"pqidat!G57","v":0},{"$f":"pqidat!H57","v":0},{"$f":"pqidat!I57","v":0},{"$f":"pqidat!J57","v":0},{"$f":"pqidat!K57","v":0},{"$f":"pqidat!L57","v":0},{"$f":"pqidat!M57","v":0},{"$f":"pqidat!N57","v":0},{"$f":"pqidat!O57","v":0},{"$f":"pqidat!P57","v":0},0,{"$f":"pqidat!Q57","v":0},{"$f":"pqidat!R57","v":0},{"$f":"pqidat!S57","v":0},{"$f":"pqidat!T57","v":0},{"$f":"pqidat!U57","v":0}]
[{"$f":"pqidat!A58","v":0},{"$f":"pqidat!B58","v":0},{"$f":"pqidat!C58","v":0},{"$f":"pqidat!D58","v":0},{"$f":"pqidat!E58","v":0},{"$f":"pqidat!F58","v":0},{"$f":"pqidat!G58","v":0},{"$f":"pqidat!H58","v":0},{"$f":"pqidat!I58","v":0},{"$f":"pqidat!J58","v":0},{"$f":"pqidat!K58","v":0},{"$f":"pqidat!L58","v":0},{"$f":"pqidat!M58","v":0},{"$f":"pqidat!N58","v":0},{"$f":"pqidat!O58","v":0},{"$f":"pqidat!P58","v":0},0,{"$f":"pqidat!Q58","v":0},{"$f":"pqidat!R58","v":0},{"$f":"pqidat!S58","v":0},{"$f":"pqidat!T58","v":0},{"$f":"pqidat!U58","v":0}]
[{"$f":"pqidat!A59","v":0},{"$f":"pqidat!B59","v":0},{"$f":"pqidat!C59","v":0},{"$f":"pqidat!D59","v":0},{"$f":"pqidat!E59","v":0},{"$f":"pqidat!F59","v":0},{"$f":"pqidat!G59","v":0},{"$f":"pqidat!H59","v":0},{"$f":"pqidat!I59","v":0},{"$f":"pqidat!J59","v":0},{"$f":"pqidat!K59","v":0},{"$f":"pqidat!L59","v":0},{"$f":"pqidat!M59","v":0},{"$f":"pqidat!N59","v":0},{"$f":"pqidat!O59","v":0},{"$f":"pqidat!P59","v":0},0,{"$f":"pqidat!Q59","v":0},{"$f":"pqidat!R59","v":0},{"$f":"pqidat!S59","v":0},{"$f":"pqidat!T59","v":0},{"$f":"pqidat!U59","v":0}]
[{"$f":"pqidat!A60","v":0},{"$f":"pqidat!B60","v":0},{"$f":"pqidat!C60","v":0},{"$f":"pqidat!D60","v":0},{"$f":"pqidat!E60","v":0},{"$f":"pqidat!F60","v":0},{"$f":"pqidat!G60","v":0},{"$f":"pqidat!H60","v":0},{"$f":"pqidat!I60","v":0},{"$f":"pqidat!J60","v":0},{"$f":"pqidat!K60","v":0},{"$f":"pqidat!L60","v":0},{"$f":"pqidat!M60","v":0},{"$f":"pqidat!N60","v":0},{"$f":"pqidat!O60","v":0},{"$f":"pqidat!P60","v":0},0,{"$f":"pqidat!Q60","v":0},{"$f":"pqidat!R60","v":0},{"$f":"pqidat!S60","v":0},{"$f":"pqidat!T60","v":0},{"$f":"pqidat!U60","v":0}]
[{"$f":"pqidat!A61","v":0},{"$f":"pqidat!B61","v":0},{"$f":"pqidat!C61","v":0},{"$f":"pqidat!D61","v":0},{"$f":"pqidat!E61","v":0},{"$f":"pqidat!F61","v":0},{"$f":"pqidat!G61","v":0},{"$f":"pqidat!H61","v":0},{"$f":"pqidat!I61","v":0},{"$f":"pqidat!J61","v":0},{"$f":"pqidat!K61","v":0},{"$f":"pqidat!L61","v":0},{"$f":"pqidat!M61","v":0},{"$f":"pqidat!N61","v":0},{"$f":"pqidat!O61","v":0},{"$f":"pqidat!P61","v":0},0,{"$f":"pqidat!Q61","v":0},{"$f":"pqidat!R61","v":0},{"$f":"pqidat!S61","v":0},{"$f":"pqidat!T61","v":0},{"$f":"pqidat!U61","v":0}]
[{"$f":"pqidat!A62","v":0},{"$f":"pqidat!B62","v":0},{"$f":"pqidat!C62","v":0},{"$f":"pqidat!D62","v":0},{"$f":"pqidat!E62","v":0},{"$f":"pqidat!F62","v":0},{"$f":"pqidat!G62","v":0},{"$f":"pqidat!H62","v":0},{"$f":"pqidat!I62","v":0},{"$f":"pqidat!J62","v":0},{"$f":"pqidat!K62","v":0},{"$f":"pqidat!L62","v":0},{"$f":"pqidat!M62","v":0},{"$f":"pqidat!N62","v":0},{"$f":"pqidat!O62","v":0},{"$f":"pqidat!P62","v":0},0,{"$f":"pqidat!Q62","v":0},{"$f":"pqidat!R62","v":0},{"$f":"pqidat!S62","v":0},{"$f":"pqidat!T62","v":0},{"$f":"pqidat!U62","v":0}]
[{"$f":"pqidat!A63","v":0},{"$f":"pqidat!B63","v":0},{"$f":"pqidat!C63","v":0},{"$f":"pqidat!D63","v":0},{"$f":"pqidat!E63","v":0},{"$f":"pqidat!F63","v":0},{"$f":"pqidat!G63","v":0},{"$f":"pqidat!H63","v":0},{"$f":"pqidat!I63","v":0},{"$f":"pqidat!J63","v":0},{"$f":"pqidat!K63","v":0},{"$f":"pqidat!L63","v":0},{"$f":"pqidat!M63","v":0},{"$f":"pqidat!N63","v":0},{"$f":"pqidat!O63","v":0},{"$f":"pqidat!P63","v":0},0,{"$f":"pqidat!Q63","v":0},{"$f":"pqidat!R63","v":0},{"$f":"pqidat!S63","v":0},{"$f":"pqidat!T63","v":0},{"$f":"pqidat!U63","v":0}]
[{"$f":"pqidat!A64","v":0},{"$f":"pqidat!B64","v":0},{"$f":"pqidat!C64","v":0},{"$f":"pqidat!D64","v":0},{"$f":"pqidat!E64","v":0},{"$f":"pqidat!F64","v":0},{"$f":"pqidat!G64","v":0},{"$f":"pqidat!H64","v":0},{"$f":"pqidat!I64","v":0},{"$f":"pqidat!J64","v":0},{"$f":"pqidat!K64","v":0},{"$f":"pqidat!L64","v":0},{"$f":"pqidat!M64","v":0},{"$f":"pqidat!N64","v":0},{"$f":"pqidat!O64","v":0},{"$f":"pqidat!P64","v":0},0,{"$f":"pqidat!Q64","v":0},{"$f":"pqidat!R64","v":0},{"$f":"pqidat!S64","v":0},{"$f":"pqidat!T64","v":0},{"$f":"pqidat!U64","v":0}]
[{"$f":"pqidat!A65","v":0},{"$f":"pqidat!B65","v":0},{"$f":"pqidat!C65","v":0},{"$f":"pqidat!D65","v":0},{"$f":"pqidat!E65","v":0},{"$f":"pqidat!F65","v":0},{"$f":"pqidat!G65","v":0},{"$f":"pqidat!H65","v":0},{"$f":"pqidat!I65","v":0},{"$f":"pqidat!J65","v":0},{"$f":"pqidat!K65","v":0},{"$f":"pqidat!L65","v":0},{"$f":"pqidat!M65","v":0},{"$f":"pqidat!N65","v":0},{"$f":"pqidat!O65","v":0},{"$f":"pqidat!P65","v":0},0,{"$f":"pqidat!Q65","v":0},{"$f":"pqidat!R65","v":0},{"$f":"pqidat!S65","v":0},{"$f":"pqidat!T65","v":0},{"$f":"pqidat!U65","v":0}]
[{"$f":"pqidat!A66","v":0},{"$f":"pqidat!B66","v":0},{"$f":"pqidat!C66","v":0},{"$f":"pqidat!D66","v":0},{"$f":"pqidat!E66","v":0},{"$f":"pqidat!F66","v":0},{"$f":"pqidat!G66","v":0},{"$f":"pqidat!H66","v":0},{"$f":"pqidat!I66","v":0},{"$f":"pqidat!J66","v":0},{"$f":"pqidat!K66","v":0},{"$f":"pqidat!L66","v":0},{"$f":"pqidat!M66","v":0},{"$f":"pqidat!N66","v":0},{"$f":"pqidat!O66","v":0},{"$f":"pqidat!P66","v":0},0,{"$f":"pqidat!Q66","v":0},{"$f":"pqidat!R66","v":0},{"$f":"pqidat!S66","v":0},{"$f":"pqidat!T66","v":0},{"$f":"pqidat!U66","v":0}]
[{"$f":"pqidat!A67","v":0},{"$f":"pqidat!B67","v":0},{"$f":"pqidat!C67","v":0},{"$f":"pqidat!D67","v":0},{"$f":"pqidat!E67","v":0},{"$f":"pqidat!F67","v":0},{"$f":"pqidat!G67","v":0},{"$f":"pqidat!H67","v":0},{"$f":"pqidat!I67","v":0},{"$f":"pqidat!J67","v":0},{"$f":"pqidat!K67","v":0},{"$f":"pqidat!L67","v":0},{"$f":"pqidat!M67","v":0},{"$f":"pqidat!N67","v":0},{"$f":"pqidat!O67","v":0},{"$f":"pqidat!P67","v":0},0,{"$f":"pqidat!Q67","v":0},{"$f":"pqidat!R67","v":0},{"$f":"pqidat!S67","v":0},{"$f":"pqidat!T67","v":0},{"$f":"pqidat!U67","v":0}]
[{"$f":"pqidat!A68","v":0},{"$f":"pqidat!B68","v":0},{"$f":"pqidat!C68","v":0},{"$f":"pqidat!D68","v":0},{"$f":"pqidat!E68","v":0},{"$f":"pqidat!F68","v":0},{"$f":"pqidat!G68","v":0},{"$f":"pqidat!H68","v":0},{"$f":"pqidat!I68","v":0},{"$f":"pqidat!J68","v":0},{"$f":"pqidat!K68","v":0},{"$f":"pqidat!L68","v":0},{"$f":"pqidat!M68","v":0},{"$f":"pqidat!N68","v":0},{"$f":"pqidat!O68","v":0},{"$f":"pqidat!P68","v":0},0,{"$f":"pqidat!Q68","v":0},{"$f":"pqidat!R68","v":0},{"$f":"pqidat!S68","v":0},{"$f":"pqidat!T68","v":0},{"$f":"pqidat!U68","v":0}]
[{"$f":"pqidat!A69","v":0},{"$f":"pqidat!B69","v":0},{"$f":"pqidat!C69","v":0},{"$f":"pqidat!D69","v":0},{"$f":"pqidat!E69","v":0},{"$f":"pqidat!F69","v":0},{"$f":"pqidat!G69","v":0},{"$f":"pqidat!H69","v":0},{"$f":"pqidat!I69","v":0},{"$f":"pqidat!J69","v":0},{"$f":"pqidat!K69","v":0},{"$f":"pqidat!L69","v":0},{"$f":"pqidat!M69","v":0},{"$f":"pqidat!N69","v":0},{"$f":"pqidat!O69","v":0},{"$f":"pqidat!P69","v":0},{"$f":"IF(P67=0,0,IF(P67>Minimum,\"Pass\",\"Fail\"))","v":0},{"$f":"pqidat!Q69","v":0},{"$f":"pqidat!R69","v":0},{"$f":"pqidat!S69","v":0},{"$f":"pqidat!T69","v":0},{"$f":"pqidat!U69","v":0}]
[{"$f":"pqidat!A70","v":0},{"$f":"pqidat!B70","v":0},{"$f":"pqidat!C70","v":0},{"$f":"pqidat!D70","v":0},{"$f":"pqidat!E70","v":0},{"$f":"pqidat!F70","v":0},{"$f":"pqidat!G70","v":0},{"$f":"pqidat!H70","v":0},{"$f":"pqidat!I70","v":0},{"$f":"pqidat!J70","v":0},{"$f":"pqidat!K70","v":0},{"$f":"pqidat!L70","v":0},{"$f":"pqidat!M70","v":0},{"$f":"pqidat!N70","v":0},{"$f":"pqidat!O70","v":0},{"$f":"pqidat!P70","v":0},0,{"$f":"pqidat!Q70","v":0},{"$f":"pqidat!R70","v":0},{"$f":"pqidat!S70","v":0},{"$f":"pqidat!T70","v":0},{"$f":"pqidat!U70","v":0}]
[{"$f":"pqidat!A71","v":0},{"$f":"pqidat!B71","v":0},{"$f":"pqidat!C71","v":0},{"$f":"pqidat!D71","v":0},{"$f":"pqidat!E71","v":0},{"$f":"pqidat!F71","v":0},{"$f":"pqidat!G71","v":0},{"$f":"pqidat!H71","v":0},{"$f":"pqidat!I71","v":0},{"$f":"pqidat!J71","v":0},{"$f":"pqidat!K71","v":0},{"$f":"pqidat!L71","v":0},{"$f":"pqidat!M71","v":0},{"$f":"pqidat!N71","v":0},{"$f":"pqidat!O71","v":0},{"$f":"pqidat!P71","v":0},0,{"$f":"pqidat!Q71","v":0},{"$f":"pqidat!R71","v":0},{"$f":"pqidat!S71","v":0},{"$f":"pqidat!T71","v":0},{"$f":"pqidat!U71","v":0}]
[{"$f":"pqidat!A72","v":0},{"$f":"pqidat!B72","v":0},{"$f":"pqidat!C72","v":0},{"$f":"pqidat!D72","v":0},{"$f":"pqidat!E72","v":0},{"$f":"pqidat!F72","v":0},{"$f":"pqidat!G72","v":0},{"$f":"pqidat!H72","v":0},{"$f":"pqidat!I72","v":0},{"$f":"pqidat!J72","v":0},{"$f":"pqidat!K72","v":0},{"$f":"pqidat!L72","v":0},{"$f":"pqidat!M72","v":0},{"$f":"pqidat!N72","v":0},{"$f":"pqidat!O72","v":0},{"$f":"pqidat!P72","v":0},0,{"$f":"pqidat!Q72","v":0},{"$f":"pqidat!R72","v":0},{"$f":"pqidat!S72","v":0},{"$f":"pqidat!T72","v":0},{"$f":"pqidat!U72","v":0}]
[{"$f":"pqidat!A73","v":0},{"$f":"pqidat!B73","v":0},{"$f":"pqidat!C73","v":0},{"$f":"pqidat!D73","v":0},{"$f":"pqidat!E73","v":0},{"$f":"pqidat!F73","v":0},{"$f":"pqidat!G73","v":0},{"$f":"pqidat!H73","v":0},{"$f":"pqidat!I73","v":0},{"$f":"pqidat!J73","v":0},{"$f":"pqidat!K73","v":0},{"$f":"pqidat!L73","v":0},{"$f":"pqidat!M73","v":0},{"$f":"pqidat!N73","v":0},{"$f":"pqidat!O73","v":0},{"$f":"pqidat!P73","v":0},0,{"$f":"pqidat!Q73","v":0},{"$f":"pqidat!R73","v":0},{"$f":"pqidat!S73","v":0},{"$f":"pqidat!T73","v":0},{"$f":"pqidat!U73","v":0}]
[{"$f":"pqidat!A74","v":0},{"$f":"pqidat!B74","v":0},{"$f":"pqidat!C74","v":0},{"$f":"pqidat!D74","v":0},{"$f":"pqidat!E74","v":0},{"$f":"pqidat!F74","v":0},{"$f":"pqidat!G74","v":0},{"$f":"pqidat!H74","v":0},{"$f":"pqidat!I74","v":0},{"$f":"pqidat!J74","v":0},{"$f":"pqidat!K74","v":0},{"$f":"pqidat!L74","v":0},{"$f":"pqidat!M74","v":0},{"$f":"pqidat!N74","v":0},{"$f":"pqidat!O74","v":0},{"$f":"pqidat!P74","v":0},0,{"$f":"pqidat!Q74","v":0},{"$f":"pqidat!R74","v":0},{"$f":"pqidat!S74","v":0},{"$f":"pqidat!T74","v":0},{"$f":"pqidat!U74","v":0}]
[{"$f":"pqidat!A75","v":0},{"$f":"pqidat!B75","v":0},{"$f":"pqidat!C75","v":0},{"$f":"pqidat!D75","v":0},{"$f":"pqidat!E75","v":0},{"$f":"pqidat!F75","v":0},{"$f":"pqidat!G75","v":0},{"$f":"pqidat!H75","v":0},{"$f":"pqidat!I75","v":0},{"$f":"pqidat!J75","v":0},{"$f":"pqidat!K75","v":0},{"$f":"pqidat!L75","v":0},{"$f":"pqidat!M75","v":0},{"$f":"pqidat!N75","v":0},{"$f":"pqidat!O75","v":0},{"$f":"pqidat!P75","v":0},0,{"$f":"pqidat!Q75","v":0},{"$f":"pqidat!R75","v":0},{"$f":"pqidat!S75","v":0},{"$f":"pqidat!T75","v":0},{"$f":"pqidat!U75","v":0}]
[{"$f":"pqidat!A76","v":0},{"$f":"pqidat!B76","v":0},{"$f":"pqidat!C76","v":0},{"$f":"pqidat!D76","v":0},{"$f":"pqidat!E76","v":0},{"$f":"pqidat!F76","v":0},{"$f":"pqidat!G76","v":0},{"$f":"pqidat!H76","v":0},{"$f":"pqidat!I76","v":0},{"$f":"pqidat!J76","v":0},{"$f":"pqidat!K76","v":0},{"$f":"pqidat!L76","v":0},{"$f":"pqidat!M76","v":0},{"$f":"pqidat!N76","v":0},{"$f":"pqidat!O76","v":0},{"$f":"pqidat!P76","v":0},0,{"$f":"pqidat!Q76","v":0},{"$f":"pqidat!R76","v":0},{"$f":"pqidat!S76","v":0},{"$f":"pqidat!T76","v":0},{"$f":"pqidat!U76","v":0}]
[{"$f":"pqidat!A77","v":0},{"$f":"pqidat!B77","v":0},{"$f":"pqidat!C77","v":0},{"$f":"pqidat!D77","v":0},{"$f":"pqidat!E77","v":0},{"$f":"pqidat!F77","v":0},{"$f":"pqidat!G77","v":0},{"$f":"pqidat!H77","v":0},{"$f":"pqidat!I77","v":0},{"$f":"pqidat!J77","v":0},{"$f":"pqidat!K77","v":0},{"$f":"pqidat!L77","v":0},{"$f":"pqidat!M77","v":0},{"$f":"pqidat!N77","v":0},{"$f":"pqidat!O77","v":0},{"$f":"pqidat!P77","v":0},0,{"$f":"pqidat!Q77","v":0},{"$f":"pqidat!R77","v":0},{"$f":"pqidat!S77","v":0},{"$f":"pqidat!T77","v":0},{"$f":"pqidat!U77","v":0}]
[{"$f":"pqidat!A78","v":0},{"$f":"pqidat!B78","v":0},{"$f":"pqidat!C78","v":0},{"$f":"pqidat!D78","v":0},{"$f":"pqidat!E78","v":0},{"$f":"pqidat!F78","v":0},{"$f":"pqidat!G78","v":0},{"$f":"pqidat!H78","v":0},{"$f":"pqidat!I78","v":0},{"$f":"pqidat!J78","v":0},{"$f":"pqidat!K78","v":0},{"$f":"pqidat!L78","v":0},{"$f":"pqidat!M78","v":0},{"$f":"pqidat!N78","v":0},{"$f":"pqidat!O78","v":0},{"$f":"pqidat!P78","v":0},0,{"$f":"pqidat!Q78","v":0},{"$f":"pqidat!R78","v":0},{"$f":"pqidat!S78","v":0},{"$f":"pqidat!T78","v":0},{"$f":"pqidat!U78","v":0}]
[{"$f":"pqidat!A79","v":0},{"$f":"pqidat!B79","v":0},{"$f":"pqidat!C79","v":0},{"$f":"pqidat!D79","v":0},{"$f":"pqidat!E79","v":0},{"$f":"pqidat!F79","v":0},{"$f":"pqidat!G79","v":0},{"$f":"pqidat!H79","v":0},{"$f":"pqidat!I79","v":0},{"$f":"pqidat!J79","v":0},{"$f":"pqidat!K79","v":0},{"$f":"pqidat!L79","v":0},{"$f":"pqidat!M79","v":0},{"$f":"pqidat!N79","v":0},{"$f":"pqidat!O79","v":0},{"$f":"pqidat!P79","v":0},0,{"$f":"pqidat!Q79","v":0},{"$f":"pqidat!R79","v":0},{"$f":"pqidat!S79","v":0},{"$f":"pqidat!T79","v":0},{"$f":"pqidat!U79","v":0}]
[{"$f":"pqidat!A80","v":0},{"$f":"pqidat!B80","v":0},{"$f":"pqidat!C80","v":0},{"$f":"pqidat!D80","v":0},{"$f":"pqidat!E80","v":0},{"$f":"pqidat!F80","v":0},{"$f":"pqidat!G80","v":0},{"$f":"pqidat!H80","v":0},{"$f":"pqidat!I80","v":0},{"$f":"pqidat!J80","v":0},{"$f":"pqidat!K80","v":0},{"$f":"pqidat!L80","v":0},{"$f":"pqidat!M80","v":0},{"$f":"pqidat!N80","v":0},{"$f":"pqidat!O80","v":0},{"$f":"pqidat!P80","v":0},0,{"$f":"pqidat!Q80","v":0},{"$f":"pqidat!R80","v":0},{"$f":"pqidat!S80","v":0},{"$f":"pqidat!T80","v":0},{"$f":"pqidat!U80","v":0}]
[{"$f":"pqidat!A81","v":0},{"$f":"pqidat!B81","v":0},{"$f":"pqidat!C81","v":0},{"$f":"pqidat!D81","v":0},{"$f":"pqidat!E81","v":0},{"$f":"pqidat!F81","v":0},{"$f":"pqidat!G81","v":0},{"$f":"pqidat!H81","v":0},{"$f":"pqidat!I81","v":0},{"$f":"pqidat!J81","v":0},{"$f":"pqidat!K81","v":0},{"$f":"pqidat!L81","v":0},{"$f":"pqidat!M81","v":0},{"$f":"pqidat!N81","v":0},{"$f":"pqidat!O81","v":0},{"$f":"pqidat!P81","v":0},0,{"$f":"pqidat!Q81","v":0},{"$f":"pqidat!R81","v":0},{"$f":"pqidat!S81","v":0},{"$f":"pqidat!T81","v":0},{"$f":"pqidat!U81","v":0}]
[{"$f":"pqidat!A82","v":0},{"$f":"pqidat!B82","v":0},{"$f":"pqidat!C82","v":0},{"$f":"pqidat!D82","v":0},{"$f":"pqidat!E82","v":0},{"$f":"pqidat!F82","v":0},{"$f":"pqidat!G82","v":0},{"$f":"pqidat!H82","v":0},{"$f":"pqidat!I82","v":0},{"$f":"pqidat!J82","v":0},{"$f":"pqidat!K82","v":0},{"$f":"pqidat!L82","v":0},{"$f":"pqidat!M82","v":0},{"$f":"pqidat!N82","v":0},{"$f":"pqidat!O82","v":0},{"$f":"pqidat!P82","v":0},0,{"$f":"pqidat!Q82","v":0},{"$f":"pqidat!R82","v":0},{"$f":"pqidat!S82","v":0},{"$f":"pqidat!T82","v":0},{"$f":"pqidat!U82","v":0}]
[{"$f":"pqidat!A83","v":0},{"$f":"pqidat!B83","v":0},{"$f":"pqidat!C83","v":0},{"$f":"pqidat!D83","v":0},{"$f":"pqidat!E83","v":0},{"$f":"pqidat!F83","v":0},{"$f":"pqidat!G83","v":0},{"$f":"pqidat!H83","v":0},{"$f":"pqidat!I83","v":0},{"$f":"pqidat!J83","v":0},{"$f":"pqidat!K83","v":0},{"$f":"pqidat!L83","v":0},{"$f":"pqidat!M83","v":0},{"$f":"pqidat!N83","v":0},{"$f":"pqidat!O83","v":0},{"$f":"pqidat!P83","v":0},0,{"$f":"pqidat!Q83","v":0},{"$f":"pqidat!R83","v":0},{"$f":"pqidat!S83","v":0},{"$f":"pqidat!T83","v":0},{"$f":"pqidat!U83","v":0}]
[{"$f":"pqidat!A84","v":0},{"$f":"pqidat!B84","v":0},{"$f":"pqidat!C84","v":0},{"$f":"pqidat!D84","v":0},{"$f":"pqidat!E84","v":0},{"$f":"pqidat!F84","v":0},{"$f":"pqidat!G84","v":0},{"$f":"pqidat!H84","v":0},{"$f":"pqidat!I84","v":0},{"$f":"pqidat!J84","v":0},{"$f":"pqidat!K84","v":0},{"$f":"pqidat!L84","v":0},{"$f":"pqidat!M84","v":0},{"$f":"pqidat!N84","v":0},{"$f":"pqidat!O84","v":0},{"$f":"pqidat!P84","v":0},0,{"$f":"pqidat!Q84","v":0},{"$f":"pqidat!R84","v":0},{"$f":"pqidat!S84","v":0},{"$f":"pqidat!T84","v":0},{"$f":"pqidat!U84","v":0}]
[{"$f":"pqidat!A85","v":0},{"$f":"pqidat!B85","v":0},{"$f":"pqidat!C85","v":0},{"$f":"pqidat!D85","v":0},{"$f":"pqidat!E85","v":0},{"$f":"pqidat!F85","v":0},{"$f":"pqidat!G85","v":0},{"$f":"pqidat!H85","v":0},{"$f":"pqidat!I85","v":0},{"$f":"pqidat!J85","v":0},{"$f":"pqidat!K85","v":0},{"$f":"pqidat!L85","v":0},{"$f":"pqidat!M85","v":0},{"$f":"pqidat!N85","v":0},{"$f":"pqidat!O85","v":0},{"$f":"pqidat!P85","v":0},0,{"$f":"pqidat!Q85","v":0},{"$f":"pqidat!R85","v":0},{"$f":"pqidat!S85","v":0},{"$f":"pqidat!T85","v":0},{"$f":"pqidat!U85","v":0}]
[{"$f":"pqidat!A86","v":0},{"$f":"pqidat!B86","v":0},{"$f":"pqidat!C86","v":0},{"$f":"pqidat!D86","v":0},{"$f":"pqidat!E86","v":0},{"$f":"pqidat!F86","v":0},{"$f":"pqidat!G86","v":0},{"$f":"pqidat!H86","v":0},{"$f":"pqidat!I86","v":0},{"$f":"pqidat!J86","v":0},{"$f":"pqidat!K86","v":0},{"$f":"pqidat!L86","v":0},{"$f":"pqidat!M86","v":0},{"$f":"pqidat!N86","v":0},{"$f":"pqidat!O86","v":0},{"$f":"pqidat!P86","v":0},0,{"$f":"pqidat!Q86","v":0},{"$f":"pqidat!R86","v":0},{"$f":"pqidat!S86","v":0},{"$f":"pqidat!T86","v":0},{"$f":"pqidat!U86","v":0}]
[{"$f":"pqidat!A87","v":0},{"$f":"pqidat!B87","v":0},{"$f":"pqidat!C87","v":0},{"$f":"pqidat!D87","v":0},{"$f":"pqidat!E87","v":0},{"$f":"pqidat!F87","v":0},{"$f":"pqidat!G87","v":0},{"$f":"pqidat!H87","v":0},{"$f":"pqidat!I87","v":0},{"$f":"pqidat!J87","v":0},{"$f":"pqidat!K87","v":0},{"$f":"pqidat!L87","v":0},{"$f":"pqidat!M87","v":0},{"$f":"pqidat!N87","v":0},{"$f":"pqidat!O87","v":0},{"$f":"pqidat!P87","v":0},0,{"$f":"pqidat!Q87","v":0},{"$f":"pqidat!R87","v":0},{"$f":"pqidat!S87","v":0},{"$f":"pqidat!T87","v":0},{"$f":"pqidat!U87","v":0}]
[{"$f":"pqidat!A88","v":0},{"$f":"pqidat!B88","v":0},{"$f":"pqidat!C88","v":0},{"$f":"pqidat!D88","v":0},{"$f":"pqidat!E88","v":0},{"$f":"pqidat!F88","v":0},{"$f":"pqidat!G88","v":0},{"$f":"pqidat!H88","v":0},{"$f":"pqidat!I88","v":0},{"$f":"pqidat!J88","v":0},{"$f":"pqidat!K88","v":0},{"$f":"pqidat!L88","v":0},{"$f":"pqidat!M88","v":0},{"$f":"pqidat!N88","v":0},{"$f":"pqidat!O88","v":0},{"$f":"pqidat!P88","v":0},0,{"$f":"pqidat!Q88","v":0},{"$f":"pqidat!R88","v":0},{"$f":"pqidat!S88","v":0},{"$f":"pqidat!T88","v":0},{"$f":"pqidat!U88","v":0}]
[{"$f":"pqidat!A89","v":0},{"$f":"pqidat!B89","v":0},{"$f":"pqidat!C89","v":0},{"$f":"pqidat!D89","v":0},{"$f":"pqidat!E89","v":0},{"$f":"pqidat!F89","v":0},{"$f":"pqidat!G89","v":0},{"$f":"pqidat!H89","v":0},{"$f":"pqidat!I89","v":0},{"$f":"pqidat!J89","v":0},{"$f":"pqidat!K89","v":0},{"$f":"pqidat!L89","v":0},{"$f":"pqidat!M89","v":0},{"$f":"pqidat!N89","v":0},{"$f":"pqidat!O89","v":0},{"$f":"pqidat!P89","v":0},0,{"$f":"pqidat!Q89","v":0},{"$f":"pqidat!R89","v":0},{"$f":"pqidat!S89","v":0},{"$f":"pqidat!T89","v":0},{"$f":"pqidat!U89","v":0}]
[{"$f":"pqidat!A90","v":0},{"$f":"pqidat!B90","v":0},{"$f":"pqidat!C90","v":0},{"$f":"pqidat!D90","v":0},{"$f":"pqidat!E90","v":0},{"$f":"pqidat!F90","v":0},{"$f":"pqidat!G90","v":0},{"$f":"pqidat!H90","v":0},{"$f":"pqidat!I90","v":0},{"$f":"pqidat!J90","v":0},{"$f":"pqidat!K90","v":0},{"$f":"pqidat!L90","v":0},{"$f":"pqidat!M90","v":0},{"$f":"pqidat!N90","v":0},{"$f":"pqidat!O90","v":0},{"$f":"pqidat!P90","v":0},0,{"$f":"pqidat!Q90","v":0},{"$f":"pqidat!R90","v":0},{"$f":"pqidat!S90","v":0},{"$f":"pqidat!T90","v":0},{"$f":"pqidat!U90","v":0}]
[{"$f":"pqidat!A91","v":0},{"$f":"pqidat!B91","v":0},{"$f":"pqidat!C91","v":0},{"$f":"pqidat!D91","v":0},{"$f":"pqidat!E91","v":0},{"$f":"pqidat!F91","v":0},{"$f":"pqidat!G91","v":0},{"$f":"pqidat!H91","v":0},{"$f":"pqidat!I91","v":0},{"$f":"pqidat!J91","v":0},{"$f":"pqidat!K91","v":0},{"$f":"pqidat!L91","v":0},{"$f":"pqidat!M91","v":0},{"$f":"pqidat!N91","v":0},{"$f":"pqidat!O91","v":0},{"$f":"pqidat!P91","v":0},0,{"$f":"pqidat!Q91","v":0},{"$f":"pqidat!R91","v":0},{"$f":"pqidat!S91","v":0},{"$f":"pqidat!T91","v":0},{"$f":"pqidat!U91","v":0}]
[{"$f":"pqidat!A92","v":0},{"$f":"pqidat!B92","v":0},{"$f":"pqidat!C92","v":0},{"$f":"pqidat!D92","v":0},{"$f":"pqidat!E92","v":0},{"$f":"pqidat!F92","v":0},{"$f":"pqidat!G92","v":0},{"$f":"pqidat!H92","v":0},{"$f":"pqidat!I92","v":0},{"$f":"pqidat!J92","v":0},{"$f":"pqidat!K92","v":0},{"$f":"pqidat!L92","v":0},{"$f":"pqidat!M92","v":0},{"$f":"pqidat!N92","v":0},{"$f":"pqidat!O92","v":0},{"$f":"pqidat!P92","v":0},0,{"$f":"pqidat!Q92","v":0},{"$f":"pqidat!R92","v":0},{"$f":"pqidat!S92","v":0},{"$f":"pqidat!T92","v":0},{"$f":"pqidat!U92","v":0}]
[{"$f":"pqidat!A93","v":0},{"$f":"pqidat!B93","v":0},{"$f":"pqidat!C93","v":0},{"$f":"pqidat!D93","v":0},{"$f":"pqidat!E93","v":0},{"$f":"pqidat!F93","v":0},{"$f":"pqidat!G93","v":0},{"$f":"pqidat!H93","v":0},{"$f":"pqidat!I93","v":0},{"$f":"pqidat!J93","v":0},{"$f":"pqidat!K93","v":0},{"$f":"pqidat!L93","v":0},{"$f":"pqidat!M93","v":0},{"$f":"pqidat!N93","v":0},{"$f":"pqidat!O93","v":0},{"$f":"pqidat!P93","v":0},0,{"$f":"pqidat!Q93","v":0},{"$f":"pqidat!R93","v":0},{"$f":"pqidat!S93","v":0},{"$f":"pqidat!T93","v":0},{"$f":"pqidat!U93","v":0}]
[{"$f":"pqidat!A94","v":0},{"$f":"pqidat!B94","v":0},{"$f":"pqidat!C94","v":0},{"$f":"pqidat!D94","v":0},{"$f":"pqidat!E94","v":0},{"$f":"pqidat!F94","v":0},{"$f":"pqidat!G94","v":0},{"$f":"pqidat!H94","v":0},{"$f":"pqidat!I94","v":0},{"$f":"pqidat!J94","v":0},{"$f":"pqidat!K94","v":0},{"$f":"pqidat!L94","v":0},{"$f":"pqidat!M94","v":0},{"$f":"pqidat!N94","v":0},{"$f":"pqidat!O94","v":0},{"$f":"pqidat!P94","v":0},0,{"$f":"pqidat!Q94","v":0},{"$f":"pqidat!R94","v":0},{"$f":"pqidat!S94","v":0},{"$f":"pqidat!T94","v":0},{"$f":"pqidat!U94","v":0}]
[{"$f":"pqidat!A95","v":0},{"$f":"pqidat!B95","v":0},{"$f":"pqidat!C95","v":0},{"$f":"pqidat!D95","v":0},{"$f":"pqidat!E95","v":0},{"$f":"pqidat!F95","v":0},{"$f":"pqidat!G95","v":0},{"$f":"pqidat!H95","v":0},{"$f":"pqidat!I95","v":0},{"$f":"pqidat!J95","v":0},{"$f":"pqidat!K95","v":0},{"$f":"pqidat!L95","v":0},{"$f":"pqidat!M95","v":0},{"$f":"pqidat!N95","v":0},{"$f":"pqidat!O95","v":0},{"$f":"pqidat!P95","v":0},0,{"$f":"pqidat!Q95","v":0},{"$f":"pqidat!R95","v":0},{"$f":"pqidat!S95","v":0},{"$f":"pqidat!T95","v":0},{"$f":"pqidat!U95","v":0}]
[{"$f":"pqidat!A96","v":0},{"$f":"pqidat!B96","v":0},{"$f":"pqidat!C96","v":0},{"$f":"pqidat!D96","v":0},{"$f":"pqidat!E96","v":0},{"$f":"pqidat!F96","v":0},{"$f":"pqidat!G96","v":0},{"$f":"pqidat!H96","v":0},{"$f":"pqidat!I96","v":0},{"$f":"pqidat!J96","v":0},{"$f":"pqidat!K96","v":0},{"$f":"pqidat!L96","v":0},{"$f":"pqidat!M96","v":0},{"$f":"pqidat!N96","v":0},{"$f":"pqidat!O96","v":0},{"$f":"pqidat!P96","v":0},0,{"$f":"pqidat!Q96","v":0},{"$f":"pqidat!R96","v":0},{"$f":"pqidat!S96","v":0},{"$f":"pqidat!T96","v":0},{"$f":"pqidat!U96","v":0}]
[{"$f":"pqidat!A97","v":0},{"$f":"pqidat!B97","v":0},{"$f":"pqidat!C97","v":0},{"$f":"pqidat!D97","v":0},{"$f":"pqidat!E97","v":0},{"$f":"pqidat!F97","v":0},{"$f":"pqidat!G97","v":0},{"$f":"pqidat!H97","v":0},{"$f":"pqidat!I97","v":0},{"$f":"pqidat!J97","v":0},{"$f":"pqidat!K97","v":0},{"$f":"pqidat!L97","v":0},{"$f":"pqidat!M97","v":0},{"$f":"pqidat!N97","v":0},{"$f":"pqidat!O97","v":0},{"$f":"pqidat!P97","v":0},0,{"$f":"pqidat!Q97","v":0},{"$f":"pqidat!R97","v":0},{"$f":"pqidat!S97","v":0},{"$f":"pqidat!T97","v":0},{"$f":"pqidat!U97","v":0}]
[{"$f":"pqidat!A98","v":0},{"$f":"pqidat!B98","v":0},{"$f":"pqidat!C98","v":0},{"$f":"pqidat!D98","v":0},{"$f":"pqidat!E98","v":0},{"$f":"pqidat!F98","v":0},{"$f":"pqidat!G98","v":0},{"$f":"pqidat!H98","v":0},{"$f":"pqidat!I98","v":0},{"$f":"pqidat!J98","v":0},{"$f":"pqidat!K98","v":0},{"$f":"pqidat!L98","v":0},{"$f":"pqidat!M98","v":0},{"$f":"pqidat!N98","v":0},{"$f":"pqidat!O98","v":0},{"$f":"pqidat!P98","v":0},0,{"$f":"pqidat!Q98","v":0},{"$f":"pqidat!R98","v":0},{"$f":"pqidat!S98","v":0},{"$f":"pqidat!T98","v":0},{"$f":"pqidat!U98","v":0}]
[{"$f":"pqidat!A99","v":0},{"$f":"pqidat!B99","v":0},{"$f":"pqidat!C99","v":0},{"$f":"pqidat!D99","v":0},{"$f":"pqidat!E99","v":0},{"$f":"pqidat!F99","v":0},{"$f":"pqidat!G99","v":0},{"$f":"pqidat!H99","v":0},{"$f":"pqidat!I99","v":0},{"$f":"pqidat!J99","v":0},{"$f":"pqidat!K99","v":0},{"$f":"pqidat!L99","v":0},{"$f":"pqidat!M99","v":0},{"$f":"pqidat!N99","v":0},{"$f":"pqidat!O99","v":0},{"$f":"pqidat!P99","v":0},0,{"$f":"pqidat!Q99","v":0},{"$f":"pqidat!R99","v":0},{"$f":"pqidat!S99","v":0},{"$f":"pqidat!T99","v":0},{"$f":"pqidat!U99","v":0}]
[{"$f":"pqidat!A100","v":0},{"$f":"pqidat!B100","v":0},{"$f":"pqidat!C100","v":0},{"$f":"pqidat!D100","v":0},{"$f":"pqidat!E100","v":0},{"$f":"pqidat!F100","v":0},{"$f":"pqidat!G100","v":0},{"$f":"pqidat!H100","v":0},{"$f":"pqidat!I100","v":0},{"$f":"pqidat!J100","v":0},{"$f":"pqidat!K100","v":0},{"$f":"pqidat!L100","v":0},{"$f":"pqidat!M100","v":0},{"$f":"pqidat!N100","v":0},{"$f":"pqidat!O100","v":0},{"$f":"pqidat!P100","v":0},0,{"$f":"pqidat!Q100","v":0},{"$f":"pqidat!R100","v":0},{"$f":"pqidat!S100","v":0},{"$f":"pqidat!T100","v":0},{"$f":"pqidat!U100","v":0}]
[{"$f":"pqidat!A101","v":0},{"$f":"pqidat!B101","v":0},{"$f":"pqidat!C101","v":0},{"$f":"pqidat!D101","v":0},{"$f":"pqidat!E101","v":0},{"$f":"pqidat!F101","v":0},{"$f":"pqidat!G101","v":0},{"$f":"pqidat!H101","v":0},{"$f":"pqidat!I101","v":0},{"$f":"pqidat!J101","v":0},{"$f":"pqidat!K101","v":0},{"$f":"pqidat!L101","v":0},{"$f":"pqidat!M101","v":0},{"$f":"pqidat!N101","v":0},{"$f":"pqidat!O101","v":0},{"$f":"pqidat!P101","v":0},0,{"$f":"pqidat!Q101","v":0},{"$f":"pqidat!R101","v":0},{"$f":"pqidat!S101","v":0},{"$f":"pqidat!T101","v":0},{"$f":"pqidat!U101","v":0}]
[{"$f":"pqidat!A102","v":0},{"$f":"pqidat!B102","v":0},{"$f":"pqidat!C102","v":0},{"$f":"pqidat!D102","v":0},{"$f":"pqidat!E102","v":0},{"$f":"pqidat!F102","v":0},{"$f":"pqidat!G102","v":0},{"$f":"pqidat!H102","v":0},{"$f":"pqidat!I102","v":0},{"$f":"pqidat!J102","v":0},{"$f":"pqidat!K102","v":0},{"$f":"pqidat!L102","v":0},{"$f":"pqidat!M102","v":0},{"$f":"pqidat!N102","v":0},{"$f":"pqidat!O102","v":0},{"$f":"pqidat!P102","v":0},0,{"$f":"pqidat!Q102","v":0},{"$f":"pqidat!R102","v":0},{"$f":"pqidat!S102","v":0},{"$f":"pqidat!T102","v":0},{"$f":"pqidat!U102","v":0}]
[{"$f":"pqidat!A103","v":0},{"$f":"pqidat!B103","v":0},{"$f":"pqidat!C103","v":0},{"$f":"pqidat!D103","v":0},{"$f":"pqidat!E103","v":0},{"$f":"pqidat!F103","v":0},{"$f":"pqidat!G103","v":0},{"$f":"pqidat!H103","v":0},{"$f":"pqidat!I103","v":0},{"$f":"pqidat!J103","v":0},{"$f":"pqidat!K103","v":0},{"$f":"pqidat!L103","v":0},{"$f":"pqidat!M103","v":0},{"$f":"pqidat!N103","v":0},{"$f":"pqidat!O103","v":0},{"$f":"pqidat!P103","v":0},0,{"$f":"pqidat!Q103","v":0},{"$f":"pqidat!R103","v":0},{"$f":"pqidat!S103","v":0},{"$f":"pqidat!T103","v":0},{"$f":"pqidat!U103","v":0}]
[{"$f":"pqidat!A104","v":0},{"$f":"pqidat!B104","v":0},{"$f":"pqidat!C104","v":0},{"$f":"pqidat!D104","v":0},{"$f":"pqidat!E104","v":0},{"$f":"pqidat!F104","v":0},{"$f":"pqidat!G104","v":0},{"$f":"pqidat!H104","v":0},{"$f":"pqidat!I104","v":0},{"$f":"pqidat!J104","v":0},{"$f":"pqidat!K104","v":0},{"$f":"pqidat!L104","v":0},{"$f":"pqidat!M104","v":0},{"$f":"pqidat!N104","v":0},{"$f":"pqidat!O104","v":0},{"$f":"pqidat!P104","v":0},0,{"$f":"pqidat!Q104","v":0},{"$f":"pqidat!R104","v":0},{"$f":"pqidat!S104","v":0},{"$f":"pqidat!T104","v":0},{"$f":"pqidat!U104","v":0}]
[{"$f":"pqidat!A105","v":0},{"$f":"pqidat!B105","v":0},{"$f":"pqidat!C105","v":0},{"$f":"pqidat!D105","v":0},{"$f":"pqidat!E105","v":0},{"$f":"pqidat!F105","v":0},{"$f":"pqidat!G105","v":0},{"$f":"pqidat!H105","v":0},{"$f":"pqidat!I105","v":0},{"$f":"pqidat!J105","v":0},{"$f":"pqidat!K105","v":0},{"$f":"pqidat!L105","v":0},{"$f":"pqidat!M105","v":0},{"$f":"pqidat!N105","v":0},{"$f":"pqidat!O105","v":0},{"$f":"pqidat!P105","v":0},0,{"$f":"pqidat!Q105","v":0},{"$f":"pqidat!R105","v":0},{"$f":"pqidat!S105","v":0},{"$f":"pqidat!T105","v":0},{"$f":"pqidat!U105","v":0}]
[{"$f":"pqidat!A106","v":0},{"$f":"pqidat!B106","v":0},{"$f":"pqidat!C106","v":0},{"$f":"pqidat!D106","v":0},{"$f":"pqidat!E106","v":0},{"$f":"pqidat!F106","v":0},{"$f":"pqidat!G106","v":0},{"$f":"pqidat!H106","v":0},{"$f":"pqidat!I106","v":0},{"$f":"pqidat!J106","v":0},{"$f":"pqidat!K106","v":0},{"$f":"pqidat!L106","v":0},{"$f":"pqidat!M106","v":0},{"$f":"pqidat!N106","v":0},{"$f":"pqidat!O106","v":0},{"$f":"pqidat!P106","v":0},0,{"$f":"pqidat!Q106","v":0},{"$f":"pqidat!R106","v":0},{"$f":"pqidat!S106","v":0},{"$f":"pqidat!T106","v":0},{"$f":"pqidat!U106","v":0}]
[{"$f":"pqidat!A107","v":0},{"$f":"pqidat!B107","v":0},{"$f":"pqidat!C107","v":0},{"$f":"pqidat!D107","v":0},{"$f":"pqidat!E107","v":0},{"$f":"pqidat!F107","v":0},{"$f":"pqidat!G107","v":0},{"$f":"pqidat!H107","v":0},{"$f":"pqidat!I107","v":0},{"$f":"pqidat!J107","v":0},{"$f":"pqidat!K107","v":0},{"$f":"pqidat!L107","v":0},{"$f":"pqidat!M107","v":0},{"$f":"pqidat!N107","v":0},{"$f":"pqidat!O107","v":0},{"$f":"pqidat!P107","v":0},0,{"$f":"pqidat!Q107","v":0},{"$f":"pqidat!R107","v":0},{"$f":"pqidat!S107","v":0},{"$f":"pqidat!T107","v":0},{"$f":"pqidat!U107","v":0}]
[{"$f":"pqidat!A108","v":0},{"$f":"pqidat!B108","v":0},{"$f":"pqidat!C108","v":0},{"$f":"pqidat!D108","v":0},{"$f":"pqidat!E108","v":0},{"$f":"pqidat!F108","v":0},{"$f":"pqidat!G108","v":0},{"$f":"pqidat!H108","v":0},{"$f":"pqidat!I108","v":0},{"$f":"pqidat!J108","v":0},{"$f":"pqidat!K108","v":0},{"$f":"pqidat!L108","v":0},{"$f":"pqidat!M108","v":0},{"$f":"pqidat!N108","v":0},{"$f":"pqidat!O108","v":0},{"$f":"pqidat!P108","v":0},0,{"$f":"pqidat!Q108","v":0},{"$f":"pqidat!R108","v":0},{"$f":"pqidat!S108","v":0},{"$f":"pqidat!T108","v":0},{"$f":"pqidat!U108","v":0}]
[{"$f":"pqidat!A109","v":0},{"$f":"pqidat!B109","v":0},{"$f":"pqidat!C109","v":0},{"$f":"pqidat!D109","v":0},{"$f":"pqidat!E109","v":0},{"$f":"pqidat!F109","v":0},{"$f":"pqidat!G109","v":0},{"$f":"pqidat!H109","v":0},{"$f":"pqidat!I109","v":0},{"$f":"pqidat!J109","v":0},{"$f":"pqidat!K109","v":0},{"$f":"pqidat!L109","v":0},{"$f":"pqidat!M109","v":0},{"$f":"pqidat!N109","v":0},{"$f":"pqidat!O109","v":0},{"$f":"pqidat!P109","v":0},0,{"$f":"pqidat!Q109","v":0},{"$f":"pqidat!R109","v":0},{"$f":"pqidat!S109","v":0},{"$f":"pqidat!T109","v":0},{"$f":"pqidat!U109","v":0}]
[{"$f":"pqidat!A110","v":0},{"$f":"pqidat!B110","v":0},{"$f":"pqidat!C110","v":0},{"$f":"pqidat!D110","v":0},{"$f":"pqidat!E110","v":0},{"$f":"pqidat!F110","v":0},{"$f":"pqidat!G110","v":0},{"$f":"pqidat!H110","v":0},{"$f":"pqidat!I110","v":0},{"$f":"pqidat!J110","v":0},{"$f":"pqidat!K110","v":0},{"$f":"pqidat!L110","v":0},{"$f":"pqidat!M110","v":0},{"$f":"pqidat!N110","v":0},{"$f":"pqidat!O110","v":0},{"$f":"pqidat!P110","v":0},0,{"$f":"pqidat!Q110","v":0},{"$f":"pqidat!R110","v":0},{"$f":"pqidat!S110","v":0},{"$f":"pqidat!T110","v":0},{"$f":"pqidat!U110","v":0}]
[{"$f":"pqidat!A111","v":0},{"$f":"pqidat!B111","v":0},{"$f":"pqidat!C111","v":0},{"$f":"pqidat!D111","v":0},{"$f":"pqidat!E111","v":0},{"$f":"pqidat!F111","v":0},{"$f":"pqidat!G111","v":0},{"$f":"pqidat!H111","v":0},{"$f":"pqidat!I111","v":0},{"$f":"pqidat!J111","v":0},{"$f":"pqidat!K111","v":0},{"$f":"pqidat!L111","v":0},{"$f":"pqidat!M111","v":0},{"$f":"pqidat!N111","v":0},{"$f":"pqidat!O111","v":0},{"$f":"pqidat!P111","v":0},0,{"$f":"pqidat!Q111","v":0},{"$f":"pqidat!R111","v":0},{"$f":"pqidat!S111","v":0},{"$f":"pqidat!T111","v":0},{"$f":"pqidat!U111","v":0}]
[{"$f":"pqidat!A112","v":0},{"$f":"pqidat!B112","v":0},{"$f":"pqidat!C112","v":0},{"$f":"pqidat!D112","v":0},{"$f":"pqidat!E112","v":0},{"$f":"pqidat!F112","v":0},{"$f":"pqidat!G112","v":0},{"$f":"pqidat!H112","v":0},{"$f":"pqidat!I112","v":0},{"$f":"pqidat!J112","v":0},{"$f":"pqidat!K112","v":0},{"$f":"pqidat!L112","v":0},{"$f":"pqidat!M112","v":0},{"$f":"pqidat!N112","v":0},{"$f":"pqidat!O112","v":0},{"$f":"pqidat!P112","v":0},0,{"$f":"pqidat!Q112","v":0},{"$f":"pqidat!R112","v":0},{"$f":"pqidat!S112","v":0},{"$f":"pqidat!T112","v":0},{"$f":"pqidat!U112","v":0}]
[{"$f":"pqidat!A113","v":0},{"$f":"pqidat!B113","v":0},{"$f":"pqidat!C113","v":0},{"$f":"pqidat!D113","v":0},{"$f":"pqidat!E113","v":0},{"$f":"pqidat!F113","v":0},{"$f":"pqidat!G113","v":0},{"$f":"pqidat!H113","v":0},{"$f":"pqidat!I113","v":0},{"$f":"pqidat!J113","v":0},{"$f":"pqidat!K113","v":0},{"$f":"pqidat!L113","v":0},{"$f":"pqidat!M113","v":0},{"$f":"pqidat!N113","v":0},{"$f":"pqidat!O113","v":0},{"$f":"pqidat!P113","v":0},0,{"$f":"pqidat!Q113","v":0},{"$f":"pqidat!R113","v":0},{"$f":"pqidat!S113","v":0},{"$f":"pqidat!T113","v":0},{"$f":"pqidat!U113","v":0}]
[{"$f":"pqidat!A114","v":0},{"$f":"pqidat!B114","v":0},{"$f":"pqidat!C114","v":0},{"$f":"pqidat!D114","v":0},{"$f":"pqidat!E114","v":0},{"$f":"pqidat!F114","v":0},{"$f":"pqidat!G114","v":0},{"$f":"pqidat!H114","v":0},{"$f":"pqidat!I114","v":0},{"$f":"pqidat!J114","v":0},{"$f":"pqidat!K114","v":0},{"$f":"pqidat!L114","v":0},{"$f":"pqidat!M114","v":0},{"$f":"pqidat!N114","v":0},{"$f":"pqidat!O114","v":0},{"$f":"pqidat!P114","v":0},0,{"$f":"pqidat!Q114","v":0},{"$f":"pqidat!R114","v":0},{"$f":"pqidat!S114","v":0},{"$f":"pqidat!T114","v":0},{"$f":"pqidat!U114","v":0}]
[{"$f":"pqidat!A115","v":0},{"$f":"pqidat!B115","v":0},{"$f":"pqidat!C115","v":0},{"$f":"pqidat!D115","v":0},{"$f":"pqidat!E115","v":0},{"$f":"pqidat!F115","v":0},{"$f":"pqidat!G115","v":0},{"$f":"pqidat!H115","v":0},{"$f":"pqidat!I115","v":0},{"$f":"pqidat!J115","v":0},{"$f":"pqidat!K115","v":0},{"$f":"pqidat!L115","v":0},{"$f":"pqidat!M115","v":0},{"$f":"pqidat!N115","v":0},{"$f":"pqidat!O115","v":0},{"$f":"pqidat!P115","v":0},0,{"$f":"pqidat!Q115","v":0},{"$f":"pqidat!R115","v":0},{"$f":"pqidat!S115","v":0},{"$f":"pqidat!T115","v":0},{"$f":"pqidat!U115","v":0}]
[{"$f":"pqidat!A116","v":0},{"$f":"pqidat!B116","v":0},{"$f":"pqidat!C116","v":0},{"$f":"pqidat!D116","v":0},{"$f":"pqidat!E116","v":0},{"$f":"pqidat!F116","v":0},{"$f":"pqidat!G116","v":0},{"$f":"pqidat!H116","v":0},{"$f":"pqidat!I116","v":0},{"$f":"pqidat!J116","v":0},{"$f":"pqidat!K116","v":0},{"$f":"pqidat!L116","v":0},{"$f":"pqidat!M116","v":0},{"$f":"pqidat!N116","v":0},{"$f":"pqidat!O116","v":0},{"$f":"pqidat!P116","v":0},0,{"$f":"pqidat!Q116","v":0},{"$f":"pqidat!R116","v":0},{"$f":"pqidat!S116","v":0},{"$f":"pqidat!T116","v":0},{"$f":"pqidat!U116","v":0}]
[{"$f":"pqidat!A117","v":0},{"$f":"pqidat!B117","v":0},{"$f":"pqidat!C117","v":0},{"$f":"pqidat!D117","v":0},{"$f":"pqidat!E117","v":0},{"$f":"pqidat!F117","v":0},{"$f":"pqidat!G117","v":0},{"$f":"pqidat!H117","v":0},{"$f":"pqidat!I117","v":0},{"$f":"pqidat!J117","v":0},{"$f":"pqidat!K117","v":0},{"$f":"pqidat!L117","v":0},{"$f":"pqidat!M117","v":0},{"$f":"pqidat!N117","v":0},{"$f":"pqidat!O117","v":0},{"$f":"pqidat!P117","v":0},0,{"$f":"pqidat!Q117","v":0},{"$f":"pqidat!R117","v":0},{"$f":"pqidat!S117","v":0},{"$f":"pqidat!T117","v":0},{"$f":"pqidat!U117","v":0}]
[{"$f":"pqidat!A118","v":0},{"$f":"pqidat!B118","v":0},{"$f":"pqidat!C118","v":0},{"$f":"pqidat!D118","v":0},{"$f":"pqidat!E118","v":0},{"$f":"pqidat!F118","v":0},{"$f":"pqidat!G118","v":0},{"$f":"pqidat!H118","v":0},{"$f":"pqidat!I118","v":0},{"$f":"pqidat!J118","v":0},{"$f":"pqidat!K118","v":0},{"$f":"pqidat!L118","v":0},{"$f":"pqidat!M118","v":0},{"$f":"pqidat!N118","v":0},{"$f":"pqidat!O118","v":0},{"$f":"pqidat!P118","v":0},0,{"$f":"pqidat!Q118","v":0},{"$f":"pqidat!R118","v":0},{"$f":"pqidat!S118","v":0},{"$f":"pqidat!T118","v":0},{"$f":"pqidat!U118","v":0}]
[{"$f":"pqidat!A119","v":0},{"$f":"pqidat!B119","v":0},{"$f":"pqidat!C119","v":0},{"$f":"pqidat!D119","v":0},{"$f":"pqidat!E119","v":0},{"$f":"pqidat!F119","v":0},{"$f":"pqidat!G119","v":0},{"$f":"pqidat!H119","v":0},{"$f":"pqidat!I119","v":0},{"$f":"pqidat!J119","v":0},{"$f":"pqidat!K119","v":0},{"$f":"pqidat!L119","v":0},{"$f":"pqidat!M119","v":0},{"$f":"pqidat!N119","v":0},{"$f":"pqidat!O119","v":0},{"$f":"pqidat!P119","v":0},0,{"$f":"pqidat!Q119","v":0},{"$f":"pqidat!R119","v":0},{"$f":"pqidat!S119","v":0},{"$f":"pqidat!T119","v":0},{"$f":"pqidat!U119","v":0}]
[{"$f":"pqidat!A120","v":0},{"$f":"pqidat!B120","v":0},{"$f":"pqidat!C120","v":0},{"$f":"pqidat!D120","v":0},{"$f":"pqidat!E120","v":0},{"$f":"pqidat!F120","v":0},{"$f":"pqidat!G120","v":0},{"$f":"pqidat!H120","v":0},{"$f":"pqidat!I120","v":0},{"$f":"pqidat!J120","v":0},{"$f":"pqidat!K120","v":0},{"$f":"pqidat!L120","v":0},{"$f":"pqidat!M120","v":0},{"$f":"pqidat!N120","v":0},{"$f":"pqidat!O120","v":0},{"$f":"pqidat!P120","v":0},0,{"$f":"pqidat!Q120","v":0},{"$f":"pqidat!R120","v":0},{"$f":"pqidat!S120","v":0},{"$f":"pqidat!T120","v":0},{"$f":"pqidat!U120","v":0}]
[{"$f":"pqidat!A121","v":0},{"$f":"pqidat!B121","v":0},{"$f":"pqidat!C121","v":0},{"$f":"pqidat!D121","v":0},{"$f":"pqidat!E121","v":0},{"$f":"pqidat!F121","v":0},{"$f":"pqidat!G121","v":0},{"$f":"pqidat!H121","v":0},{"$f":"pqidat!I121","v":0},{"$f":"pqidat!J121","v":0},{"$f":"pqidat!K121","v":0},{"$f":"pqidat!L121","v":0},{"$f":"pqidat!M121","v":0},{"$f":"pqidat!N121","v":0},{"$f":"pqidat!O121","v":0},{"$f":"pqidat!P121","v":0},0,{"$f":"pqidat!Q121","v":0},{"$f":"pqidat!R121","v":0},{"$f":"pqidat!S121","v":0},{"$f":"pqidat!T121","v":0},{"$f":"pqidat!U121","v":0}]
[{"$f":"pqidat!A122","v":0},{"$f":"pqidat!B122","v":0},{"$f":"pqidat!C122","v":0},{"$f":"pqidat!D122","v":0},{"$f":"pqidat!E122","v":0},{"$f":"pqidat!F122","v":0},{"$f":"pqidat!G122","v":0},{"$f":"pqidat!H122","v":0},{"$f":"pqidat!I122","v":0},{"$f":"pqidat!J122","v":0},{"$f":"pqidat!K122","v":0},{"$f":"pqidat!L122","v":0},{"$f":"pqidat!M122","v":0},{"$f":"pqidat!N122","v":0},{"$f":"pqidat!O122","v":0},{"$f":"pqidat!P122","v":0},0,{"$f":"pqidat!Q122","v":0},{"$f":"pqidat!R122","v":0},{"$f":"pqidat!S122","v":0},{"$f":"pqidat!T122","v":0},{"$f":"pqidat!U122","v":0}]
[{"$f":"pqidat!A123","v":0},{"$f":"pqidat!B123","v":0},{"$f":"pqidat!C123","v":0},{"$f":"pqidat!D123","v":0},{"$f":"pqidat!E123","v":0},{"$f":"pqidat!F123","v":0},{"$f":"pqidat!G123","v":0},{"$f":"pqidat!H123","v":0},{"$f":"pqidat!I123","v":0},{"$f":"pqidat!J123","v":0},{"$f":"pqidat!K123","v":0},{"$f":"pqidat!L123","v":0},{"$f":"pqidat!M123","v":0},{"$f":"pqidat!N123","v":0},{"$f":"pqidat!O123","v":0},{"$f":"pqidat!P123","v":0},0,{"$f":"pqidat!Q123","v":0},{"$f":"pqidat!R123","v":0},{"$f":"pqidat!S123","v":0},{"$f":"pqidat!T123","v":0},{"$f":"pqidat!U123","v":0}]
[{"$f":"pqidat!A124","v":0},{"$f":"pqidat!B124","v":0},{"$f":"pqidat!C124","v":0},{"$f":"pqidat!D124","v":0},{"$f":"pqidat!E124","v":0},{"$f":"pqidat!F124","v":0},{"$f":"pqidat!G124","v":0},{"$f":"pqidat!H124","v":0},{"$f":"pqidat!I124","v":0},{"$f":"pqidat!J124","v":0},{"$f":"pqidat!K124","v":0},{"$f":"pqidat!L124","v":0},{"$f":"pqidat!M124","v":0},{"$f":"pqidat!N124","v":0},{"$f":"pqidat!O124","v":0},{"$f":"pqidat!P124","v":0},0,{"$f":"pqidat!Q124","v":0},{"$f":"pqidat!R124","v":0},{"$f":"pqidat!S124","v":0},{"$f":"pqidat!T124","v":0},{"$f":"pqidat!U124","v":0}]
[{"$f":"pqidat!A125","v":0},{"$f":"pqidat!B125","v":0},{"$f":"pqidat!C125","v":0},{"$f":"pqidat!D125","v":0},{"$f":"pqidat!E125","v":0},{"$f":"pqidat!F125","v":0},{"$f":"pqidat!G125","v":0},{"$f":"pqidat!H125","v":0},{"$f":"pqidat!I125","v":0},{"$f":"pqidat!J125","v":0},{"$f":"pqidat!K125","v":0},{"$f":"pqidat!L125","v":0},{"$f":"pqidat!M125","v":0},{"$f":"pqidat!N125","v":0},{"$f":"pqidat!O125","v":0},{"$f":"pqidat!P125","v":0},0,{"$f":"pqidat!Q125","v":0},{"$f":"pqidat!R125","v":0},{"$f":"pqidat!S125","v":0},{"$f":"pqidat!T125","v":0},{"$f":"pqidat!U125","v":0}]
[{"$f":"pqidat!A126","v":0},{"$f":"pqidat!B126","v":0},{"$f":"pqidat!C126","v":0},{"$f":"pqidat!D126","v":0},{"$f":"pqidat!E126","v":0},{"$f":"pqidat!F126","v":0},{"$f":"pqidat!G126","v":0},{"$f":"pqidat!H126","v":0},{"$f":"pqidat!I126","v":0},{"$f":"pqidat!J126","v":0},{"$f":"pqidat!K126","v":0},{"$f":"pqidat!L126","v":0},{"$f":"pqidat!M126","v":0},{"$f":"pqidat!N126","v":0},{"$f":"pqidat!O126","v":0},{"$f":"pqidat!P126","v":0},0,{"$f":"pqidat!Q126","v":0},{"$f":"pqidat!R126","v":0},{"$f":"pqidat!S126","v":0},{"$f":"pqidat!T126","v":0},{"$f":"pqidat!U126","v":0}]
[{"$f":"pqidat!A127","v":0},{"$f":"pqidat!B127","v":0},{"$f":"pqidat!C127","v":0},{"$f":"pqidat!D127","v":0},{"$f":"pqidat!E127","v":0},{"$f":"pqidat!F127","v":0},{"$f":"pqidat!G127","v":0},{"$f":"pqidat!H127","v":0},{"$f":"pqidat!I127","v":0},{"$f":"pqidat!J127","v":0},{"$f":"pqidat!K127","v":0},{"$f":"pqidat!L127","v":0},{"$f":"pqidat!M127","v":0},{"$f":"pqidat!N127","v":0},{"$f":"pqidat!O127","v":0},{"$f":"pqidat!P127","v":0},0,{"$f":"pqidat!Q127","v":0},{"$f":"pqidat!R127","v":0},{"$f":"pqidat!S127","v":0},{"$f":"pqidat!T127","v":0},{"$f":"pqidat!U127","v":0}]
[{"$f":"pqidat!A128","v":0},{"$f":"pqidat!B128","v":0},{"$f":"pqidat!C128","v":0},{"$f":"pqidat!D128","v":0},{"$f":"pqidat!E128","v":0},{"$f":"pqidat!F128","v":0},{"$f":"pqidat!G128","v":0},{"$f":"pqidat!H128","v":0},{"$f":"pqidat!I128","v":0},{"$f":"pqidat!J128","v":0},{"$f":"pqidat!K128","v":0},{"$f":"pqidat!L128","v":0},{"$f":"pqidat!M128","v":0},{"$f":"pqidat!N128","v":0},{"$f":"pqidat!O128","v":0},{"$f":"pqidat!P128","v":0},0,{"$f":"pqidat!Q128","v":0},{"$f":"pqidat!R128","v":0},{"$f":"pqidat!S128","v":0},{"$f":"pqidat!T128","v":0},{"$f":"pqidat!U128","v":0}]
[{"$f":"pqidat!A129","v":0},{"$f":"pqidat!B129","v":0},{"$f":"pqidat!C129","v":0},{"$f":"pqidat!D129","v":0},{"$f":"pqidat!E129","v":0},{"$f":"pqidat!F129","v":0},{"$f":"pqidat!G129","v":0},{"$f":"pqidat!H129","v":0},{"$f":"pqidat!I129","v":0},{"$f":"pqidat!J129","v":0},{"$f":"pqidat!K129","v":0},{"$f":"pqidat!L129","v":0},{"$f":"pqidat!M129","v":0},{"$f":"pqidat!N129","v":0},{"$f":"pqidat!O129","v":0},{"$f":"pqidat!P129","v":0},0,{"$f":"pqidat!Q129","v":0},{"$f":"pqidat!R129","v":0},{"$f":"pqidat!S129","v":0},{"$f":"pqidat!T129","v":0},{"$f":"pqidat!U129","v":0}]
[{"$f":"pqidat!A130","v":0},{"$f":"pqidat!B130","v":0},{"$f":"pqidat!C130","v":0},{"$f":"pqidat!D130","v":0},{"$f":"pqidat!E130","v":0},{"$f":"pqidat!F130","v":0},{"$f":"pqidat!G130","v":0},{"$f":"pqidat!H130","v":0},{"$f":"pqidat!I130","v":0},{"$f":"pqidat!J130","v":0},{"$f":"pqidat!K130","v":0},{"$f":"pqidat!L130","v":0},{"$f":"pqidat!M130","v":0},{"$f":"pqidat!N130","v":0},{"$f":"pqidat!O130","v":0},{"$f":"pqidat!P130","v":0},0,{"$f":"pqidat!Q130","v":0},{"$f":"pqidat!R130","v":0},{"$f":"pqidat!S130","v":0},{"$f":"pqidat!T130","v":0},{"$f":"pqidat!U130","v":0}]
[{"$f":"pqidat!A131","v":0},{"$f":"pqidat!B131","v":0},{"$f":"pqidat!C131","v":0},{"$f":"pqidat!D131","v":0},{"$f":"pqidat!E131","v":0},{"$f":"pqidat!F131","v":0},{"$f":"pqidat!G131","v":0},{"$f":"pqidat!H131","v":0},{"$f":"pqidat!I131","v":0},{"$f":"pqidat!J131","v":0},{"$f":"pqidat!K131","v":0},{"$f":"pqidat!L131","v":0},{"$f":"pqidat!M131","v":0},{"$f":"pqidat!N131","v":0},{"$f":"pqidat!O131","v":0},{"$f":"pqidat!P131","v":0},0,{"$f":"pqidat!Q131","v":0},{"$f":"pqidat!R131","v":0},{"$f":"pqidat!S131","v":0},{"$f":"pqidat!T131","v":0},{"$f":"pqidat!U131","v":0}]
[{"$f":"pqidat!A132","v":0},{"$f":"pqidat!B132","v":0},{"$f":"pqidat!C132","v":0},{"$f":"pqidat!D132","v":0},{"$f":"pqidat!E132","v":0},{"$f":"pqidat!F132","v":0},{"$f":"pqidat!G132","v":0},{"$f":"pqidat!H132","v":0},{"$f":"pqidat!I132","v":0},{"$f":"pqidat!J132","v":0},{"$f":"pqidat!K132","v":0},{"$f":"pqidat!L132","v":0},{"$f":"pqidat!M132","v":0},{"$f":"pqidat!N132","v":0},{"$f":"pqidat!O132","v":0},{"$f":"pqidat!P132","v":0},0,{"$f":"pqidat!Q132","v":0},{"$f":"pqidat!R132","v":0},{"$f":"pqidat!S132","v":0},{"$f":"pqidat!T132","v":0},{"$f":"pqidat!U132","v":0}]
[{"$f":"pqidat!A133","v":0},{"$f":"pqidat!B133","v":0},{"$f":"pqidat!C133","v":0},{"$f":"pqidat!D133","v":0},{"$f":"pqidat!E133","v":0},{"$f":"pqidat!F133","v":0},{"$f":"pqidat!G133","v":0},{"$f":"pqidat!H133","v":0},{"$f":"pqidat!I133","v":0},{"$f":"pqidat!J133","v":0},{"$f":"pqidat!K133","v":0},{"$f":"pqidat!L133","v":0},{"$f":"pqidat!M133","v":0},{"$f":"pqidat!N133","v":0},{"$f":"pqidat!O133","v":0},{"$f":"pqidat!P133","v":0},{"$f":"IF(P131=0,0,IF(P131>Minimum,\"Pass\",\"Fail\"))","v":0},{"$f":"pqidat!Q133","v":0},{"$f":"pqidat!R133","v":0},{"$f":"pqidat!S133","v":0},{"$f":"pqidat!T133","v":0},{"$f":"pqidat!U133","v":0}]
[{"$f":"pqidat!A134","v":0},{"$f":"pqidat!B134","v":0},{"$f":"pqidat!C134","v":0},{"$f":"pqidat!D134","v":0},{"$f":"pqidat!E134","v":0},{"$f":"pqidat!F134","v":0},{"$f":"pqidat!G134","v":0},{"$f":"pqidat!H134","v":0},{"$f":"pqidat!I134","v":0},{"$f":"pqidat!J134","v":0},{"$f":"pqidat!K134","v":0},{"$f":"pqidat!L134","v":0},{"$f":"pqidat!M134","v":0},{"$f":"pqidat!N134","v":0},{"$f":"pqidat!O134","v":0},{"$f":"pqidat!P134","v":0},0,{"$f":"pqidat!Q134","v":0},{"$f":"pqidat!R134","v":0},{"$f":"pqidat!S134","v":0},{"$f":"pqidat!T134","v":0},{"$f":"pqidat!U134","v":0}]
[{"$f":"pqidat!A135","v":0},{"$f":"pqidat!B135","v":0},{"$f":"pqidat!C135","v":0},{"$f":"pqidat!D135","v":0},{"$f":"pqidat!E135","v":0},{"$f":"pqidat!F135","v":0},{"$f":"pqidat!G135","v":0},{"$f":"pqidat!H135","v":0},{"$f":"pqidat!I135","v":0},{"$f":"pqidat!J135","v":0},{"$f":"pqidat!K135","v":0},{"$f":"pqidat!L135","v":0},{"$f":"pqidat!M135","v":0},{"$f":"pqidat!N135","v":0},{"$f":"pqidat!O135","v":0},{"$f":"pqidat!P135","v":0},0,{"$f":"pqidat!Q135","v":0},{"$f":"pqidat!R135","v":0},{"$f":"pqidat!S135","v":0},{"$f":"pqidat!T135","v":0},{"$f":"pqidat!U135","v":0}]
[{"$f":"pqidat!A136","v":0},{"$f":"pqidat!B136","v":0},{"$f":"pqidat!C136","v":0},{"$f":"pqidat!D136","v":0},{"$f":"pqidat!E136","v":0},{"$f":"pqidat!F136","v":0},{"$f":"pqidat!G136","v":0},{"$f":"pqidat!H136","v":0},{"$f":"pqidat!I136","v":0},{"$f":"pqidat!J136","v":0},{"$f":"pqidat!K136","v":0},{"$f":"pqidat!L136","v":0},{"$f":"pqidat!M136","v":0},{"$f":"pqidat!N136","v":0},{"$f":"pqidat!O136","v":0},{"$f":"pqidat!P136","v":0},0,{"$f":"pqidat!Q136","v":0},{"$f":"pqidat!R136","v":0},{"$f":"pqidat!S136","v":0},{"$f":"pqidat!T136","v":0},{"$f":"pqidat!U136","v":0}]
[{"$f":"pqidat!A137","v":0},{"$f":"pqidat!B137","v":0},{"$f":"pqidat!C137","v":0},{"$f":"pqidat!D137","v":0},{"$f":"pqidat!E137","v":0},{"$f":"pqidat!F137","v":0},{"$f":"pqidat!G137","v":0},{"$f":"pqidat!H137","v":0},{"$f":"pqidat!I137","v":0},{"$f":"pqidat!J137","v":0},{"$f":"pqidat!K137","v":0},{"$f":"pqidat!L137","v":0},{"$f":"pqidat!M137","v":0},{"$f":"pqidat!N137","v":0},{"$f":"pqidat!O137","v":0},{"$f":"pqidat!P137","v":0},0,{"$f":"pqidat!Q137","v":0},{"$f":"pqidat!R137","v":0},{"$f":"pqidat!S137","v":0},{"$f":"pqidat!T137","v":0},{"$f":"pqidat!U137","v":0}]
[{"$f":"pqidat!A138","v":0},{"$f":"pqidat!B138","v":0},{"$f":"pqidat!C138","v":0},{"$f":"pqidat!D138","v":0},{"$f":"pqidat!E138","v":0},{"$f":"pqidat!F138","v":0},{"$f":"pqidat!G138","v":0},{"$f":"pqidat!H138","v":0},{"$f":"pqidat!I138","v":0},{"$f":"pqidat!J138","v":0},{"$f":"pqidat!K138","v":0},{"$f":"pqidat!L138","v":0},{"$f":"pqidat!M138","v":0},{"$f":"pqidat!N138","v":0},{"$f":"pqidat!O138","v":0},{"$f":"pqidat!P138","v":0},0,{"$f":"pqidat!Q138","v":0},{"$f":"pqidat!R138","v":0},{"$f":"pqidat!S138","v":0},{"$f":"pqidat!T138","v":0},{"$f":"pqidat!U138","v":0}]
[{"$f":"pqidat!A139","v":0},{"$f":"pqidat!B139","v":0},{"$f":"pqidat!C139","v":0},{"$f":"pqidat!D139","v":0},{"$f":"pqidat!E139","v":0},{"$f":"pqidat!F139","v":0},{"$f":"pqidat!G139","v":0},{"$f":"pqidat!H139","v":0},{"$f":"pqidat!I139","v":0},{"$f":"pqidat!J139","v":0},{"$f":"pqidat!K139","v":0},{"$f":"pqidat!L139","v":0},{"$f":"pqidat!M139","v":0},{"$f":"pqidat!N139","v":0},{"$f":"pqidat!O139","v":0},{"$f":"pqidat!P139","v":0},0,{"$f":"pqidat!Q139","v":0},{"$f":"pqidat!R139","v":0},{"$f":"pqidat!S139","v":0},{"$f":"pqidat!T139","v":0},{"$f":"pqidat!U139","v":0}]
[{"$f":"pqidat!A140","v":0},{"$f":"pqidat!B140","v":0},{"$f":"pqidat!C140","v":0},{"$f":"pqidat!D140","v":0},{"$f":"pqidat!E140","v":0},{"$f":"pqidat!F140","v":0},{"$f":"pqidat!G140","v":0},{"$f":"pqidat!H140","v":0},{"$f":"pqidat!I140","v":0},{"$f":"pqidat!J140","v":0},{"$f":"pqidat!K140","v":0},{"$f":"pqidat!L140","v":0},{"$f":"pqidat!M140","v":0},{"$f":"pqidat!N140","v":0},{"$f":"pqidat!O140","v":0},{"$f":"pqidat!P140","v":0},0,{"$f":"pqidat!Q140","v":0},{"$f":"pqidat!R140","v":0},{"$f":"pqidat!S140","v":0},{"$f":"pqidat!T140","v":0},{"$f":"pqidat!U140","v":0}]
[{"$f":"pqidat!A141","v":0},{"$f":"pqidat!B141","v":0},{"$f":"pqidat!C141","v":0},{"$f":"pqidat!D141","v":0},{"$f":"pqidat!E141","v":0},{"$f":"pqidat!F141","v":0},{"$f":"pqidat!G141","v":0},{"$f":"pqidat!H141","v":0},{"$f":"pqidat!I141","v":0},{"$f":"pqidat!J141","v":0},{"$f":"pqidat!K141","v":0},{"$f":"pqidat!L141","v":0},{"$f":"pqidat!M141","v":0},{"$f":"pqidat!N141","v":0},{"$f":"pqidat!O141","v":0},{"$f":"pqidat!P141","v":0},0,{"$f":"pqidat!Q141","v":0},{"$f":"pqidat!R141","v":0},{"$f":"pqidat!S141","v":0},{"$f":"pqidat!T141","v":0},{"$f":"pqidat!U141","v":0}]
[{"$f":"pqidat!A142","v":0},{"$f":"pqidat!B142","v":0},{"$f":"pqidat!C142","v":0},{"$f":"pqidat!D142","v":0},{"$f":"pqidat!E142","v":0},{"$f":"pqidat!F142","v":0},{"$f":"pqidat!G142","v":0},{"$f":"pqidat!H142","v":0},{"$f":"pqidat!I142","v":0},{"$f":"pqidat!J142","v":0},{"$f":"pqidat!K142","v":0},{"$f":"pqidat!L142","v":0},{"$f":"pqidat!M142","v":0},{"$f":"pqidat!N142","v":0},{"$f":"pqidat!O142","v":0},{"$f":"pqidat!P142","v":0},0,{"$f":"pqidat!Q142","v":0},{"$f":"pqidat!R142","v":0},{"$f":"pqidat!S142","v":0},{"$f":"pqidat!T142","v":0},{"$f":"pqidat!U142","v":0}]
[{"$f":"pqidat!A143","v":0},{"$f":"pqidat!B143","v":0},{"$f":"pqidat!C143","v":0},{"$f":"pqidat!D143","v":0},{"$f":"pqidat!E143","v":0},{"$f":"pqidat!F143","v":0},{"$f":"pqidat!G143","v":0},{"$f":"pqidat!H143","v":0},{"$f":"pqidat!I143","v":0},{"$f":"pqidat!J143","v":0},{"$f":"pqidat!K143","v":0},{"$f":"pqidat!L143","v":0},{"$f":"pqidat!M143","v":0},{"$f":"pqidat!N143","v":0},{"$f":"pqidat!O143","v":0},{"$f":"pqidat!P143","v":0},0,{"$f":"pqidat!Q143","v":0},{"$f":"pqidat!R143","v":0},{"$f":"pqidat!S143","v":0},{"$f":"pqidat!T143","v":0},{"$f":"pqidat!U143","v":0}]
[{"$f":"pqidat!A144","v":0},{"$f":"pqidat!B144","v":0},{"$f":"pqidat!C144","v":0},{"$f":"pqidat!D144","v":0},{"$f":"pqidat!E144","v":0},{"$f":"pqidat!F144","v":0},{"$f":"pqidat!G144","v":0},{"$f":"pqidat!H144","v":0},{"$f":"pqidat!I144","v":0},{"$f":"pqidat!J144","v":0},{"$f":"pqidat!K144","v":0},{"$f":"pqidat!L144","v":0},{"$f":"pqidat!M144","v":0},{"$f":"pqidat!N144","v":0},{"$f":"pqidat!O144","v":0},{"$f":"pqidat!P144","v":0},0,{"$f":"pqidat!Q144","v":0},{"$f":"pqidat!R144","v":0},{"$f":"pqidat!S144","v":0},{"$f":"pqidat!T144","v":0},{"$f":"pqidat!U144","v":0}]
[{"$f":"pqidat!A145","v":0},{"$f":"pqidat!B145","v":0},{"$f":"pqidat!C145","v":0},{"$f":"pqidat!D145","v":0},{"$f":"pqidat!E145","v":0},{"$f":"pqidat!F145","v":0},{"$f":"pqidat!G145","v":0},{"$f":"pqidat!H145","v":0},{"$f":"pqidat!I145","v":0},{"$f":"pqidat!J145","v":0},{"$f":"pqidat!K145","v":0},{"$f":"pqidat!L145","v":0},{"$f":"pqidat!M145","v":0},{"$f":"pqidat!N145","v":0},{"$f":"pqidat!O145","v":0},{"$f":"pqidat!P145","v":0},0,{"$f":"pqidat!Q145","v":0},{"$f":"pqidat!R145","v":0},{"$f":"pqidat!S145","v":0},{"$f":"pqidat!T145","v":0},{"$f":"pqidat!U145","v":0}]
[{"$f":"pqidat!A146","v":0},{"$f":"pqidat!B146","v":0},{"$f":"pqidat!C146","v":0},{"$f":"pqidat!D146","v":0},{"$f":"pqidat!E146","v":0},{"$f":"pqidat!F146","v":0},{"$f":"pqidat!G146","v":0},{"$f":"pqidat!H146","v":0},{"$f":"pqidat!I146","v":0},{"$f":"pqidat!J146","v":0},{"$f":"pqidat!K146","v":0},{"$f":"pqidat!L146","v":0},{"$f":"pqidat!M146","v":0},{"$f":"pqidat!N146","v":0},{"$f":"pqidat!O146","v":0},{"$f":"pqidat!P146","v":0},0,{"$f":"pqidat!Q146","v":0},{"$f":"pqidat!R146","v":0},{"$f":"pqidat!S146","v":0},{"$f":"pqidat!T146","v":0},{"$f":"pqidat!U146","v":0}]
[{"$f":"pqidat!A147","v":0},{"$f":"pqidat!B147","v":0},{"$f":"pqidat!C147","v":0},{"$f":"pqidat!D147","v":0},{"$f":"pqidat!E147","v":0},{"$f":"pqidat!F147","v":0},{"$f":"pqidat!G147","v":0},{"$f":"pqidat!H147","v":0},{"$f":"pqidat!I147","v":0},{"$f":"pqidat!J147","v":0},{"$f":"pqidat!K147","v":0},{"$f":"pqidat!L147","v":0},{"$f":"pqidat!M147","v":0},{"$f":"pqidat!N147","v":0},{"$f":"pqidat!O147","v":0},{"$f":"pqidat!P147","v":0},0,{"$f":"pqidat!Q147","v":0},{"$f":"pqidat!R147","v":0},{"$f":"pqidat!S147","v":0},{"$f":"pqidat!T147","v":0},{"$f":"pqidat!U147","v":0}]
[{"$f":"pqidat!A148","v":0},{"$f":"pqidat!B148","v":0},{"$f":"pqidat!C148","v":0},{"$f":"pqidat!D148","v":0},{"$f":"pqidat!E148","v":0},{"$f":"pqidat!F148","v":0},{"$f":"pqidat!G148","v":0},{"$f":"pqidat!H148","v":0},{"$f":"pqidat!I148","v":0},{"$f":"pqidat!J148","v":0},{"$f":"pqidat!K148","v":0},{"$f":"pqidat!L148","v":0},{"$f":"pqidat!M148","v":0},{"$f":"pqidat!N148","v":0},{"$f":"pqidat!O148","v":0},{"$f":"pqidat!P148","v":0},0,{"$f":"pqidat!Q148","v":0},{"$f":"pqidat!R148","v":0},{"$f":"pqidat!S148","v":0},{"$f":"pqidat!T148","v":0},{"$f":"pqidat!U148","v":0}]
[{"$f":"pqidat!A149","v":0},{"$f":"pqidat!B149","v":0},{"$f":"pqidat!C149","v":0},{"$f":"pqidat!D149","v":0},{"$f":"pqidat!E149","v":0},{"$f":"pqidat!F149","v":0},{"$f":"pqidat!G149","v":0},{"$f":"pqidat!H149","v":0},{"$f":"pqidat!I149","v":0},{"$f":"pqidat!J149","v":0},{"$f":"pqidat!K149","v":0},{"$f":"pqidat!L149","v":0},{"$f":"pqidat!M149","v":0},{"$f":"pqidat!N149","v":0},{"$f":"pqidat!O149","v":0},{"$f":"pqidat!P149","v":0},0,{"$f":"pqidat!Q149","v":0},{"$f":"pqidat!R149","v":0},{"$f":"pqidat!S149","v":0},{"$f":"pqidat!T149","v":0},{"$f":"pqidat!U149","v":0}]
[{"$f":"pqidat!A150","v":0},{"$f":"pqidat!B150","v":0},{"$f":"pqidat!C150","v":0},{"$f":"pqidat!D150","v":0},{"$f":"pqidat!E150","v":0},{"$f":"pqidat!F150","v":0},{"$f":"pqidat!G150","v":0},{"$f":"pqidat!H150","v":0},{"$f":"pqidat!I150","v":0},{"$f":"pqidat!J150","v":0},{"$f":"pqidat!K150","v":0},{"$f":"pqidat!L150","v":0},{"$f":"pqidat!M150","v":0},{"$f":"pqidat!N150","v":0},{"$f":"pqidat!O150","v":0},{"$f":"pqidat!P150","v":0},0,{"$f":"pqidat!Q150","v":0},{"$f":"pqidat!R150","v":0},{"$f":"pqidat!S150","v":0},{"$f":"pqidat!T150","v":0},{"$f":"pqidat!U150","v":0}]
[{"$f":"pqidat!A151","v":0},{"$f":"pqidat!B151","v":0},{"$f":"pqidat!C151","v":0},{"$f":"pqidat!D151","v":0},{"$f":"pqidat!E151","v":0},{"$f":"pqidat!F151","v":0},{"$f":"pqidat!G151","v":0},{"$f":"pqidat!H151","v":0},{"$f":"pqidat!I151","v":0},{"$f":"pqidat!J151","v":0},{"$f":"pqidat!K151","v":0},{"$f":"pqidat!L151","v":0},{"$f":"pqidat!M151","v":0},{"$f":"pqidat!N151","v":0},{"$f":"pqidat!O151","v":0},{"$f":"pqidat!P151","v":0},0,{"$f":"pqidat!Q151","v":0},{"$f":"pqidat!R151","v":0},{"$f":"pqidat!S151","v":0},{"$f":"pqidat!T151","v":0},{"$f":"pqidat!U151","v":0}]
[{"$f":"pqidat!A152","v":0},{"$f":"pqidat!B152","v":0},{"$f":"pqidat!C152","v":0},{"$f":"pqidat!D152","v":0},{"$f":"pqidat!E152","v":0},{"$f":"pqidat!F152","v":0},{"$f":"pqidat!G152","v":0},{"$f":"pqidat!H152","v":0},{"$f":"pqidat!I152","v":0},{"$f":"pqidat!J152","v":0},{"$f":"pqidat!K152","v":0},{"$f":"pqidat!L152","v":0},{"$f":"pqidat!M152","v":0},{"$f":"pqidat!N152","v":0},{"$f":"pqidat!O152","v":0},{"$f":"pqidat!P152","v":0},0,{"$f":"pqidat!Q152","v":0},{"$f":"pqidat!R152","v":0},{"$f":"pqidat!S152","v":0},{"$f":"pqidat!T152","v":0},{"$f":"pqidat!U152","v":0}]
[{"$f":"pqidat!A153","v":0},{"$f":"pqidat!B153","v":0},{"$f":"pqidat!C153","v":0},{"$f":"pqidat!D153","v":0},{"$f":"pqidat!E153","v":0},{"$f":"pqidat!F153","v":0},{"$f":"pqidat!G153","v":0},{"$f":"pqidat!H153","v":0},{"$f":"pqidat!I153","v":0},{"$f":"pqidat!J153","v":0},{"$f":"pqidat!K153","v":0},{"$f":"pqidat!L153","v":0},{"$f":"pqidat!M153","v":0},{"$f":"pqidat!N153","v":0},{"$f":"pqidat!O153","v":0},{"$f":"pqidat!P153","v":0},0,{"$f":"pqidat!Q153","v":0},{"$f":"pqidat!R153","v":0},{"$f":"pqidat!S153","v":0},{"$f":"pqidat!T153","v":0},{"$f":"pqidat!U153","v":0}]
[{"$f":"pqidat!A154","v":0},{"$f":"pqidat!B154","v":0},{"$f":"pqidat!C154","v":0},{"$f":"pqidat!D154","v":0},{"$f":"pqidat!E154","v":0},{"$f":"pqidat!F154","v":0},{"$f":"pqidat!G154","v":0},{"$f":"pqidat!H154","v":0},{"$f":"pqidat!I154","v":0},{"$f":"pqidat!J154","v":0},{"$f":"pqidat!K154","v":0},{"$f":"pqidat!L154","v":0},{"$f":"pqidat!M154","v":0},{"$f":"pqidat!N154","v":0},{"$f":"pqidat!O154","v":0},{"$f":"pqidat!P154","v":0},0,{"$f":"pqidat!Q154","v":0},{"$f":"pqidat!R154","v":0},{"$f":"pqidat!S154","v":0},{"$f":"pqidat!T154","v":0},{"$f":"pqidat!U154","v":0}]
[{"$f":"pqidat!A155","v":0},{"$f":"pqidat!B155","v":0},{"$f":"pqidat!C155","v":0},{"$f":"pqidat!D155","v":0},{"$f":"pqidat!E155","v":0},{"$f":"pqidat!F155","v":0},{"$f":"pqidat!G155","v":0},{"$f":"pqidat!H155","v":0},{"$f":"pqidat!I155","v":0},{"$f":"pqidat!J155","v":0},{"$f":"pqidat!K155","v":0},{"$f":"pqidat!L155","v":0},{"$f":"pqidat!M155","v":0},{"$f":"pqidat!N155","v":0},{"$f":"pqidat!O155","v":0},{"$f":"pqidat!P155","v":0},0,{"$f":"pqidat!Q155","v":0},{"$f":"pqidat!R155","v":0},{"$f":"pqidat!S155","v":0},{"$f":"pqidat!T155","v":0},{"$f":"pqidat!U155","v":0}]
[{"$f":"pqidat!A156","v":0},{"$f":"pqidat!B156","v":0},{"$f":"pqidat!C156","v":0},{"$f":"pqidat!D156","v":0},{"$f":"pqidat!E156","v":0},{"$f":"pqidat!F156","v":0},{"$f":"pqidat!G156","v":0},{"$f":"pqidat!H156","v":0},{"$f":"pqidat!I156","v":0},{"$f":"pqidat!J156","v":0},{"$f":"pqidat!K156","v":0},{"$f":"pqidat!L156","v":0},{"$f":"pqidat!M156","v":0},{"$f":"pqidat!N156","v":0},{"$f":"pqidat!O156","v":0},{"$f":"pqidat!P156","v":0},0,{"$f":"pqidat!Q156","v":0},{"$f":"pqidat!R156","v":0},{"$f":"pqidat!S156","v":0},{"$f":"pqidat!T156","v":0},{"$f":"pqidat!U156","v":0}]
[{"$f":"pqidat!A157","v":0},{"$f":"pqidat!B157","v":0},{"$f":"pqidat!C157","v":0},{"$f":"pqidat!D157","v":0},{"$f":"pqidat!E157","v":0},{"$f":"pqidat!F157","v":0},{"$f":"pqidat!G157","v":0},{"$f":"pqidat!H157","v":0},{"$f":"pqidat!I157","v":0},{"$f":"pqidat!J157","v":0},{"$f":"pqidat!K157","v":0},{"$f":"pqidat!L157","v":0},{"$f":"pqidat!M157","v":0},{"$f":"pqidat!N157","v":0},{"$f":"pqidat!O157","v":0},{"$f":"pqidat!P157","v":0},0,{"$f":"pqidat!Q157","v":0},{"$f":"pqidat!R157","v":0},{"$f":"pqidat!S157","v":0},{"$f":"pqidat!T157","v":0},{"$f":"pqidat!U157","v":0}]
[{"$f":"pqidat!A158","v":0},{"$f":"pqidat!B158","v":0},{"$f":"pqidat!C158","v":0},{"$f":"pqidat!D158","v":0},{"$f":"pqidat!E158","v":0},{"$f":"pqidat!F158","v":0},{"$f":"pqidat!G158","v":0},{"$f":"pqidat!H158","v":0},{"$f":"pqidat!I158","v":0},{"$f":"pqidat!J158","v":0},{"$f":"pqidat!K158","v":0},{"$f":"pqidat!L158","v":0},{"$f":"pqidat!M158","v":0},{"$f":"pqidat!N158","v":0},{"$f":"pqidat!O158","v":0},{"$f":"pqidat!P158","v":0},0,{"$f":"pqidat!Q158","v":0},{"$f":"pqidat!R158","v":0},{"$f":"pqidat!S158","v":0},{"$f":"pqidat!T158","v":0},{"$f":"pqidat!U158","v":0}]
[{"$f":"pqidat!A159","v":0},{"$f":"pqidat!B159","v":0},{"$f":"pqidat!C159","v":0},{"$f":"pqidat!D159","v":0},{"$f":"pqidat!E159","v":0},{"$f":"pqidat!F159","v":0},{"$f":"pqidat!G159","v":0},{"$f":"pqidat!H159","v":0},{"$f":"pqidat!I159","v":0},{"$f":"pqidat!J159","v":0},{"$f":"pqidat!K159","v":0},{"$f":"pqidat!L159","v":0},{"$f":"pqidat!M159","v":0},{"$f":"pqidat!N159","v":0},{"$f":"pqidat!O159","v":0},{"$f":"pqidat!P159","v":0},0,{"$f":"pqidat!Q159","v":0},{"$f":"pqidat!R159","v":0},{"$f":"pqidat!S159","v":0},{"$f":"pqidat!T159","v":0},{"$f":"pqidat!U159","v":0}]
[{"$f":"pqidat!A160","v":0},{"$f":"pqidat!B160","v":0},{"$f":"pqidat!C160","v":0},{"$f":"pqidat!D160","v":0},{"$f":"pqidat!E160","v":0},{"$f":"pqidat!F160","v":0},{"$f":"pqidat!G160","v":0},{"$f":"pqidat!H160","v":0},{"$f":"pqidat!I160","v":0},{"$f":"pqidat!J160","v":0},{"$f":"pqidat!K160","v":0},{"$f":"pqidat!L160","v":0},{"$f":"pqidat!M160","v":0},{"$f":"pqidat!N160","v":0},{"$f":"pqidat!O160","v":0},{"$f":"pqidat!P160","v":0},0,{"$f":"pqidat!Q160","v":0},{"$f":"pqidat!R160","v":0},{"$f":"pqidat!S160","v":0},{"$f":"pqidat!T160","v":0},{"$f":"pqidat!U160","v":0}]
[{"$f":"pqidat!A161","v":0},{"$f":"pqidat!B161","v":0},{"$f":"pqidat!C161","v":0},{"$f":"pqidat!D161","v":0},{"$f":"pqidat!E161","v":0},{"$f":"pqidat!F161","v":0},{"$f":"pqidat!G161","v":0},{"$f":"pqidat!H161","v":0},{"$f":"pqidat!I161","v":0},{"$f":"pqidat!J161","v":0},{"$f":"pqidat!K161","v":0},{"$f":"pqidat!L161","v":0},{"$f":"pqidat!M161","v":0},{"$f":"pqidat!N161","v":0},{"$f":"pqidat!O161","v":0},{"$f":"pqidat!P161","v":0},0,{"$f":"pqidat!Q161","v":0},{"$f":"pqidat!R161","v":0},{"$f":"pqidat!S161","v":0},{"$f":"pqidat!T161","v":0},{"$f":"pqidat!U161","v":0}]
[{"$f":"pqidat!A162","v":0},{"$f":"pqidat!B162","v":0},{"$f":"pqidat!C162","v":0},{"$f":"pqidat!D162","v":0},{"$f":"pqidat!E162","v":0},{"$f":"pqidat!F162","v":0},{"$f":"pqidat!G162","v":0},{"$f":"pqidat!H162","v":0},{"$f":"pqidat!I162","v":0},{"$f":"pqidat!J162","v":0},{"$f":"pqidat!K162","v":0},{"$f":"pqidat!L162","v":0},{"$f":"pqidat!M162","v":0},{"$f":"pqidat!N162","v":0},{"$f":"pqidat!O162","v":0},{"$f":"pqidat!P162","v":0},0,{"$f":"pqidat!Q162","v":0},{"$f":"pqidat!R162","v":0},{"$f":"pqidat!S162","v":0},{"$f":"pqidat!T162","v":0},{"$f":"pqidat!U162","v":0}]
[{"$f":"pqidat!A163","v":0},{"$f":"pqidat!B163","v":0},{"$f":"pqidat!C163","v":0},{"$f":"pqidat!D163","v":0},{"$f":"pqidat!E163","v":0},{"$f":"pqidat!F163","v":0},{"$f":"pqidat!G163","v":0},{"$f":"pqidat!H163","v":0},{"$f":"pqidat!I163","v":0},{"$f":"pqidat!J163","v":0},{"$f":"pqidat!K163","v":0},{"$f":"pqidat!L163","v":0},{"$f":"pqidat!M163","v":0},{"$f":"pqidat!N163","v":0},{"$f":"pqidat!O163","v":0},{"$f":"pqidat!P163","v":0},0,{"$f":"pqidat!Q163","v":0},{"$f":"pqidat!R163","v":0},{"$f":"pqidat!S163","v":0},{"$f":"pqidat!T163","v":0},{"$f":"pqidat!U163","v":0}]
[{"$f":"pqidat!A164","v":0},{"$f":"pqidat!B164","v":0},{"$f":"pqidat!C164","v":0},{"$f":"pqidat!D164","v":0},{"$f":"pqidat!E164","v":0},{"$f":"pqidat!F164","v":0},{"$f":"pqidat!G164","v":0},{"$f":"pqidat!H164","v":0},{"$f":"pqidat!I164","v":0},{"$f":"pqidat!J164","v":0},{"$f":"pqidat!K164","v":0},{"$f":"pqidat!L164","v":0},{"$f":"pqidat!M164","v":0},{"$f":"pqidat!N164","v":0},{"$f":"pqidat!O164","v":0},{"$f":"pqidat!P164","v":0},0,{"$f":"pqidat!Q164","v":0},{"$f":"pqidat!R164","v":0},{"$f":"pqidat!S164","v":0},{"$f":"pqidat!T164","v":0},{"$f":"pqidat!U164","v":0}]
[{"$f":"pqidat!A165","v":0},{"$f":"pqidat!B165","v":0},{"$f":"pqidat!C165","v":0},{"$f":"pqidat!D165","v":0},{"$f":"pqidat!E165","v":0},{"$f":"pqidat!F165","v":0},{"$f":"pqidat!G165","v":0},{"$f":"pqidat!H165","v":0},{"$f":"pqidat!I165","v":0},{"$f":"pqidat!J165","v":0},{"$f":"pqidat!K165","v":0},{"$f":"pqidat!L165","v":0},{"$f":"pqidat!M165","v":0},{"$f":"pqidat!N165","v":0},{"$f":"pqidat!O165","v":0},{"$f":"pqidat!P165","v":0},0,{"$f":"pqidat!Q165","v":0},{"$f":"pqidat!R165","v":0},{"$f":"pqidat!S165","v":0},{"$f":"pqidat!T165","v":0},{"$f":"pqidat!U165","v":0}]
[{"$f":"pqidat!A166","v":0},{"$f":"pqidat!B166","v":0},{"$f":"pqidat!C166","v":0},{"$f":"pqidat!D166","v":0},{"$f":"pqidat!E166","v":0},{"$f":"pqidat!F166","v":0},{"$f":"pqidat!G166","v":0},{"$f":"pqidat!H166","v":0},{"$f":"pqidat!I166","v":0},{"$f":"pqidat!J166","v":0},{"$f":"pqidat!K166","v":0},{"$f":"pqidat!L166","v":0},{"$f":"pqidat!M166","v":0},{"$f":"pqidat!N166","v":0},{"$f":"pqidat!O166","v":0},{"$f":"pqidat!P166","v":0},0,{"$f":"pqidat!Q166","v":0},{"$f":"pqidat!R166","v":0},{"$f":"pqidat!S166","v":0},{"$f":"pqidat!T166","v":0},{"$f":"pqidat!U166","v":0}]
[{"$f":"pqidat!A167","v":0},{"$f":"pqidat!B167","v":0},{"$f":"pqidat!C167","v":0},{"$f":"pqidat!D167","v":0},{"$f":"pqidat!E167","v":0},{"$f":"pqidat!F167","v":0},{"$f":"pqidat!G167","v":0},{"$f":"pqidat!H167","v":0},{"$f":"pqidat!I167","v":0},{"$f":"pqidat!J167","v":0},{"$f":"pqidat!K167","v":0},{"$f":"pqidat!L167","v":0},{"$f":"pqidat!M167","v":0},{"$f":"pqidat!N167","v":0},{"$f":"pqidat!O167","v":0},{"$f":"pqidat!P167","v":0},0,{"$f":"pqidat!Q167","v":0},{"$f":"pqidat!R167","v":0},{"$f":"pqidat!S167","v":0},{"$f":"pqidat!T167","v":0},{"$f":"pqidat!U167","v":0}]
[{"$f":"pqidat!A168","v":0},{"$f":"pqidat!B168","v":0},{"$f":"pqidat!C168","v":0},{"$f":"pqidat!D168","v":0},{"$f":"pqidat!E168","v":0},{"$f":"pqidat!F168","v":0},{"$f":"pqidat!G168","v":0},{"$f":"pqidat!H168","v":0},{"$f":"pqidat!I168","v":0},{"$f":"pqidat!J168","v":0},{"$f":"pqidat!K168","v":0},{"$f":"pqidat!L168","v":0},{"$f":"pqidat!M168","v":0},{"$f":"pqidat!N168","v":0},{"$f":"pqidat!O168","v":0},{"$f":"pqidat!P168","v":0},0,{"$f":"pqidat!Q168","v":0},{"$f":"pqidat!R168","v":0},{"$f":"pqidat!S168","v":0},{"$f":"pqidat!T168","v":0},{"$f":"pqidat!U168","v":0}]
[{"$f":"pqidat!A169","v":0},{"$f":"pqidat!B169","v":0},{"$f":"pqidat!C169","v":0},{"$f":"pqidat!D169","v":0},{"$f":"pqidat!E169","v":0},{"$f":"pqidat!F169","v":0},{"$f":"pqidat!G169","v":0},{"$f":"pqidat!H169","v":0},{"$f":"pqidat!I169","v":0},{"$f":"pqidat!J169","v":0},{"$f":"pqidat!K169","v":0},{"$f":"pqidat!L169","v":0},{"$f":"pqidat!M169","v":0},{"$f":"pqidat!N169","v":0},{"$f":"pqidat!O169","v":0},{"$f":"pqidat!P169","v":0},0,{"$f":"pqidat!Q169","v":0},{"$f":"pqidat!R169","v":0},{"$f":"pqidat!S169","v":0},{"$f":"pqidat!T169","v":0},{"$f":"pqidat!U169","v":0}]
[{"$f":"pqidat!A170","v":0},{"$f":"pqidat!B170","v":0},{"$f":"pqidat!C170","v":0},{"$f":"pqidat!D170","v":0},{"$f":"pqidat!E170","v":0},{"$f":"pqidat!F170","v":0},{"$f":"pqidat!G170","v":0},{"$f":"pqidat!H170","v":0},{"$f":"pqidat!I170","v":0},{"$f":"pqidat!J170","v":0},{"$f":"pqidat!K170","v":0},{"$f":"pqidat!L170","v":0},{"$f":"pqidat!M170","v":0},{"$f":"pqidat!N170","v":0},{"$f":"pqidat!O170","v":0},{"$f":"pqidat!P170","v":0},0,{"$f":"pqidat!Q170","v":0},{"$f":"pqidat!R170","v":0},{"$f":"pqidat!S170","v":0},{"$f":"pqidat!T170","v":0},{"$f":"pqidat!U170","v":0}]
[{"$f":"pqidat!A171","v":0},{"$f":"pqidat!B171","v":0},{"$f":"pqidat!C171","v":0},{"$f":"pqidat!D171","v":0},{"$f":"pqidat!E171","v":0},{"$f":"pqidat!F171","v":0},{"$f":"pqidat!G171","v":0},{"$f":"pqidat!H171","v":0},{"$f":"pqidat!I171","v":0},{"$f":"pqidat!J171","v":0},{"$f":"pqidat!K171","v":0},{"$f":"pqidat!L171","v":0},{"$f":"pqidat!M171","v":0},{"$f":"pqidat!N171","v":0},{"$f":"pqidat!O171","v":0},{"$f":"pqidat!P171","v":0},0,{"$f":"pqidat!Q171","v":0},{"$f":"pqidat!R171","v":0},{"$f":"pqidat!S171","v":0},{"$f":"pqidat!T171","v":0},{"$f":"pqidat!U171","v":0}]
[{"$f":"pqidat!A172","v":0},{"$f":"pqidat!B172","v":0},{"$f":"pqidat!C172","v":0},{"$f":"pqidat!D172","v":0},{"$f":"pqidat!E172","v":0},{"$f":"pqidat!F172","v":0},{"$f":"pqidat!G172","v":0},{"$f":"pqidat!H172","v":0},{"$f":"pqidat!I172","v":0},{"$f":"pqidat!J172","v":0},{"$f":"pqidat!K172","v":0},{"$f":"pqidat!L172","v":0},{"$f":"pqidat!M172","v":0},{"$f":"pqidat!N172","v":0},{"$f":"pqidat!O172","v":0},{"$f":"pqidat!P172","v":0},0,{"$f":"pqidat!Q172","v":0},{"$f":"pqidat!R172","v":0},{"$f":"pqidat!S172","v":0},{"$f":"pqidat!T172","v":0},{"$f":"pqidat!U172","v":0}]
[{"$f":"pqidat!A173","v":0},{"$f":"pqidat!B173","v":0},{"$f":"pqidat!C173","v":0},{"$f":"pqidat!D173","v":0},{"$f":"pqidat!E173","v":0},{"$f":"pqidat!F173","v":0},{"$f":"pqidat!G173","v":0},{"$f":"pqidat!H173","v":0},{"$f":"pqidat!I173","v":0},{"$f":"pqidat!J173","v":0},{"$f":"pqidat!K173","v":0},{"$f":"pqidat!L173","v":0},{"$f":"pqidat!M173","v":0},{"$f":"pqidat!N173","v":0},{"$f":"pqidat!O173","v":0},{"$f":"pqidat!P173","v":0},0,{"$f":"pqidat!Q173","v":0},{"$f":"pqidat!R173","v":0},{"$f":"pqidat!S173","v":0},{"$f":"pqidat!T173","v":0},{"$f":"pqidat!U173","v":0}]
[{"$f":"pqidat!A174","v":0},{"$f":"pqidat!B174","v":0},{"$f":"pqidat!C174","v":0},{"$f":"pqidat!D174","v":0},{"$f":"pqidat!E174","v":0},{"$f":"pqidat!F174","v":0},{"$f":"pqidat!G174","v":0},{"$f":"pqidat!H174","v":0},{"$f":"pqidat!I174","v":0},{"$f":"pqidat!J174","v":0},{"$f":"pqidat!K174","v":0},{"$f":"pqidat!L174","v":0},{"$f":"pqidat!M174","v":0},{"$f":"pqidat!N174","v":0},{"$f":"pqidat!O174","v":0},{"$f":"pqidat!P174","v":0},0,{"$f":"pqidat!Q174","v":0},{"$f":"pqidat!R174","v":0},{"$f":"pqidat!S174","v":0},{"$f":"pqidat!T174","v":0},{"$f":"pqidat!U174","v":0}]
[{"$f":"pqidat!A175","v":0},{"$f":"pqidat!B175","v":0},{"$f":"pqidat!C175","v":0},{"$f":"pqidat!D175","v":0},{"$f":"pqidat!E175","v":0},{"$f":"pqidat!F175","v":0},{"$f":"pqidat!G175","v":0},{"$f":"pqidat!H175","v":0},{"$f":"pqidat!I175","v":0},{"$f":"pqidat!J175","v":0},{"$f":"pqidat!K175","v":0},{"$f":"pqidat!L175","v":0},{"$f":"pqidat!M175","v":0},{"$f":"pqidat!N175","v":0},{"$f":"pqidat!O175","v":0},{"$f":"pqidat!P175","v":0},0,{"$f":"pqidat!Q175","v":0},{"$f":"pqidat!R175","v":0},{"$f":"pqidat!S175","v":0},{"$f":"pqidat!T175","v":0},{"$f":"pqidat!U175","v":0}]
[{"$f":"pqidat!A176","v":0},{"$f":"pqidat!B176","v":0},{"$f":"pqidat!C176","v":0},{"$f":"pqidat!D176","v":0},{"$f":"pqidat!E176","v":0},{"$f":"pqidat!F176","v":0},{"$f":"pqidat!G176","v":0},{"$f":"pqidat!H176","v":0},{"$f":"pqidat!I176","v":0},{"$f":"pqidat!J176","v":0},{"$f":"pqidat!K176","v":0},{"$f":"pqidat!L176","v":0},{"$f":"pqidat!M176","v":0},{"$f":"pqidat!N176","v":0},{"$f":"pqidat!O176","v":0},{"$f":"pqidat!P176","v":0},0,{"$f":"pqidat!Q176","v":0},{"$f":"pqidat!R176","v":0},{"$f":"pqidat!S176","v":0},{"$f":"pqidat!T176","v":0},{"$f":"pqidat!U176","v":0}]
[{"$f":"pqidat!A177","v":0},{"$f":"pqidat!B177","v":0},{"$f":"pqidat!C177","v":0},{"$f":"pqidat!D177","v":0},{"$f":"pqidat!E177","v":0},{"$f":"pqidat!F177","v":0},{"$f":"pqidat!G177","v":0},{"$f":"pqidat!H177","v":0},{"$f":"pqidat!I177","v":0},{"$f":"pqidat!J177","v":0},{"$f":"pqidat!K177","v":0},{"$f":"pqidat!L177","v":0},{"$f":"pqidat!M177","v":0},{"$f":"pqidat!N177","v":0},{"$f":"pqidat!O177","v":0},{"$f":"pqidat!P177","v":0},0,{"$f":"pqidat!Q177","v":0},{"$f":"pqidat!R177","v":0},{"$f":"pqidat!S177","v":0},{"$f":"pqidat!T177","v":0},{"$f":"pqidat!U177","v":0}]
[{"$f":"pqidat!A178","v":0},{"$f":"pqidat!B178","v":0},{"$f":"pqidat!C178","v":0},{"$f":"pqidat!D178","v":0},{"$f":"pqidat!E178","v":0},{"$f":"pqidat!F178","v":0},{"$f":"pqidat!G178","v":0},{"$f":"pqidat!H178","v":0},{"$f":"pqidat!I178","v":0},{"$f":"pqidat!J178","v":0},{"$f":"pqidat!K178","v":0},{"$f":"pqidat!L178","v":0},{"$f":"pqidat!M178","v":0},{"$f":"pqidat!N178","v":0},{"$f":"pqidat!O178","v":0},{"$f":"pqidat!P178","v":0},0,{"$f":"pqidat!Q178","v":0},{"$f":"pqidat!R178","v":0},{"$f":"pqidat!S178","v":0},{"$f":"pqidat!T178","v":0},{"$f":"pqidat!U178","v":0}]
[{"$f":"pqidat!A179","v":0},{"$f":"pqidat!B179","v":0},{"$f":"pqidat!C179","v":0},{"$f":"pqidat!D179","v":0},{"$f":"pqidat!E179","v":0},{"$f":"pqidat!F179","v":0},{"$f":"pqidat!G179","v":0},{"$f":"pqidat!H179","v":0},{"$f":"pqidat!I179","v":0},{"$f":"pqidat!J179","v":0},{"$f":"pqidat!K179","v":0},{"$f":"pqidat!L179","v":0},{"$f":"pqidat!M179","v":0},{"$f":"pqidat!N179","v":0},{"$f":"pqidat!O179","v":0},{"$f":"pqidat!P179","v":0},0,{"$f":"pqidat!Q179","v":0},{"$f":"pqidat!R179","v":0},{"$f":"pqidat!S179","v":0},{"$f":"pqidat!T179","v":0},{"$f":"pqidat!U179","v":0}]
[{"$f":"pqidat!A180","v":0},{"$f":"pqidat!B180","v":0},{"$f":"pqidat!C180","v":0},{"$f":"pqidat!D180","v":0},{"$f":"pqidat!E180","v":0},{"$f":"pqidat!F180","v":0},{"$f":"pqidat!G180","v":0},{"$f":"pqidat!H180","v":0},{"$f":"pqidat!I180","v":0},{"$f":"pqidat!J180","v":0},{"$f":"pqidat!K180","v":0},{"$f":"pqidat!L180","v":0},{"$f":"pqidat!M180","v":0},{"$f":"pqidat!N180","v":0},{"$f":"pqidat!O180","v":0},{"$f":"pqidat!P180","v":0},0,{"$f":"pqidat!Q180","v":0},{"$f":"pqidat!R180","v":0},{"$f":"pqidat!S180","v":0},{"$f":"pqidat!T180","v":0},{"$f":"pqidat!U180","v":0}]
[{"$f":"pqidat!A181","v":0},{"$f":"pqidat!B181","v":0},{"$f":"pqidat!C181","v":0},{"$f":"pqidat!D181","v":0},{"$f":"pqidat!E181","v":0},{"$f":"pqidat!F181","v":0},{"$f":"pqidat!G181","v":0},{"$f":"pqidat!H181","v":0},{"$f":"pqidat!I181","v":0},{"$f":"pqidat!J181","v":0},{"$f":"pqidat!K181","v":0},{"$f":"pqidat!L181","v":0},{"$f":"pqidat!M181","v":0},{"$f":"pqidat!N181","v":0},{"$f":"pqidat!O181","v":0},{"$f":"pqidat!P181","v":0},0,{"$f":"pqidat!Q181","v":0},{"$f":"pqidat!R181","v":0},{"$f":"pqidat!S181","v":0},{"$f":"pqidat!T181","v":0},{"$f":"pqidat!U181","v":0}]
[{"$f":"pqidat!A182","v":0},{"$f":"pqidat!B182","v":0},{"$f":"pqidat!C182","v":0},{"$f":"pqidat!D182","v":0},{"$f":"pqidat!E182","v":0},{"$f":"pqidat!F182","v":0},{"$f":"pqidat!G182","v":0},{"$f":"pqidat!H182","v":0},{"$f":"pqidat!I182","v":0},{"$f":"pqidat!J182","v":0},{"$f":"pqidat!K182","v":0},{"$f":"pqidat!L182","v":0},{"$f":"pqidat!M182","v":0},{"$f":"pqidat!N182","v":0},{"$f":"pqidat!O182","v":0},{"$f":"pqidat!P182","v":0},0,{"$f":"pqidat!Q182","v":0},{"$f":"pqidat!R182","v":0},{"$f":"pqidat!S182","v":0},{"$f":"pqidat!T182","v":0},{"$f":"pqidat!U182","v":0}]
[{"$f":"pqidat!A183","v":0},{"$f":"pqidat!B183","v":0},{"$f":"pqidat!C183","v":0},{"$f":"pqidat!D183","v":0},{"$f":"pqidat!E183","v":0},{"$f":"pqidat!F183","v":0},{"$f":"pqidat!G183","v":0},{"$f":"pqidat!H183","v":0},{"$f":"pqidat!I183","v":0},{"$f":"pqidat!J183","v":0},{"$f":"pqidat!K183","v":0},{"$f":"pqidat!L183","v":0},{"$f":"pqidat!M183","v":0},{"$f":"pqidat!N183","v":0},{"$f":"pqidat!O183","v":0},{"$f":"pqidat!P183","v":0},0,{"$f":"pqidat!Q183","v":0},{"$f":"pqidat!R183","v":0},{"$f":"pqidat!S183","v":0},{"$f":"pqidat!T183","v":0},{"$f":"pqidat!U183","v":0}]
[{"$f":"pqidat!A184","v":0},{"$f":"pqidat!B184","v":0},{"$f":"pqidat!C184","v":0},{"$f":"pqidat!D184","v":0},{"$f":"pqidat!E184","v":0},{"$f":"pqidat!F184","v":0},{"$f":"pqidat!G184","v":0},{"$f":"pqidat!H184","v":0},{"$f":"pqidat!I184","v":0},{"$f":"pqidat!J184","v":0},{"$f":"pqidat!K184","v":0},{"$f":"pqidat!L184","v":0},{"$f":"pqidat!M184","v":0},{"$f":"pqidat!N184","v":0},{"$f":"pqidat!O184","v":0},{"$f":"pqidat!P184","v":0},0,{"$f":"pqidat!Q184","v":0},{"$f":"pqidat!R184","v":0},{"$f":"pqidat!S184","v":0},{"$f":"pqidat!T184","v":0},{"$f":"pqidat!U184","v":0}]
[{"$f":"pqidat!A185","v":0},{"$f":"pqidat!B185","v":0},{"$f":"pqidat!C185","v":0},{"$f":"pqidat!D185","v":0},{"$f":"pqidat!E185","v":0},{"$f":"pqidat!F185","v":0},{"$f":"pqidat!G185","v":0},{"$f":"pqidat!H185","v":0},{"$f":"pqidat!I185","v":0},{"$f":"pqidat!J185","v":0},{"$f":"pqidat!K185","v":0},{"$f":"pqidat!L185","v":0},{"$f":"pqidat!M185","v":0},{"$f":"pqidat!N185","v":0},{"$f":"pqidat!O185","v":0},{"$f":"pqidat!P185","v":0},0,{"$f":"pqidat!Q185","v":0},{"$f":"pqidat!R185","v":0},{"$f":"pqidat!S185","v":0},{"$f":"pqidat!T185","v":0},{"$f":"pqidat!U185","v":0}]
[{"$f":"pqidat!A186","v":0},{"$f":"pqidat!B186","v":0},{"$f":"pqidat!C186","v":0},{"$f":"pqidat!D186","v":0},{"$f":"pqidat!E186","v":0},{"$f":"pqidat!F186","v":0},{"$f":"pqidat!G186","v":0},{"$f":"pqidat!H186","v":0},{"$f":"pqidat!I186","v":0},{"$f":"pqidat!J186","v":0},{"$f":"pqidat!K186","v":0},{"$f":"pqidat!L186","v":0},{"$f":"pqidat!M186","v":0},{"$f":"pqidat!N186","v":0},{"$f":"pqidat!O186","v":0},{"$f":"pqidat!P186","v":0},0,{"$f":"pqidat!Q186","v":0},{"$f":"pqidat!R186","v":0},{"$f":"pqidat!S186","v":0},{"$f":"pqidat!T186","v":0},{"$f":"pqidat!U186","v":0}]
[{"$f":"pqidat!A187","v":0},{"$f":"pqidat!B187","v":0},{"$f":"pqidat!C187","v":0},{"$f":"pqidat!D187","v":0},{"$f":"pqidat!E187","v":0},{"$f":"pqidat!F187","v":0},{"$f":"pqidat!G187","v":0},{"$f":"pqidat!H187","v":0},{"$f":"pqidat!I187","v":0},{"$f":"pqidat!J187","v":0},{"$f":"pqidat!K187","v":0},{"$f":"pqidat!L187","v":0},{"$f":"pqidat!M187","v":0},{"$f":"pqidat!N187","v":0},{"$f":"pqidat!O187","v":0},{"$f":"pqidat!P187","v":0},0,{"$f":"pqidat!Q187","v":0},{"$f":"pqidat!R187","v":0},{"$f":"pqidat!S187","v":0},{"$f":"pqidat!T187","v":0},{"$f":"pqidat!U187","v":0}]
[{"$f":"pqidat!A188","v":0},{"$f":"pqidat!B188","v":0},{"$f":"pqidat!C188","v":0},{"$f":"pqidat!D188","v":0},{"$f":"pqidat!E188","v":0},{"$f":"pqidat!F188","v":0},{"$f":"pqidat!G188","v":0},{"$f":"pqidat!H188","v":0},{"$f":"pqidat!I188","v":0},{"$f":"pqidat!J188","v":0},{"$f":"pqidat!K188","v":0},{"$f":"pqidat!L188","v":0},{"$f":"pqidat!M188","v":0},{"$f":"pqidat!N188","v":0},{"$f":"pqidat!O188","v":0},{"$f":"pqidat!P188","v":0},0,{"$f":"pqidat!Q188","v":0},{"$f":"pqidat!R188","v":0},{"$f":"pqidat!S188","v":0},{"$f":"pqidat!T188","v":0},{"$f":"pqidat!U188","v":0}]
[{"$f":"pqidat!A189","v":0},{"$f":"pqidat!B189","v":0},{"$f":"pqidat!C189","v":0},{"$f":"pqidat!D189","v":0},{"$f":"pqidat!E189","v":0},{"$f":"pqidat!F189","v":0},{"$f":"pqidat!G189","v":0},{"$f":"pqidat!H189","v":0},{"$f":"pqidat!I189","v":0},{"$f":"pqidat!J189","v":0},{"$f":"pqidat!K189","v":0},{"$f":"pqidat!L189","v":0},{"$f":"pqidat!M189","v":0},{"$f":"pqidat!N189","v":0},{"$f":"pqidat!O189","v":0},{"$f":"pqidat!P189","v":0},0,{"$f":"pqidat!Q189","v":0},{"$f":"pqidat!R189","v":0},{"$f":"pqidat!S189","v":0},{"$f":"pqidat!T189","v":0},{"$f":"pqidat!U189","v":0}]
[{"$f":"pqidat!A190","v":0},{"$f":"pqidat!B190","v":0},{"$f":"pqidat!C190","v":0},{"$f":"pqidat!D190","v":0},{"$f":"pqidat!E190","v":0},{"$f":"pqidat!F190","v":0},{"$f":"pqidat!G190","v":0},{"$f":"pqidat!H190","v":0},{"$f":"pqidat!I190","v":0},{"$f":"pqidat!J190","v":0},{"$f":"pqidat!K190","v":0},{"$f":"pqidat!L190","v":0},{"$f":"pqidat!M190","v":0},{"$f":"pqidat!N190","v":0},{"$f":"pqidat!O190","v":0},{"$f":"pqidat!P190","v":0},0,{"$f":"pqidat!Q190","v":0},{"$f":"pqidat!R190","v":0},{"$f":"pqidat!S190","v":0},{"$f":"pqidat!T190","v":0},{"$f":"pqidat!U190","v":0}]
[{"$f":"pqidat!A191","v":0},{"$f":"pqidat!B191","v":0},{"$f":"pqidat!C191","v":0},{"$f":"pqidat!D191","v":0},{"$f":"pqidat!E191","v":0},{"$f":"pqidat!F191","v":0},{"$f":"pqidat!G191","v":0},{"$f":"pqidat!H191","v":0},{"$f":"pqidat!I191","v":0},{"$f":"pqidat!J191","v":0},{"$f":"pqidat!K191","v":0},{"$f":"pqidat!L191","v":0},{"$f":"pqidat!M191","v":0},{"$f":"pqidat!N191","v":0},{"$f":"pqidat!O191","v":0},{"$f":"pqidat!P191","v":0},0,{"$f":"pqidat!Q191","v":0},{"$f":"pqidat!R191","v":0},{"$f":"pqidat!S191","v":0},{"$f":"pqidat!T191","v":0},{"$f":"pqidat!U191","v":0}]
[{"$f":"pqidat!A192","v":0},{"$f":"pqidat!B192","v":0},{"$f":"pqidat!C192","v":0},{"$f":"pqidat!D192","v":0},{"$f":"pqidat!E192","v":0},{"$f":"pqidat!F192","v":0},{"$f":"pqidat!G192","v":0},{"$f":"pqidat!H192","v":0},{"$f":"pqidat!I192","v":0},{"$f":"pqidat!J192","v":0},{"$f":"pqidat!K192","v":0},{"$f":"pqidat!L192","v":0},{"$f":"pqidat!M192","v":0},{"$f":"pqidat!N192","v":0},{"$f":"pqidat!O192","v":0},{"$f":"pqidat!P192","v":0},0,{"$f":"pqidat!Q192","v":0},{"$f":"pqidat!R192","v":0},{"$f":"pqidat!S192","v":0},{"$f":"pqidat!T192","v":0},{"$f":"pqidat!U192","v":0}]
[{"$f":"pqidat!A193","v":0},{"$f":"pqidat!B193","v":0},{"$f":"pqidat!C193","v":0},{"$f":"pqidat!D193","v":0},{"$f":"pqidat!E193","v":0},{"$f":"pqidat!F193","v":0},{"$f":"pqidat!G193","v":0},{"$f":"pqidat!H193","v":0},{"$f":"pqidat!I193","v":0},{"$f":"pqidat!J193","v":0},{"$f":"pqidat!K193","v":0},{"$f":"pqidat!L193","v":0},{"$f":"pqidat!M193","v":0},{"$f":"pqidat!N193","v":0},{"$f":"pqidat!O193","v":0},{"$f":"pqidat!P193","v":0},0,{"$f":"pqidat!Q193","v":0},{"$f":"pqidat!R193","v":0},{"$f":"pqidat!S193","v":0},{"$f":"pqidat!T193","v":0},{"$f":"pqidat!U193","v":0}]
[{"$f":"pqidat!A194","v":0},{"$f":"pqidat!B194","v":0},{"$f":"pqidat!C194","v":0},{"$f":"pqidat!D194","v":0},{"$f":"pqidat!E194","v":0},{"$f":"pqidat!F194","v":0},{"$f":"pqidat!G194","v":0},{"$f":"pqidat!H194","v":0},{"$f":"pqidat!I194","v":0},{"$f":"pqidat!J194","v":0},{"$f":"pqidat!K194","v":0},{"$f":"pqidat!L194","v":0},{"$f":"pqidat!M194","v":0},{"$f":"pqidat!N194","v":0},{"$f":"pqidat!O194","v":0},{"$f":"pqidat!P194","v":0},0,{"$f":"pqidat!Q194","v":0},{"$f":"pqidat!R194","v":0},{"$f":"pqidat!S194","v":0},{"$f":"pqidat!T194","v":0},{"$f":"pqidat!U194","v":0}]
[{"$f":"pqidat!A195","v":0},{"$f":"pqidat!B195","v":0},{"$f":"pqidat!C195","v":0},{"$f":"pqidat!D195","v":0},{"$f":"pqidat!E195","v":0},{"$f":"pqidat!F195","v":0},{"$f":"pqidat!G195","v":0},{"$f":"pqidat!H195","v":0},{"$f":"pqidat!I195","v":0},{"$f":"pqidat!J195","v":0},{"$f":"pqidat!K195","v":0},{"$f":"pqidat!L195","v":0},{"$f":"pqidat!M195","v":0},{"$f":"pqidat!N195","v":0},{"$f":"pqidat!O195","v":0},{"$f":"pqidat!P195","v":0},0,{"$f":"pqidat!Q195","v":0},{"$f":"pqidat!R195","v":0},{"$f":"pqidat!S195","v":0},{"$f":"pqidat!T195","v":0},{"$f":"pqidat!U195","v":0}]
[{"$f":"pqidat!A196","v":0},{"$f":"pqidat!B196","v":0},{"$f":"pqidat!C196","v":0},{"$f":"pqidat!D196","v":0},{"$f":"pqidat!E196","v":0},{"$f":"pqidat!F196","v":0},{"$f":"pqidat!G196","v":0},{"$f":"pqidat!H196","v":0},{"$f":"pqidat!I196","v":0},{"$f":"pqidat!J196","v":0},{"$f":"pqidat!K196","v":0},{"$f":"pqidat!L196","v":0},{"$f":"pqidat!M196","v":0},{"$f":"pqidat!N196","v":0},{"$f":"pqidat!O196","v":0},{"$f":"pqidat!P196","v":0},0,{"$f":"pqidat!Q196","v":0},{"$f":"pqidat!R196","v":0},{"$f":"pqidat!S196","v":0},{"$f":"pqidat!T196","v":0},{"$f":"pqidat!U196","v":0}]
[{"$f":"pqidat!A197","v":0},{"$f":"pqidat!B197","v":0},{"$f":"pqidat!C197","v":0},{"$f":"pqidat!D197","v":0},{"$f":"pqidat!E197","v":0},{"$f":"pqidat!F197","v":0},{"$f":"pqidat!G197","v":0},{"$f":"pqidat!H197","v":0},{"$f":"pqidat!I197","v":0},{"$f":"pqidat!J197","v":0},{"$f":"pqidat!K197","v":0},{"$f":"pqidat!L197","v":0},{"$f":"pqidat!M197","v":0},{"$f":"pqidat!N197","v":0},{"$f":"pqidat!O197","v":0},{"$f":"pqidat!P197","v":0},{"$f":"IF(P195=0,0,IF(P195>Minimum,\"Pass\",\"Fail\"))","v":0},{"$f":"pqidat!Q197","v":0},{"$f":"pqidat!R197","v":0},{"$f":"pqidat!S197","v":0},{"$f":"pqidat!T197","v":0},{"$f":"pqidat!U197","v":0}]
[{"$f":"pqidat!A198","v":0},{"$f":"pqidat!B198","v":0},{"$f":"pqidat!C198","v":0},{"$f":"pqidat!D198","v":0},{"$f":"pqidat!E198","v":0},{"$f":"pqidat!F198","v":0},{"$f":"pqidat!G198","v":0},{"$f":"pqidat!H198","v":0},{"$f":"pqidat!I198","v":0},{"$f":"pqidat!J198","v":0},{"$f":"pqidat!K198","v":0},{"$f":"pqidat!L198","v":0},{"$f":"pqidat!M198","v":0},{"$f":"pqidat!N198","v":0},{"$f":"pqidat!O198","v":0},{"$f":"pqidat!P198","v":0},0,{"$f":"pqidat!Q198","v":0},{"$f":"pqidat!R198","v":0},{"$f":"pqidat!S198","v":0},{"$f":"pqidat!T198","v":0},{"$f":"pqidat!U198","v":0}]
[{"$f":"pqidat!A199","v":0},{"$f":"pqidat!B199","v":0},{"$f":"pqidat!C199","v":0},{"$f":"pqidat!D199","v":0},{"$f":"pqidat!E199","v":0},{"$f":"pqidat!F199","v":0},{"$f":"pqidat!G199","v":0},{"$f":"pqidat!H199","v":0},{"$f":"pqidat!I199","v":0},{"$f":"pqidat!J199","v":0},{"$f":"pqidat!K199","v":0},{"$f":"pqidat!L199","v":0},{"$f":"pqidat!M199","v":0},{"$f":"pqidat!N199","v":0},{"$f":"pqidat!O199","v":0},{"$f":"pqidat!P199","v":0},0,{"$f":"pqidat!Q199","v":0},{"$f":"pqidat!R199","v":0},{"$f":"pqidat!S199","v":0},{"$f":"pqidat!T199","v":0},{"$f":"pqidat!U199","v":0}]
[{"$f":"pqidat!A200","v":0},{"$f":"pqidat!B200","v":0},{"$f":"pqidat!C200","v":0},{"$f":"pqidat!D200","v":0},{"$f":"pqidat!E200","v":0},{"$f":"pqidat!F200","v":0},{"$f":"pqidat!G200","v":0},{"$f":"pqidat!H200","v":0},{"$f":"pqidat!I200","v":0},{"$f":"pqidat!J200","v":0},{"$f":"pqidat!K200","v":0},{"$f":"pqidat!L200","v":0},{"$f":"pqidat!M200","v":0},{"$f":"pqidat!N200","v":0},{"$f":"pqidat!O200","v":0},{"$f":"pqidat!P200","v":0},0,{"$f":"pqidat!Q200","v":0},{"$f":"pqidat!R200","v":0},{"$f":"pqidat!S200","v":0},{"$f":"pqidat!T200","v":0},{"$f":"pqidat!U200","v":0}]
[{"$f":"pqidat!A201","v":0},{"$f":"pqidat!B201","v":0},{"$f":"pqidat!C201","v":0},{"$f":"pqidat!D201","v":0},{"$f":"pqidat!E201","v":0},{"$f":"pqidat!F201","v":0},{"$f":"pqidat!G201","v":0},{"$f":"pqidat!H201","v":0},{"$f":"pqidat!I201","v":0},{"$f":"pqidat!J201","v":0},{"$f":"pqidat!K201","v":0},{"$f":"pqidat!L201","v":0},{"$f":"pqidat!M201","v":0},{"$f":"pqidat!N201","v":0},{"$f":"pqidat!O201","v":0},{"$f":"pqidat!P201","v":0},0,{"$f":"pqidat!Q201","v":0},{"$f":"pqidat!R201","v":0},{"$f":"pqidat!S201","v":0},{"$f":"pqidat!T201","v":0},{"$f":"pqidat!U201","v":0}]
[{"$f":"pqidat!A202","v":0},{"$f":"pqidat!B202","v":0},{"$f":"pqidat!C202","v":0},{"$f":"pqidat!D202","v":0},{"$f":"pqidat!E202","v":0},{"$f":"pqidat!F202","v":0},{"$f":"pqidat!G202","v":0},{"$f":"pqidat!H202","v":0},{"$f":"pqidat!I202","v":0},{"$f":"pqidat!J202","v":0},{"$f":"pqidat!K202","v":0},{"$f":"pqidat!L202","v":0},{"$f":"pqidat!M202","v":0},{"$f":"pqidat!N202","v":0},{"$f":"pqidat!O202","v":0},{"$f":"pqidat!P202","v":0},0,{"$f":"pqidat!Q202","v":0},{"$f":"pqidat!R202","v":0},{"$f":"pqidat!S202","v":0},{"$f":"pqidat!T202","v":0},{"$f":"pqidat!U202","v":0}]
[{"$f":"pqidat!A203","v":0},{"$f":"pqidat!B203","v":0},{"$f":"pqidat!C203","v":0},{"$f":"pqidat!D203","v":0},{"$f":"pqidat!E203","v":0},{"$f":"pqidat!F203","v":0},{"$f":"pqidat!G203","v":0},{"$f":"pqidat!H203","v":0},{"$f":"pqidat!I203","v":0},{"$f":"pqidat!J203","v":0},{"$f":"pqidat!K203","v":0},{"$f":"pqidat!L203","v":0},{"$f":"pqidat!M203","v":0},{"$f":"pqidat!N203","v":0},{"$f":"pqidat!O203","v":0},{"$f":"pqidat!P203","v":0},0,{"$f":"pqidat!Q203","v":0},{"$f":"pqidat!R203","v":0},{"$f":"pqidat!S203","v":0},{"$f":"pqidat!T203","v":0},{"$f":"pqidat!U203","v":0}]
[{"$f":"pqidat!A204","v":0},{"$f":"pqidat!B204","v":0},{"$f":"pqidat!C204","v":0},{"$f":"pqidat!D204","v":0},{"$f":"pqidat!E204","v":0},{"$f":"pqidat!F204","v":0},{"$f":"pqidat!G204","v":0},{"$f":"pqidat!H204","v":0},{"$f":"pqidat!I204","v":0},{"$f":"pqidat!J204","v":0},{"$f":"pqidat!K204","v":0},{"$f":"pqidat!L204","v":0},{"$f":"pqidat!M204","v":0},{"$f":"pqidat!N204","v":0},{"$f":"pqidat!O204","v":0},{"$f":"pqidat!P204","v":0},0,{"$f":"pqidat!Q204","v":0},{"$f":"pqidat!R204","v":0},{"$f":"pqidat!S204","v":0},{"$f":"pqidat!T204","v":0},{"$f":"pqidat!U204","v":0}]
[{"$f":"pqidat!A205","v":0},{"$f":"pqidat!B205","v":0},{"$f":"pqidat!C205","v":0},{"$f":"pqidat!D205","v":0},{"$f":"pqidat!E205","v":0},{"$f":"pqidat!F205","v":0},{"$f":"pqidat!G205","v":0},{"$f":"pqidat!H205","v":0},{"$f":"pqidat!I205","v":0},{"$f":"pqidat!J205","v":0},{"$f":"pqidat!K205","v":0},{"$f":"pqidat!L205","v":0},{"$f":"pqidat!M205","v":0},{"$f":"pqidat!N205","v":0},{"$f":"pqidat!O205","v":0},{"$f":"pqidat!P205","v":0},0,{"$f":"pqidat!Q205","v":0},{"$f":"pqidat!R205","v":0},{"$f":"pqidat!S205","v":0},{"$f":"pqidat!T205","v":0},{"$f":"pqidat!U205","v":0}]
[{"$f":"pqidat!A206","v":0},{"$f":"pqidat!B206","v":0},{"$f":"pqidat!C206","v":0},{"$f":"pqidat!D206","v":0},{"$f":"pqidat!E206","v":0},{"$f":"pqidat!F206","v":0},{"$f":"pqidat!G206","v":0},{"$f":"pqidat!H206","v":0},{"$f":"pqidat!I206","v":0},{"$f":"pqidat!J206","v":0},{"$f":"pqidat!K206","v":0},{"$f":"pqidat!L206","v":0},{"$f":"pqidat!M206","v":0},{"$f":"pqidat!N206","v":0},{"$f":"pqidat!O206","v":0},{"$f":"pqidat!P206","v":0},0,{"$f":"pqidat!Q206","v":0},{"$f":"pqidat!R206","v":0},{"$f":"pqidat!S206","v":0},{"$f":"pqidat!T206","v":0},{"$f":"pqidat!U206","v":0}]
[{"$f":"pqidat!A207","v":0},{"$f":"pqidat!B207","v":0},{"$f":"pqidat!C207","v":0},{"$f":"pqidat!D207","v":0},{"$f":"pqidat!E207","v":0},{"$f":"pqidat!F207","v":0},{"$f":"pqidat!G207","v":0},{"$f":"pqidat!H207","v":0},{"$f":"pqidat!I207","v":0},{"$f":"pqidat!J207","v":0},{"$f":"pqidat!K207","v":0},{"$f":"pqidat!L207","v":0},{"$f":"pqidat!M207","v":0},{"$f":"pqidat!N207","v":0},{"$f":"pqidat!O207","v":0},{"$f":"pqidat!P207","v":0},0,{"$f":"pqidat!Q207","v":0},{"$f":"pqidat!R207","v":0},{"$f":"pqidat!S207","v":0},{"$f":"pqidat!T207","v":0},{"$f":"pqidat!U207","v":0}]
[{"$f":"pqidat!A208","v":0},{"$f":"pqidat!B208","v":0},{"$f":"pqidat!C208","v":0},{"$f":"pqidat!D208","v":0},{"$f":"pqidat!E208","v":0},{"$f":"pqidat!F208","v":0},{"$f":"pqidat!G208","v":0},{"$f":"pqidat!H208","v":0},{"$f":"pqidat!I208","v":0},{"$f":"pqidat!J208","v":0},{"$f":"pqidat!K208","v":0},{"$f":"pqidat!L208","v":0},{"$f":"pqidat!M208","v":0},{"$f":"pqidat!N208","v":0},{"$f":"pqidat!O208","v":0},{"$f":"pqidat!P208","v":0},0,{"$f":"pqidat!Q208","v":0},{"$f":"pqidat!R208","v":0},{"$f":"pqidat!S208","v":0},{"$f":"pqidat!T208","v":0},{"$f":"pqidat!U208","v":0}]
[{"$f":"pqidat!A209","v":0},{"$f":"pqidat!B209","v":0},{"$f":"pqidat!C209","v":0},{"$f":"pqidat!D209","v":0},{"$f":"pqidat!E209","v":0},{"$f":"pqidat!F209","v":0},{"$f":"pqidat!G209","v":0},{"$f":"pqidat!H209","v":0},{"$f":"pqidat!I209","v":0},{"$f":"pqidat!J209","v":0},{"$f":"pqidat!K209","v":0},{"$f":"pqidat!L209","v":0},{"$f":"pqidat!M209","v":0},{"$f":"pqidat!N209","v":0},{"$f":"pqidat!O209","v":0},{"$f":"pqidat!P209","v":0},0,{"$f":"pqidat!Q209","v":0},{"$f":"pqidat!R209","v":0},{"$f":"pqidat!S209","v":0},{"$f":"pqidat!T209","v":0},{"$f":"pqidat!U209","v":0}]
[{"$f":"pqidat!A210","v":0},{"$f":"pqidat!B210","v":0},{"$f":"pqidat!C210","v":0},{"$f":"pqidat!D210","v":0},{"$f":"pqidat!E210","v":0},{"$f":"pqidat!F210","v":0},{"$f":"pqidat!G210","v":0},{"$f":"pqidat!H210","v":0},{"$f":"pqidat!I210","v":0},{"$f":"pqidat!J210","v":0},{"$f":"pqidat!K210","v":0},{"$f":"pqidat!L210","v":0},{"$f":"pqidat!M210","v":0},{"$f":"pqidat!N210","v":0},{"$f":"pqidat!O210","v":0},{"$f":"pqidat!P210","v":0},0,{"$f":"pqidat!Q210","v":0},{"$f":"pqidat!R210","v":0},{"$f":"pqidat!S210","v":0},{"$f":"pqidat!T210","v":0},{"$f":"pqidat!U210","v":0}]
[{"$f":"pqidat!A211","v":0},{"$f":"pqidat!B211","v":0},{"$f":"pqidat!C211","v":0},{"$f":"pqidat!D211","v":0},{"$f":"pqidat!E211","v":0},{"$f":"pqidat!F211","v":0},{"$f":"pqidat!G211","v":0},{"$f":"pqidat!H211","v":0},{"$f":"pqidat!I211","v":0},{"$f":"pqidat!J211","v":0},{"$f":"pqidat!K211","v":0},{"$f":"pqidat!L211","v":0},{"$f":"pqidat!M211","v":0},{"$f":"pqidat!N211","v":0},{"$f":"pqidat!O211","v":0},{"$f":"pqidat!P211","v":0},0,{"$f":"pqidat!Q211","v":0},{"$f":"pqidat!R211","v":0},{"$f":"pqidat!S211","v":0},{"$f":"pqidat!T211","v":0},{"$f":"pqidat!U211","v":0}]
[{"$f":"pqidat!A212","v":0},{"$f":"pqidat!B212","v":0},{"$f":"pqidat!C212","v":0},{"$f":"pqidat!D212","v":0},{"$f":"pqidat!E212","v":0},{"$f":"pqidat!F212","v":0},{"$f":"pqidat!G212","v":0},{"$f":"pqidat!H212","v":0},{"$f":"pqidat!I212","v":0},{"$f":"pqidat!J212","v":0},{"$f":"pqidat!K212","v":0},{"$f":"pqidat!L212","v":0},{"$f":"pqidat!M212","v":0},{"$f":"pqidat!N212","v":0},{"$f":"pqidat!O212","v":0},{"$f":"pqidat!P212","v":0},0,{"$f":"pqidat!Q212","v":0},{"$f":"pqidat!R212","v":0},{"$f":"pqidat!S212","v":0},{"$f":"pqidat!T212","v":0},{"$f":"pqidat!U212","v":0}]
[{"$f":"pqidat!A213","v":0},{"$f":"pqidat!B213","v":0},{"$f":"pqidat!C213","v":0},{"$f":"pqidat!D213","v":0},{"$f":"pqidat!E213","v":0},{"$f":"pqidat!F213","v":0},{"$f":"pqidat!G213","v":0},{"$f":"pqidat!H213","v":0},{"$f":"pqidat!I213","v":0},{"$f":"pqidat!J213","v":0},{"$f":"pqidat!K213","v":0},{"$f":"pqidat!L213","v":0},{"$f":"pqidat!M213","v":0},{"$f":"pqidat!N213","v":0},{"$f":"pqidat!O213","v":0},{"$f":"pqidat!P213","v":0},0,{"$f":"pqidat!Q213","v":0},{"$f":"pqidat!R213","v":0},{"$f":"pqidat!S213","v":0},{"$f":"pqidat!T213","v":0},{"$f":"pqidat!U213","v":0}]
[{"$f":"pqidat!A214","v":0},{"$f":"pqidat!B214","v":0},{"$f":"pqidat!C214","v":0},{"$f":"pqidat!D214","v":0},{"$f":"pqidat!E214","v":0},{"$f":"pqidat!F214","v":0},{"$f":"pqidat!G214","v":0},{"$f":"pqidat!H214","v":0},{"$f":"pqidat!I214","v":0},{"$f":"pqidat!J214","v":0},{"$f":"pqidat!K214","v":0},{"$f":"pqidat!L214","v":0},{"$f":"pqidat!M214","v":0},{"$f":"pqidat!N214","v":0},{"$f":"pqidat!O214","v":0},{"$f":"pqidat!P214","v":0},0,{"$f":"pqidat!Q214","v":0},{"$f":"pqidat!R214","v":0},{"$f":"pqidat!S214","v":0},{"$f":"pqidat!T214","v":0},{"$f":"pqidat!U214","v":0}]
[{"$f":"pqidat!A215","v":0},{"$f":"pqidat!B215","v":0},{"$f":"pqidat!C215","v":0},{"$f":"pqidat!D215","v":0},{"$f":"pqidat!E215","v":0},{"$f":"pqidat!F215","v":0},{"$f":"pqidat!G215","v":0},{"$f":"pqidat!H215","v":0},{"$f":"pqidat!I215","v":0},{"$f":"pqidat!J215","v":0},{"$f":"pqidat!K215","v":0},{"$f":"pqidat!L215","v":0},{"$f":"pqidat!M215","v":0},{"$f":"pqidat!N215","v":0},{"$f":"pqidat!O215","v":0},{"$f":"pqidat!P215","v":0},0,{"$f":"pqidat!Q215","v":0},{"$f":"pqidat!R215","v":0},{"$f":"pqidat!S215","v":0},{"$f":"pqidat!T215","v":0},{"$f":"pqidat!U215","v":0}]
[{"$f":"pqidat!A216","v":0},{"$f":"pqidat!B216","v":0},{"$f":"pqidat!C216","v":0},{"$f":"pqidat!D216","v":0},{"$f":"pqidat!E216","v":0},{"$f":"pqidat!F216","v":0},{"$f":"pqidat!G216","v":0},{"$f":"pqidat!H216","v":0},{"$f":"pqidat!I216","v":0},{"$f":"pqidat!J216","v":0},{"$f":"pqidat!K216","v":0},{"$f":"pqidat!L216","v":0},{"$f":"pqidat!M216","v":0},{"$f":"pqidat!N216","v":0},{"$f":"pqidat!O216","v":0},{"$f":"pqidat!P216","v":0},0,{"$f":"pqidat!Q216","v":0},{"$f":"pqidat!R216","v":0},{"$f":"pqidat!S216","v":0},{"$f":"pqidat!T216","v":0},{"$f":"pqidat!U216","v":0}]
[{"$f":"pqidat!A217","v":0},{"$f":"pqidat!B217","v":0},{"$f":"pqidat!C217","v":0},{"$f":"pqidat!D217","v":0},{"$f":"pqidat!E217","v":0},{"$f":"pqidat!F217","v":0},{"$f":"pqidat!G217","v":0},{"$f":"pqidat!H217","v":0},{"$f":"pqidat!I217","v":0},{"$f":"pqidat!J217","v":0},{"$f":"pqidat!K217","v":0},{"$f":"pqidat!L217","v":0},{"$f":"pqidat!M217","v":0},{"$f":"pqidat!N217","v":0},{"$f":"pqidat!O217","v":0},{"$f":"pqidat!P217","v":0},0,{"$f":"pqidat!Q217","v":0},{"$f":"pqidat!R217","v":0},{"$f":"pqidat!S217","v":0},{"$f":"pqidat!T217","v":0},{"$f":"pqidat!U217","v":0}]
[{"$f":"pqidat!A218","v":0},{"$f":"pqidat!B218","v":0},{"$f":"pqidat!C218","v":0},{"$f":"pqidat!D218","v":0},{"$f":"pqidat!E218","v":0},{"$f":"pqidat!F218","v":0},{"$f":"pqidat!G218","v":0},{"$f":"pqidat!H218","v":0},{"$f":"pqidat!I218","v":0},{"$f":"pqidat!J218","v":0},{"$f":"pqidat!K218","v":0},{"$f":"pqidat!L218","v":0},{"$f":"pqidat!M218","v":0},{"$f":"pqidat!N218","v":0},{"$f":"pqidat!O218","v":0},{"$f":"pqidat!P218","v":0},0,{"$f":"pqidat!Q218","v":0},{"$f":"pqidat!R218","v":0},{"$f":"pqidat!S218","v":0},{"$f":"pqidat!T218","v":0},{"$f":"pqidat!U218","v":0}]
[{"$f":"pqidat!A219","v":0},{"$f":"pqidat!B219","v":0},{"$f":"pqidat!C219","v":0},{"$f":"pqidat!D219","v":0},{"$f":"pqidat!E219","v":0},{"$f":"pqidat!F219","v":0},{"$f":"pqidat!G219","v":0},{"$f":"pqidat!H219","v":0},{"$f":"pqidat!I219","v":0},{"$f":"pqidat!J219","v":0},{"$f":"pqidat!K219","v":0},{"$f":"pqidat!L219","v":0},{"$f":"pqidat!M219","v":0},{"$f":"pqidat!N219","v":0},{"$f":"pqidat!O219","v":0},{"$f":"pqidat!P219","v":0},0,{"$f":"pqidat!Q219","v":0},{"$f":"pqidat!R219","v":0},{"$f":"pqidat!S219","v":0},{"$f":"pqidat!T219","v":0},{"$f":"pqidat!U219","v":0}]
[{"$f":"pqidat!A220","v":0},{"$f":"pqidat!B220","v":0},{"$f":"pqidat!C220","v":0},{"$f":"pqidat!D220","v":0},{"$f":"pqidat!E220","v":0},{"$f":"pqidat!F220","v":0},{"$f":"pqidat!G220","v":0},{"$f":"pqidat!H220","v":0},{"$f":"pqidat!I220","v":0},{"$f":"pqidat!J220","v":0},{"$f":"pqidat!K220","v":0},{"$f":"pqidat!L220","v":0},{"$f":"pqidat!M220","v":0},{"$f":"pqidat!N220","v":0},{"$f":"pqidat!O220","v":0},{"$f":"pqidat!P220","v":0},0,{"$f":"pqidat!Q220","v":0},{"$f":"pqidat!R220","v":0},{"$f":"pqidat!S220","v":0},{"$f":"pqidat!T220","v":0},{"$f":"pqidat!U220","v":0}]
[{"$f":"pqidat!A221","v":0},{"$f":"pqidat!B221","v":0},{"$f":"pqidat!C221","v":0},{"$f":"pqidat!D221","v":0},{"$f":"pqidat!E221","v":0},{"$f":"pqidat!F221","v":0},{"$f":"pqidat!G221","v":0},{"$f":"pqidat!H221","v":0},{"$f":"pqidat!I221","v":0},{"$f":"pqidat!J221","v":0},{"$f":"pqidat!K221","v":0},{"$f":"pqidat!L221","v":0},{"$f":"pqidat!M221","v":0},{"$f":"pqidat!N221","v":0},{"$f":"pqidat!O221","v":0},{"$f":"pqidat!P221","v":0},0,{"$f":"pqidat!Q221","v":0},{"$f":"pqidat!R221","v":0},{"$f":"pqidat!S221","v":0},{"$f":"pqidat!T221","v":0},{"$f":"pqidat!U221","v":0}]
[{"$f":"pqidat!A222","v":0},{"$f":"pqidat!B222","v":0},{"$f":"pqidat!C222","v":0},{"$f":"pqidat!D222","v":0},{"$f":"pqidat!E222","v":0},{"$f":"pqidat!F222","v":0},{"$f":"pqidat!G222","v":0},{"$f":"pqidat!H222","v":0},{"$f":"pqidat!I222","v":0},{"$f":"pqidat!J222","v":0},{"$f":"pqidat!K222","v":0},{"$f":"pqidat!L222","v":0},{"$f":"pqidat!M222","v":0},{"$f":"pqidat!N222","v":0},{"$f":"pqidat!O222","v":0},{"$f":"pqidat!P222","v":0},0,{"$f":"pqidat!Q222","v":0},{"$f":"pqidat!R222","v":0},{"$f":"pqidat!S222","v":0},{"$f":"pqidat!T222","v":0},{"$f":"pqidat!U222","v":0}]
[{"$f":"pqidat!A223","v":0},{"$f":"pqidat!B223","v":0},{"$f":"pqidat!C223","v":0},{"$f":"pqidat!D223","v":0},{"$f":"pqidat!E223","v":0},{"$f":"pqidat!F223","v":0},{"$f":"pqidat!G223","v":0},{"$f":"pqidat!H223","v":0},{"$f":"pqidat!I223","v":0},{"$f":"pqidat!J223","v":0},{"$f":"pqidat!K223","v":0},{"$f":"pqidat!L223","v":0},{"$f":"pqidat!M223","v":0},{"$f":"pqidat!N223","v":0},{"$f":"pqidat!O223","v":0},{"$f":"pqidat!P223","v":0},0,{"$f":"pqidat!Q223","v":0},{"$f":"pqidat!R223","v":0},{"$f":"pqidat!S223","v":0},{"$f":"pqidat!T223","v":0},{"$f":"pqidat!U223","v":0}]
[{"$f":"pqidat!A224","v":0},{"$f":"pqidat!B224","v":0},{"$f":"pqidat!C224","v":0},{"$f":"pqidat!D224","v":0},{"$f":"pqidat!E224","v":0},{"$f":"pqidat!F224","v":0},{"$f":"pqidat!G224","v":0},{"$f":"pqidat!H224","v":0},{"$f":"pqidat!I224","v":0},{"$f":"pqidat!J224","v":0},{"$f":"pqidat!K224","v":0},{"$f":"pqidat!L224","v":0},{"$f":"pqidat!M224","v":0},{"$f":"pqidat!N224","v":0},{"$f":"pqidat!O224","v":0},{"$f":"pqidat!P224","v":0},0,{"$f":"pqidat!Q224","v":0},{"$f":"pqidat!R224","v":0},{"$f":"pqidat!S224","v":0},{"$f":"pqidat!T224","v":0},{"$f":"pqidat!U224","v":0}]
[{"$f":"pqidat!A225","v":0},{"$f":"pqidat!B225","v":0},{"$f":"pqidat!C225","v":0},{"$f":"pqidat!D225","v":0},{"$f":"pqidat!E225","v":0},{"$f":"pqidat!F225","v":0},{"$f":"pqidat!G225","v":0},{"$f":"pqidat!H225","v":0},{"$f":"pqidat!I225","v":0},{"$f":"pqidat!J225","v":0},{"$f":"pqidat!K225","v":0},{"$f":"pqidat!L225","v":0},{"$f":"pqidat!M225","v":0},{"$f":"pqidat!N225","v":0},{"$f":"pqidat!O225","v":0},{"$f":"pqidat!P225","v":0},0,{"$f":"pqidat!Q225","v":0},{"$f":"pqidat!R225","v":0},{"$f":"pqidat!S225","v":0},{"$f":"pqidat!T225","v":0},{"$f":"pqidat!U225","v":0}]
[{"$f":"pqidat!A226","v":0},{"$f":"pqidat!B226","v":0},{"$f":"pqidat!C226","v":0},{"$f":"pqidat!D226","v":0},{"$f":"pqidat!E226","v":0},{"$f":"pqidat!F226","v":0},{"$f":"pqidat!G226","v":0},{"$f":"pqidat!H226","v":0},{"$f":"pqidat!I226","v":0},{"$f":"pqidat!J226","v":0},{"$f":"pqidat!K226","v":0},{"$f":"pqidat!L226","v":0},{"$f":"pqidat!M226","v":0},{"$f":"pqidat!N226","v":0},{"$f":"pqidat!O226","v":0},{"$f":"pqidat!P226","v":0},0,{"$f":"pqidat!Q226","v":0},{"$f":"pqidat!R226","v":0},{"$f":"pqidat!S226","v":0},{"$f":"pqidat!T226","v":0},{"$f":"pqidat!U226","v":0}]
[{"$f":"pqidat!A227","v":0},{"$f":"pqidat!B227","v":0},{"$f":"pqidat!C227","v":0},{"$f":"pqidat!D227","v":0},{"$f":"pqidat!E227","v":0},{"$f":"pqidat!F227","v":0},{"$f":"pqidat!G227","v":0},{"$f":"pqidat!H227","v":0},{"$f":"pqidat!I227","v":0},{"$f":"pqidat!J227","v":0},{"$f":"pqidat!K227","v":0},{"$f":"pqidat!L227","v":0},{"$f":"pqidat!M227","v":0},{"$f":"pqidat!N227","v":0},{"$f":"pqidat!O227","v":0},{"$f":"pqidat!P227","v":0},0,{"$f":"pqidat!Q227","v":0},{"$f":"pqidat!R227","v":0},{"$f":"pqidat!S227","v":0},{"$f":"pqidat!T227","v":0},{"$f":"pqidat!U227","v":0}]
[{"$f":"pqidat!A228","v":0},{"$f":"pqidat!B228","v":0},{"$f":"pqidat!C228","v":0},{"$f":"pqidat!D228","v":0},{"$f":"pqidat!E228","v":0},{"$f":"pqidat!F228","v":0},{"$f":"pqidat!G228","v":0},{"$f":"pqidat!H228","v":0},{"$f":"pqidat!I228","v":0},{"$f":"pqidat!J228","v":0},{"$f":"pqidat!K228","v":0},{"$f":"pqidat!L228","v":0},{"$f":"pqidat!M228","v":0},{"$f":"pqidat!N228","v":0},{"$f":"pqidat!O228","v":0},{"$f":"pqidat!P228","v":0},0,{"$f":"pqidat!Q228","v":0},{"$f":"pqidat!R228","v":0},{"$f":"pqidat!S228","v":0},{"$f":"pqidat!T228","v":0},{"$f":"pqidat!U228","v":0}]
[{"$f":"pqidat!A229","v":0},{"$f":"pqidat!B229","v":0},{"$f":"pqidat!C229","v":0},{"$f":"pqidat!D229","v":0},{"$f":"pqidat!E229","v":0},{"$f":"pqidat!F229","v":0},{"$f":"pqidat!G229","v":0},{"$f":"pqidat!H229","v":0},{"$f":"pqidat!I229","v":0},{"$f":"pqidat!J229","v":0},{"$f":"pqidat!K229","v":0},{"$f":"pqidat!L229","v":0},{"$f":"pqidat!M229","v":0},{"$f":"pqidat!N229","v":0},{"$f":"pqidat!O229","v":0},{"$f":"pqidat!P229","v":0},0,{"$f":"pqidat!Q229","v":0},{"$f":"pqidat!R229","v":0},{"$f":"pqidat!S229","v":0},{"$f":"pqidat!T229","v":0},{"$f":"pqidat!U229","v":0}]
[{"$f":"pqidat!A230","v":0},{"$f":"pqidat!B230","v":0},{"$f":"pqidat!C230","v":0},{"$f":"pqidat!D230","v":0},{"$f":"pqidat!E230","v":0},{"$f":"pqidat!F230","v":0},{"$f":"pqidat!G230","v":0},{"$f":"pqidat!H230","v":0},{"$f":"pqidat!I230","v":0},{"$f":"pqidat!J230","v":0},{"$f":"pqidat!K230","v":0},{"$f":"pqidat!L230","v":0},{"$f":"pqidat!M230","v":0},{"$f":"pqidat!N230","v":0},{"$f":"pqidat!O230","v":0},{"$f":"pqidat!P230","v":0},0,{"$f":"pqidat!Q230","v":0},{"$f":"pqidat!R230","v":0},{"$f":"pqidat!S230","v":0},{"$f":"pqidat!T230","v":0},{"$f":"pqidat!U230","v":0}]
[{"$f":"pqidat!A231","v":0},{"$f":"pqidat!B231","v":0},{"$f":"pqidat!C231","v":0},{"$f":"pqidat!D231","v":0},{"$f":"pqidat!E231","v":0},{"$f":"pqidat!F231","v":0},{"$f":"pqidat!G231","v":0},{"$f":"pqidat!H231","v":0},{"$f":"pqidat!I231","v":0},{"$f":"pqidat!J231","v":0},{"$f":"pqidat!K231","v":0},{"$f":"pqidat!L231","v":0},{"$f":"pqidat!M231","v":0},{"$f":"pqidat!N231","v":0},{"$f":"pqidat!O231","v":0},{"$f":"pqidat!P231","v":0},0,{"$f":"pqidat!Q231","v":0},{"$f":"pqidat!R231","v":0},{"$f":"pqidat!S231","v":0},{"$f":"pqidat!T231","v":0},{"$f":"pqidat!U231","v":0}]
[{"$f":"pqidat!A232","v":0},{"$f":"pqidat!B232","v":0},{"$f":"pqidat!C232","v":0},{"$f":"pqidat!D232","v":0},{"$f":"pqidat!E232","v":0},{"$f":"pqidat!F232","v":0},{"$f":"pqidat!G232","v":0},{"$f":"pqidat!H232","v":0},{"$f":"pqidat!I232","v":0},{"$f":"pqidat!J232","v":0},{"$f":"pqidat!K232","v":0},{"$f":"pqidat!L232","v":0},{"$f":"pqidat!M232","v":0},{"$f":"pqidat!N232","v":0},{"$f":"pqidat!O232","v":0},{"$f":"pqidat!P232","v":0},0,{"$f":"pqidat!Q232","v":0},{"$f":"pqidat!R232","v":0},{"$f":"pqidat!S232","v":0},{"$f":"pqidat!T232","v":0},{"$f":"pqidat!U232","v":0}]
[{"$f":"pqidat!A233","v":0},{"$f":"pqidat!B233","v":0},{"$f":"pqidat!C233","v":0},{"$f":"pqidat!D233","v":0},{"$f":"pqidat!E233","v":0},{"$f":"pqidat!F233","v":0},{"$f":"pqidat!G233","v":0},{"$f":"pqidat!H233","v":0},{"$f":"pqidat!I233","v":0},{"$f":"pqidat!J233","v":0},{"$f":"pqidat!K233","v":0},{"$f":"pqidat!L233","v":0},{"$f":"pqidat!M233","v":0},{"$f":"pqidat!N233","v":0},{"$f":"pqidat!O233","v":0},{"$f":"pqidat!P233","v":0},0,{"$f":"pqidat!Q233","v":0},{"$f":"pqidat!R233","v":0},{"$f":"pqidat!S233","v":0},{"$f":"pqidat!T233","v":0},{"$f":"pqidat!U233","v":0}]
[{"$f":"pqidat!A234","v":0},{"$f":"pqidat!B234","v":0},{"$f":"pqidat!C234","v":0},{"$f":"pqidat!D234","v":0},{"$f":"pqidat!E234","v":0},{"$f":"pqidat!F234","v":0},{"$f":"pqidat!G234","v":0},{"$f":"pqidat!H234","v":0},{"$f":"pqidat!I234","v":0},{"$f":"pqidat!J234","v":0},{"$f":"pqidat!K234","v":0},{"$f":"pqidat!L234","v":0},{"$f":"pqidat!M234","v":0},{"$f":"pqidat!N234","v":0},{"$f":"pqidat!O234","v":0},{"$f":"pqidat!P234","v":0},0,{"$f":"pqidat!Q234","v":0},{"$f":"pqidat!R234","v":0},{"$f":"pqidat!S234","v":0},{"$f":"pqidat!T234","v":0},{"$f":"pqidat!U234","v":0}]
[{"$f":"pqidat!A235","v":0},{"$f":"pqidat!B235","v":0},{"$f":"pqidat!C235","v":0},{"$f":"pqidat!D235","v":0},{"$f":"pqidat!E235","v":0},{"$f":"pqidat!F235","v":0},{"$f":"pqidat!G235","v":0},{"$f":"pqidat!H235","v":0},{"$f":"pqidat!I235","v":0},{"$f":"pqidat!J235","v":0},{"$f":"pqidat!K235","v":0},{"$f":"pqidat!L235","v":0},{"$f":"pqidat!M235","v":0},{"$f":"pqidat!N235","v":0},{"$f":"pqidat!O235","v":0},{"$f":"pqidat!P235","v":0},0,{"$f":"pqidat!Q235","v":0},{"$f":"pqidat!R235","v":0},{"$f":"pqidat!S235","v":0},{"$f":"pqidat!T235","v":0},{"$f":"pqidat!U235","v":0}]
[{"$f":"pqidat!A236","v":0},{"$f":"pqidat!B236","v":0},{"$f":"pqidat!C236","v":0},{"$f":"pqidat!D236","v":0},{"$f":"pqidat!E236","v":0},{"$f":"pqidat!F236","v":0},{"$f":"pqidat!G236","v":0},{"$f":"pqidat!H236","v":0},{"$f":"pqidat!I236","v":0},{"$f":"pqidat!J236","v":0},{"$f":"pqidat!K236","v":0},{"$f":"pqidat!L236","v":0},{"$f":"pqidat!M236","v":0},{"$f":"pqidat!N236","v":0},{"$f":"pqidat!O236","v":0},{"$f":"pqidat!P236","v":0},0,{"$f":"pqidat!Q236","v":0},{"$f":"pqidat!R236","v":0},{"$f":"pqidat!S236","v":0},{"$f":"pqidat!T236","v":0},{"$f":"pqidat!U236","v":0}]
[{"$f":"pqidat!A237","v":0},{"$f":"pqidat!B237","v":0},{"$f":"pqidat!C237","v":0},{"$f":"pqidat!D237","v":0},{"$f":"pqidat!E237","v":0},{"$f":"pqidat!F237","v":0},{"$f":"pqidat!G237","v":0},{"$f":"pqidat!H237","v":0},{"$f":"pqidat!I237","v":0},{"$f":"pqidat!J237","v":0},{"$f":"pqidat!K237","v":0},{"$f":"pqidat!L237","v":0},{"$f":"pqidat!M237","v":0},{"$f":"pqidat!N237","v":0},{"$f":"pqidat!O237","v":0},{"$f":"pqidat!P237","v":0},0,{"$f":"pqidat!Q237","v":0},{"$f":"pqidat!R237","v":0},{"$f":"pqidat!S237","v":0},{"$f":"pqidat!T237","v":0},{"$f":"pqidat!U237","v":0}]
[{"$f":"pqidat!A238","v":0},{"$f":"pqidat!B238","v":0},{"$f":"pqidat!C238","v":0},{"$f":"pqidat!D238","v":0},{"$f":"pqidat!E238","v":0},{"$f":"pqidat!F238","v":0},{"$f":"pqidat!G238","v":0},{"$f":"pqidat!H238","v":0},{"$f":"pqidat!I238","v":0},{"$f":"pqidat!J238","v":0},{"$f":"pqidat!K238","v":0},{"$f":"pqidat!L238","v":0},{"$f":"pqidat!M238","v":0},{"$f":"pqidat!N238","v":0},{"$f":"pqidat!O238","v":0},{"$f":"pqidat!P238","v":0},0,{"$f":"pqidat!Q238","v":0},{"$f":"pqidat!R238","v":0},{"$f":"pqidat!S238","v":0},{"$f":"pqidat!T238","v":0},{"$f":"pqidat!U238","v":0}]
[{"$f":"pqidat!A239","v":0},{"$f":"pqidat!B239","v":0},{"$f":"pqidat!C239","v":0},{"$f":"pqidat!D239","v":0},{"$f":"pqidat!E239","v":0},{"$f":"pqidat!F239","v":0},{"$f":"pqidat!G239","v":0},{"$f":"pqidat!H239","v":0},{"$f":"pqidat!I239","v":0},{"$f":"pqidat!J239","v":0},{"$f":"pqidat!K239","v":0},{"$f":"pqidat!L239","v":0},{"$f":"pqidat!M239","v":0},{"$f":"pqidat!N239","v":0},{"$f":"pqidat!O239","v":0},{"$f":"pqidat!P239","v":0},0,{"$f":"pqidat!Q239","v":0},{"$f":"pqidat!R239","v":0},{"$f":"pqidat!S239","v":0},{"$f":"pqidat!T239","v":0},{"$f":"pqidat!U239","v":0}]
[{"$f":"pqidat!A240","v":0},{"$f":"pqidat!B240","v":0},{"$f":"pqidat!C240","v":0},{"$f":"pqidat!D240","v":0},{"$f":"pqidat!E240","v":0},{"$f":"pqidat!F240","v":0},{"$f":"pqidat!G240","v":0},{"$f":"pqidat!H240","v":0},{"$f":"pqidat!I240","v":0},{"$f":"pqidat!J240","v":0},{"$f":"pqidat!K240","v":0},{"$f":"pqidat!L240","v":0},{"$f":"pqidat!M240","v":0},{"$f":"pqidat!N240","v":0},{"$f":"pqidat!O240","v":0},{"$f":"pqidat!P240","v":0},0,{"$f":"pqidat!Q240","v":0},{"$f":"pqidat!R240","v":0},{"$f":"pqidat!S240","v":0},{"$f":"pqidat!T240","v":0},{"$f":"pqidat!U240","v":0}]
[{"$f":"pqidat!A241","v":0},{"$f":"pqidat!B241","v":0},{"$f":"pqidat!C241","v":0},{"$f":"pqidat!D241","v":0},{"$f":"pqidat!E241","v":0},{"$f":"pqidat!F241","v":0},{"$f":"pqidat!G241","v":0},{"$f":"pqidat!H241","v":0},{"$f":"pqidat!I241","v":0},{"$f":"pqidat!J241","v":0},{"$f":"pqidat!K241","v":0},{"$f":"pqidat!L241","v":0},{"$f":"pqidat!M241","v":0},{"$f":"pqidat!N241","v":0},{"$f":"pqidat!O241","v":0},{"$f":"pqidat!P241","v":0},0,{"$f":"pqidat!Q241","v":0},{"$f":"pqidat!R241","v":0},{"$f":"pqidat!S241","v":0},{"$f":"pqidat!T241","v":0},{"$f":"pqidat!U241","v":0}]
[{"$f":"pqidat!A242","v":0},{"$f":"pqidat!B242","v":0},{"$f":"pqidat!C242","v":0},{"$f":"pqidat!D242","v":0},{"$f":"pqidat!E242","v":0},{"$f":"pqidat!F242","v":0},{"$f":"pqidat!G242","v":0},{"$f":"pqidat!H242","v":0},{"$f":"pqidat!I242","v":0},{"$f":"pqidat!J242","v":0},{"$f":"pqidat!K242","v":0},{"$f":"pqidat!L242","v":0},{"$f":"pqidat!M242","v":0},{"$f":"pqidat!N242","v":0},{"$f":"pqidat!O242","v":0},{"$f":"pqidat!P242","v":0},0,{"$f":"pqidat!Q242","v":0},{"$f":"pqidat!R242","v":0},{"$f":"pqidat!S242","v":0},{"$f":"pqidat!T242","v":0},{"$f":"pqidat!U242","v":0}]
[{"$f":"pqidat!A243","v":0},{"$f":"pqidat!B243","v":0},{"$f":"pqidat!C243","v":0},{"$f":"pqidat!D243","v":0},{"$f":"pqidat!E243","v":0},{"$f":"pqidat!F243","v":0},{"$f":"pqidat!G243","v":0},{"$f":"pqidat!H243","v":0},{"$f":"pqidat!I243","v":0},{"$f":"pqidat!J243","v":0},{"$f":"pqidat!K243","v":0},{"$f":"pqidat!L243","v":0},{"$f":"pqidat!M243","v":0},{"$f":"pqidat!N243","v":0},{"$f":"pqidat!O243","v":0},{"$f":"pqidat!P243","v":0},0,{"$f":"pqidat!Q243","v":0},{"$f":"pqidat!R243","v":0},{"$f":"pqidat!S243","v":0},{"$f":"pqidat!T243","v":0},{"$f":"pqidat!U243","v":0}]
[{"$f":"pqidat!A244","v":0},{"$f":"pqidat!B244","v":0},{"$f":"pqidat!C244","v":0},{"$f":"pqidat!D244","v":0},{"$f":"pqidat!E244","v":0},{"$f":"pqidat!F244","v":0},{"$f":"pqidat!G244","v":0},{"$f":"pqidat!H244","v":0},{"$f":"pqidat!I244","v":0},{"$f":"pqidat!J244","v":0},{"$f":"pqidat!K244","v":0},{"$f":"pqidat!L244","v":0},{"$f":"pqidat!M244","v":0},{"$f":"pqidat!N244","v":0},{"$f":"pqidat!O244","v":0},{"$f":"pqidat!P244","v":0},0,{"$f":"pqidat!Q244","v":0},{"$f":"pqidat!R244","v":0},{"$f":"pqidat!S244","v":0},{"$f":"pqidat!T244","v":0},{"$f":"pqidat!U244","v":0}]
[{"$f":"pqidat!A245","v":0},{"$f":"pqidat!B245","v":0},{"$f":"pqidat!C245","v":0},{"$f":"pqidat!D245","v":0},{"$f":"pqidat!E245","v":0},{"$f":"pqidat!F245","v":0},{"$f":"pqidat!G245","v":0},{"$f":"pqidat!H245","v":0},{"$f":"pqidat!I245","v":0},{"$f":"pqidat!J245","v":0},{"$f":"pqidat!K245","v":0},{"$f":"pqidat!L245","v":0},{"$f":"pqidat!M245","v":0},{"$f":"pqidat!N245","v":0},{"$f":"pqidat!O245","v":0},{"$f":"pqidat!P245","v":0},0,{"$f":"pqidat!Q245","v":0},{"$f":"pqidat!R245","v":0},{"$f":"pqidat!S245","v":0},{"$f":"pqidat!T245","v":0},{"$f":"pqidat!U245","v":0}]
[{"$f":"pqidat!A246","v":0},{"$f":"pqidat!B246","v":0},{"$f":"pqidat!C246","v":0},{"$f":"pqidat!D246","v":0},{"$f":"pqidat!E246","v":0},{"$f":"pqidat!F246","v":0},{"$f":"pqidat!G246","v":0},{"$f":"pqidat!H246","v":0},{"$f":"pqidat!I246","v":0},{"$f":"pqidat!J246","v":0},{"$f":"pqidat!K246","v":0},{"$f":"pqidat!L246","v":0},{"$f":"pqidat!M246","v":0},{"$f":"pqidat!N246","v":0},{"$f":"pqidat!O246","v":0},{"$f":"pqidat!P246","v":0},0,{"$f":"pqidat!Q246","v":0},{"$f":"pqidat!R246","v":0},{"$f":"pqidat!S246","v":0},{"$f":"pqidat!T246","v":0},{"$f":"pqidat!U246","v":0}]
[{"$f":"pqidat!A247","v":0},{"$f":"pqidat!B247","v":0},{"$f":"pqidat!C247","v":0},{"$f":"pqidat!D247","v":0},{"$f":"pqidat!E247","v":0},{"$f":"pqidat!F247","v":0},{"$f":"pqidat!G247","v":0},{"$f":"pqidat!H247","v":0},{"$f":"pqidat!I247","v":0},{"$f":"pqidat!J247","v":0},{"$f":"pqidat!K247","v":0},{"$f":"pqidat!L247","v":0},{"$f":"pqidat!M247","v":0},{"$f":"pqidat!N247","v":0},{"$f":"pqidat!O247","v":0},{"$f":"pqidat!P247","v":0},0,{"$f":"pqidat!Q247","v":0},{"$f":"pqidat!R247","v":0},{"$f":"pqidat!S247","v":0},{"$f":"pqidat!T247","v":0},{"$f":"pqidat!U247","v":0}]
[{"$f":"pqidat!A248","v":0},{"$f":"pqidat!B248","v":0},{"$f":"pqidat!C248","v":0},{"$f":"pqidat!D248","v":0},{"$f":"pqidat!E248","v":0},{"$f":"pqidat!F248","v":0},{"$f":"pqidat!G248","v":0},{"$f":"pqidat!H248","v":0},{"$f":"pqidat!I248","v":0},{"$f":"pqidat!J248","v":0},{"$f":"pqidat!K248","v":0},{"$f":"pqidat!L248","v":0},{"$f":"pqidat!M248","v":0},{"$f":"pqidat!N248","v":0},{"$f":"pqidat!O248","v":0},{"$f":"pqidat!P248","v":0},0,{"$f":"pqidat!Q248","v":0},{"$f":"pqidat!R248","v":0},{"$f":"pqidat!S248","v":0},{"$f":"pqidat!T248","v":0},{"$f":"pqidat!U248","v":0}]
[{"$f":"pqidat!A249","v":0},{"$f":"pqidat!B249","v":0},{"$f":"pqidat!C249","v":0},{"$f":"pqidat!D249","v":0},{"$f":"pqidat!E249","v":0},{"$f":"pqidat!F249","v":0},{"$f":"pqidat!G249","v":0},{"$f":"pqidat!H249","v":0},{"$f":"pqidat!I249","v":0},{"$f":"pqidat!J249","v":0},{"$f":"pqidat!K249","v":0},{"$f":"pqidat!L249","v":0},{"$f":"pqidat!M249","v":0},{"$f":"pqidat!N249","v":0},{"$f":"pqidat!O249","v":0},{"$f":"pqidat!P249","v":0},0,{"$f":"pqidat!Q249","v":0},{"$f":"pqidat!R249","v":0},{"$f":"pqidat!S249","v":0},{"$f":"pqidat!T249","v":0},{"$f":"pqidat!U249","v":0}]
[{"$f":"pqidat!A250","v":0},{"$f":"pqidat!B250","v":0},{"$f":"pqidat!C250","v":0},{"$f":"pqidat!D250","v":0},{"$f":"pqidat!E250","v":0},{"$f":"pqidat!F250","v":0},{"$f":"pqidat!G250","v":0},{"$f":"pqidat!H250","v":0},{"$f":"pqidat!I250","v":0},{"$f":"pqidat!J250","v":0},{"$f":"pqidat!K250","v":0},{"$f":"pqidat!L250","v":0},{"$f":"pqidat!M250","v":0},{"$f":"pqidat!N250","v":0},{"$f":"pqidat!O250","v":0},{"$f":"pqidat!P250","v":0},0,{"$f":"pqidat!Q250","v":0},{"$f":"pqidat!R250","v":0},{"$f":"pqidat!S250","v":0},{"$f":"pqidat!T250","v":0},{"$f":"pqidat!U250","v":0}]
[{"$f":"pqidat!A251","v":0},{"$f":"pqidat!B251","v":0},{"$f":"pqidat!C251","v":0},{"$f":"pqidat!D251","v":0},{"$f":"pqidat!E251","v":0},{"$f":"pqidat!F251","v":0},{"$f":"pqidat!G251","v":0},{"$f":"pqidat!H251","v":0},{"$f":"pqidat!I251","v":0},{"$f":"pqidat!J251","v":0},{"$f":"pqidat!K251","v":0},{"$f":"pqidat!L251","v":0},{"$f":"pqidat!M251","v":0},{"$f":"pqidat!N251","v":0},{"$f":"pqidat!O251","v":0},{"$f":"pqidat!P251","v":0},0,{"$f":"pqidat!Q251","v":0},{"$f":"pqidat!R251","v":0},{"$f":"pqidat!S251","v":0},{"$f":"pqidat!T251","v":0},{"$f":"pqidat!U251","v":0}]
[{"$f":"pqidat!A252","v":0},{"$f":"pqidat!B252","v":0},{"$f":"pqidat!C252","v":0},{"$f":"pqidat!D252","v":0},{"$f":"pqidat!E252","v":0},{"$f":"pqidat!F252","v":0},{"$f":"pqidat!G252","v":0},{"$f":"pqidat!H252","v":0},{"$f":"pqidat!I252","v":0},{"$f":"pqidat!J252","v":0},{"$f":"pqidat!K252","v":0},{"$f":"pqidat!L252","v":0},{"$f":"pqidat!M252","v":0},{"$f":"pqidat!N252","v":0},{"$f":"pqidat!O252","v":0},{"$f":"pqidat!P252","v":0},0,{"$f":"pqidat!Q252","v":0},{"$f":"pqidat!R252","v":0},{"$f":"pqidat!S252","v":0},{"$f":"pqidat!T252","v":0},{"$f":"pqidat!U252","v":0}]
[{"$f":"pqidat!A253","v":0},{"$f":"pqidat!B253","v":0},{"$f":"pqidat!C253","v":0},{"$f":"pqidat!D253","v":0},{"$f":"pqidat!E253","v":0},{"$f":"pqidat!F253","v":0},{"$f":"pqidat!G253","v":0},{"$f":"pqidat!H253","v":0},{"$f":"pqidat!I253","v":0},{"$f":"pqidat!J253","v":0},{"$f":"pqidat!K253","v":0},{"$f":"pqidat!L253","v":0},{"$f":"pqidat!M253","v":0},{"$f":"pqidat!N253","v":0},{"$f":"pqidat!O253","v":0},{"$f":"pqidat!P253","v":0},0,{"$f":"pqidat!Q253","v":0},{"$f":"pqidat!R253","v":0},{"$f":"pqidat!S253","v":0},{"$f":"pqidat!T253","v":0},{"$f":"pqidat!U253","v":0}]
[{"$f":"pqidat!A254","v":0},{"$f":"pqidat!B254","v":0},{"$f":"pqidat!C254","v":0},{"$f":"pqidat!D254","v":0},{"$f":"pqidat!E254","v":0},{"$f":"pqidat!F254","v":0},{"$f":"pqidat!G254","v":0},{"$f":"pqidat!H254","v":0},{"$f":"pqidat!I254","v":0},{"$f":"pqidat!J254","v":0},{"$f":"pqidat!K254","v":0},{"$f":"pqidat!L254","v":0},{"$f":"pqidat!M254","v":0},{"$f":"pqidat!N254","v":0},{"$f":"pqidat!O254","v":0},{"$f":"pqidat!P254","v":0},0,{"$f":"pqidat!Q254","v":0},{"$f":"pqidat!R254","v":0},{"$f":"pqidat!S254","v":0},{"$f":"pqidat!T254","v":0},{"$f":"pqidat!U254","v":0}]
[{"$f":"pqidat!A255","v":0},{"$f":"pqidat!B255","v":0},{"$f":"pqidat!C255","v":0},{"$f":"pqidat!D255","v":0},{"$f":"pqidat!E255","v":0},{"$f":"pqidat!F255","v":0},{"$f":"pqidat!G255","v":0},{"$f":"pqidat!H255","v":0},{"$f":"pqidat!I255","v":0},{"$f":"pqidat!J255","v":0},{"$f":"pqidat!K255","v":0},{"$f":"pqidat!L255","v":0},{"$f":"pqidat!M255","v":0},{"$f":"pqidat!N255","v":0},{"$f":"pqidat!O255","v":0},{"$f":"pqidat!P255","v":0},0,{"$f":"pqidat!Q255","v":0},{"$f":"pqidat!R255","v":0},{"$f":"pqidat!S255","v":0},{"$f":"pqidat!T255","v":0},{"$f":"pqidat!U255","v":0}]
[{"$f":"pqidat!A256","v":0},{"$f":"pqidat!B256","v":0},{"$f":"pqidat!C256","v":0},{"$f":"pqidat!D256","v":0},{"$f":"pqidat!E256","v":0},{"$f":"pqidat!F256","v":0},{"$f":"pqidat!G256","v":0},{"$f":"pqidat!H256","v":0},{"$f":"pqidat!I256","v":0},{"$f":"pqidat!J256","v":0},{"$f":"pqidat!K256","v":0},{"$f":"pqidat!L256","v":0},{"$f":"pqidat!M256","v":0},{"$f":"pqidat!N256","v":0},{"$f":"pqidat!O256","v":0},{"$f":"pqidat!P256","v":0},0,{"$f":"pqidat!Q256","v":0},{"$f":"pqidat!R256","v":0},{"$f":"pqidat!S256","v":0},{"$f":"pqidat!T256","v":0},{"$f":"pqidat!U256","v":0}]
[{"$f":"pqidat!A257","v":0},{"$f":"pqidat!B257","v":0},{"$f":"pqidat!C257","v":0},{"$f":"pqidat!D257","v":0},{"$f":"pqidat!E257","v":0},{"$f":"pqidat!F257","v":0},{"$f":"pqidat!G257","v":0},{"$f":"pqidat!H257","v":0},{"$f":"pqidat!I257","v":0},{"$f":"pqidat!J257","v":0},{"$f":"pqidat!K257","v":0},{"$f":"pqidat!L257","v":0},{"$f":"pqidat!M257","v":0},{"$f":"pqidat!N257","v":0},{"$f":"pqidat!O257","v":0},{"$f":"pqidat!P257","v":0},0,{"$f":"pqidat!Q257","v":0},{"$f":"pqidat!R257","v":0},{"$f":"pqidat!S257","v":0},{"$f":"pqidat!T257","v":0},{"$f":"pqidat!U257","v":0}]
[{"$f":"pqidat!A258","v":0},{"$f":"pqidat!B258","v":0},{"$f":"pqidat!C258","v":0},{"$f":"pqidat!D258","v":0},{"$f":"pqidat!E258","v":0},{"$f":"pqidat!F258","v":0},{"$f":"pqidat!G258","v":0},{"$f":"pqidat!H258","v":0},{"$f":"pqidat!I258","v":0},{"$f":"pqidat!J258","v":0},{"$f":"pqidat!K258","v":0},{"$f":"pqidat!L258","v":0},{"$f":"pqidat!M258","v":0},{"$f":"pqidat!N258","v":0},{"$f":"pqidat!O258","v":0},{"$f":"pqidat!P258","v":0},0,{"$f":"pqidat!Q258","v":0},{"$f":"pqidat!R258","v":0},{"$f":"pqidat!S258","v":0},{"$f":"pqidat!T258","v":0},{"$f":"pqidat!U258","v":0}]
[{"$f":"pqidat!A259","v":0},{"$f":"pqidat!B259","v":0},{"$f":"pqidat!C259","v":0},{"$f":"pqidat!D259","v":0},{"$f":"pqidat!E259","v":0},{"$f":"pqidat!F259","v":0},{"$f":"pqidat!G259","v":0},{"$f":"pqidat!H259","v":0},{"$f":"pqidat!I259","v":0},{"$f":"pqidat!J259","v":0},{"$f":"pqidat!K259","v":0},{"$f":"pqidat!L259","v":0},{"$f":"pqidat!M259","v":0},{"$f":"pqidat!N259","v":0},{"$f":"pqidat!O259","v":0},{"$f":"pqidat!P259","v":0},0,{"$f":"pqidat!Q259","v":0},{"$f":"pqidat!R259","v":0},{"$f":"pqidat!S259","v":0},{"$f":"pqidat!T259","v":0},{"$f":"pqidat!U259","v":0}]
[{"$f":"pqidat!A260","v":0},{"$f":"pqidat!B260","v":0},{"$f":"pqidat!C260","v":0},{"$f":"pqidat!D260","v":0},{"$f":"pqidat!E260","v":0},{"$f":"pqidat!F260","v":0},{"$f":"pqidat!G260","v":0},{"$f":"pqidat!H260","v":0},{"$f":"pqidat!I260","v":0},{"$f":"pqidat!J260","v":0},{"$f":"pqidat!K260","v":0},{"$f":"pqidat!L260","v":0},{"$f":"pqidat!M260","v":0},{"$f":"pqidat!N260","v":0},{"$f":"pqidat!O260","v":0},{"$f":"pqidat!P260","v":0},0,{"$f":"pqidat!Q260","v":0},{"$f":"pqidat!R260","v":0},{"$f":"pqidat!S260","v":0},{"$f":"pqidat!T260","v":0},{"$f":"pqidat!U260","v":0}]
[{"$f":"pqidat!A261","v":0},{"$f":"pqidat!B261","v":0},{"$f":"pqidat!C261","v":0},{"$f":"pqidat!D261","v":0},{"$f":"pqidat!E261","v":0},{"$f":"pqidat!F261","v":0},{"$f":"pqidat!G261","v":0},{"$f":"pqidat!H261","v":0},{"$f":"pqidat!I261","v":0},{"$f":"pqidat!J261","v":0},{"$f":"pqidat!K261","v":0},{"$f":"pqidat!L261","v":0},{"$f":"pqidat!M261","v":0},{"$f":"pqidat!N261","v":0},{"$f":"pqidat!O261","v":0},{"$f":"pqidat!P261","v":0},{"$f":"IF(P259=0,0,IF(P259>Minimum,\"Pass\",\"Fail\"))","v":0},{"$f":"pqidat!Q261","v":0},{"$f":"pqidat!R261","v":0},{"$f":"pqidat!S261","v":0},{"$f":"pqidat!T261","v":0},{"$f":"pqidat!U261","v":0}]
[{"$f":"pqidat!A262","v":0},{"$f":"pqidat!B262","v":0},{"$f":"pqidat!C262","v":0},{"$f":"pqidat!D262","v":0},{"$f":"pqidat!E262","v":0},{"$f":"pqidat!F262","v":0},{"$f":"pqidat!G262","v":0},{"$f":"pqidat!H262","v":0},{"$f":"pqidat!I262","v":0},{"$f":"pqidat!J262","v":0},{"$f":"pqidat!K262","v":0},{"$f":"pqidat!L262","v":0},{"$f":"pqidat!M262","v":0},{"$f":"pqidat!N262","v":0},{"$f":"pqidat!O262","v":0},{"$f":"pqidat!P262","v":0},0,{"$f":"pqidat!Q262","v":0},{"$f":"pqidat!R262","v":0},{"$f":"pqidat!S262","v":0},{"$f":"pqidat!T262","v":0},{"$f":"pqidat!U262","v":0}]
[{"$f":"pqidat!A263","v":0},{"$f":"pqidat!B263","v":0},{"$f":"pqidat!C263","v":0},{"$f":"pqidat!D263","v":0},{"$f":"pqidat!E263","v":0},{"$f":"pqidat!F263","v":0},{"$f":"pqidat!G263","v":0},{"$f":"pqidat!H263","v":0},{"$f":"pqidat!I263","v":0},{"$f":"pqidat!J263","v":0},{"$f":"pqidat!K263","v":0},{"$f":"pqidat!L263","v":0},{"$f":"pqidat!M263","v":0},{"$f":"pqidat!N263","v":0},{"$f":"pqidat!O263","v":0},{"$f":"pqidat!P263","v":0},0,{"$f":"pqidat!Q263","v":0},{"$f":"pqidat!R263","v":0},{"$f":"pqidat!S263","v":0},{"$f":"pqidat!T263","v":0},{"$f":"pqidat!U263","v":0}]
[{"$f":"pqidat!A264","v":0},{"$f":"pqidat!B264","v":0},{"$f":"pqidat!C264","v":0},{"$f":"pqidat!D264","v":0},{"$f":"pqidat!E264","v":0},{"$f":"pqidat!F264","v":0},{"$f":"pqidat!G264","v":0},{"$f":"pqidat!H264","v":0},{"$f":"pqidat!I264","v":0},{"$f":"pqidat!J264","v":0},{"$f":"pqidat!K264","v":0},{"$f":"pqidat!L264","v":0},{"$f":"pqidat!M264","v":0},{"$f":"pqidat!N264","v":0},{"$f":"pqidat!O264","v":0},{"$f":"pqidat!P264","v":0},0,{"$f":"pqidat!Q264","v":0},{"$f":"pqidat!R264","v":0},{"$f":"pqidat!S264","v":0},{"$f":"pqidat!T264","v":0},{"$f":"pqidat!U264","v":0}]
[{"$f":"pqidat!A265","v":0},{"$f":"pqidat!B265","v":0},{"$f":"pqidat!C265","v":0},{"$f":"pqidat!D265","v":0},{"$f":"pqidat!E265","v":0},{"$f":"pqidat!F265","v":0},{"$f":"pqidat!G265","v":0},{"$f":"pqidat!H265","v":0},{"$f":"pqidat!I265","v":0},{"$f":"pqidat!J265","v":0},{"$f":"pqidat!K265","v":0},{"$f":"pqidat!L265","v":0},{"$f":"pqidat!M265","v":0},{"$f":"pqidat!N265","v":0},{"$f":"pqidat!O265","v":0},{"$f":"pqidat!P265","v":0},0,{"$f":"pqidat!Q265","v":0},{"$f":"pqidat!R265","v":0},{"$f":"pqidat!S265","v":0},{"$f":"pqidat!T265","v":0},{"$f":"pqidat!U265","v":0}]
[{"$f":"pqidat!A266","v":0},{"$f":"pqidat!B266","v":0},{"$f":"pqidat!C266","v":0},{"$f":"pqidat!D266","v":0},{"$f":"pqidat!E266","v":0},{"$f":"pqidat!F266","v":0},{"$f":"pqidat!G266","v":0},{"$f":"pqidat!H266","v":0},{"$f":"pqidat!I266","v":0},{"$f":"pqidat!J266","v":0},{"$f":"pqidat!K266","v":0},{"$f":"pqidat!L266","v":0},{"$f":"pqidat!M266","v":0},{"$f":"pqidat!N266","v":0},{"$f":"pqidat!O266","v":0},{"$f":"pqidat!P266","v":0},0,{"$f":"pqidat!Q266","v":0},{"$f":"pqidat!R266","v":0},{"$f":"pqidat!S266","v":0},{"$f":"pqidat!T266","v":0},{"$f":"pqidat!U266","v":0}]
[{"$f":"pqidat!A267","v":0},{"$f":"pqidat!B267","v":0},{"$f":"pqidat!C267","v":0},{"$f":"pqidat!D267","v":0},{"$f":"pqidat!E267","v":0},{"$f":"pqidat!F267","v":0},{"$f":"pqidat!G267","v":0},{"$f":"pqidat!H267","v":0},{"$f":"pqidat!I267","v":0},{"$f":"pqidat!J267","v":0},{"$f":"pqidat!K267","v":0},{"$f":"pqidat!L267","v":0},{"$f":"pqidat!M267","v":0},{"$f":"pqidat!N267","v":0},{"$f":"pqidat!O267","v":0},{"$f":"pqidat!P267","v":0},0,{"$f":"pqidat!Q267","v":0},{"$f":"pqidat!R267","v":0},{"$f":"pqidat!S267","v":0},{"$f":"pqidat!T267","v":0},{"$f":"pqidat!U267","v":0}]
[{"$f":"pqidat!A268","v":0},{"$f":"pqidat!B268","v":0},{"$f":"pqidat!C268","v":0},{"$f":"pqidat!D268","v":0},{"$f":"pqidat!E268","v":0},{"$f":"pqidat!F268","v":0},{"$f":"pqidat!G268","v":0},{"$f":"pqidat!H268","v":0},{"$f":"pqidat!I268","v":0},{"$f":"pqidat!J268","v":0},{"$f":"pqidat!K268","v":0},{"$f":"pqidat!L268","v":0},{"$f":"pqidat!M268","v":0},{"$f":"pqidat!N268","v":0},{"$f":"pqidat!O268","v":0},{"$f":"pqidat!P268","v":0},0,{"$f":"pqidat!Q268","v":0},{"$f":"pqidat!R268","v":0},{"$f":"pqidat!S268","v":0},{"$f":"pqidat!T268","v":0},{"$f":"pqidat!U268","v":0}]
[{"$f":"pqidat!A269","v":0},{"$f":"pqidat!B269","v":0},{"$f":"pqidat!C269","v":0},{"$f":"pqidat!D269","v":0},{"$f":"pqidat!E269","v":0},{"$f":"pqidat!F269","v":0},{"$f":"pqidat!G269","v":0},{"$f":"pqidat!H269","v":0},{"$f":"pqidat!I269","v":0},{"$f":"pqidat!J269","v":0},{"$f":"pqidat!K269","v":0},{"$f":"pqidat!L269","v":0},{"$f":"pqidat!M269","v":0},{"$f":"pqidat!N269","v":0},{"$f":"pqidat!O269","v":0},{"$f":"pqidat!P269","v":0},0,{"$f":"pqidat!Q269","v":0},{"$f":"pqidat!R269","v":0},{"$f":"pqidat!S269","v":0},{"$f":"pqidat!T269","v":0},{"$f":"pqidat!U269","v":0}]
[{"$f":"pqidat!A270","v":0},{"$f":"pqidat!B270","v":0},{"$f":"pqidat!C270","v":0},{"$f":"pqidat!D270","v":0},{"$f":"pqidat!E270","v":0},{"$f":"pqidat!F270","v":0},{"$f":"pqidat!G270","v":0},{"$f":"pqidat!H270","v":0},{"$f":"pqidat!I270","v":0},{"$f":"pqidat!J270","v":0},{"$f":"pqidat!K270","v":0},{"$f":"pqidat!L270","v":0},{"$f":"pqidat!M270","v":0},{"$f":"pqidat!N270","v":0},{"$f":"pqidat!O270","v":0},{"$f":"pqidat!P270","v":0},0,{"$f":"pqidat!Q270","v":0},{"$f":"pqidat!R270","v":0},{"$f":"pqidat!S270","v":0},{"$f":"pqidat!T270","v":0},{"$f":"pqidat!U270","v":0}]
[{"$f":"pqidat!A271","v":0},{"$f":"pqidat!B271","v":0},{"$f":"pqidat!C271","v":0},{"$f":"pqidat!D271","v":0},{"$f":"pqidat!E271","v":0},{"$f":"pqidat!F271","v":0},{"$f":"pqidat!G271","v":0},{"$f":"pqidat!H271","v":0},{"$f":"pqidat!I271","v":0},{"$f":"pqidat!J271","v":0},{"$f":"pqidat!K271","v":0},{"$f":"pqidat!L271","v":0},{"$f":"pqidat!M271","v":0},{"$f":"pqidat!N271","v":0},{"$f":"pqidat!O271","v":0},{"$f":"pqidat!P271","v":0},0,{"$f":"pqidat!Q271","v":0},{"$f":"pqidat!R271","v":0},{"$f":"pqidat!S271","v":0},{"$f":"pqidat!T271","v":0},{"$f":"pqidat!U271","v":0}]
[{"$f":"pqidat!A272","v":0},{"$f":"pqidat!B272","v":0},{"$f":"pqidat!C272","v":0},{"$f":"pqidat!D272","v":0},{"$f":"pqidat!E272","v":0},{"$f":"pqidat!F272","v":0},{"$f":"pqidat!G272","v":0},{"$f":"pqidat!H272","v":0},{"$f":"pqidat!I272","v":0},{"$f":"pqidat!J272","v":0},{"$f":"pqidat!K272","v":0},{"$f":"pqidat!L272","v":0},{"$f":"pqidat!M272","v":0},{"$f":"pqidat!N272","v":0},{"$f":"pqidat!O272","v":0},{"$f":"pqidat!P272","v":0},0,{"$f":"pqidat!Q272","v":0},{"$f":"pqidat!R272","v":0},{"$f":"pqidat!S272","v":0},{"$f":"pqidat!T272","v":0},{"$f":"pqidat!U272","v":0}]
[{"$f":"pqidat!A273","v":0},{"$f":"pqidat!B273","v":0},{"$f":"pqidat!C273","v":0},{"$f":"pqidat!D273","v":0},{"$f":"pqidat!E273","v":0},{"$f":"pqidat!F273","v":0},{"$f":"pqidat!G273","v":0},{"$f":"pqidat!H273","v":0},{"$f":"pqidat!I273","v":0},{"$f":"pqidat!J273","v":0},{"$f":"pqidat!K273","v":0},{"$f":"pqidat!L273","v":0},{"$f":"pqidat!M273","v":0},{"$f":"pqidat!N273","v":0},{"$f":"pqidat!O273","v":0},{"$f":"pqidat!P273","v":0},0,{"$f":"pqidat!Q273","v":0},{"$f":"pqidat!R273","v":0},{"$f":"pqidat!S273","v":0},{"$f":"pqidat!T273","v":0},{"$f":"pqidat!U273","v":0}]
[{"$f":"pqidat!A274","v":0},{"$f":"pqidat!B274","v":0},{"$f":"pqidat!C274","v":0},{"$f":"pqidat!D274","v":0},{"$f":"pqidat!E274","v":0},{"$f":"pqidat!F274","v":0},{"$f":"pqidat!G274","v":0},{"$f":"pqidat!H274","v":0},{"$f":"pqidat!I274","v":0},{"$f":"pqidat!J274","v":0},{"$f":"pqidat!K274","v":0},{"$f":"pqidat!L274","v":0},{"$f":"pqidat!M274","v":0},{"$f":"pqidat!N274","v":0},{"$f":"pqidat!O274","v":0},{"$f":"pqidat!P274","v":0},0,{"$f":"pqidat!Q274","v":0},{"$f":"pqidat!R274","v":0},{"$f":"pqidat!S274","v":0},{"$f":"pqidat!T274","v":0},{"$f":"pqidat!U274","v":0}]
[{"$f":"pqidat!A275","v":0},{"$f":"pqidat!B275","v":0},{"$f":"pqidat!C275","v":0},{"$f":"pqidat!D275","v":0},{"$f":"pqidat!E275","v":0},{"$f":"pqidat!F275","v":0},{"$f":"pqidat!G275","v":0},{"$f":"pqidat!H275","v":0},{"$f":"pqidat!I275","v":0},{"$f":"pqidat!J275","v":0},{"$f":"pqidat!K275","v":0},{"$f":"pqidat!L275","v":0},{"$f":"pqidat!M275","v":0},{"$f":"pqidat!N275","v":0},{"$f":"pqidat!O275","v":0},{"$f":"pqidat!P275","v":0},0,{"$f":"pqidat!Q275","v":0},{"$f":"pqidat!R275","v":0},{"$f":"pqidat!S275","v":0},{"$f":"pqidat!T275","v":0},{"$f":"pqidat!U275","v":0}]
[{"$f":"pqidat!A276","v":0},{"$f":"pqidat!B276","v":0},{"$f":"pqidat!C276","v":0},{"$f":"pqidat!D276","v":0},{"$f":"pqidat!E276","v":0},{"$f":"pqidat!F276","v":0},{"$f":"pqidat!G276","v":0},{"$f":"pqidat!H276","v":0},{"$f":"pqidat!I276","v":0},{"$f":"pqidat!J276","v":0},{"$f":"pqidat!K276","v":0},{"$f":"pqidat!L276","v":0},{"$f":"pqidat!M276","v":0},{"$f":"pqidat!N276","v":0},{"$f":"pqidat!O276","v":0},{"$f":"pqidat!P276","v":0},0,{"$f":"pqidat!Q276","v":0},{"$f":"pqidat!R276","v":0},{"$f":"pqidat!S276","v":0},{"$f":"pqidat!T276","v":0},{"$f":"pqidat!U276","v":0}]
[{"$f":"pqidat!A277","v":0},{"$f":"pqidat!B277","v":0},{"$f":"pqidat!C277","v":0},{"$f":"pqidat!D277","v":0},{"$f":"pqidat!E277","v":0},{"$f":"pqidat!F277","v":0},{"$f":"pqidat!G277","v":0},{"$f":"pqidat!H277","v":0},{"$f":"pqidat!I277","v":0},{"$f":"pqidat!J277","v":0},{"$f":"pqidat!K277","v":0},{"$f":"pqidat!L277","v":0},{"$f":"pqidat!M277","v":0},{"$f":"pqidat!N277","v":0},{"$f":"pqidat!O277","v":0},{"$f":"pqidat!P277","v":0},0,{"$f":"pqidat!Q277","v":0},{"$f":"pqidat!R277","v":0},{"$f":"pqidat!S277","v":0},{"$f":"pqidat!T277","v":0},{"$f":"pqidat!U277","v":0}]
[{"$f":"pqidat!A278","v":0},{"$f":"pqidat!B278","v":0},{"$f":"pqidat!C278","v":0},{"$f":"pqidat!D278","v":0},{"$f":"pqidat!E278","v":0},{"$f":"pqidat!F278","v":0},{"$f":"pqidat!G278","v":0},{"$f":"pqidat!H278","v":0},{"$f":"pqidat!I278","v":0},{"$f":"pqidat!J278","v":0},{"$f":"pqidat!K278","v":0},{"$f":"pqidat!L278","v":0},{"$f":"pqidat!M278","v":0},{"$f":"pqidat!N278","v":0},{"$f":"pqidat!O278","v":0},{"$f":"pqidat!P278","v":0},0,{"$f":"pqidat!Q278","v":0},{"$f":"pqidat!R278","v":0},{"$f":"pqidat!S278","v":0},{"$f":"pqidat!T278","v":0},{"$f":"pqidat!U278","v":0}]
[{"$f":"pqidat!A279","v":0},{"$f":"pqidat!B279","v":0},{"$f":"pqidat!C279","v":0},{"$f":"pqidat!D279","v":0},{"$f":"pqidat!E279","v":0},{"$f":"pqidat!F279","v":0},{"$f":"pqidat!G279","v":0},{"$f":"pqidat!H279","v":0},{"$f":"pqidat!I279","v":0},{"$f":"pqidat!J279","v":0},{"$f":"pqidat!K279","v":0},{"$f":"pqidat!L279","v":0},{"$f":"pqidat!M279","v":0},{"$f":"pqidat!N279","v":0},{"$f":"pqidat!O279","v":0},{"$f":"pqidat!P279","v":0},0,{"$f":"pqidat!Q279","v":0},{"$f":"pqidat!R279","v":0},{"$f":"pqidat!S279","v":0},{"$f":"pqidat!T279","v":0},{"$f":"pqidat!U279","v":0}]
[{"$f":"pqidat!A280","v":0},{"$f":"pqidat!B280","v":0},{"$f":"pqidat!C280","v":0},{"$f":"pqidat!D280","v":0},{"$f":"pqidat!E280","v":0},{"$f":"pqidat!F280","v":0},{"$f":"pqidat!G280","v":0},{"$f":"pqidat!H280","v":0},{"$f":"pqidat!I280","v":0},{"$f":"pqidat!J280","v":0},{"$f":"pqidat!K280","v":0},{"$f":"pqidat!L280","v":0},{"$f":"pqidat!M280","v":0},{"$f":"pqidat!N280","v":0},{"$f":"pqidat!O280","v":0},{"$f":"pqidat!P280","v":0},0,{"$f":"pqidat!Q280","v":0},{"$f":"pqidat!R280","v":0},{"$f":"pqidat!S280","v":0},{"$f":"pqidat!T280","v":0},{"$f":"pqidat!U280","v":0}]
[{"$f":"pqidat!A281","v":0},{"$f":"pqidat!B281","v":0},{"$f":"pqidat!C281","v":0},{"$f":"pqidat!D281","v":0},{"$f":"pqidat!E281","v":0},{"$f":"pqidat!F281","v":0},{"$f":"pqidat!G281","v":0},{"$f":"pqidat!H281","v":0},{"$f":"pqidat!I281","v":0},{"$f":"pqidat!J281","v":0},{"$f":"pqidat!K281","v":0},{"$f":"pqidat!L281","v":0},{"$f":"pqidat!M281","v":0},{"$f":"pqidat!N281","v":0},{"$f":"pqidat!O281","v":0},{"$f":"pqidat!P281","v":0},0,{"$f":"pqidat!Q281","v":0},{"$f":"pqidat!R281","v":0},{"$f":"pqidat!S281","v":0},{"$f":"pqidat!T281","v":0},{"$f":"pqidat!U281","v":0}]
[{"$f":"pqidat!A282","v":0},{"$f":"pqidat!B282","v":0},{"$f":"pqidat!C282","v":0},{"$f":"pqidat!D282","v":0},{"$f":"pqidat!E282","v":0},{"$f":"pqidat!F282","v":0},{"$f":"pqidat!G282","v":0},{"$f":"pqidat!H282","v":0},{"$f":"pqidat!I282","v":0},{"$f":"pqidat!J282","v":0},{"$f":"pqidat!K282","v":0},{"$f":"pqidat!L282","v":0},{"$f":"pqidat!M282","v":0},{"$f":"pqidat!N282","v":0},{"$f":"pqidat!O282","v":0},{"$f":"pqidat!P282","v":0},0,{"$f":"pqidat!Q282","v":0},{"$f":"pqidat!R282","v":0},{"$f":"pqidat!S282","v":0},{"$f":"pqidat!T282","v":0},{"$f":"pqidat!U282","v":0}]
[{"$f":"pqidat!A283","v":0},{"$f":"pqidat!B283","v":0},{"$f":"pqidat!C283","v":0},{"$f":"pqidat!D283","v":0},{"$f":"pqidat!E283","v":0},{"$f":"pqidat!F283","v":0},{"$f":"pqidat!G283","v":0},{"$f":"pqidat!H283","v":0},{"$f":"pqidat!I283","v":0},{"$f":"pqidat!J283","v":0},{"$f":"pqidat!K283","v":0},{"$f":"pqidat!L283","v":0},{"$f":"pqidat!M283","v":0},{"$f":"pqidat!N283","v":0},{"$f":"pqidat!O283","v":0},{"$f":"pqidat!P283","v":0},0,{"$f":"pqidat!Q283","v":0},{"$f":"pqidat!R283","v":0},{"$f":"pqidat!S283","v":0},{"$f":"pqidat!T283","v":0},{"$f":"pqidat!U283","v":0}]
[{"$f":"pqidat!A284","v":0},{"$f":"pqidat!B284","v":0},{"$f":"pqidat!C284","v":0},{"$f":"pqidat!D284","v":0},{"$f":"pqidat!E284","v":0},{"$f":"pqidat!F284","v":0},{"$f":"pqidat!G284","v":0},{"$f":"pqidat!H284","v":0},{"$f":"pqidat!I284","v":0},{"$f":"pqidat!J284","v":0},{"$f":"pqidat!K284","v":0},{"$f":"pqidat!L284","v":0},{"$f":"pqidat!M284","v":0},{"$f":"pqidat!N284","v":0},{"$f":"pqidat!O284","v":0},{"$f":"pqidat!P284","v":0},0,{"$f":"pqidat!Q284","v":0},{"$f":"pqidat!R284","v":0},{"$f":"pqidat!S284","v":0},{"$f":"pqidat!T284","v":0},{"$f":"pqidat!U284","v":0}]
[{"$f":"pqidat!A285","v":0},{"$f":"pqidat!B285","v":0},{"$f":"pqidat!C285","v":0},{"$f":"pqidat!D285","v":0},{"$f":"pqidat!E285","v":0},{"$f":"pqidat!F285","v":0},{"$f":"pqidat!G285","v":0},{"$f":"pqidat!H285","v":0},{"$f":"pqidat!I285","v":0},{"$f":"pqidat!J285","v":0},{"$f":"pqidat!K285","v":0},{"$f":"pqidat!L285","v":0},{"$f":"pqidat!M285","v":0},{"$f":"pqidat!N285","v":0},{"$f":"pqidat!O285","v":0},{"$f":"pqidat!P285","v":0},0,{"$f":"pqidat!Q285","v":0},{"$f":"pqidat!R285","v":0},{"$f":"pqidat!S285","v":0},{"$f":"pqidat!T285","v":0},{"$f":"pqidat!U285","v":0}]
[{"$f":"pqidat!A286","v":0},{"$f":"pqidat!B286","v":0},{"$f":"pqidat!C286","v":0},{"$f":"pqidat!D286","v":0},{"$f":"pqidat!E286","v":0},{"$f":"pqidat!F286","v":0},{"$f":"pqidat!G286","v":0},{"$f":"pqidat!H286","v":0},{"$f":"pqidat!I286","v":0},{"$f":"pqidat!J286","v":0},{"$f":"pqidat!K286","v":0},{"$f":"pqidat!L286","v":0},{"$f":"pqidat!M286","v":0},{"$f":"pqidat!N286","v":0},{"$f":"pqidat!O286","v":0},{"$f":"pqidat!P286","v":0},0,{"$f":"pqidat!Q286","v":0},{"$f":"pqidat!R286","v":0},{"$f":"pqidat!S286","v":0},{"$f":"pqidat!T286","v":0},{"$f":"pqidat!U286","v":0}]
[{"$f":"pqidat!A287","v":0},{"$f":"pqidat!B287","v":0},{"$f":"pqidat!C287","v":0},{"$f":"pqidat!D287","v":0},{"$f":"pqidat!E287","v":0},{"$f":"pqidat!F287","v":0},{"$f":"pqidat!G287","v":0},{"$f":"pqidat!H287","v":0},{"$f":"pqidat!I287","v":0},{"$f":"pqidat!J287","v":0},{"$f":"pqidat!K287","v":0},{"$f":"pqidat!L287","v":0},{"$f":"pqidat!M287","v":0},{"$f":"pqidat!N287","v":0},{"$f":"pqidat!O287","v":0},{"$f":"pqidat!P287","v":0},0,{"$f":"pqidat!Q287","v":0},{"$f":"pqidat!R287","v":0},{"$f":"pqidat!S287","v":0},{"$f":"pqidat!T287","v":0},{"$f":"pqidat!U287","v":0}]
[{"$f":"pqidat!A288","v":0},{"$f":"pqidat!B288","v":0},{"$f":"pqidat!C288","v":0},{"$f":"pqidat!D288","v":0},{"$f":"pqidat!E288","v":0},{"$f":"pqidat!F288","v":0},{"$f":"pqidat!G288","v":0},{"$f":"pqidat!H288","v":0},{"$f":"pqidat!I288","v":0},{"$f":"pqidat!J288","v":0},{"$f":"pqidat!K288","v":0},{"$f":"pqidat!L288","v":0},{"$f":"pqidat!M288","v":0},{"$f":"pqidat!N288","v":0},{"$f":"pqidat!O288","v":0},{"$f":"pqidat!P288","v":0},0,{"$f":"pqidat!Q288","v":0},{"$f":"pqidat!R288","v":0},{"$f":"pqidat!S288","v":0},{"$f":"pqidat!T288","v":0},{"$f":"pqidat!U288","v":0}]
[{"$f":"pqidat!A289","v":0},{"$f":"pqidat!B289","v":0},{"$f":"pqidat!C289","v":0},{"$f":"pqidat!D289","v":0},{"$f":"pqidat!E289","v":0},{"$f":"pqidat!F289","v":0},{"$f":"pqidat!G289","v":0},{"$f":"pqidat!H289","v":0},{"$f":"pqidat!I289","v":0},{"$f":"pqidat!J289","v":0},{"$f":"pqidat!K289","v":0},{"$f":"pqidat!L289","v":0},{"$f":"pqidat!M289","v":0},{"$f":"pqidat!N289","v":0},{"$f":"pqidat!O289","v":0},{"$f":"pqidat!P289","v":0},0,{"$f":"pqidat!Q289","v":0},{"$f":"pqidat!R289","v":0},{"$f":"pqidat!S289","v":0},{"$f":"pqidat!T289","v":0},{"$f":"pqidat!U289","v":0}]
[{"$f":"pqidat!A290","v":0},{"$f":"pqidat!B290","v":0},{"$f":"pqidat!C290","v":0},{"$f":"pqidat!D290","v":0},{"$f":"pqidat!E290","v":0},{"$f":"pqidat!F290","v":0},{"$f":"pqidat!G290","v":0},{"$f":"pqidat!H290","v":0},{"$f":"pqidat!I290","v":0},{"$f":"pqidat!J290","v":0},{"$f":"pqidat!K290","v":0},{"$f":"pqidat!L290","v":0},{"$f":"pqidat!M290","v":0},{"$f":"pqidat!N290","v":0},{"$f":"pqidat!O290","v":0},{"$f":"pqidat!P290","v":0},0,{"$f":"pqidat!Q290","v":0},{"$f":"pqidat!R290","v":0},{"$f":"pqidat!S290","v":0},{"$f":"pqidat!T290","v":0},{"$f":"pqidat!U290","v":0}]
[{"$f":"pqidat!A291","v":0},{"$f":"pqidat!B291","v":0},{"$f":"pqidat!C291","v":0},{"$f":"pqidat!D291","v":0},{"$f":"pqidat!E291","v":0},{"$f":"pqidat!F291","v":0},{"$f":"pqidat!G291","v":0},{"$f":"pqidat!H291","v":0},{"$f":"pqidat!I291","v":0},{"$f":"pqidat!J291","v":0},{"$f":"pqidat!K291","v":0},{"$f":"pqidat!L291","v":0},{"$f":"pqidat!M291","v":0},{"$f":"pqidat!N291","v":0},{"$f":"pqidat!O291","v":0},{"$f":"pqidat!P291","v":0},0,{"$f":"pqidat!Q291","v":0},{"$f":"pqidat!R291","v":0},{"$f":"pqidat!S291","v":0},{"$f":"pqidat!T291","v":0},{"$f":"pqidat!U291","v":0}]
[{"$f":"pqidat!A292","v":0},{"$f":"pqidat!B292","v":0},{"$f":"pqidat!C292","v":0},{"$f":"pqidat!D292","v":0},{"$f":"pqidat!E292","v":0},{"$f":"pqidat!F292","v":0},{"$f":"pqidat!G292","v":0},{"$f":"pqidat!H292","v":0},{"$f":"pqidat!I292","v":0},{"$f":"pqidat!J292","v":0},{"$f":"pqidat!K292","v":0},{"$f":"pqidat!L292","v":0},{"$f":"pqidat!M292","v":0},{"$f":"pqidat!N292","v":0},{"$f":"pqidat!O292","v":0},{"$f":"pqidat!P292","v":0},0,{"$f":"pqidat!Q292","v":0},{"$f":"pqidat!R292","v":0},{"$f":"pqidat!S292","v":0},{"$f":"pqidat!T292","v":0},{"$f":"pqidat!U292","v":0}]
[{"$f":"pqidat!A293","v":0},{"$f":"pqidat!B293","v":0},{"$f":"pqidat!C293","v":0},{"$f":"pqidat!D293","v":0},{"$f":"pqidat!E293","v":0},{"$f":"pqidat!F293","v":0},{"$f":"pqidat!G293","v":0},{"$f":"pqidat!H293","v":0},{"$f":"pqidat!I293","v":0},{"$f":"pqidat!J293","v":0},{"$f":"pqidat!K293","v":0},{"$f":"pqidat!L293","v":0},{"$f":"pqidat!M293","v":0},{"$f":"pqidat!N293","v":0},{"$f":"pqidat!O293","v":0},{"$f":"pqidat!P293","v":0},0,{"$f":"pqidat!Q293","v":0},{"$f":"pqidat!R293","v":0},{"$f":"pqidat!S293","v":0},{"$f":"pqidat!T293","v":0},{"$f":"pqidat!U293","v":0}]
[{"$f":"pqidat!A294","v":0},{"$f":"pqidat!B294","v":0},{"$f":"pqidat!C294","v":0},{"$f":"pqidat!D294","v":0},{"$f":"pqidat!E294","v":0},{"$f":"pqidat!F294","v":0},{"$f":"pqidat!G294","v":0},{"$f":"pqidat!H294","v":0},{"$f":"pqidat!I294","v":0},{"$f":"pqidat!J294","v":0},{"$f":"pqidat!K294","v":0},{"$f":"pqidat!L294","v":0},{"$f":"pqidat!M294","v":0},{"$f":"pqidat!N294","v":0},{"$f":"pqidat!O294","v":0},{"$f":"pqidat!P294","v":0},0,{"$f":"pqidat!Q294","v":0},{"$f":"pqidat!R294","v":0},{"$f":"pqidat!S294","v":0},{"$f":"pqidat!T294","v":0},{"$f":"pqidat!U294","v":0}]
[{"$f":"pqidat!A295","v":0},{"$f":"pqidat!B295","v":0},{"$f":"pqidat!C295","v":0},{"$f":"pqidat!D295","v":0},{"$f":"pqidat!E295","v":0},{"$f":"pqidat!F295","v":0},{"$f":"pqidat!G295","v":0},{"$f":"pqidat!H295","v":0},{"$f":"pqidat!I295","v":0},{"$f":"pqidat!J295","v":0},{"$f":"pqidat!K295","v":0},{"$f":"pqidat!L295","v":0},{"$f":"pqidat!M295","v":0},{"$f":"pqidat!N295","v":0},{"$f":"pqidat!O295","v":0},{"$f":"pqidat!P295","v":0},0,{"$f":"pqidat!Q295","v":0},{"$f":"pqidat!R295","v":0},{"$f":"pqidat!S295","v":0},{"$f":"pqidat!T295","v":0},{"$f":"pqidat!U295","v":0}]
[{"$f":"pqidat!A296","v":0},{"$f":"pqidat!B296","v":0},{"$f":"pqidat!C296","v":0},{"$f":"pqidat!D296","v":0},{"$f":"pqidat!E296","v":0},{"$f":"pqidat!F296","v":0},{"$f":"pqidat!G296","v":0},{"$f":"pqidat!H296","v":0},{"$f":"pqidat!I296","v":0},{"$f":"pqidat!J296","v":0},{"$f":"pqidat!K296","v":0},{"$f":"pqidat!L296","v":0},{"$f":"pqidat!M296","v":0},{"$f":"pqidat!N296","v":0},{"$f":"pqidat!O296","v":0},{"$f":"pqidat!P296","v":0},0,{"$f":"pqidat!Q296","v":0},{"$f":"pqidat!R296","v":0},{"$f":"pqidat!S296","v":0},{"$f":"pqidat!T296","v":0},{"$f":"pqidat!U296","v":0}]
[{"$f":"pqidat!A297","v":0},{"$f":"pqidat!B297","v":0},{"$f":"pqidat!C297","v":0},{"$f":"pqidat!D297","v":0},{"$f":"pqidat!E297","v":0},{"$f":"pqidat!F297","v":0},{"$f":"pqidat!G297","v":0},{"$f":"pqidat!H297","v":0},{"$f":"pqidat!I297","v":0},{"$f":"pqidat!J297","v":0},{"$f":"pqidat!K297","v":0},{"$f":"pqidat!L297","v":0},{"$f":"pqidat!M297","v":0},{"$f":"pqidat!N297","v":0},{"$f":"pqidat!O297","v":0},{"$f":"pqidat!P297","v":0},0,{"$f":"pqidat!Q297","v":0},{"$f":"pqidat!R297","v":0},{"$f":"pqidat!S297","v":0},{"$f":"pqidat!T297","v":0},{"$f":"pqidat!U297","v":0}]
[{"$f":"pqidat!A298","v":0},{"$f":"pqidat!B298","v":0},{"$f":"pqidat!C298","v":0},{"$f":"pqidat!D298","v":0},{"$f":"pqidat!E298","v":0},{"$f":"pqidat!F298","v":0},{"$f":"pqidat!G298","v":0},{"$f":"pqidat!H298","v":0},{"$f":"pqidat!I298","v":0},{"$f":"pqidat!J298","v":0},{"$f":"pqidat!K298","v":0},{"$f":"pqidat!L298","v":0},{"$f":"pqidat!M298","v":0},{"$f":"pqidat!N298","v":0},{"$f":"pqidat!O298","v":0},{"$f":"pqidat!P298","v":0},0,{"$f":"pqidat!Q298","v":0},{"$f":"pqidat!R298","v":0},{"$f":"pqidat!S298","v":0},{"$f":"pqidat!T298","v":0},{"$f":"pqidat!U298","v":0}]
[{"$f":"pqidat!A299","v":0},{"$f":"pqidat!B299","v":0},{"$f":"pqidat!C299","v":0},{"$f":"pqidat!D299","v":0},{"$f":"pqidat!E299","v":0},{"$f":"pqidat!F299","v":0},{"$f":"pqidat!G299","v":0},{"$f":"pqidat!H299","v":0},{"$f":"pqidat!I299","v":0},{"$f":"pqidat!J299","v":0},{"$f":"pqidat!K299","v":0},{"$f":"pqidat!L299","v":0},{"$f":"pqidat!M299","v":0},{"$f":"pqidat!N299","v":0},{"$f":"pqidat!O299","v":0},{"$f":"pqidat!P299","v":0},0,{"$f":"pqidat!Q299","v":0},{"$f":"pqidat!R299","v":0},{"$f":"pqidat!S299","v":0},{"$f":"pqidat!T299","v":0},{"$f":"pqidat!U299","v":0}]
[{"$f":"pqidat!A300","v":0},{"$f":"pqidat!B300","v":0},{"$f":"pqidat!C300","v":0},{"$f":"pqidat!D300","v":0},{"$f":"pqidat!E300","v":0},{"$f":"pqidat!F300","v":0},{"$f":"pqidat!G300","v":0},{"$f":"pqidat!H300","v":0},{"$f":"pqidat!I300","v":0},{"$f":"pqidat!J300","v":0},{"$f":"pqidat!K300","v":0},{"$f":"pqidat!L300","v":0},{"$f":"pqidat!M300","v":0},{"$f":"pqidat!N300","v":0},{"$f":"pqidat!O300","v":0},{"$f":"pqidat!P300","v":0},0,{"$f":"pqidat!Q300","v":0},{"$f":"pqidat!R300","v":0},{"$f":"pqidat!S300","v":0},{"$f":"pqidat!T300","v":0},{"$f":"pqidat!U300","v":0}]
[{"$f":"pqidat!A301","v":0},{"$f":"pqidat!B301","v":0},{"$f":"pqidat!C301","v":0},{"$f":"pqidat!D301","v":0},{"$f":"pqidat!E301","v":0},{"$f":"pqidat!F301","v":0},{"$f":"pqidat!G301","v":0},{"$f":"pqidat!H301","v":0},{"$f":"pqidat!I301","v":0},{"$f":"pqidat!J301","v":0},{"$f":"pqidat!K301","v":0},{"$f":"pqidat!L301","v":0},{"$f":"pqidat!M301","v":0},{"$f":"pqidat!N301","v":0},{"$f":"pqidat!O301","v":0},{"$f":"pqidat!P301","v":0},0,{"$f":"pqidat!Q301","v":0},{"$f":"pqidat!R301","v":0},{"$f":"pqidat!S301","v":0},{"$f":"pqidat!T301","v":0},{"$f":"pqidat!U301","v":0}]
[{"$f":"pqidat!A302","v":0},{"$f":"pqidat!B302","v":0},{"$f":"pqidat!C302","v":0},{"$f":"pqidat!D302","v":0},{"$f":"pqidat!E302","v":0},{"$f":"pqidat!F302","v":0},{"$f":"pqidat!G302","v":0},{"$f":"pqidat!H302","v":0},{"$f":"pqidat!I302","v":0},{"$f":"pqidat!J302","v":0},{"$f":"pqidat!K302","v":0},{"$f":"pqidat!L302","v":0},{"$f":"pqidat!M302","v":0},{"$f":"pqidat!N302","v":0},{"$f":"pqidat!O302","v":0},{"$f":"pqidat!P302","v":0},0,{"$f":"pqidat!Q302","v":0},{"$f":"pqidat!R302","v":0},{"$f":"pqidat!S302","v":0},{"$f":"pqidat!T302","v":0},{"$f":"pqidat!U302","v":0}]
[{"$f":"pqidat!A303","v":0},{"$f":"pqidat!B303","v":0},{"$f":"pqidat!C303","v":0},{"$f":"pqidat!D303","v":0},{"$f":"pqidat!E303","v":0},{"$f":"pqidat!F303","v":0},{"$f":"pqidat!G303","v":0},{"$f":"pqidat!H303","v":0},{"$f":"pqidat!I303","v":0},{"$f":"pqidat!J303","v":0},{"$f":"pqidat!K303","v":0},{"$f":"pqidat!L303","v":0},{"$f":"pqidat!M303","v":0},{"$f":"pqidat!N303","v":0},{"$f":"pqidat!O303","v":0},{"$f":"pqidat!P303","v":0},0,{"$f":"pqidat!Q303","v":0},{"$f":"pqidat!R303","v":0},{"$f":"pqidat!S303","v":0},{"$f":"pqidat!T303","v":0},{"$f":"pqidat!U303","v":0}]
[{"$f":"pqidat!A304","v":0},{"$f":"pqidat!B304","v":0},{"$f":"pqidat!C304","v":0},{"$f":"pqidat!D304","v":0},{"$f":"pqidat!E304","v":0},{"$f":"pqidat!F304","v":0},{"$f":"pqidat!G304","v":0},{"$f":"pqidat!H304","v":0},{"$f":"pqidat!I304","v":0},{"$f":"pqidat!J304","v":0},{"$f":"pqidat!K304","v":0},{"$f":"pqidat!L304","v":0},{"$f":"pqidat!M304","v":0},{"$f":"pqidat!N304","v":0},{"$f":"pqidat!O304","v":0},{"$f":"pqidat!P304","v":0},0,{"$f":"pqidat!Q304","v":0},{"$f":"pqidat!R304","v":0},{"$f":"pqidat!S304","v":0},{"$f":"pqidat!T304","v":0},{"$f":"pqidat!U304","v":0}]
[{"$f":"pqidat!A305","v":0},{"$f":"pqidat!B305","v":0},{"$f":"pqidat!C305","v":0},{"$f":"pqidat!D305","v":0},{"$f":"pqidat!E305","v":0},{"$f":"pqidat!F305","v":0},{"$f":"pqidat!G305","v":0},{"$f":"pqidat!H305","v":0},{"$f":"pqidat!I305","v":0},{"$f":"pqidat!J305","v":0},{"$f":"pqidat!K305","v":0},{"$f":"pqidat!L305","v":0},{"$f":"pqidat!M305","v":0},{"$f":"pqidat!N305","v":0},{"$f":"pqidat!O305","v":0},{"$f":"pqidat!P305","v":0},0,{"$f":"pqidat!Q305","v":0},{"$f":"pqidat!R305","v":0},{"$f":"pqidat!S305","v":0},{"$f":"pqidat!T305","v":0},{"$f":"pqidat!U305","v":0}]
[{"$f":"pqidat!A306","v":0},{"$f":"pqidat!B306","v":0},{"$f":"pqidat!C306","v":0},{"$f":"pqidat!D306","v":0},{"$f":"pqidat!E306","v":0},{"$f":"pqidat!F306","v":0},{"$f":"pqidat!G306","v":0},{"$f":"pqidat!H306","v":0},{"$f":"pqidat!I306","v":0},{"$f":"pqidat!J306","v":0},{"$f":"pqidat!K306","v":0},{"$f":"pqidat!L306","v":0},{"$f":"pqidat!M306","v":0},{"$f":"pqidat!N306","v":0},{"$f":"pqidat!O306","v":0},{"$f":"pqidat!P306","v":0},0,{"$f":"pqidat!Q306","v":0},{"$f":"pqidat!R306","v":0},{"$f":"pqidat!S306","v":0},{"$f":"pqidat!T306","v":0},{"$f":"pqidat!U306","v":0}]
[{"$f":"pqidat!A307","v":0},{"$f":"pqidat!B307","v":0},{"$f":"pqidat!C307","v":0},{"$f":"pqidat!D307","v":0},{"$f":"pqidat!E307","v":0},{"$f":"pqidat!F307","v":0},{"$f":"pqidat!G307","v":0},{"$f":"pqidat!H307","v":0},{"$f":"pqidat!I307","v":0},{"$f":"pqidat!J307","v":0},{"$f":"pqidat!K307","v":0},{"$f":"pqidat!L307","v":0},{"$f":"pqidat!M307","v":0},{"$f":"pqidat!N307","v":0},{"$f":"pqidat!O307","v":0},{"$f":"pqidat!P307","v":0},0,{"$f":"pqidat!Q307","v":0},{"$f":"pqidat!R307","v":0},{"$f":"pqidat!S307","v":0},{"$f":"pqidat!T307","v":0},{"$f":"pqidat!U307","v":0}]
[{"$f":"pqidat!A308","v":0},{"$f":"pqidat!B308","v":0},{"$f":"pqidat!C308","v":0},{"$f":"pqidat!D308","v":0},{"$f":"pqidat!E308","v":0},{"$f":"pqidat!F308","v":0},{"$f":"pqidat!G308","v":0},{"$f":"pqidat!H308","v":0},{"$f":"pqidat!I308","v":0},{"$f":"pqidat!J308","v":0},{"$f":"pqidat!K308","v":0},{"$f":"pqidat!L308","v":0},{"$f":"pqidat!M308","v":0},{"$f":"pqidat!N308","v":0},{"$f":"pqidat!O308","v":0},{"$f":"pqidat!P308","v":0},0,{"$f":"pqidat!Q308","v":0},{"$f":"pqidat!R308","v":0},{"$f":"pqidat!S308","v":0},{"$f":"pqidat!T308","v":0},{"$f":"pqidat!U308","v":0}]
[{"$f":"pqidat!A309","v":0},{"$f":"pqidat!B309","v":0},{"$f":"pqidat!C309","v":0},{"$f":"pqidat!D309","v":0},{"$f":"pqidat!E309","v":0},{"$f":"pqidat!F309","v":0},{"$f":"pqidat!G309","v":0},{"$f":"pqidat!H309","v":0},{"$f":"pqidat!I309","v":0},{"$f":"pqidat!J309","v":0},{"$f":"pqidat!K309","v":0},{"$f":"pqidat!L309","v":0},{"$f":"pqidat!M309","v":0},{"$f":"pqidat!N309","v":0},{"$f":"pqidat!O309","v":0},{"$f":"pqidat!P309","v":0},0,{"$f":"pqidat!Q309","v":0},{"$f":"pqidat!R309","v":0},{"$f":"pqidat!S309","v":0},{"$f":"pqidat!T309","v":0},{"$f":"pqidat!U309","v":0}]
[{"$f":"pqidat!A310","v":0},{"$f":"pqidat!B310","v":0},{"$f":"pqidat!C310","v":0},{"$f":"pqidat!D310","v":0},{"$f":"pqidat!E310","v":0},{"$f":"pqidat!F310","v":0},{"$f":"pqidat!G310","v":0},{"$f":"pqidat!H310","v":0},{"$f":"pqidat!I310","v":0},{"$f":"pqidat!J310","v":0},{"$f":"pqidat!K310","v":0},{"$f":"pqidat!L310","v":0},{"$f":"pqidat!M310","v":0},{"$f":"pqidat!N310","v":0},{"$f":"pqidat!O310","v":0},{"$f":"pqidat!P310","v":0},0,{"$f":"pqidat!Q310","v":0},{"$f":"pqidat!R310","v":0},{"$f":"pqidat!S310","v":0},{"$f":"pqidat!T310","v":0},{"$f":"pqidat!U310","v":0}]
[{"$f":"pqidat!A311","v":0},{"$f":"pqidat!B311","v":0},{"$f":"pqidat!C311","v":0},{"$f":"pqidat!D311","v":0},{"$f":"pqidat!E311","v":0},{"$f":"pqidat!F311","v":0},{"$f":"pqidat!G311","v":0},{"$f":"pqidat!H311","v":0},{"$f":"pqidat!I311","v":0},{"$f":"pqidat!J311","v":0},{"$f":"pqidat!K311","v":0},{"$f":"pqidat!L311","v":0},{"$f":"pqidat!M311","v":0},{"$f":"pqidat!N311","v":0},{"$f":"pqidat!O311","v":0},{"$f":"pqidat!P311","v":0},0,{"$f":"pqidat!Q311","v":0},{"$f":"pqidat!R311","v":0},{"$f":"pqidat!S311","v":0},{"$f":"pqidat!T311","v":0},{"$f":"pqidat!U311","v":0}]
[{"$f":"pqidat!A312","v":0},{"$f":"pqidat!B312","v":0},{"$f":"pqidat!C312","v":0},{"$f":"pqidat!D312","v":0},{"$f":"pqidat!E312","v":0},{"$f":"pqidat!F312","v":0},{"$f":"pqidat!G312","v":0},{"$f":"pqidat!H312","v":0},{"$f":"pqidat!I312","v":0},{"$f":"pqidat!J312","v":0},{"$f":"pqidat!K312","v":0},{"$f":"pqidat!L312","v":0},{"$f":"pqidat!M312","v":0},{"$f":"pqidat!N312","v":0},{"$f":"pqidat!O312","v":0},{"$f":"pqidat!P312","v":0},0,{"$f":"pqidat!Q312","v":0},{"$f":"pqidat!R312","v":0},{"$f":"pqidat!S312","v":0},{"$f":"pqidat!T312","v":0},{"$f":"pqidat!U312","v":0}]
[{"$f":"pqidat!A313","v":0},{"$f":"pqidat!B313","v":0},{"$f":"pqidat!C313","v":0},{"$f":"pqidat!D313","v":0},{"$f":"pqidat!E313","v":0},{"$f":"pqidat!F313","v":0},{"$f":"pqidat!G313","v":0},{"$f":"pqidat!H313","v":0},{"$f":"pqidat!I313","v":0},{"$f":"pqidat!J313","v":0},{"$f":"pqidat!K313","v":0},{"$f":"pqidat!L313","v":0},{"$f":"pqidat!M313","v":0},{"$f":"pqidat!N313","v":0},{"$f":"pqidat!O313","v":0},{"$f":"pqidat!P313","v":0},0,{"$f":"pqidat!Q313","v":0},{"$f":"pqidat!R313","v":0},{"$f":"pqidat!S313","v":0},{"$f":"pqidat!T313","v":0},{"$f":"pqidat!U313","v":0}]
[{"$f":"pqidat!A314","v":0},{"$f":"pqidat!B314","v":0},{"$f":"pqidat!C314","v":0},{"$f":"pqidat!D314","v":0},{"$f":"pqidat!E314","v":0},{"$f":"pqidat!F314","v":0},{"$f":"pqidat!G314","v":0},{"$f":"pqidat!H314","v":0},{"$f":"pqidat!I314","v":0},{"$f":"pqidat!J314","v":0},{"$f":"pqidat!K314","v":0},{"$f":"pqidat!L314","v":0},{"$f":"pqidat!M314","v":0},{"$f":"pqidat!N314","v":0},{"$f":"pqidat!O314","v":0},{"$f":"pqidat!P314","v":0},0,{"$f":"pqidat!Q314","v":0},{"$f":"pqidat!R314","v":0},{"$f":"pqidat!S314","v":0},{"$f":"pqidat!T314","v":0},{"$f":"pqidat!U314","v":0}]
[{"$f":"pqidat!A315","v":0},{"$f":"pqidat!B315","v":0},{"$f":"pqidat!C315","v":0},{"$f":"pqidat!D315","v":0},{"$f":"pqidat!E315","v":0},{"$f":"pqidat!F315","v":0},{"$f":"pqidat!G315","v":0},{"$f":"pqidat!H315","v":0},{"$f":"pqidat!I315","v":0},{"$f":"pqidat!J315","v":0},{"$f":"pqidat!K315","v":0},{"$f":"pqidat!L315","v":0},{"$f":"pqidat!M315","v":0},{"$f":"pqidat!N315","v":0},{"$f":"pqidat!O315","v":0},{"$f":"pqidat!P315","v":0},0,{"$f":"pqidat!Q315","v":0},{"$f":"pqidat!R315","v":0},{"$f":"pqidat!S315","v":0},{"$f":"pqidat!T315","v":0},{"$f":"pqidat!U315","v":0}]
[{"$f":"pqidat!A316","v":0},{"$f":"pqidat!B316","v":0},{"$f":"pqidat!C316","v":0},{"$f":"pqidat!D316","v":0},{"$f":"pqidat!E316","v":0},{"$f":"pqidat!F316","v":0},{"$f":"pqidat!G316","v":0},{"$f":"pqidat!H316","v":0},{"$f":"pqidat!I316","v":0},{"$f":"pqidat!J316","v":0},{"$f":"pqidat!K316","v":0},{"$f":"pqidat!L316","v":0},{"$f":"pqidat!M316","v":0},{"$f":"pqidat!N316","v":0},{"$f":"pqidat!O316","v":0},{"$f":"pqidat!P316","v":0},0,{"$f":"pqidat!Q316","v":0},{"$f":"pqidat!R316","v":0},{"$f":"pqidat!S316","v":0},{"$f":"pqidat!T316","v":0},{"$f":"pqidat!U316","v":0}]
[{"$f":"pqidat!A317","v":0},{"$f":"pqidat!B317","v":0},{"$f":"pqidat!C317","v":0},{"$f":"pqidat!D317","v":0},{"$f":"pqidat!E317","v":0},{"$f":"pqidat!F317","v":0},{"$f":"pqidat!G317","v":0},{"$f":"pqidat!H317","v":0},{"$f":"pqidat!I317","v":0},{"$f":"pqidat!J317","v":0},{"$f":"pqidat!K317","v":0},{"$f":"pqidat!L317","v":0},{"$f":"pqidat!M317","v":0},{"$f":"pqidat!N317","v":0},{"$f":"pqidat!O317","v":0},{"$f":"pqidat!P317","v":0},0,{"$f":"pqidat!Q317","v":0},{"$f":"pqidat!R317","v":0},{"$f":"pqidat!S317","v":0},{"$f":"pqidat!T317","v":0},{"$f":"pqidat!U317","v":0}]
[{"$f":"pqidat!A318","v":0},{"$f":"pqidat!B318","v":0},{"$f":"pqidat!C318","v":0},{"$f":"pqidat!D318","v":0},{"$f":"pqidat!E318","v":0},{"$f":"pqidat!F318","v":0},{"$f":"pqidat!G318","v":0},{"$f":"pqidat!H318","v":0},{"$f":"pqidat!I318","v":0},{"$f":"pqidat!J318","v":0},{"$f":"pqidat!K318","v":0},{"$f":"pqidat!L318","v":0},{"$f":"pqidat!M318","v":0},{"$f":"pqidat!N318","v":0},{"$f":"pqidat!O318","v":0},{"$f":"pqidat!P318","v":0},0,{"$f":"pqidat!Q318","v":0},{"$f":"pqidat!R318","v":0},{"$f":"pqidat!S318","v":0},{"$f":"pqidat!T318","v":0},{"$f":"pqidat!U318","v":0}]
[{"$f":"pqidat!A319","v":0},{"$f":"pqidat!B319","v":0},{"$f":"pqidat!C319","v":0},{"$f":"pqidat!D319","v":0},{"$f":"pqidat!E319","v":0},{"$f":"pqidat!F319","v":0},{"$f":"pqidat!G319","v":0},{"$f":"pqidat!H319","v":0},{"$f":"pqidat!I319","v":0},{"$f":"pqidat!J319","v":0},{"$f":"pqidat!K319","v":0},{"$f":"pqidat!L319","v":0},{"$f":"pqidat!M319","v":0},{"$f":"pqidat!N319","v":0},{"$f":"pqidat!O319","v":0},{"$f":"pqidat!P319","v":0},0,{"$f":"pqidat!Q319","v":0},{"$f":"pqidat!R319","v":0},{"$f":"pqidat!S319","v":0},{"$f":"pqidat!T319","v":0},{"$f":"pqidat!U319","v":0}]
[{"$f":"pqidat!A320","v":0},{"$f":"pqidat!B320","v":0},{"$f":"pqidat!C320","v":0},{"$f":"pqidat!D320","v":0},{"$f":"pqidat!E320","v":0},{"$f":"pqidat!F320","v":0},{"$f":"pqidat!G320","v":0},{"$f":"pqidat!H320","v":0},{"$f":"pqidat!I320","v":0},{"$f":"pqidat!J320","v":0},{"$f":"pqidat!K320","v":0},{"$f":"pqidat!L320","v":0},{"$f":"pqidat!M320","v":0},{"$f":"pqidat!N320","v":0},{"$f":"pqidat!O320","v":0},{"$f":"pqidat!P320","v":0},0,{"$f":"pqidat!Q320","v":0},{"$f":"pqidat!R320","v":0},{"$f":"pqidat!S320","v":0},{"$f":"pqidat!T320","v":0},{"$f":"pqidat!U320","v":0}]
[{"$f":"pqidat!A321","v":0},{"$f":"pqidat!B321","v":0},{"$f":"pqidat!C321","v":0},{"$f":"pqidat!D321","v":0},{"$f":"pqidat!E321","v":0},{"$f":"pqidat!F321","v":0},{"$f":"pqidat!G321","v":0},{"$f":"pqidat!H321","v":0},{"$f":"pqidat!I321","v":0},{"$f":"pqidat!J321","v":0},{"$f":"pqidat!K321","v":0},{"$f":"pqidat!L321","v":0},{"$f":"pqidat!M321","v":0},{"$f":"pqidat!N321","v":0},{"$f":"pqidat!O321","v":0},{"$f":"pqidat!P321","v":0},0,{"$f":"pqidat!Q321","v":0},{"$f":"pqidat!R321","v":0},{"$f":"pqidat!S321","v":0},{"$f":"pqidat!T321","v":0},{"$f":"pqidat!U321","v":0}]
[{"$f":"pqidat!A322","v":0},{"$f":"pqidat!B322","v":0},{"$f":"pqidat!C322","v":0},{"$f":"pqidat!D322","v":0},{"$f":"pqidat!E322","v":0},{"$f":"pqidat!F322","v":0},{"$f":"pqidat!G322","v":0},{"$f":"pqidat!H322","v":0},{"$f":"pqidat!I322","v":0},{"$f":"pqidat!J322","v":0},{"$f":"pqidat!K322","v":0},{"$f":"pqidat!L322","v":0},{"$f":"pqidat!M322","v":0},{"$f":"pqidat!N322","v":0},{"$f":"pqidat!O322","v":0},{"$f":"pqidat!P322","v":0},0,{"$f":"pqidat!Q322","v":0},{"$f":"pqidat!R322","v":0},{"$f":"pqidat!S322","v":0},{"$f":"pqidat!T322","v":0},{"$f":"pqidat!U322","v":0}]
[{"$f":"pqidat!A323","v":0},{"$f":"pqidat!B323","v":0},{"$f":"pqidat!C323","v":0},{"$f":"pqidat!D323","v":0},{"$f":"pqidat!E323","v":0},{"$f":"pqidat!F323","v":0},{"$f":"pqidat!G323","v":0},{"$f":"pqidat!H323","v":0},{"$f":"pqidat!I323","v":0},{"$f":"pqidat!J323","v":0},{"$f":"pqidat!K323","v":0},{"$f":"pqidat!L323","v":0},{"$f":"pqidat!M323","v":0},{"$f":"pqidat!N323","v":0},{"$f":"pqidat!O323","v":0},{"$f":"pqidat!P323","v":0},0,{"$f":"pqidat!Q323","v":0},{"$f":"pqidat!R323","v":0},{"$f":"pqidat!S323","v":0},{"$f":"pqidat!T323","v":0},{"$f":"pqidat!U323","v":0}]
[{"$f":"pqidat!A324","v":0},{"$f":"pqidat!B324","v":0},{"$f":"pqidat!C324","v":0},{"$f":"pqidat!D324","v":0},{"$f":"pqidat!E324","v":0},{"$f":"pqidat!F324","v":0},{"$f":"pqidat!G324","v":0},{"$f":"pqidat!H324","v":0},{"$f":"pqidat!I324","v":0},{"$f":"pqidat!J324","v":0},{"$f":"pqidat!K324","v":0},{"$f":"pqidat!L324","v":0},{"$f":"pqidat!M324","v":0},{"$f":"pqidat!N324","v":0},{"$f":"pqidat!O324","v":0},{"$f":"pqidat!P324","v":0},0,{"$f":"pqidat!Q324","v":0},{"$f":"pqidat!R324","v":0},{"$f":"pqidat!S324","v":0},{"$f":"pqidat!T324","v":0},{"$f":"pqidat!U324","v":0}]
[{"$f":"pqidat!A325","v":0},{"$f":"pqidat!B325","v":0},{"$f":"pqidat!C325","v":0},{"$f":"pqidat!D325","v":0},{"$f":"pqidat!E325","v":0},{"$f":"pqidat!F325","v":0},{"$f":"pqidat!G325","v":0},{"$f":"pqidat!H325","v":0},{"$f":"pqidat!I325","v":0},{"$f":"pqidat!J325","v":0},{"$f":"pqidat!K325","v":0},{"$f":"pqidat!L325","v":0},{"$f":"pqidat!M325","v":0},{"$f":"pqidat!N325","v":0},{"$f":"pqidat!O325","v":0},{"$f":"pqidat!P325","v":0},{"$f":"IF(P323=0,0,IF(P323>Minimum,\"Pass\",\"Fail\"))","v":0},{"$f":"pqidat!Q325","v":0},{"$f":"pqidat!R325","v":0},{"$f":"pqidat!S325","v":0},{"$f":"pqidat!T325","v":0},{"$f":"pqidat!U325","v":0}]
[{"$f":"pqidat!A326","v":0},{"$f":"pqidat!B326","v":0},{"$f":"pqidat!C326","v":0},{"$f":"pqidat!D326","v":0},{"$f":"pqidat!E326","v":0},{"$f":"pqidat!F326","v":0},{"$f":"pqidat!G326","v":0},{"$f":"pqidat!H326","v":0},{"$f":"pqidat!I326","v":0},{"$f":"pqidat!J326","v":0},{"$f":"pqidat!K326","v":0},{"$f":"pqidat!L326","v":0},{"$f":"pqidat!M326","v":0},{"$f":"pqidat!N326","v":0},{"$f":"pqidat!O326","v":0},{"$f":"pqidat!P326","v":0},0,{"$f":"pqidat!Q326","v":0},{"$f":"pqidat!R326","v":0},{"$f":"pqidat!S326","v":0},{"$f":"pqidat!T326","v":0},{"$f":"pqidat!U326","v":0}]
[{"$f":"pqidat!A327","v":0},{"$f":"pqidat!B327","v":0},{"$f":"pqidat!C327","v":0},{"$f":"pqidat!D327","v":0},{"$f":"pqidat!E327","v":0},{"$f":"pqidat!F327","v":0},{"$f":"pqidat!G327","v":0},{"$f":"pqidat!H327","v":0},{"$f":"pqidat!I327","v":0},{"$f":"pqidat!J327","v":0},{"$f":"pqidat!K327","v":0},{"$f":"pqidat!L327","v":0},{"$f":"pqidat!M327","v":0},{"$f":"pqidat!N327","v":0},{"$f":"pqidat!O327","v":0},{"$f":"pqidat!P327","v":0},0,{"$f":"pqidat!Q327","v":0},{"$f":"pqidat!R327","v":0},{"$f":"pqidat!S327","v":0},{"$f":"pqidat!T327","v":0},{"$f":"pqidat!U327","v":0}]
[{"$f":"pqidat!A328","v":0},{"$f":"pqidat!B328","v":0},{"$f":"pqidat!C328","v":0},{"$f":"pqidat!D328","v":0},{"$f":"pqidat!E328","v":0},{"$f":"pqidat!F328","v":0},{"$f":"pqidat!G328","v":0},{"$f":"pqidat!H328","v":0},{"$f":"pqidat!I328","v":0},{"$f":"pqidat!J328","v":0},{"$f":"pqidat!K328","v":0},{"$f":"pqidat!L328","v":0},{"$f":"pqidat!M328","v":0},{"$f":"pqidat!N328","v":0},{"$f":"pqidat!O328","v":0},{"$f":"pqidat!P328","v":0},0,{"$f":"pqidat!Q328","v":0},{"$f":"pqidat!R328","v":0},{"$f":"pqidat!S328","v":0},{"$f":"pqidat!T328","v":0},{"$f":"pqidat!U328","v":0}]
[{"$f":"pqidat!A329","v":0},{"$f":"pqidat!B329","v":0},{"$f":"pqidat!C329","v":0},{"$f":"pqidat!D329","v":0},{"$f":"pqidat!E329","v":0},{"$f":"pqidat!F329","v":0},{"$f":"pqidat!G329","v":0},{"$f":"pqidat!H329","v":0},{"$f":"pqidat!I329","v":0},{"$f":"pqidat!J329","v":0},{"$f":"pqidat!K329","v":0},{"$f":"pqidat!L329","v":0},{"$f":"pqidat!M329","v":0},{"$f":"pqidat!N329","v":0},{"$f":"pqidat!O329","v":0},{"$f":"pqidat!P329","v":0},0,{"$f":"pqidat!Q329","v":0},{"$f":"pqidat!R329","v":0},{"$f":"pqidat!S329","v":0},{"$f":"pqidat!T329","v":0},{"$f":"pqidat!U329","v":0}]
[{"$f":"pqidat!A330","v":0},{"$f":"pqidat!B330","v":0},{"$f":"pqidat!C330","v":0},{"$f":"pqidat!D330","v":0},{"$f":"pqidat!E330","v":0},{"$f":"pqidat!F330","v":0},{"$f":"pqidat!G330","v":0},{"$f":"pqidat!H330","v":0},{"$f":"pqidat!I330","v":0},{"$f":"pqidat!J330","v":0},{"$f":"pqidat!K330","v":0},{"$f":"pqidat!L330","v":0},{"$f":"pqidat!M330","v":0},{"$f":"pqidat!N330","v":0},{"$f":"pqidat!O330","v":0},{"$f":"pqidat!P330","v":0},0,{"$f":"pqidat!Q330","v":0},{"$f":"pqidat!R330","v":0},{"$f":"pqidat!S330","v":0},{"$f":"pqidat!T330","v":0},{"$f":"pqidat!U330","v":0}]
[{"$f":"pqidat!A331","v":0},{"$f":"pqidat!B331","v":0},{"$f":"pqidat!C331","v":0},{"$f":"pqidat!D331","v":0},{"$f":"pqidat!E331","v":0},{"$f":"pqidat!F331","v":0},{"$f":"pqidat!G331","v":0},{"$f":"pqidat!H331","v":0},{"$f":"pqidat!I331","v":0},{"$f":"pqidat!J331","v":0},{"$f":"pqidat!K331","v":0},{"$f":"pqidat!L331","v":0},{"$f":"pqidat!M331","v":0},{"$f":"pqidat!N331","v":0},{"$f":"pqidat!O331","v":0},{"$f":"pqidat!P331","v":0},0,{"$f":"pqidat!Q331","v":0},{"$f":"pqidat!R331","v":0},{"$f":"pqidat!S331","v":0},{"$f":"pqidat!T331","v":0},{"$f":"pqidat!U331","v":0}]
[{"$f":"pqidat!A332","v":0},{"$f":"pqidat!B332","v":0},{"$f":"pqidat!C332","v":0},{"$f":"pqidat!D332","v":0},{"$f":"pqidat!E332","v":0},{"$f":"pqidat!F332","v":0},{"$f":"pqidat!G332","v":0},{"$f":"pqidat!H332","v":0},{"$f":"pqidat!I332","v":0},{"$f":"pqidat!J332","v":0},{"$f":"pqidat!K332","v":0},{"$f":"pqidat!L332","v":0},{"$f":"pqidat!M332","v":0},{"$f":"pqidat!N332","v":0},{"$f":"pqidat!O332","v":0},{"$f":"pqidat!P332","v":0},0,{"$f":"pqidat!Q332","v":0},{"$f":"pqidat!R332","v":0},{"$f":"pqidat!S332","v":0},{"$f":"pqidat!T332","v":0},{"$f":"pqidat!U332","v":0}]
[{"$f":"pqidat!A333","v":0},{"$f":"pqidat!B333","v":0},{"$f":"pqidat!C333","v":0},{"$f":"pqidat!D333","v":0},{"$f":"pqidat!E333","v":0},{"$f":"pqidat!F333","v":0},{"$f":"pqidat!G333","v":0},{"$f":"pqidat!H333","v":0},{"$f":"pqidat!I333","v":0},{"$f":"pqidat!J333","v":0},{"$f":"pqidat!K333","v":0},{"$f":"pqidat!L333","v":0},{"$f":"pqidat!M333","v":0},{"$f":"pqidat!N333","v":0},{"$f":"pqidat!O333","v":0},{"$f":"pqidat!P333","v":0},0,{"$f":"pqidat!Q333","v":0},{"$f":"pqidat!R333","v":0},{"$f":"pqidat!S333","v":0},{"$f":"pqidat!T333","v":0},{"$f":"pqidat!U333","v":0}]
[{"$f":"pqidat!A334","v":0},{"$f":"pqidat!B334","v":0},{"$f":"pqidat!C334","v":0},{"$f":"pqidat!D334","v":0},{"$f":"pqidat!E334","v":0},{"$f":"pqidat!F334","v":0},{"$f":"pqidat!G334","v":0},{"$f":"pqidat!H334","v":0},{"$f":"pqidat!I334","v":0},{"$f":"pqidat!J334","v":0},{"$f":"pqidat!K334","v":0},{"$f":"pqidat!L334","v":0},{"$f":"pqidat!M334","v":0},{"$f":"pqidat!N334","v":0},{"$f":"pqidat!O334","v":0},{"$f":"pqidat!P334","v":0},0,{"$f":"pqidat!Q334","v":0},{"$f":"pqidat!R334","v":0},{"$f":"pqidat!S334","v":0},{"$f":"pqidat!T334","v":0},{"$f":"pqidat!U334","v":0}]
[{"$f":"pqidat!A335","v":0},{"$f":"pqidat!B335","v":0},{"$f":"pqidat!C335","v":0},{"$f":"pqidat!D335","v":0},{"$f":"pqidat!E335","v":0},{"$f":"pqidat!F335","v":0},{"$f":"pqidat!G335","v":0},{"$f":"pqidat!H335","v":0},{"$f":"pqidat!I335","v":0},{"$f":"pqidat!J335","v":0},{"$f":"pqidat!K335","v":0},{"$f":"pqidat!L335","v":0},{"$f":"pqidat!M335","v":0},{"$f":"pqidat!N335","v":0},{"$f":"pqidat!O335","v":0},{"$f":"pqidat!P335","v":0},0,{"$f":"pqidat!Q335","v":0},{"$f":"pqidat!R335","v":0},{"$f":"pqidat!S335","v":0},{"$f":"pqidat!T335","v":0},{"$f":"pqidat!U335","v":0}]
[{"$f":"pqidat!A336","v":0},{"$f":"pqidat!B336","v":0},{"$f":"pqidat!C336","v":0},{"$f":"pqidat!D336","v":0},{"$f":"pqidat!E336","v":0},{"$f":"pqidat!F336","v":0},{"$f":"pqidat!G336","v":0},{"$f":"pqidat!H336","v":0},{"$f":"pqidat!I336","v":0},{"$f":"pqidat!J336","v":0},{"$f":"pqidat!K336","v":0},{"$f":"pqidat!L336","v":0},{"$f":"pqidat!M336","v":0},{"$f":"pqidat!N336","v":0},{"$f":"pqidat!O336","v":0},{"$f":"pqidat!P336","v":0},0,{"$f":"pqidat!Q336","v":0},{"$f":"pqidat!R336","v":0},{"$f":"pqidat!S336","v":0},{"$f":"pqidat!T336","v":0},{"$f":"pqidat!U336","v":0}]
[{"$f":"pqidat!A337","v":0},{"$f":"pqidat!B337","v":0},{"$f":"pqidat!C337","v":0},{"$f":"pqidat!D337","v":0},{"$f":"pqidat!E337","v":0},{"$f":"pqidat!F337","v":0},{"$f":"pqidat!G337","v":0},{"$f":"pqidat!H337","v":0},{"$f":"pqidat!I337","v":0},{"$f":"pqidat!J337","v":0},{"$f":"pqidat!K337","v":0},{"$f":"pqidat!L337","v":0},{"$f":"pqidat!M337","v":0},{"$f":"pqidat!N337","v":0},{"$f":"pqidat!O337","v":0},{"$f":"pqidat!P337","v":0},0,{"$f":"pqidat!Q337","v":0},{"$f":"pqidat!R337","v":0},{"$f":"pqidat!S337","v":0},{"$f":"pqidat!T337","v":0},{"$f":"pqidat!U337","v":0}]
[{"$f":"pqidat!A338","v":0},{"$f":"pqidat!B338","v":0},{"$f":"pqidat!C338","v":0},{"$f":"pqidat!D338","v":0},{"$f":"pqidat!E338","v":0},{"$f":"pqidat!F338","v":0},{"$f":"pqidat!G338","v":0},{"$f":"pqidat!H338","v":0},{"$f":"pqidat!I338","v":0},{"$f":"pqidat!J338","v":0},{"$f":"pqidat!K338","v":0},{"$f":"pqidat!L338","v":0},{"$f":"pqidat!M338","v":0},{"$f":"pqidat!N338","v":0},{"$f":"pqidat!O338","v":0},{"$f":"pqidat!P338","v":0},0,{"$f":"pqidat!Q338","v":0},{"$f":"pqidat!R338","v":0},{"$f":"pqidat!S338","v":0},{"$f":"pqidat!T338","v":0},{"$f":"pqidat!U338","v":0}]
[{"$f":"pqidat!A339","v":0},{"$f":"pqidat!B339","v":0},{"$f":"pqidat!C339","v":0},{"$f":"pqidat!D339","v":0},{"$f":"pqidat!E339","v":0},{"$f":"pqidat!F339","v":0},{"$f":"pqidat!G339","v":0},{"$f":"pqidat!H339","v":0},{"$f":"pqidat!I339","v":0},{"$f":"pqidat!J339","v":0},{"$f":"pqidat!K339","v":0},{"$f":"pqidat!L339","v":0},{"$f":"pqidat!M339","v":0},{"$f":"pqidat!N339","v":0},{"$f":"pqidat!O339","v":0},{"$f":"pqidat!P339","v":0},0,{"$f":"pqidat!Q339","v":0},{"$f":"pqidat!R339","v":0},{"$f":"pqidat!S339","v":0},{"$f":"pqidat!T339","v":0},{"$f":"pqidat!U339","v":0}]
[{"$f":"pqidat!A340","v":0},{"$f":"pqidat!B340","v":0},{"$f":"pqidat!C340","v":0},{"$f":"pqidat!D340","v":0},{"$f":"pqidat!E340","v":0},{"$f":"pqidat!F340","v":0},{"$f":"pqidat!G340","v":0},{"$f":"pqidat!H340","v":0},{"$f":"pqidat!I340","v":0},{"$f":"pqidat!J340","v":0},{"$f":"pqidat!K340","v":0},{"$f":"pqidat!L340","v":0},{"$f":"pqidat!M340","v":0},{"$f":"pqidat!N340","v":0},{"$f":"pqidat!O340","v":0},{"$f":"pqidat!P340","v":0},0,{"$f":"pqidat!Q340","v":0},{"$f":"pqidat!R340","v":0},{"$f":"pqidat!S340","v":0},{"$f":"pqidat!T340","v":0},{"$f":"pqidat!U340","v":0}]
[{"$f":"pqidat!A341","v":0},{"$f":"pqidat!B341","v":0},{"$f":"pqidat!C341","v":0},{"$f":"pqidat!D341","v":0},{"$f":"pqidat!E341","v":0},{"$f":"pqidat!F341","v":0},{"$f":"pqidat!G341","v":0},{"$f":"pqidat!H341","v":0},{"$f":"pqidat!I341","v":0},{"$f":"pqidat!J341","v":0},{"$f":"pqidat!K341","v":0},{"$f":"pqidat!L341","v":0},{"$f":"pqidat!M341","v":0},{"$f":"pqidat!N341","v":0},{"$f":"pqidat!O341","v":0},{"$f":"pqidat!P341","v":0},0,{"$f":"pqidat!Q341","v":0},{"$f":"pqidat!R341","v":0},{"$f":"pqidat!S341","v":0},{"$f":"pqidat!T341","v":0},{"$f":"pqidat!U341","v":0}]
[{"$f":"pqidat!A342","v":0},{"$f":"pqidat!B342","v":0},{"$f":"pqidat!C342","v":0},{"$f":"pqidat!D342","v":0},{"$f":"pqidat!E342","v":0},{"$f":"pqidat!F342","v":0},{"$f":"pqidat!G342","v":0},{"$f":"pqidat!H342","v":0},{"$f":"pqidat!I342","v":0},{"$f":"pqidat!J342","v":0},{"$f":"pqidat!K342","v":0},{"$f":"pqidat!L342","v":0},{"$f":"pqidat!M342","v":0},{"$f":"pqidat!N342","v":0},{"$f":"pqidat!O342","v":0},{"$f":"pqidat!P342","v":0},0,{"$f":"pqidat!Q342","v":0},{"$f":"pqidat!R342","v":0},{"$f":"pqidat!S342","v":0},{"$f":"pqidat!T342","v":0},{"$f":"pqidat!U342","v":0}]
[{"$f":"pqidat!A343","v":0},{"$f":"pqidat!B343","v":0},{"$f":"pqidat!C343","v":0},{"$f":"pqidat!D343","v":0},{"$f":"pqidat!E343","v":0},{"$f":"pqidat!F343","v":0},{"$f":"pqidat!G343","v":0},{"$f":"pqidat!H343","v":0},{"$f":"pqidat!I343","v":0},{"$f":"pqidat!J343","v":0},{"$f":"pqidat!K343","v":0},{"$f":"pqidat!L343","v":0},{"$f":"pqidat!M343","v":0},{"$f":"pqidat!N343","v":0},{"$f":"pqidat!O343","v":0},{"$f":"pqidat!P343","v":0},0,{"$f":"pqidat!Q343","v":0},{"$f":"pqidat!R343","v":0},{"$f":"pqidat!S343","v":0},{"$f":"pqidat!T343","v":0},{"$f":"pqidat!U343","v":0}]
[{"$f":"pqidat!A344","v":0},{"$f":"pqidat!B344","v":0},{"$f":"pqidat!C344","v":0},{"$f":"pqidat!D344","v":0},{"$f":"pqidat!E344","v":0},{"$f":"pqidat!F344","v":0},{"$f":"pqidat!G344","v":0},{"$f":"pqidat!H344","v":0},{"$f":"pqidat!I344","v":0},{"$f":"pqidat!J344","v":0},{"$f":"pqidat!K344","v":0},{"$f":"pqidat!L344","v":0},{"$f":"pqidat!M344","v":0},{"$f":"pqidat!N344","v":0},{"$f":"pqidat!O344","v":0},{"$f":"pqidat!P344","v":0},0,{"$f":"pqidat!Q344","v":0},{"$f":"pqidat!R344","v":0},{"$f":"pqidat!S344","v":0},{"$f":"pqidat!T344","v":0},{"$f":"pqidat!U344","v":0}]
[{"$f":"pqidat!A345","v":0},{"$f":"pqidat!B345","v":0},{"$f":"pqidat!C345","v":0},{"$f":"pqidat!D345","v":0},{"$f":"pqidat!E345","v":0},{"$f":"pqidat!F345","v":0},{"$f":"pqidat!G345","v":0},{"$f":"pqidat!H345","v":0},{"$f":"pqidat!I345","v":0},{"$f":"pqidat!J345","v":0},{"$f":"pqidat!K345","v":0},{"$f":"pqidat!L345","v":0},{"$f":"pqidat!M345","v":0},{"$f":"pqidat!N345","v":0},{"$f":"pqidat!O345","v":0},{"$f":"pqidat!P345","v":0},0,{"$f":"pqidat!Q345","v":0},{"$f":"pqidat!R345","v":0},{"$f":"pqidat!S345","v":0},{"$f":"pqidat!T345","v":0},{"$f":"pqidat!U345","v":0}]
[{"$f":"pqidat!A346","v":0},{"$f":"pqidat!B346","v":0},{"$f":"pqidat!C346","v":0},{"$f":"pqidat!D346","v":0},{"$f":"pqidat!E346","v":0},{"$f":"pqidat!F346","v":0},{"$f":"pqidat!G346","v":0},{"$f":"pqidat!H346","v":0},{"$f":"pqidat!I346","v":0},{"$f":"pqidat!J346","v":0},{"$f":"pqidat!K346","v":0},{"$f":"pqidat!L346","v":0},{"$f":"pqidat!M346","v":0},{"$f":"pqidat!N346","v":0},{"$f":"pqidat!O346","v":0},{"$f":"pqidat!P346","v":0},0,{"$f":"pqidat!Q346","v":0},{"$f":"pqidat!R346","v":0},{"$f":"pqidat!S346","v":0},{"$f":"pqidat!T346","v":0},{"$f":"pqidat!U346","v":0}]
[{"$f":"pqidat!A347","v":0},{"$f":"pqidat!B347","v":0},{"$f":"pqidat!C347","v":0},{"$f":"pqidat!D347","v":0},{"$f":"pqidat!E347","v":0},{"$f":"pqidat!F347","v":0},{"$f":"pqidat!G347","v":0},{"$f":"pqidat!H347","v":0},{"$f":"pqidat!I347","v":0},{"$f":"pqidat!J347","v":0},{"$f":"pqidat!K347","v":0},{"$f":"pqidat!L347","v":0},{"$f":"pqidat!M347","v":0},{"$f":"pqidat!N347","v":0},{"$f":"pqidat!O347","v":0},{"$f":"pqidat!P347","v":0},0,{"$f":"pqidat!Q347","v":0},{"$f":"pqidat!R347","v":0},{"$f":"pqidat!S347","v":0},{"$f":"pqidat!T347","v":0},{"$f":"pqidat!U347","v":0}]
[{"$f":"pqidat!A348","v":0},{"$f":"pqidat!B348","v":0},{"$f":"pqidat!C348","v":0},{"$f":"pqidat!D348","v":0},{"$f":"pqidat!E348","v":0},{"$f":"pqidat!F348","v":0},{"$f":"pqidat!G348","v":0},{"$f":"pqidat!H348","v":0},{"$f":"pqidat!I348","v":0},{"$f":"pqidat!J348","v":0},{"$f":"pqidat!K348","v":0},{"$f":"pqidat!L348","v":0},{"$f":"pqidat!M348","v":0},{"$f":"pqidat!N348","v":0},{"$f":"pqidat!O348","v":0},{"$f":"pqidat!P348","v":0},0,{"$f":"pqidat!Q348","v":0},{"$f":"pqidat!R348","v":0},{"$f":"pqidat!S348","v":0},{"$f":"pqidat!T348","v":0},{"$f":"pqidat!U348","v":0}]
[{"$f":"pqidat!A349","v":0},{"$f":"pqidat!B349","v":0},{"$f":"pqidat!C349","v":0},{"$f":"pqidat!D349","v":0},{"$f":"pqidat!E349","v":0},{"$f":"pqidat!F349","v":0},{"$f":"pqidat!G349","v":0},{"$f":"pqidat!H349","v":0},{"$f":"pqidat!I349","v":0},{"$f":"pqidat!J349","v":0},{"$f":"pqidat!K349","v":0},{"$f":"pqidat!L349","v":0},{"$f":"pqidat!M349","v":0},{"$f":"pqidat!N349","v":0},{"$f":"pqidat!O349","v":0},{"$f":"pqidat!P349","v":0},0,{"$f":"pqidat!Q349","v":0},{"$f":"pqidat!R349","v":0},{"$f":"pqidat!S349","v":0},{"$f":"pqidat!T349","v":0},{"$f":"pqidat!U349","v":0}]
[{"$f":"pqidat!A350","v":0},{"$f":"pqidat!B350","v":0},{"$f":"pqidat!C350","v":0},{"$f":"pqidat!D350","v":0},{"$f":"pqidat!E350","v":0},{"$f":"pqidat!F350","v":0},{"$f":"pqidat!G350","v":0},{"$f":"pqidat!H350","v":0},{"$f":"pqidat!I350","v":0},{"$f":"pqidat!J350","v":0},{"$f":"pqidat!K350","v":0},{"$f":"pqidat!L350","v":0},{"$f":"pqidat!M350","v":0},{"$f":"pqidat!N350","v":0},{"$f":"pqidat!O350","v":0},{"$f":"pqidat!P350","v":0},0,{"$f":"pqidat!Q350","v":0},{"$f":"pqidat!R350","v":0},{"$f":"pqidat!S350","v":0},{"$f":"pqidat!T350","v":0},{"$f":"pqidat!U350","v":0}]
[{"$f":"pqidat!A351","v":0},{"$f":"pqidat!B351","v":0},{"$f":"pqidat!C351","v":0},{"$f":"pqidat!D351","v":0},{"$f":"pqidat!E351","v":0},{"$f":"pqidat!F351","v":0},{"$f":"pqidat!G351","v":0},{"$f":"pqidat!H351","v":0},{"$f":"pqidat!I351","v":0},{"$f":"pqidat!J351","v":0},{"$f":"pqidat!K351","v":0},{"$f":"pqidat!L351","v":0},{"$f":"pqidat!M351","v":0},{"$f":"pqidat!N351","v":0},{"$f":"pqidat!O351","v":0},{"$f":"pqidat!P351","v":0},0,{"$f":"pqidat!Q351","v":0},{"$f":"pqidat!R351","v":0},{"$f":"pqidat!S351","v":0},{"$f":"pqidat!T351","v":0},{"$f":"pqidat!U351","v":0}]
[{"$f":"pqidat!A352","v":0},{"$f":"pqidat!B352","v":0},{"$f":"pqidat!C352","v":0},{"$f":"pqidat!D352","v":0},{"$f":"pqidat!E352","v":0},{"$f":"pqidat!F352","v":0},{"$f":"pqidat!G352","v":0},{"$f":"pqidat!H352","v":0},{"$f":"pqidat!I352","v":0},{"$f":"pqidat!J352","v":0},{"$f":"pqidat!K352","v":0},{"$f":"pqidat!L352","v":0},{"$f":"pqidat!M352","v":0},{"$f":"pqidat!N352","v":0},{"$f":"pqidat!O352","v":0},{"$f":"pqidat!P352","v":0},0,{"$f":"pqidat!Q352","v":0},{"$f":"pqidat!R352","v":0},{"$f":"pqidat!S352","v":0},{"$f":"pqidat!T352","v":0},{"$f":"pqidat!U352","v":0}]
[{"$f":"pqidat!A353","v":0},{"$f":"pqidat!B353","v":0},{"$f":"pqidat!C353","v":0},{"$f":"pqidat!D353","v":0},{"$f":"pqidat!E353","v":0},{"$f":"pqidat!F353","v":0},{"$f":"pqidat!G353","v":0},{"$f":"pqidat!H353","v":0},{"$f":"pqidat!I353","v":0},{"$f":"pqidat!J353","v":0},{"$f":"pqidat!K353","v":0},{"$f":"pqidat!L353","v":0},{"$f":"pqidat!M353","v":0},{"$f":"pqidat!N353","v":0},{"$f":"pqidat!O353","v":0},{"$f":"pqidat!P353","v":0},0,{"$f":"pqidat!Q353","v":0},{"$f":"pqidat!R353","v":0},{"$f":"pqidat!S353","v":0},{"$f":"pqidat!T353","v":0},{"$f":"pqidat!U353","v":0}]
[{"$f":"pqidat!A354","v":0},{"$f":"pqidat!B354","v":0},{"$f":"pqidat!C354","v":0},{"$f":"pqidat!D354","v":0},{"$f":"pqidat!E354","v":0},{"$f":"pqidat!F354","v":0},{"$f":"pqidat!G354","v":0},{"$f":"pqidat!H354","v":0},{"$f":"pqidat!I354","v":0},{"$f":"pqidat!J354","v":0},{"$f":"pqidat!K354","v":0},{"$f":"pqidat!L354","v":0},{"$f":"pqidat!M354","v":0},{"$f":"pqidat!N354","v":0},{"$f":"pqidat!O354","v":0},{"$f":"pqidat!P354","v":0},0,{"$f":"pqidat!Q354","v":0},{"$f":"pqidat!R354","v":0},{"$f":"pqidat!S354","v":0},{"$f":"pqidat!T354","v":0},{"$f":"pqidat!U354","v":0}]
[{"$f":"pqidat!A355","v":0},{"$f":"pqidat!B355","v":0},{"$f":"pqidat!C355","v":0},{"$f":"pqidat!D355","v":0},{"$f":"pqidat!E355","v":0},{"$f":"pqidat!F355","v":0},{"$f":"pqidat!G355","v":0},{"$f":"pqidat!H355","v":0},{"$f":"pqidat!I355","v":0},{"$f":"pqidat!J355","v":0},{"$f":"pqidat!K355","v":0},{"$f":"pqidat!L355","v":0},{"$f":"pqidat!M355","v":0},{"$f":"pqidat!N355","v":0},{"$f":"pqidat!O355","v":0},{"$f":"pqidat!P355","v":0},0,{"$f":"pqidat!Q355","v":0},{"$f":"pqidat!R355","v":0},{"$f":"pqidat!S355","v":0},{"$f":"pqidat!T355","v":0},{"$f":"pqidat!U355","v":0}]
[{"$f":"pqidat!A356","v":0},{"$f":"pqidat!B356","v":0},{"$f":"pqidat!C356","v":0},{"$f":"pqidat!D356","v":0},{"$f":"pqidat!E356","v":0},{"$f":"pqidat!F356","v":0},{"$f":"pqidat!G356","v":0},{"$f":"pqidat!H356","v":0},{"$f":"pqidat!I356","v":0},{"$f":"pqidat!J356","v":0},{"$f":"pqidat!K356","v":0},{"$f":"pqidat!L356","v":0},{"$f":"pqidat!M356","v":0},{"$f":"pqidat!N356","v":0},{"$f":"pqidat!O356","v":0},{"$f":"pqidat!P356","v":0},0,{"$f":"pqidat!Q356","v":0},{"$f":"pqidat!R356","v":0},{"$f":"pqidat!S356","v":0},{"$f":"pqidat!T356","v":0},{"$f":"pqidat!U356","v":0}]
[{"$f":"pqidat!A357","v":0},{"$f":"pqidat!B357","v":0},{"$f":"pqidat!C357","v":0},{"$f":"pqidat!D357","v":0},{"$f":"pqidat!E357","v":0},{"$f":"pqidat!F357","v":0},{"$f":"pqidat!G357","v":0},{"$f":"pqidat!H357","v":0},{"$f":"pqidat!I357","v":0},{"$f":"pqidat!J357","v":0},{"$f":"pqidat!K357","v":0},{"$f":"pqidat!L357","v":0},{"$f":"pqidat!M357","v":0},{"$f":"pqidat!N357","v":0},{"$f":"pqidat!O357","v":0},{"$f":"pqidat!P357","v":0},0,{"$f":"pqidat!Q357","v":0},{"$f":"pqidat!R357","v":0},{"$f":"pqidat!S357","v":0},{"$f":"pqidat!T357","v":0},{"$f":"pqidat!U357","v":0}]
[{"$f":"pqidat!A358","v":0},{"$f":"pqidat!B358","v":0},{"$f":"pqidat!C358","v":0},{"$f":"pqidat!D358","v":0},{"$f":"pqidat!E358","v":0},{"$f":"pqidat!F358","v":0},{"$f":"pqidat!G358","v":0},{"$f":"pqidat!H358","v":0},{"$f":"pqidat!I358","v":0},{"$f":"pqidat!J358","v":0},{"$f":"pqidat!K358","v":0},{"$f":"pqidat!L358","v":0},{"$f":"pqidat!M358","v":0},{"$f":"pqidat!N358","v":0},{"$f":"pqidat!O358","v":0},{"$f":"pqidat!P358","v":0},0,{"$f":"pqidat!Q358","v":0},{"$f":"pqidat!R358","v":0},{"$f":"pqidat!S358","v":0},{"$f":"pqidat!T358","v":0},{"$f":"pqidat!U358","v":0}]
[{"$f":"pqidat!A359","v":0},{"$f":"pqidat!B359","v":0},{"$f":"pqidat!C359","v":0},{"$f":"pqidat!D359","v":0},{"$f":"pqidat!E359","v":0},{"$f":"pqidat!F359","v":0},{"$f":"pqidat!G359","v":0},{"$f":"pqidat!H359","v":0},{"$f":"pqidat!I359","v":0},{"$f":"pqidat!J359","v":0},{"$f":"pqidat!K359","v":0},{"$f":"pqidat!L359","v":0},{"$f":"pqidat!M359","v":0},{"$f":"pqidat!N359","v":0},{"$f":"pqidat!O359","v":0},{"$f":"pqidat!P359","v":0},0,{"$f":"pqidat!Q359","v":0},{"$f":"pqidat!R359","v":0},{"$f":"pqidat!S359","v":0},{"$f":"pqidat!T359","v":0},{"$f":"pqidat!U359","v":0}]
[{"$f":"pqidat!A360","v":0},{"$f":"pqidat!B360","v":0},{"$f":"pqidat!C360","v":0},{"$f":"pqidat!D360","v":0},{"$f":"pqidat!E360","v":0},{"$f":"pqidat!F360","v":0},{"$f":"pqidat!G360","v":0},{"$f":"pqidat!H360","v":0},{"$f":"pqidat!I360","v":0},{"$f":"pqidat!J360","v":0},{"$f":"pqidat!K360","v":0},{"$f":"pqidat!L360","v":0},{"$f":"pqidat!M360","v":0},{"$f":"pqidat!N360","v":0},{"$f":"pqidat!O360","v":0},{"$f":"pqidat!P360","v":0},0,{"$f":"pqidat!Q360","v":0},{"$f":"pqidat!R360","v":0},{"$f":"pqidat!S360","v":0},{"$f":"pqidat!T360","v":0},{"$f":"pqidat!U360","v":0}]
[{"$f":"pqidat!A361","v":0},{"$f":"pqidat!B361","v":0},{"$f":"pqidat!C361","v":0},{"$f":"pqidat!D361","v":0},{"$f":"pqidat!E361","v":0},{"$f":"pqidat!F361","v":0},{"$f":"pqidat!G361","v":0},{"$f":"pqidat!H361","v":0},{"$f":"pqidat!I361","v":0},{"$f":"pqidat!J361","v":0},{"$f":"pqidat!K361","v":0},{"$f":"pqidat!L361","v":0},{"$f":"pqidat!M361","v":0},{"$f":"pqidat!N361","v":0},{"$f":"pqidat!O361","v":0},{"$f":"pqidat!P361","v":0},0,{"$f":"pqidat!Q361","v":0},{"$f":"pqidat!R361","v":0},{"$f":"pqidat!S361","v":0},{"$f":"pqidat!T361","v":0},{"$f":"pqidat!U361","v":0}]
[{"$f":"pqidat!A362","v":0},{"$f":"pqidat!B362","v":0},{"$f":"pqidat!C362","v":0},{"$f":"pqidat!D362","v":0},{"$f":"pqidat!E362","v":0},{"$f":"pqidat!F362","v":0},{"$f":"pqidat!G362","v":0},{"$f":"pqidat!H362","v":0},{"$f":"pqidat!I362","v":0},{"$f":"pqidat!J362","v":0},{"$f":"pqidat!K362","v":0},{"$f":"pqidat!L362","v":0},{"$f":"pqidat!M362","v":0},{"$f":"pqidat!N362","v":0},{"$f":"pqidat!O362","v":0},{"$f":"pqidat!P362","v":0},0,{"$f":"pqidat!Q362","v":0},{"$f":"pqidat!R362","v":0},{"$f":"pqidat!S362","v":0},{"$f":"pqidat!T362","v":0},{"$f":"pqidat!U362","v":0}]
[{"$f":"pqidat!A363","v":0},{"$f":"pqidat!B363","v":0},{"$f":"pqidat!C363","v":0},{"$f":"pqidat!D363","v":0},{"$f":"pqidat!E363","v":0},{"$f":"pqidat!F363","v":0},{"$f":"pqidat!G363","v":0},{"$f":"pqidat!H363","v":0},{"$f":"pqidat!I363","v":0},{"$f":"pqidat!J363","v":0},{"$f":"pqidat!K363","v":0},{"$f":"pqidat!L363","v":0},{"$f":"pqidat!M363","v":0},{"$f":"pqidat!N363","v":0},{"$f":"pqidat!O363","v":0},{"$f":"pqidat!P363","v":0},0,{"$f":"pqidat!Q363","v":0},{"$f":"pqidat!R363","v":0},{"$f":"pqidat!S363","v":0},{"$f":"pqidat!T363","v":0},{"$f":"pqidat!U363","v":0}]
[{"$f":"pqidat!A364","v":0},{"$f":"pqidat!B364","v":0},{"$f":"pqidat!C364","v":0},{"$f":"pqidat!D364","v":0},{"$f":"pqidat!E364","v":0},{"$f":"pqidat!F364","v":0},{"$f":"pqidat!G364","v":0},{"$f":"pqidat!H364","v":0},{"$f":"pqidat!I364","v":0},{"$f":"pqidat!J364","v":0},{"$f":"pqidat!K364","v":0},{"$f":"pqidat!L364","v":0},{"$f":"pqidat!M364","v":0},{"$f":"pqidat!N364","v":0},{"$f":"pqidat!O364","v":0},{"$f":"pqidat!P364","v":0},0,{"$f":"pqidat!Q364","v":0},{"$f":"pqidat!R364","v":0},{"$f":"pqidat!S364","v":0},{"$f":"pqidat!T364","v":0},{"$f":"pqidat!U364","v":0}]
[{"$f":"pqidat!A365","v":0},{"$f":"pqidat!B365","v":0},{"$f":"pqidat!C365","v":0},{"$f":"pqidat!D365","v":0},{"$f":"pqidat!E365","v":0},{"$f":"pqidat!F365","v":0},{"$f":"pqidat!G365","v":0},{"$f":"pqidat!H365","v":0},{"$f":"pqidat!I365","v":0},{"$f":"pqidat!J365","v":0},{"$f":"pqidat!K365","v":0},{"$f":"pqidat!L365","v":0},{"$f":"pqidat!M365","v":0},{"$f":"pqidat!N365","v":0},{"$f":"pqidat!O365","v":0},{"$f":"pqidat!P365","v":0},0,{"$f":"pqidat!Q365","v":0},{"$f":"pqidat!R365","v":0},{"$f":"pqidat!S365","v":0},{"$f":"pqidat!T365","v":0},{"$f":"pqidat!U365","v":0}]
[{"$f":"pqidat!A366","v":0},{"$f":"pqidat!B366","v":0},{"$f":"pqidat!C366","v":0},{"$f":"pqidat!D366","v":0},{"$f":"pqidat!E366","v":0},{"$f":"pqidat!F366","v":0},{"$f":"pqidat!G366","v":0},{"$f":"pqidat!H366","v":0},{"$f":"pqidat!I366","v":0},{"$f":"pqidat!J366","v":0},{"$f":"pqidat!K366","v":0},{"$f":"pqidat!L366","v":0},{"$f":"pqidat!M366","v":0},{"$f":"pqidat!N366","v":0},{"$f":"pqidat!O366","v":0},{"$f":"pqidat!P366","v":0},0,{"$f":"pqidat!Q366","v":0},{"$f":"pqidat!R366","v":0},{"$f":"pqidat!S366","v":0},{"$f":"pqidat!T366","v":0},{"$f":"pqidat!U366","v":0}]
[{"$f":"pqidat!A367","v":0},{"$f":"pqidat!B367","v":0},{"$f":"pqidat!C367","v":0},{"$f":"pqidat!D367","v":0},{"$f":"pqidat!E367","v":0},{"$f":"pqidat!F367","v":0},{"$f":"pqidat!G367","v":0},{"$f":"pqidat!H367","v":0},{"$f":"pqidat!I367","v":0},{"$f":"pqidat!J367","v":0},{"$f":"pqidat!K367","v":0},{"$f":"pqidat!L367","v":0},{"$f":"pqidat!M367","v":0},{"$f":"pqidat!N367","v":0},{"$f":"pqidat!O367","v":0},{"$f":"pqidat!P367","v":0},0,{"$f":"pqidat!Q367","v":0},{"$f":"pqidat!R367","v":0},{"$f":"pqidat!S367","v":0},{"$f":"pqidat!T367","v":0},{"$f":"pqidat!U367","v":0}]
[{"$f":"pqidat!A368","v":0},{"$f":"pqidat!B368","v":0},{"$f":"pqidat!C368","v":0},{"$f":"pqidat!D368","v":0},{"$f":"pqidat!E368","v":0},{"$f":"pqidat!F368","v":0},{"$f":"pqidat!G368","v":0},{"$f":"pqidat!H368","v":0},{"$f":"pqidat!I368","v":0},{"$f":"pqidat!J368","v":0},{"$f":"pqidat!K368","v":0},{"$f":"pqidat!L368","v":0},{"$f":"pqidat!M368","v":0},{"$f":"pqidat!N368","v":0},{"$f":"pqidat!O368","v":0},{"$f":"pqidat!P368","v":0},0,{"$f":"pqidat!Q368","v":0},{"$f":"pqidat!R368","v":0},{"$f":"pqidat!S368","v":0},{"$f":"pqidat!T368","v":0},{"$f":"pqidat!U368","v":0}]
[{"$f":"pqidat!A369","v":0},{"$f":"pqidat!B369","v":0},{"$f":"pqidat!C369","v":0},{"$f":"pqidat!D369","v":0},{"$f":"pqidat!E369","v":0},{"$f":"pqidat!F369","v":0},{"$f":"pqidat!G369","v":0},{"$f":"pqidat!H369","v":0},{"$f":"pqidat!I369","v":0},{"$f":"pqidat!J369","v":0},{"$f":"pqidat!K369","v":0},{"$f":"pqidat!L369","v":0},{"$f":"pqidat!M369","v":0},{"$f":"pqidat!N369","v":0},{"$f":"pqidat!O369","v":0},{"$f":"pqidat!P369","v":0},0,{"$f":"pqidat!Q369","v":0},{"$f":"pqidat!R369","v":0},{"$f":"pqidat!S369","v":0},{"$f":"pqidat!T369","v":0},{"$f":"pqidat!U369","v":0}]
[{"$f":"pqidat!A370","v":0},{"$f":"pqidat!B370","v":0},{"$f":"pqidat!C370","v":0},{"$f":"pqidat!D370","v":0},{"$f":"pqidat!E370","v":0},{"$f":"pqidat!F370","v":0},{"$f":"pqidat!G370","v":0},{"$f":"pqidat!H370","v":0},{"$f":"pqidat!I370","v":0},{"$f":"pqidat!J370","v":0},{"$f":"pqidat!K370","v":0},{"$f":"pqidat!L370","v":0},{"$f":"pqidat!M370","v":0},{"$f":"pqidat!N370","v":0},{"$f":"pqidat!O370","v":0},{"$f":"pqidat!P370","v":0},0,{"$f":"pqidat!Q370","v":0},{"$f":"pqidat!R370","v":0},{"$f":"pqidat!S370","v":0},{"$f":"pqidat!T370","v":0},{"$f":"pqidat!U370","v":0}]
[{"$f":"pqidat!A371","v":0},{"$f":"pqidat!B371","v":0},{"$f":"pqidat!C371","v":0},{"$f":"pqidat!D371","v":0},{"$f":"pqidat!E371","v":0},{"$f":"pqidat!F371","v":0},{"$f":"pqidat!G371","v":0},{"$f":"pqidat!H371","v":0},{"$f":"pqidat!I371","v":0},{"$f":"pqidat!J371","v":0},{"$f":"pqidat!K371","v":0},{"$f":"pqidat!L371","v":0},{"$f":"pqidat!M371","v":0},{"$f":"pqidat!N371","v":0},{"$f":"pqidat!O371","v":0},{"$f":"pqidat!P371","v":0},0,{"$f":"pqidat!Q371","v":0},{"$f":"pqidat!R371","v":0},{"$f":"pqidat!S371","v":0},{"$f":"pqidat!T371","v":0},{"$f":"pqidat!U371","v":0}]
[{"$f":"pqidat!A372","v":0},{"$f":"pqidat!B372","v":0},{"$f":"pqidat!C372","v":0},{"$f":"pqidat!D372","v":0},{"$f":"pqidat!E372","v":0},{"$f":"pqidat!F372","v":0},{"$f":"pqidat!G372","v":0},{"$f":"pqidat!H372","v":0},{"$f":"pqidat!I372","v":0},{"$f":"pqidat!J372","v":0},{"$f":"pqidat!K372","v":0},{"$f":"pqidat!L372","v":0},{"$f":"pqidat!M372","v":0},{"$f":"pqidat!N372","v":0},{"$f":"pqidat!O372","v":0},{"$f":"pqidat!P372","v":0},0,{"$f":"pqidat!Q372","v":0},{"$f":"pqidat!R372","v":0},{"$f":"pqidat!S372","v":0},{"$f":"pqidat!T372","v":0},{"$f":"pqidat!U372","v":0}]
[{"$f":"pqidat!A373","v":0},{"$f":"pqidat!B373","v":0},{"$f":"pqidat!C373","v":0},{"$f":"pqidat!D373","v":0},{"$f":"pqidat!E373","v":0},{"$f":"pqidat!F373","v":0},{"$f":"pqidat!G373","v":0},{"$f":"pqidat!H373","v":0},{"$f":"pqidat!I373","v":0},{"$f":"pqidat!J373","v":0},{"$f":"pqidat!K373","v":0},{"$f":"pqidat!L373","v":0},{"$f":"pqidat!M373","v":0},{"$f":"pqidat!N373","v":0},{"$f":"pqidat!O373","v":0},{"$f":"pqidat!P373","v":0},0,{"$f":"pqidat!Q373","v":0},{"$f":"pqidat!R373","v":0},{"$f":"pqidat!S373","v":0},{"$f":"pqidat!T373","v":0},{"$f":"pqidat!U373","v":0}]
[{"$f":"pqidat!A374","v":0},{"$f":"pqidat!B374","v":0},{"$f":"pqidat!C374","v":0},{"$f":"pqidat!D374","v":0},{"$f":"pqidat!E374","v":0},{"$f":"pqidat!F374","v":0},{"$f":"pqidat!G374","v":0},{"$f":"pqidat!H374","v":0},{"$f":"pqidat!I374","v":0},{"$f":"pqidat!J374","v":0},{"$f":"pqidat!K374","v":0},{"$f":"pqidat!L374","v":0},{"$f":"pqidat!M374","v":0},{"$f":"pqidat!N374","v":0},{"$f":"pqidat!O374","v":0},{"$f":"pqidat!P374","v":0},0,{"$f":"pqidat!Q374","v":0},{"$f":"pqidat!R374","v":0},{"$f":"pqidat!S374","v":0},{"$f":"pqidat!T374","v":0},{"$f":"pqidat!U374","v":0}]
[{"$f":"pqidat!A375","v":0},{"$f":"pqidat!B375","v":0},{"$f":"pqidat!C375","v":0},{"$f":"pqidat!D375","v":0},{"$f":"pqidat!E375","v":0},{"$f":"pqidat!F375","v":0},{"$f":"pqidat!G375","v":0},{"$f":"pqidat!H375","v":0},{"$f":"pqidat!I375","v":0},{"$f":"pqidat!J375","v":0},{"$f":"pqidat!K375","v":0},{"$f":"pqidat!L375","v":0},{"$f":"pqidat!M375","v":0},{"$f":"pqidat!N375","v":0},{"$f":"pqidat!O375","v":0},{"$f":"pqidat!P375","v":0},0,{"$f":"pqidat!Q375","v":0},{"$f":"pqidat!R375","v":0},{"$f":"pqidat!S375","v":0},{"$f":"pqidat!T375","v":0},{"$f":"pqidat!U375","v":0}]
[{"$f":"pqidat!A376","v":0},{"$f":"pqidat!B376","v":0},{"$f":"pqidat!C376","v":0},{"$f":"pqidat!D376","v":0},{"$f":"pqidat!E376","v":0},{"$f":"pqidat!F376","v":0},{"$f":"pqidat!G376","v":0},{"$f":"pqidat!H376","v":0},{"$f":"pqidat!I376","v":0},{"$f":"pqidat!J376","v":0},{"$f":"pqidat!K376","v":0},{"$f":"pqidat!L376","v":0},{"$f":"pqidat!M376","v":0},{"$f":"pqidat!N376","v":0},{"$f":"pqidat!O376","v":0},{"$f":"pqidat!P376","v":0},0,{"$f":"pqidat!Q376","v":0},{"$f":"pqidat!R376","v":0},{"$f":"pqidat!S376","v":0},{"$f":"pqidat!T376","v":0},{"$f":"pqidat!U376","v":0}]
[{"$f":"pqidat!A377","v":0},{"$f":"pqidat!B377","v":0},{"$f":"pqidat!C377","v":0},{"$f":"pqidat!D377","v":0},{"$f":"pqidat!E377","v":0},{"$f":"pqidat!F377","v":0},{"$f":"pqidat!G377","v":0},{"$f":"pqidat!H377","v":0},{"$f":"pqidat!I377","v":0},{"$f":"pqidat!J377","v":0},{"$f":"pqidat!K377","v":0},{"$f":"pqidat!L377","v":0},{"$f":"pqidat!M377","v":0},{"$f":"pqidat!N377","v":0},{"$f":"pqidat!O377","v":0},{"$f":"pqidat!P377","v":0},0,{"$f":"pqidat!Q377","v":0},{"$f":"pqidat!R377","v":0},{"$f":"pqidat!S377","v":0},{"$f":"pqidat!T377","v":0},{"$f":"pqidat!U377","v":0}]
[{"$f":"pqidat!A378","v":0},{"$f":"pqidat!B378","v":0},{"$f":"pqidat!C378","v":0},{"$f":"pqidat!D378","v":0},{"$f":"pqidat!E378","v":0},{"$f":"pqidat!F378","v":0},{"$f":"pqidat!G378","v":0},{"$f":"pqidat!H378","v":0},{"$f":"pqidat!I378","v":0},{"$f":"pqidat!J378","v":0},{"$f":"pqidat!K378","v":0},{"$f":"pqidat!L378","v":0},{"$f":"pqidat!M378","v":0},{"$f":"pqidat!N378","v":0},{"$f":"pqidat!O378","v":0},{"$f":"pqidat!P378","v":0},0,{"$f":"pqidat!Q378","v":0},{"$f":"pqidat!R378","v":0},{"$f":"pqidat!S378","v":0},{"$f":"pqidat!T378","v":0},{"$f":"pqidat!U378","v":0}]
[{"$f":"pqidat!A379","v":0},{"$f":"pqidat!B379","v":0},{"$f":"pqidat!C379","v":0},{"$f":"pqidat!D379","v":0},{"$f":"pqidat!E379","v":0},{"$f":"pqidat!F379","v":0},{"$f":"pqidat!G379","v":0},{"$f":"pqidat!H379","v":0},{"$f":"pqidat!I379","v":0},{"$f":"pqidat!J379","v":0},{"$f":"pqidat!K379","v":0},{"$f":"pqidat!L379","v":0},{"$f":"pqidat!M379","v":0},{"$f":"pqidat!N379","v":0},{"$f":"pqidat!O379","v":0},{"$f":"pqidat!P379","v":0},0,{"$f":"pqidat!Q379","v":0},{"$f":"pqidat!R379","v":0},{"$f":"pqidat!S379","v":0},{"$f":"pqidat!T379","v":0},{"$f":"pqidat!U379","v":0}]
[{"$f":"pqidat!A380","v":0},{"$f":"pqidat!B380","v":0},{"$f":"pqidat!C380","v":0},{"$f":"pqidat!D380","v":0},{"$f":"pqidat!E380","v":0},{"$f":"pqidat!F380","v":0},{"$f":"pqidat!G380","v":0},{"$f":"pqidat!H380","v":0},{"$f":"pqidat!I380","v":0},{"$f":"pqidat!J380","v":0},{"$f":"pqidat!K380","v":0},{"$f":"pqidat!L380","v":0},{"$f":"pqidat!M380","v":0},{"$f":"pqidat!N380","v":0},{"$f":"pqidat!O380","v":0},{"$f":"pqidat!P380","v":0},0,{"$f":"pqidat!Q380","v":0},{"$f":"pqidat!R380","v":0},{"$f":"pqidat!S380","v":0},{"$f":"pqidat!T380","v":0},{"$f":"pqidat!U380","v":0}]
[{"$f":"pqidat!A381","v":0},{"$f":"pqidat!B381","v":0},{"$f":"pqidat!C381","v":0},{"$f":"pqidat!D381","v":0},{"$f":"pqidat!E381","v":0},{"$f":"pqidat!F381","v":0},{"$f":"pqidat!G381","v":0},{"$f":"pqidat!H381","v":0},{"$f":"pqidat!I381","v":0},{"$f":"pqidat!J381","v":0},{"$f":"pqidat!K381","v":0},{"$f":"pqidat!L381","v":0},{"$f":"pqidat!M381","v":0},{"$f":"pqidat!N381","v":0},{"$f":"pqidat!O381","v":0},{"$f":"pqidat!P381","v":0},0,{"$f":"pqidat!Q381","v":0},{"$f":"pqidat!R381","v":0},{"$f":"pqidat!S381","v":0},{"$f":"pqidat!T381","v":0},{"$f":"pqidat!U381","v":0}]
[{"$f":"pqidat!A382","v":0},{"$f":"pqidat!B382","v":0},{"$f":"pqidat!C382","v":0},{"$f":"pqidat!D382","v":0},{"$f":"pqidat!E382","v":0},{"$f":"pqidat!F382","v":0},{"$f":"pqidat!G382","v":0},{"$f":"pqidat!H382","v":0},{"$f":"pqidat!I382","v":0},{"$f":"pqidat!J382","v":0},{"$f":"pqidat!K382","v":0},{"$f":"pqidat!L382","v":0},{"$f":"pqidat!M382","v":0},{"$f":"pqidat!N382","v":0},{"$f":"pqidat!O382","v":0},{"$f":"pqidat!P382","v":0},0,{"$f":"pqidat!Q382","v":0},{"$f":"pqidat!R382","v":0},{"$f":"pqidat!S382","v":0},{"$f":"pqidat!T382","v":0},{"$f":"pqidat!U382","v":0}]
[{"$f":"pqidat!A383","v":0},{"$f":"pqidat!B383","v":0},{"$f":"pqidat!C383","v":0},{"$f":"pqidat!D383","v":0},{"$f":"pqidat!E383","v":0},{"$f":"pqidat!F383","v":0},{"$f":"pqidat!G383","v":0},{"$f":"pqidat!H383","v":0},{"$f":"pqidat!I383","v":0},{"$f":"pqidat!J383","v":0},{"$f":"pqidat!K383","v":0},{"$f":"pqidat!L383","v":0},{"$f":"pqidat!M383","v":0},{"$f":"pqidat!N383","v":0},{"$f":"pqidat!O383","v":0},{"$f":"pqidat!P383","v":0},0,{"$f":"pqidat!Q383","v":0},{"$f":"pqidat!R383","v":0},{"$f":"pqidat!S383","v":0},{"$f":"pqidat!T383","v":0},{"$f":"pqidat!U383","v":0}]
[{"$f":"pqidat!A384","v":0},{"$f":"pqidat!B384","v":0},{"$f":"pqidat!C384","v":0},{"$f":"pqidat!D384","v":0},{"$f":"pqidat!E384","v":0},{"$f":"pqidat!F384","v":0},{"$f":"pqidat!G384","v":0},{"$f":"pqidat!H384","v":0},{"$f":"pqidat!I384","v":0},{"$f":"pqidat!J384","v":0},{"$f":"pqidat!K384","v":0},{"$f":"pqidat!L384","v":0},{"$f":"pqidat!M384","v":0},{"$f":"pqidat!N384","v":0},{"$f":"pqidat!O384","v":0},{"$f":"pqidat!P384","v":0},0,{"$f":"pqidat!Q384","v":0},{"$f":"pqidat!R384","v":0},{"$f":"pqidat!S384","v":0},{"$f":"pqidat!T384","v":0},{"$f":"pqidat!U384","v":0}]
[{"$f":"pqidat!A385","v":0},{"$f":"pqidat!B385","v":0},{"$f":"pqidat!C385","v":0},{"$f":"pqidat!D385","v":0},{"$f":"pqidat!E385","v":0},{"$f":"pqidat!F385","v":0},{"$f":"pqidat!G385","v":0},{"$f":"pqidat!H385","v":0},{"$f":"pqidat!I385","v":0},{"$f":"pqidat!J385","v":0},{"$f":"pqidat!K385","v":0},{"$f":"pqidat!L385","v":0},{"$f":"pqidat!M385","v":0},{"$f":"pqidat!N385","v":0},{"$f":"pqidat!O385","v":0},{"$f":"pqidat!P385","v":0},0,{"$f":"pqidat!Q385","v":0},{"$f":"pqidat!R385","v":0},{"$f":"pqidat!S385","v":0},{"$f":"pqidat!T385","v":0},{"$f":"pqidat!U385","v":0}]
[{"$f":"pqidat!A386","v":0},{"$f":"pqidat!B386","v":0},{"$f":"pqidat!C386","v":0},{"$f":"pqidat!D386","v":0},{"$f":"pqidat!E386","v":0},{"$f":"pqidat!F386","v":0},{"$f":"pqidat!G386","v":0},{"$f":"pqidat!H386","v":0},{"$f":"pqidat!I386","v":0},{"$f":"pqidat!J386","v":0},{"$f":"pqidat!K386","v":0},{"$f":"pqidat!L386","v":0},{"$f":"pqidat!M386","v":0},{"$f":"pqidat!N386","v":0},{"$f":"pqidat!O386","v":0},{"$f":"pqidat!P386","v":0},0,{"$f":"pqidat!Q386","v":0},{"$f":"pqidat!R386","v":0},{"$f":"pqidat!S386","v":0},{"$f":"pqidat!T386","v":0},{"$f":"pqidat!U386","v":0}]
[{"$f":"pqidat!A387","v":0},{"$f":"pqidat!B387","v":0},{"$f":"pqidat!C387","v":0},{"$f":"pqidat!D387","v":0},{"$f":"pqidat!E387","v":0},{"$f":"pqidat!F387","v":0},{"$f":"pqidat!G387","v":0},{"$f":"pqidat!H387","v":0},{"$f":"pqidat!I387","v":0},{"$f":"pqidat!J387","v":0},{"$f":"pqidat!K387","v":0},{"$f":"pqidat!L387","v":0},{"$f":"pqidat!M387","v":0},{"$f":"pqidat!N387","v":0},{"$f":"pqidat!O387","v":0},{"$f":"pqidat!P387","v":0},0,{"$f":"pqidat!Q387","v":0},{"$f":"pqidat!R387","v":0},{"$f":"pqidat!S387","v":0},{"$f":"pqidat!T387","v":0},{"$f":"pqidat!U387","v":0}]
[{"$f":"pqidat!A388","v":0},{"$f":"pqidat!B388","v":0},{"$f":"pqidat!C388","v":0},{"$f":"pqidat!D388","v":0},{"$f":"pqidat!E388","v":0},{"$f":"pqidat!F388","v":0},{"$f":"pqidat!G388","v":0},{"$f":"pqidat!H388","v":0},{"$f":"pqidat!I388","v":0},{"$f":"pqidat!J388","v":0},{"$f":"pqidat!K388","v":0},{"$f":"pqidat!L388","v":0},{"$f":"pqidat!M388","v":0},{"$f":"pqidat!N388","v":0},{"$f":"pqidat!O388","v":0},{"$f":"pqidat!P388","v":0},0,{"$f":"pqidat!Q388","v":0},{"$f":"pqidat!R388","v":0},{"$f":"pqidat!S388","v":0},{"$f":"pqidat!T388","v":0},{"$f":"pqidat!U388","v":0}]
[{"$f":"pqidat!A389","v":0},{"$f":"pqidat!B389","v":0},{"$f":"pqidat!C389","v":0},{"$f":"pqidat!D389","v":0},{"$f":"pqidat!E389","v":0},{"$f":"pqidat!F389","v":0},{"$f":"pqidat!G389","v":0},{"$f":"pqidat!H389","v":0},{"$f":"pqidat!I389","v":0},{"$f":"pqidat!J389","v":0},{"$f":"pqidat!K389","v":0},{"$f":"pqidat!L389","v":0},{"$f":"pqidat!M389","v":0},{"$f":"pqidat!N389","v":0},{"$f":"pqidat!O389","v":0},{"$f":"pqidat!P389","v":0},{"$f":"IF(P387=0,0,IF(P387>Minimum,\"Pass\",\"Fail\"))","v":0},{"$f":"pqidat!Q389","v":0},{"$f":"pqidat!R389","v":0},{"$f":"pqidat!S389","v":0},{"$f":"pqidat!T389","v":0},{"$f":"pqidat!U389","v":0}]
[{"$f":"pqidat!A390","v":0},{"$f":"pqidat!B390","v":0},{"$f":"pqidat!C390","v":0},{"$f":"pqidat!D390","v":0},{"$f":"pqidat!E390","v":0},{"$f":"pqidat!F390","v":0},{"$f":"pqidat!G390","v":0},{"$f":"pqidat!H390","v":0},{"$f":"pqidat!I390","v":0},{"$f":"pqidat!J390","v":0},{"$f":"pqidat!K390","v":0},{"$f":"pqidat!L390","v":0},{"$f":"pqidat!M390","v":0},{"$f":"pqidat!N390","v":0},{"$f":"pqidat!O390","v":0},{"$f":"pqidat!P390","v":0},0,{"$f":"pqidat!Q390","v":0},{"$f":"pqidat!R390","v":0},{"$f":"pqidat!S390","v":0},{"$f":"pqidat!T390","v":0},{"$f":"pqidat!U390","v":0}]
[{"$f":"pqidat!A391","v":0},{"$f":"pqidat!B391","v":0},{"$f":"pqidat!C391","v":0},{"$f":"pqidat!D391","v":0},{"$f":"pqidat!E391","v":0},{"$f":"pqidat!F391","v":0},{"$f":"pqidat!G391","v":0},{"$f":"pqidat!H391","v":0},{"$f":"pqidat!I391","v":0},{"$f":"pqidat!J391","v":0},{"$f":"pqidat!K391","v":0},{"$f":"pqidat!L391","v":0},{"$f":"pqidat!M391","v":0},{"$f":"pqidat!N391","v":0},{"$f":"pqidat!O391","v":0},{"$f":"pqidat!P391","v":0},0,{"$f":"pqidat!Q391","v":0},{"$f":"pqidat!R391","v":0},{"$f":"pqidat!S391","v":0},{"$f":"pqidat!T391","v":0},{"$f":"pqidat!U391","v":0}]
[{"$f":"pqidat!A392","v":0},{"$f":"pqidat!B392","v":0},{"$f":"pqidat!C392","v":0},{"$f":"pqidat!D392","v":0},{"$f":"pqidat!E392","v":0},{"$f":"pqidat!F392","v":0},{"$f":"pqidat!G392","v":0},{"$f":"pqidat!H392","v":0},{"$f":"pqidat!I392","v":0},{"$f":"pqidat!J392","v":0},{"$f":"pqidat!K392","v":0},{"$f":"pqidat!L392","v":0},{"$f":"pqidat!M392","v":0},{"$f":"pqidat!N392","v":0},{"$f":"pqidat!O392","v":0},{"$f":"pqidat!P392","v":0},0,{"$f":"pqidat!Q392","v":0},{"$f":"pqidat!R392","v":0},{"$f":"pqidat!S392","v":0},{"$f":"pqidat!T392","v":0},{"$f":"pqidat!U392","v":0}]
[{"$f":"pqidat!A393","v":0},{"$f":"pqidat!B393","v":0},{"$f":"pqidat!C393","v":0},{"$f":"pqidat!D393","v":0},{"$f":"pqidat!E393","v":0},{"$f":"pqidat!F393","v":0},{"$f":"pqidat!G393","v":0},{"$f":"pqidat!H393","v":0},{"$f":"pqidat!I393","v":0},{"$f":"pqidat!J393","v":0},{"$f":"pqidat!K393","v":0},{"$f":"pqidat!L393","v":0},{"$f":"pqidat!M393","v":0},{"$f":"pqidat!N393","v":0},{"$f":"pqidat!O393","v":0},{"$f":"pqidat!P393","v":0},0,{"$f":"pqidat!Q393","v":0},{"$f":"pqidat!R393","v":0},{"$f":"pqidat!S393","v":0},{"$f":"pqidat!T393","v":0},{"$f":"pqidat!U393","v":0}]
[{"$f":"pqidat!A394","v":0},{"$f":"pqidat!B394","v":0},{"$f":"pqidat!C394","v":0},{"$f":"pqidat!D394","v":0},{"$f":"pqidat!E394","v":0},{"$f":"pqidat!F394","v":0},{"$f":"pqidat!G394","v":0},{"$f":"pqidat!H394","v":0},{"$f":"pqidat!I394","v":0},{"$f":"pqidat!J394","v":0},{"$f":"pqidat!K394","v":0},{"$f":"pqidat!L394","v":0},{"$f":"pqidat!M394","v":0},{"$f":"pqidat!N394","v":0},{"$f":"pqidat!O394","v":0},{"$f":"pqidat!P394","v":0},0,{"$f":"pqidat!Q394","v":0},{"$f":"pqidat!R394","v":0},{"$f":"pqidat!S394","v":0},{"$f":"pqidat!T394","v":0},{"$f":"pqidat!U394","v":0}]
[{"$f":"pqidat!A395","v":0},{"$f":"pqidat!B395","v":0},{"$f":"pqidat!C395","v":0},{"$f":"pqidat!D395","v":0},{"$f":"pqidat!E395","v":0},{"$f":"pqidat!F395","v":0},{"$f":"pqidat!G395","v":0},{"$f":"pqidat!H395","v":0},{"$f":"pqidat!I395","v":0},{"$f":"pqidat!J395","v":0},{"$f":"pqidat!K395","v":0},{"$f":"pqidat!L395","v":0},{"$f":"pqidat!M395","v":0},{"$f":"pqidat!N395","v":0},{"$f":"pqidat!O395","v":0},{"$f":"pqidat!P395","v":0},0,{"$f":"pqidat!Q395","v":0},{"$f":"pqidat!R395","v":0},{"$f":"pqidat!S395","v":0},{"$f":"pqidat!T395","v":0},{"$f":"pqidat!U395","v":0}]
[{"$f":"pqidat!A396","v":0},{"$f":"pqidat!B396","v":0},{"$f":"pqidat!C396","v":0},{"$f":"pqidat!D396","v":0},{"$f":"pqidat!E396","v":0},{"$f":"pqidat!F396","v":0},{"$f":"pqidat!G396","v":0},{"$f":"pqidat!H396","v":0},{"$f":"pqidat!I396","v":0},{"$f":"pqidat!J396","v":0},{"$f":"pqidat!K396","v":0},{"$f":"pqidat!L396","v":0},{"$f":"pqidat!M396","v":0},{"$f":"pqidat!N396","v":0},{"$f":"pqidat!O396","v":0},{"$f":"pqidat!P396","v":0},0,{"$f":"pqidat!Q396","v":0},{"$f":"pqidat!R396","v":0},{"$f":"pqidat!S396","v":0},{"$f":"pqidat!T396","v":0},{"$f":"pqidat!U396","v":0}]
[{"$f":"pqidat!A397","v":0},{"$f":"pqidat!B397","v":0},{"$f":"pqidat!C397","v":0},{"$f":"pqidat!D397","v":0},{"$f":"pqidat!E397","v":0},{"$f":"pqidat!F397","v":0},{"$f":"pqidat!G397","v":0},{"$f":"pqidat!H397","v":0},{"$f":"pqidat!I397","v":0},{"$f":"pqidat!J397","v":0},{"$f":"pqidat!K397","v":0},{"$f":"pqidat!L397","v":0},{"$f":"pqidat!M397","v":0},{"$f":"pqidat!N397","v":0},{"$f":"pqidat!O397","v":0},{"$f":"pqidat!P397","v":0},0,{"$f":"pqidat!Q397","v":0},{"$f":"pqidat!R397","v":0},{"$f":"pqidat!S397","v":0},{"$f":"pqidat!T397","v":0},{"$f":"pqidat!U397","v":0}]
[{"$f":"pqidat!A398","v":0},{"$f":"pqidat!B398","v":0},{"$f":"pqidat!C398","v":0},{"$f":"pqidat!D398","v":0},{"$f":"pqidat!E398","v":0},{"$f":"pqidat!F398","v":0},{"$f":"pqidat!G398","v":0},{"$f":"pqidat!H398","v":0},{"$f":"pqidat!I398","v":0},{"$f":"pqidat!J398","v":0},{"$f":"pqidat!K398","v":0},{"$f":"pqidat!L398","v":0},{"$f":"pqidat!M398","v":0},{"$f":"pqidat!N398","v":0},{"$f":"pqidat!O398","v":0},{"$f":"pqidat!P398","v":0},0,{"$f":"pqidat!Q398","v":0},{"$f":"pqidat!R398","v":0},{"$f":"pqidat!S398","v":0},{"$f":"pqidat!T398","v":0},{"$f":"pqidat!U398","v":0}]
[{"$f":"pqidat!A399","v":0},{"$f":"pqidat!B399","v":0},{"$f":"pqidat!C399","v":0},{"$f":"pqidat!D399","v":0},{"$f":"pqidat!E399","v":0},{"$f":"pqidat!F399","v":0},{"$f":"pqidat!G399","v":0},{"$f":"pqidat!H399","v":0},{"$f":"pqidat!I399","v":0},{"$f":"pqidat!J399","v":0},{"$f":"pqidat!K399","v":0},{"$f":"pqidat!L399","v":0},{"$f":"pqidat!M399","v":0},{"$f":"pqidat!N399","v":0},{"$f":"pqidat!O399","v":0},{"$f":"pqidat!P399","v":0},0,{"$f":"pqidat!Q399","v":0},{"$f":"pqidat!R399","v":0},{"$f":"pqidat!S399","v":0},{"$f":"pqidat!T399","v":0},{"$f":"pqidat!U399","v":0}]
[{"$f":"pqidat!A400","v":0},{"$f":"pqidat!B400","v":0},{"$f":"pqidat!C400","v":0},{"$f":"pqidat!D400","v":0},{"$f":"pqidat!E400","v":0},{"$f":"pqidat!F400","v":0},{"$f":"pqidat!G400","v":0},{"$f":"pqidat!H400","v":0},{"$f":"pqidat!I400","v":0},{"$f":"pqidat!J400","v":0},{"$f":"pqidat!K400","v":0},{"$f":"pqidat!L400","v":0},{"$f":"pqidat!M400","v":0},{"$f":"pqidat!N400","v":0},{"$f":"pqidat!O400","v":0},{"$f":"pqidat!P400","v":0},0,{"$f":"pqidat!Q400","v":0},{"$f":"pqidat!R400","v":0},{"$f":"pqidat!S400","v":0},{"$f":"pqidat!T400","v":0},{"$f":"pqidat!U400","v":0}]
[{"$f":"pqidat!A401","v":0},{"$f":"pqidat!B401","v":0},{"$f":"pqidat!C401","v":0},{"$f":"pqidat!D401","v":0},{"$f":"pqidat!E401","v":0},{"$f":"pqidat!F401","v":0},{"$f":"pqidat!G401","v":0},{"$f":"pqidat!H401","v":0},{"$f":"pqidat!I401","v":0},{"$f":"pqidat!J401","v":0},{"$f":"pqidat!K401","v":0},{"$f":"pqidat!L401","v":0},{"$f":"pqidat!M401","v":0},{"$f":"pqidat!N401","v":0},{"$f":"pqidat!O401","v":0},{"$f":"pqidat!P401","v":0},0,{"$f":"pqidat!Q401","v":0},{"$f":"pqidat!R401","v":0},{"$f":"pqidat!S401","v":0},{"$f":"pqidat!T401","v":0},{"$f":"pqidat!U401","v":0}]
[{"$f":"pqidat!A402","v":0},{"$f":"pqidat!B402","v":0},{"$f":"pqidat!C402","v":0},{"$f":"pqidat!D402","v":0},{"$f":"pqidat!E402","v":0},{"$f":"pqidat!F402","v":0},{"$f":"pqidat!G402","v":0},{"$f":"pqidat!H402","v":0},{"$f":"pqidat!I402","v":0},{"$f":"pqidat!J402","v":0},{"$f":"pqidat!K402","v":0},{"$f":"pqidat!L402","v":0},{"$f":"pqidat!M402","v":0},{"$f":"pqidat!N402","v":0},{"$f":"pqidat!O402","v":0},{"$f":"pqidat!P402","v":0},0,{"$f":"pqidat!Q402","v":0},{"$f":"pqidat!R402","v":0},{"$f":"pqidat!S402","v":0},{"$f":"pqidat!T402","v":0},{"$f":"pqidat!U402","v":0}]
[{"$f":"pqidat!A403","v":0},{"$f":"pqidat!B403","v":0},{"$f":"pqidat!C403","v":0},{"$f":"pqidat!D403","v":0},{"$f":"pqidat!E403","v":0},{"$f":"pqidat!F403","v":0},{"$f":"pqidat!G403","v":0},{"$f":"pqidat!H403","v":0},{"$f":"pqidat!I403","v":0},{"$f":"pqidat!J403","v":0},{"$f":"pqidat!K403","v":0},{"$f":"pqidat!L403","v":0},{"$f":"pqidat!M403","v":0},{"$f":"pqidat!N403","v":0},{"$f":"pqidat!O403","v":0},{"$f":"pqidat!P403","v":0},0,{"$f":"pqidat!Q403","v":0},{"$f":"pqidat!R403","v":0},{"$f":"pqidat!S403","v":0},{"$f":"pqidat!T403","v":0},{"$f":"pqidat!U403","v":0}]
[{"$f":"pqidat!A404","v":0},{"$f":"pqidat!B404","v":0},{"$f":"pqidat!C404","v":0},{"$f":"pqidat!D404","v":0},{"$f":"pqidat!E404","v":0},{"$f":"pqidat!F404","v":0},{"$f":"pqidat!G404","v":0},{"$f":"pqidat!H404","v":0},{"$f":"pqidat!I404","v":0},{"$f":"pqidat!J404","v":0},{"$f":"pqidat!K404","v":0},{"$f":"pqidat!L404","v":0},{"$f":"pqidat!M404","v":0},{"$f":"pqidat!N404","v":0},{"$f":"pqidat!O404","v":0},{"$f":"pqidat!P404","v":0},0,{"$f":"pqidat!Q404","v":0},{"$f":"pqidat!R404","v":0},{"$f":"pqidat!S404","v":0},{"$f":"pqidat!T404","v":0},{"$f":"pqidat!U404","v":0}]
[{"$f":"pqidat!A405","v":0},{"$f":"pqidat!B405","v":0},{"$f":"pqidat!C405","v":0},{"$f":"pqidat!D405","v":0},{"$f":"pqidat!E405","v":0},{"$f":"pqidat!F405","v":0},{"$f":"pqidat!G405","v":0},{"$f":"pqidat!H405","v":0},{"$f":"pqidat!I405","v":0},{"$f":"pqidat!J405","v":0},{"$f":"pqidat!K405","v":0},{"$f":"pqidat!L405","v":0},{"$f":"pqidat!M405","v":0},{"$f":"pqidat!N405","v":0},{"$f":"pqidat!O405","v":0},{"$f":"pqidat!P405","v":0},0,{"$f":"pqidat!Q405","v":0},{"$f":"pqidat!R405","v":0},{"$f":"pqidat!S405","v":0},{"$f":"pqidat!T405","v":0},{"$f":"pqidat!U405","v":0}]
[{"$f":"pqidat!A406","v":0},{"$f":"pqidat!B406","v":0},{"$f":"pqidat!C406","v":0},{"$f":"pqidat!D406","v":0},{"$f":"pqidat!E406","v":0},{"$f":"pqidat!F406","v":0},{"$f":"pqidat!G406","v":0},{"$f":"pqidat!H406","v":0},{"$f":"pqidat!I406","v":0},{"$f":"pqidat!J406","v":0},{"$f":"pqidat!K406","v":0},{"$f":"pqidat!L406","v":0},{"$f":"pqidat!M406","v":0},{"$f":"pqidat!N406","v":0},{"$f":"pqidat!O406","v":0},{"$f":"pqidat!P406","v":0},0,{"$f":"pqidat!Q406","v":0},{"$f":"pqidat!R406","v":0},{"$f":"pqidat!S406","v":0},{"$f":"pqidat!T406","v":0},{"$f":"pqidat!U406","v":0}]
[{"$f":"pqidat!A407","v":0},{"$f":"pqidat!B407","v":0},{"$f":"pqidat!C407","v":0},{"$f":"pqidat!D407","v":0},{"$f":"pqidat!E407","v":0},{"$f":"pqidat!F407","v":0},{"$f":"pqidat!G407","v":0},{"$f":"pqidat!H407","v":0},{"$f":"pqidat!I407","v":0},{"$f":"pqidat!J407","v":0},{"$f":"pqidat!K407","v":0},{"$f":"pqidat!L407","v":0},{"$f":"pqidat!M407","v":0},{"$f":"pqidat!N407","v":0},{"$f":"pqidat!O407","v":0},{"$f":"pqidat!P407","v":0},0,{"$f":"pqidat!Q407","v":0},{"$f":"pqidat!R407","v":0},{"$f":"pqidat!S407","v":0},{"$f":"pqidat!T407","v":0},{"$f":"pqidat!U407","v":0}]
[{"$f":"pqidat!A408","v":0},{"$f":"pqidat!B408","v":0},{"$f":"pqidat!C408","v":0},{"$f":"pqidat!D408","v":0},{"$f":"pqidat!E408","v":0},{"$f":"pqidat!F408","v":0},{"$f":"pqidat!G408","v":0},{"$f":"pqidat!H408","v":0},{"$f":"pqidat!I408","v":0},{"$f":"pqidat!J408","v":0},{"$f":"pqidat!K408","v":0},{"$f":"pqidat!L408","v":0},{"$f":"pqidat!M408","v":0},{"$f":"pqidat!N408","v":0},{"$f":"pqidat!O408","v":0},{"$f":"pqidat!P408","v":0},0,{"$f":"pqidat!Q408","v":0},{"$f":"pqidat!R408","v":0},{"$f":"pqidat!S408","v":0},{"$f":"pqidat!T408","v":0},{"$f":"pqidat!U408","v":0}]
[{"$f":"pqidat!A409","v":0},{"$f":"pqidat!B409","v":0},{"$f":"pqidat!C409","v":0},{"$f":"pqidat!D409","v":0},{"$f":"pqidat!E409","v":0},{"$f":"pqidat!F409","v":0},{"$f":"pqidat!G409","v":0},{"$f":"pqidat!H409","v":0},{"$f":"pqidat!I409","v":0},{"$f":"pqidat!J409","v":0},{"$f":"pqidat!K409","v":0},{"$f":"pqidat!L409","v":0},{"$f":"pqidat!M409","v":0},{"$f":"pqidat!N409","v":0},{"$f":"pqidat!O409","v":0},{"$f":"pqidat!P409","v":0},0,{"$f":"pqidat!Q409","v":0},{"$f":"pqidat!R409","v":0},{"$f":"pqidat!S409","v":0},{"$f":"pqidat!T409","v":0},{"$f":"pqidat!U409","v":0}]
[{"$f":"pqidat!A410","v":0},{"$f":"pqidat!B410","v":0},{"$f":"pqidat!C410","v":0},{"$f":"pqidat!D410","v":0},{"$f":"pqidat!E410","v":0},{"$f":"pqidat!F410","v":0},{"$f":"pqidat!G410","v":0},{"$f":"pqidat!H410","v":0},{"$f":"pqidat!I410","v":0},{"$f":"pqidat!J410","v":0},{"$f":"pqidat!K410","v":0},{"$f":"pqidat!L410","v":0},{"$f":"pqidat!M410","v":0},{"$f":"pqidat!N410","v":0},{"$f":"pqidat!O410","v":0},{"$f":"pqidat!P410","v":0},0,{"$f":"pqidat!Q410","v":0},{"$f":"pqidat!R410","v":0},{"$f":"pqidat!S410","v":0},{"$f":"pqidat!T410","v":0},{"$f":"pqidat!U410","v":0}]
[{"$f":"pqidat!A411","v":0},{"$f":"pqidat!B411","v":0},{"$f":"pqidat!C411","v":0},{"$f":"pqidat!D411","v":0},{"$f":"pqidat!E411","v":0},{"$f":"pqidat!F411","v":0},{"$f":"pqidat!G411","v":0},{"$f":"pqidat!H411","v":0},{"$f":"pqidat!I411","v":0},{"$f":"pqidat!J411","v":0},{"$f":"pqidat!K411","v":0},{"$f":"pqidat!L411","v":0},{"$f":"pqidat!M411","v":0},{"$f":"pqidat!N411","v":0},{"$f":"pqidat!O411","v":0},{"$f":"pqidat!P411","v":0},0,{"$f":"pqidat!Q411","v":0},{"$f":"pqidat!R411","v":0},{"$f":"pqidat!S411","v":0},{"$f":"pqidat!T411","v":0},{"$f":"pqidat!U411","v":0}]
[{"$f":"pqidat!A412","v":0},{"$f":"pqidat!B412","v":0},{"$f":"pqidat!C412","v":0},{"$f":"pqidat!D412","v":0},{"$f":"pqidat!E412","v":0},{"$f":"pqidat!F412","v":0},{"$f":"pqidat!G412","v":0},{"$f":"pqidat!H412","v":0},{"$f":"pqidat!I412","v":0},{"$f":"pqidat!J412","v":0},{"$f":"pqidat!K412","v":0},{"$f":"pqidat!L412","v":0},{"$f":"pqidat!M412","v":0},{"$f":"pqidat!N412","v":0},{"$f":"pqidat!O412","v":0},{"$f":"pqidat!P412","v":0},0,{"$f":"pqidat!Q412","v":0},{"$f":"pqidat!R412","v":0},{"$f":"pqidat!S412","v":0},{"$f":"pqidat!T412","v":0},{"$f":"pqidat!U412","v":0}]
[{"$f":"pqidat!A413","v":0},{"$f":"pqidat!B413","v":0},{"$f":"pqidat!C413","v":0},{"$f":"pqidat!D413","v":0},{"$f":"pqidat!E413","v":0},{"$f":"pqidat!F413","v":0},{"$f":"pqidat!G413","v":0},{"$f":"pqidat!H413","v":0},{"$f":"pqidat!I413","v":0},{"$f":"pqidat!J413","v":0},{"$f":"pqidat!K413","v":0},{"$f":"pqidat!L413","v":0},{"$f":"pqidat!M413","v":0},{"$f":"pqidat!N413","v":0},{"$f":"pqidat!O413","v":0},{"$f":"pqidat!P413","v":0},0,{"$f":"pqidat!Q413","v":0},{"$f":"pqidat!R413","v":0},{"$f":"pqidat!S413","v":0},{"$f":"pqidat!T413","v":0},{"$f":"pqidat!U413","v":0}]
[{"$f":"pqidat!A414","v":0},{"$f":"pqidat!B414","v":0},{"$f":"pqidat!C414","v":0},{"$f":"pqidat!D414","v":0},{"$f":"pqidat!E414","v":0},{"$f":"pqidat!F414","v":0},{"$f":"pqidat!G414","v":0},{"$f":"pqidat!H414","v":0},{"$f":"pqidat!I414","v":0},{"$f":"pqidat!J414","v":0},{"$f":"pqidat!K414","v":0},{"$f":"pqidat!L414","v":0},{"$f":"pqidat!M414","v":0},{"$f":"pqidat!N414","v":0},{"$f":"pqidat!O414","v":0},{"$f":"pqidat!P414","v":0},0,{"$f":"pqidat!Q414","v":0},{"$f":"pqidat!R414","v":0},{"$f":"pqidat!S414","v":0},{"$f":"pqidat!T414","v":0},{"$f":"pqidat!U414","v":0}]
[{"$f":"pqidat!A415","v":0},{"$f":"pqidat!B415","v":0},{"$f":"pqidat!C415","v":0},{"$f":"pqidat!D415","v":0},{"$f":"pqidat!E415","v":0},{"$f":"pqidat!F415","v":0},{"$f":"pqidat!G415","v":0},{"$f":"pqidat!H415","v":0},{"$f":"pqidat!I415","v":0},{"$f":"pqidat!J415","v":0},{"$f":"pqidat!K415","v":0},{"$f":"pqidat!L415","v":0},{"$f":"pqidat!M415","v":0},{"$f":"pqidat!N415","v":0},{"$f":"pqidat!O415","v":0},{"$f":"pqidat!P415","v":0},0,{"$f":"pqidat!Q415","v":0},{"$f":"pqidat!R415","v":0},{"$f":"pqidat!S415","v":0},{"$f":"pqidat!T415","v":0},{"$f":"pqidat!U415","v":0}]
[{"$f":"pqidat!A416","v":0},{"$f":"pqidat!B416","v":0},{"$f":"pqidat!C416","v":0},{"$f":"pqidat!D416","v":0},{"$f":"pqidat!E416","v":0},{"$f":"pqidat!F416","v":0},{"$f":"pqidat!G416","v":0},{"$f":"pqidat!H416","v":0},{"$f":"pqidat!I416","v":0},{"$f":"pqidat!J416","v":0},{"$f":"pqidat!K416","v":0},{"$f":"pqidat!L416","v":0},{"$f":"pqidat!M416","v":0},{"$f":"pqidat!N416","v":0},{"$f":"pqidat!O416","v":0},{"$f":"pqidat!P416","v":0},0,{"$f":"pqidat!Q416","v":0},{"$f":"pqidat!R416","v":0},{"$f":"pqidat!S416","v":0},{"$f":"pqidat!T416","v":0},{"$f":"pqidat!U416","v":0}]
[{"$f":"pqidat!A417","v":0},{"$f":"pqidat!B417","v":0},{"$f":"pqidat!C417","v":0},{"$f":"pqidat!D417","v":0},{"$f":"pqidat!E417","v":0},{"$f":"pqidat!F417","v":0},{"$f":"pqidat!G417","v":0},{"$f":"pqidat!H417","v":0},{"$f":"pqidat!I417","v":0},{"$f":"pqidat!J417","v":0},{"$f":"pqidat!K417","v":0},{"$f":"pqidat!L417","v":0},{"$f":"pqidat!M417","v":0},{"$f":"pqidat!N417","v":0},{"$f":"pqidat!O417","v":0},{"$f":"pqidat!P417","v":0},0,{"$f":"pqidat!Q417","v":0},{"$f":"pqidat!R417","v":0},{"$f":"pqidat!S417","v":0},{"$f":"pqidat!T417","v":0},{"$f":"pqidat!U417","v":0}]
[{"$f":"pqidat!A418","v":0},{"$f":"pqidat!B418","v":0},{"$f":"pqidat!C418","v":0},{"$f":"pqidat!D418","v":0},{"$f":"pqidat!E418","v":0},{"$f":"pqidat!F418","v":0},{"$f":"pqidat!G418","v":0},{"$f":"pqidat!H418","v":0},{"$f":"pqidat!I418","v":0},{"$f":"pqidat!J418","v":0},{"$f":"pqidat!K418","v":0},{"$f":"pqidat!L418","v":0},{"$f":"pqidat!M418","v":0},{"$f":"pqidat!N418","v":0},{"$f":"pqidat!O418","v":0},{"$f":"pqidat!P418","v":0},0,{"$f":"pqidat!Q418","v":0},{"$f":"pqidat!R418","v":0},{"$f":"pqidat!S418","v":0},{"$f":"pqidat!T418","v":0},{"$f":"pqidat!U418","v":0}]
[{"$f":"pqidat!A419","v":0},{"$f":"pqidat!B419","v":0},{"$f":"pqidat!C419","v":0},{"$f":"pqidat!D419","v":0},{"$f":"pqidat!E419","v":0},{"$f":"pqidat!F419","v":0},{"$f":"pqidat!G419","v":0},{"$f":"pqidat!H419","v":0},{"$f":"pqidat!I419","v":0},{"$f":"pqidat!J419","v":0},{"$f":"pqidat!K419","v":0},{"$f":"pqidat!L419","v":0},{"$f":"pqidat!M419","v":0},{"$f":"pqidat!N419","v":0},{"$f":"pqidat!O419","v":0},{"$f":"pqidat!P419","v":0},0,{"$f":"pqidat!Q419","v":0},{"$f":"pqidat!R419","v":0},{"$f":"pqidat!S419","v":0},{"$f":"pqidat!T419","v":0},{"$f":"pqidat!U419","v":0}]
[{"$f":"pqidat!A420","v":0},{"$f":"pqidat!B420","v":0},{"$f":"pqidat!C420","v":0},{"$f":"pqidat!D420","v":0},{"$f":"pqidat!E420","v":0},{"$f":"pqidat!F420","v":0},{"$f":"pqidat!G420","v":0},{"$f":"pqidat!H420","v":0},{"$f":"pqidat!I420","v":0},{"$f":"pqidat!J420","v":0},{"$f":"pqidat!K420","v":0},{"$f":"pqidat!L420","v":0},{"$f":"pqidat!M420","v":0},{"$f":"pqidat!N420","v":0},{"$f":"pqidat!O420","v":0},{"$f":"pqidat!P420","v":0},0,{"$f":"pqidat!Q420","v":0},{"$f":"pqidat!R420","v":0},{"$f":"pqidat!S420","v":0},{"$f":"pqidat!T420","v":0},{"$f":"pqidat!U420","v":0}]
[{"$f":"pqidat!A421","v":0},{"$f":"pqidat!B421","v":0},{"$f":"pqidat!C421","v":0},{"$f":"pqidat!D421","v":0},{"$f":"pqidat!E421","v":0},{"$f":"pqidat!F421","v":0},{"$f":"pqidat!G421","v":0},{"$f":"pqidat!H421","v":0},{"$f":"pqidat!I421","v":0},{"$f":"pqidat!J421","v":0},{"$f":"pqidat!K421","v":0},{"$f":"pqidat!L421","v":0},{"$f":"pqidat!M421","v":0},{"$f":"pqidat!N421","v":0},{"$f":"pqidat!O421","v":0},{"$f":"pqidat!P421","v":0},0,{"$f":"pqidat!Q421","v":0},{"$f":"pqidat!R421","v":0},{"$f":"pqidat!S421","v":0},{"$f":"pqidat!T421","v":0},{"$f":"pqidat!U421","v":0}]
[{"$f":"pqidat!A422","v":0},{"$f":"pqidat!B422","v":0},{"$f":"pqidat!C422","v":0},{"$f":"pqidat!D422","v":0},{"$f":"pqidat!E422","v":0},{"$f":"pqidat!F422","v":0},{"$f":"pqidat!G422","v":0},{"$f":"pqidat!H422","v":0},{"$f":"pqidat!I422","v":0},{"$f":"pqidat!J422","v":0},{"$f":"pqidat!K422","v":0},{"$f":"pqidat!L422","v":0},{"$f":"pqidat!M422","v":0},{"$f":"pqidat!N422","v":0},{"$f":"pqidat!O422","v":0},{"$f":"pqidat!P422","v":0},0,{"$f":"pqidat!Q422","v":0},{"$f":"pqidat!R422","v":0},{"$f":"pqidat!S422","v":0},{"$f":"pqidat!T422","v":0},{"$f":"pqidat!U422","v":0}]
[{"$f":"pqidat!A423","v":0},{"$f":"pqidat!B423","v":0},{"$f":"pqidat!C423","v":0},{"$f":"pqidat!D423","v":0},{"$f":"pqidat!E423","v":0},{"$f":"pqidat!F423","v":0},{"$f":"pqidat!G423","v":0},{"$f":"pqidat!H423","v":0},{"$f":"pqidat!I423","v":0},{"$f":"pqidat!J423","v":0},{"$f":"pqidat!K423","v":0},{"$f":"pqidat!L423","v":0},{"$f":"pqidat!M423","v":0},{"$f":"pqidat!N423","v":0},{"$f":"pqidat!O423","v":0},{"$f":"pqidat!P423","v":0},0,{"$f":"pqidat!Q423","v":0},{"$f":"pqidat!R423","v":0},{"$f":"pqidat!S423","v":0},{"$f":"pqidat!T423","v":0},{"$f":"pqidat!U423","v":0}]
[{"$f":"pqidat!A424","v":0},{"$f":"pqidat!B424","v":0},{"$f":"pqidat!C424","v":0},{"$f":"pqidat!D424","v":0},{"$f":"pqidat!E424","v":0},{"$f":"pqidat!F424","v":0},{"$f":"pqidat!G424","v":0},{"$f":"pqidat!H424","v":0},{"$f":"pqidat!I424","v":0},{"$f":"pqidat!J424","v":0},{"$f":"pqidat!K424","v":0},{"$f":"pqidat!L424","v":0},{"$f":"pqidat!M424","v":0},{"$f":"pqidat!N424","v":0},{"$f":"pqidat!O424","v":0},{"$f":"pqidat!P424","v":0},0,{"$f":"pqidat!Q424","v":0},{"$f":"pqidat!R424","v":0},{"$f":"pqidat!S424","v":0},{"$f":"pqidat!T424","v":0},{"$f":"pqidat!U424","v":0}]
[{"$f":"pqidat!A425","v":0},{"$f":"pqidat!B425","v":0},{"$f":"pqidat!C425","v":0},{"$f":"pqidat!D425","v":0},{"$f":"pqidat!E425","v":0},{"$f":"pqidat!F425","v":0},{"$f":"pqidat!G425","v":0},{"$f":"pqidat!H425","v":0},{"$f":"pqidat!I425","v":0},{"$f":"pqidat!J425","v":0},{"$f":"pqidat!K425","v":0},{"$f":"pqidat!L425","v":0},{"$f":"pqidat!M425","v":0},{"$f":"pqidat!N425","v":0},{"$f":"pqidat!O425","v":0},{"$f":"pqidat!P425","v":0},0,{"$f":"pqidat!Q425","v":0},{"$f":"pqidat!R425","v":0},{"$f":"pqidat!S425","v":0},{"$f":"pqidat!T425","v":0},{"$f":"pqidat!U425","v":0}]
[{"$f":"pqidat!A426","v":0},{"$f":"pqidat!B426","v":0},{"$f":"pqidat!C426","v":0},{"$f":"pqidat!D426","v":0},{"$f":"pqidat!E426","v":0},{"$f":"pqidat!F426","v":0},{"$f":"pqidat!G426","v":0},{"$f":"pqidat!H426","v":0},{"$f":"pqidat!I426","v":0},{"$f":"pqidat!J426","v":0},{"$f":"pqidat!K426","v":0},{"$f":"pqidat!L426","v":0},{"$f":"pqidat!M426","v":0},{"$f":"pqidat!N426","v":0},{"$f":"pqidat!O426","v":0},{"$f":"pqidat!P426","v":0},0,{"$f":"pqidat!Q426","v":0},{"$f":"pqidat!R426","v":0},{"$f":"pqidat!S426","v":0},{"$f":"pqidat!T426","v":0},{"$f":"pqidat!U426","v":0}]
[{"$f":"pqidat!A427","v":0},{"$f":"pqidat!B427","v":0},{"$f":"pqidat!C427","v":0},{"$f":"pqidat!D427","v":0},{"$f":"pqidat!E427","v":0},{"$f":"pqidat!F427","v":0},{"$f":"pqidat!G427","v":0},{"$f":"pqidat!H427","v":0},{"$f":"pqidat!I427","v":0},{"$f":"pqidat!J427","v":0},{"$f":"pqidat!K427","v":0},{"$f":"pqidat!L427","v":0},{"$f":"pqidat!M427","v":0},{"$f":"pqidat!N427","v":0},{"$f":"pqidat!O427","v":0},{"$f":"pqidat!P427","v":0},0,{"$f":"pqidat!Q427","v":0},{"$f":"pqidat!R427","v":0},{"$f":"pqidat!S427","v":0},{"$f":"pqidat!T427","v":0},{"$f":"pqidat!U427","v":0}]
[{"$f":"pqidat!A428","v":0},{"$f":"pqidat!B428","v":0},{"$f":"pqidat!C428","v":0},{"$f":"pqidat!D428","v":0},{"$f":"pqidat!E428","v":0},{"$f":"pqidat!F428","v":0},{"$f":"pqidat!G428","v":0},{"$f":"pqidat!H428","v":0},{"$f":"pqidat!I428","v":0},{"$f":"pqidat!J428","v":0},{"$f":"pqidat!K428","v":0},{"$f":"pqidat!L428","v":0},{"$f":"pqidat!M428","v":0},{"$f":"pqidat!N428","v":0},{"$f":"pqidat!O428","v":0},{"$f":"pqidat!P428","v":0},0,{"$f":"pqidat!Q428","v":0},{"$f":"pqidat!R428","v":0},{"$f":"pqidat!S428","v":0},{"$f":"pqidat!T428","v":0},{"$f":"pqidat!U428","v":0}]
[{"$f":"pqidat!A429","v":0},{"$f":"pqidat!B429","v":0},{"$f":"pqidat!C429","v":0},{"$f":"pqidat!D429","v":0},{"$f":"pqidat!E429","v":0},{"$f":"pqidat!F429","v":0},{"$f":"pqidat!G429","v":0},{"$f":"pqidat!H429","v":0},{"$f":"pqidat!I429","v":0},{"$f":"pqidat!J429","v":0},{"$f":"pqidat!K429","v":0},{"$f":"pqidat!L429","v":0},{"$f":"pqidat!M429","v":0},{"$f":"pqidat!N429","v":0},{"$f":"pqidat!O429","v":0},{"$f":"pqidat!P429","v":0},0,{"$f":"pqidat!Q429","v":0},{"$f":"pqidat!R429","v":0},{"$f":"pqidat!S429","v":0},{"$f":"pqidat!T429","v":0},{"$f":"pqidat!U429","v":0}]
[{"$f":"pqidat!A430","v":0},{"$f":"pqidat!B430","v":0},{"$f":"pqidat!C430","v":0},{"$f":"pqidat!D430","v":0},{"$f":"pqidat!E430","v":0},{"$f":"pqidat!F430","v":0},{"$f":"pqidat!G430","v":0},{"$f":"pqidat!H430","v":0},{"$f":"pqidat!I430","v":0},{"$f":"pqidat!J430","v":0},{"$f":"pqidat!K430","v":0},{"$f":"pqidat!L430","v":0},{"$f":"pqidat!M430","v":0},{"$f":"pqidat!N430","v":0},{"$f":"pqidat!O430","v":0},{"$f":"pqidat!P430","v":0},0,{"$f":"pqidat!Q430","v":0},{"$f":"pqidat!R430","v":0},{"$f":"pqidat!S430","v":0},{"$f":"pqidat!T430","v":0},{"$f":"pqidat!U430","v":0}]
[{"$f":"pqidat!A431","v":0},{"$f":"pqidat!B431","v":0},{"$f":"pqidat!C431","v":0},{"$f":"pqidat!D431","v":0},{"$f":"pqidat!E431","v":0},{"$f":"pqidat!F431","v":0},{"$f":"pqidat!G431","v":0},{"$f":"pqidat!H431","v":0},{"$f":"pqidat!I431","v":0},{"$f":"pqidat!J431","v":0},{"$f":"pqidat!K431","v":0},{"$f":"pqidat!L431","v":0},{"$f":"pqidat!M431","v":0},{"$f":"pqidat!N431","v":0},{"$f":"pqidat!O431","v":0},{"$f":"pqidat!P431","v":0},0,{"$f":"pqidat!Q431","v":0},{"$f":"pqidat!R431","v":0},{"$f":"pqidat!S431","v":0},{"$f":"pqidat!T431","v":0},{"$f":"pqidat!U431","v":0}]
[{"$f":"pqidat!A432","v":0},{"$f":"pqidat!B432","v":0},{"$f":"pqidat!C432","v":0},{"$f":"pqidat!D432","v":0},{"$f":"pqidat!E432","v":0},{"$f":"pqidat!F432","v":0},{"$f":"pqidat!G432","v":0},{"$f":"pqidat!H432","v":0},{"$f":"pqidat!I432","v":0},{"$f":"pqidat!J432","v":0},{"$f":"pqidat!K432","v":0},{"$f":"pqidat!L432","v":0},{"$f":"pqidat!M432","v":0},{"$f":"pqidat!N432","v":0},{"$f":"pqidat!O432","v":0},{"$f":"pqidat!P432","v":0},0,{"$f":"pqidat!Q432","v":0},{"$f":"pqidat!R432","v":0},{"$f":"pqidat!S432","v":0},{"$f":"pqidat!T432","v":0},{"$f":"pqidat!U432","v":0}]
[{"$f":"pqidat!A433","v":0},{"$f":"pqidat!B433","v":0},{"$f":"pqidat!C433","v":0},{"$f":"pqidat!D433","v":0},{"$f":"pqidat!E433","v":0},{"$f":"pqidat!F433","v":0},{"$f":"pqidat!G433","v":0},{"$f":"pqidat!H433","v":0},{"$f":"pqidat!I433","v":0},{"$f":"pqidat!J433","v":0},{"$f":"pqidat!K433","v":0},{"$f":"pqidat!L433","v":0},{"$f":"pqidat!M433","v":0},{"$f":"pqidat!N433","v":0},{"$f":"pqidat!O433","v":0},{"$f":"pqidat!P433","v":0},0,{"$f":"pqidat!Q433","v":0},{"$f":"pqidat!R433","v":0},{"$f":"pqidat!S433","v":0},{"$f":"pqidat!T433","v":0},{"$f":"pqidat!U433","v":0}]
[{"$f":"pqidat!A434","v":0},{"$f":"pqidat!B434","v":0},{"$f":"pqidat!C434","v":0},{"$f":"pqidat!D434","v":0},{"$f":"pqidat!E434","v":0},{"$f":"pqidat!F434","v":0},{"$f":"pqidat!G434","v":0},{"$f":"pqidat!H434","v":0},{"$f":"pqidat!I434","v":0},{"$f":"pqidat!J434","v":0},{"$f":"pqidat!K434","v":0},{"$f":"pqidat!L434","v":0},{"$f":"pqidat!M434","v":0},{"$f":"pqidat!N434","v":0},{"$f":"pqidat!O434","v":0},{"$f":"pqidat!P434","v":0},0,{"$f":"pqidat!Q434","v":0},{"$f":"pqidat!R434","v":0},{"$f":"pqidat!S434","v":0},{"$f":"pqidat!T434","v":0},{"$f":"pqidat!U434","v":0}]
[{"$f":"pqidat!A435","v":0},{"$f":"pqidat!B435","v":0},{"$f":"pqidat!C435","v":0},{"$f":"pqidat!D435","v":0},{"$f":"pqidat!E435","v":0},{"$f":"pqidat!F435","v":0},{"$f":"pqidat!G435","v":0},{"$f":"pqidat!H435","v":0},{"$f":"pqidat!I435","v":0},{"$f":"pqidat!J435","v":0},{"$f":"pqidat!K435","v":0},{"$f":"pqidat!L435","v":0},{"$f":"pqidat!M435","v":0},{"$f":"pqidat!N435","v":0},{"$f":"pqidat!O435","v":0},{"$f":"pqidat!P435","v":0},0,{"$f":"pqidat!Q435","v":0},{"$f":"pqidat!R435","v":0},{"$f":"pqidat!S435","v":0},{"$f":"pqidat!T435","v":0},{"$f":"pqidat!U435","v":0}]
[{"$f":"pqidat!A436","v":0},{"$f":"pqidat!B436","v":0},{"$f":"pqidat!C436","v":0},{"$f":"pqidat!D436","v":0},{"$f":"pqidat!E436","v":0},{"$f":"pqidat!F436","v":0},{"$f":"pqidat!G436","v":0},{"$f":"pqidat!H436","v":0},{"$f":"pqidat!I436","v":0},{"$f":"pqidat!J436","v":0},{"$f":"pqidat!K436","v":0},{"$f":"pqidat!L436","v":0},{"$f":"pqidat!M436","v":0},{"$f":"pqidat!N436","v":0},{"$f":"pqidat!O436","v":0},{"$f":"pqidat!P436","v":0},0,{"$f":"pqidat!Q436","v":0},{"$f":"pqidat!R436","v":0},{"$f":"pqidat!S436","v":0},{"$f":"pqidat!T436","v":0},{"$f":"pqidat!U436","v":0}]
[{"$f":"pqidat!A437","v":0},{"$f":"pqidat!B437","v":0},{"$f":"pqidat!C437","v":0},{"$f":"pqidat!D437","v":0},{"$f":"pqidat!E437","v":0},{"$f":"pqidat!F437","v":0},{"$f":"pqidat!G437","v":0},{"$f":"pqidat!H437","v":0},{"$f":"pqidat!I437","v":0},{"$f":"pqidat!J437","v":0},{"$f":"pqidat!K437","v":0},{"$f":"pqidat!L437","v":0},{"$f":"pqidat!M437","v":0},{"$f":"pqidat!N437","v":0},{"$f":"pqidat!O437","v":0},{"$f":"pqidat!P437","v":0},0,{"$f":"pqidat!Q437","v":0},{"$f":"pqidat!R437","v":0},{"$f":"pqidat!S437","v":0},{"$f":"pqidat!T437","v":0},{"$f":"pqidat!U437","v":0}]
[{"$f":"pqidat!A438","v":0},{"$f":"pqidat!B438","v":0},{"$f":"pqidat!C438","v":0},{"$f":"pqidat!D438","v":0},{"$f":"pqidat!E438","v":0},{"$f":"pqidat!F438","v":0},{"$f":"pqidat!G438","v":0},{"$f":"pqidat!H438","v":0},{"$f":"pqidat!I438","v":0},{"$f":"pqidat!J438","v":0},{"$f":"pqidat!K438","v":0},{"$f":"pqidat!L438","v":0},{"$f":"pqidat!M438","v":0},{"$f":"pqidat!N438","v":0},{"$f":"pqidat!O438","v":0},{"$f":"pqidat!P438","v":0},0,{"$f":"pqidat!Q438","v":0},{"$f":"pqidat!R438","v":0},{"$f":"pqidat!S438","v":0},{"$f":"pqidat!T438","v":0},{"$f":"pqidat!U438","v":0}]
[{"$f":"pqidat!A439","v":0},{"$f":"pqidat!B439","v":0},{"$f":"pqidat!C439","v":0},{"$f":"pqidat!D439","v":0},{"$f":"pqidat!E439","v":0},{"$f":"pqidat!F439","v":0},{"$f":"pqidat!G439","v":0},{"$f":"pqidat!H439","v":0},{"$f":"pqidat!I439","v":0},{"$f":"pqidat!J439","v":0},{"$f":"pqidat!K439","v":0},{"$f":"pqidat!L439","v":0},{"$f":"pqidat!M439","v":0},{"$f":"pqidat!N439","v":0},{"$f":"pqidat!O439","v":0},{"$f":"pqidat!P439","v":0},0,{"$f":"pqidat!Q439","v":0},{"$f":"pqidat!R439","v":0},{"$f":"pqidat!S439","v":0},{"$f":"pqidat!T439","v":0},{"$f":"pqidat!U439","v":0}]
[{"$f":"pqidat!A440","v":0},{"$f":"pqidat!B440","v":0},{"$f":"pqidat!C440","v":0},{"$f":"pqidat!D440","v":0},{"$f":"pqidat!E440","v":0},{"$f":"pqidat!F440","v":0},{"$f":"pqidat!G440","v":0},{"$f":"pqidat!H440","v":0},{"$f":"pqidat!I440","v":0},{"$f":"pqidat!J440","v":0},{"$f":"pqidat!K440","v":0},{"$f":"pqidat!L440","v":0},{"$f":"pqidat!M440","v":0},{"$f":"pqidat!N440","v":0},{"$f":"pqidat!O440","v":0},{"$f":"pqidat!P440","v":0},0,{"$f":"pqidat!Q440","v":0},{"$f":"pqidat!R440","v":0},{"$f":"pqidat!S440","v":0},{"$f":"pqidat!T440","v":0},{"$f":"pqidat!U440","v":0}]
[{"$f":"pqidat!A441","v":0},{"$f":"pqidat!B441","v":0},{"$f":"pqidat!C441","v":0},{"$f":"pqidat!D441","v":0},{"$f":"pqidat!E441","v":0},{"$f":"pqidat!F441","v":0},{"$f":"pqidat!G441","v":0},{"$f":"pqidat!H441","v":0},{"$f":"pqidat!I441","v":0},{"$f":"pqidat!J441","v":0},{"$f":"pqidat!K441","v":0},{"$f":"pqidat!L441","v":0},{"$f":"pqidat!M441","v":0},{"$f":"pqidat!N441","v":0},{"$f":"pqidat!O441","v":0},{"$f":"pqidat!P441","v":0},0,{"$f":"pqidat!Q441","v":0},{"$f":"pqidat!R441","v":0},{"$f":"pqidat!S441","v":0},{"$f":"pqidat!T441","v":0},{"$f":"pqidat!U441","v":0}]
[{"$f":"pqidat!A442","v":0},{"$f":"pqidat!B442","v":0},{"$f":"pqidat!C442","v":0},{"$f":"pqidat!D442","v":0},{"$f":"pqidat!E442","v":0},{"$f":"pqidat!F442","v":0},{"$f":"pqidat!G442","v":0},{"$f":"pqidat!H442","v":0},{"$f":"pqidat!I442","v":0},{"$f":"pqidat!J442","v":0},{"$f":"pqidat!K442","v":0},{"$f":"pqidat!L442","v":0},{"$f":"pqidat!M442","v":0},{"$f":"pqidat!N442","v":0},{"$f":"pqidat!O442","v":0},{"$f":"pqidat!P442","v":0},0,{"$f":"pqidat!Q442","v":0},{"$f":"pqidat!R442","v":0},{"$f":"pqidat!S442","v":0},{"$f":"pqidat!T442","v":0},{"$f":"pqidat!U442","v":0}]
[{"$f":"pqidat!A443","v":0},{"$f":"pqidat!B443","v":0},{"$f":"pqidat!C443","v":0},{"$f":"pqidat!D443","v":0},{"$f":"pqidat!E443","v":0},{"$f":"pqidat!F443","v":0},{"$f":"pqidat!G443","v":0},{"$f":"pqidat!H443","v":0},{"$f":"pqidat!I443","v":0},{"$f":"pqidat!J443","v":0},{"$f":"pqidat!K443","v":0},{"$f":"pqidat!L443","v":0},{"$f":"pqidat!M443","v":0},{"$f":"pqidat!N443","v":0},{"$f":"pqidat!O443","v":0},{"$f":"pqidat!P443","v":0},0,{"$f":"pqidat!Q443","v":0},{"$f":"pqidat!R443","v":0},{"$f":"pqidat!S443","v":0},{"$f":"pqidat!T443","v":0},{"$f":"pqidat!U443","v":0}]
[{"$f":"pqidat!A444","v":0},{"$f":"pqidat!B444","v":0},{"$f":"pqidat!C444","v":0},{"$f":"pqidat!D444","v":0},{"$f":"pqidat!E444","v":0},{"$f":"pqidat!F444","v":0},{"$f":"pqidat!G444","v":0},{"$f":"pqidat!H444","v":0},{"$f":"pqidat!I444","v":0},{"$f":"pqidat!J444","v":0},{"$f":"pqidat!K444","v":0},{"$f":"pqidat!L444","v":0},{"$f":"pqidat!M444","v":0},{"$f":"pqidat!N444","v":0},{"$f":"pqidat!O444","v":0},{"$f":"pqidat!P444","v":0},0,{"$f":"pqidat!Q444","v":0},{"$f":"pqidat!R444","v":0},{"$f":"pqidat!S444","v":0},{"$f":"pqidat!T444","v":0},{"$f":"pqidat!U444","v":0}]
[{"$f":"pqidat!A445","v":0},{"$f":"pqidat!B445","v":0},{"$f":"pqidat!C445","v":0},{"$f":"pqidat!D445","v":0},{"$f":"pqidat!E445","v":0},{"$f":"pqidat!F445","v":0},{"$f":"pqidat!G445","v":0},{"$f":"pqidat!H445","v":0},{"$f":"pqidat!I445","v":0},{"$f":"pqidat!J445","v":0},{"$f":"pqidat!K445","v":0},{"$f":"pqidat!L445","v":0},{"$f":"pqidat!M445","v":0},{"$f":"pqidat!N445","v":0},{"$f":"pqidat!O445","v":0},{"$f":"pqidat!P445","v":0},0,{"$f":"pqidat!Q445","v":0},{"$f":"pqidat!R445","v":0},{"$f":"pqidat!S445","v":0},{"$f":"pqidat!T445","v":0},{"$f":"pqidat!U445","v":0}]
[{"$f":"pqidat!A446","v":0},{"$f":"pqidat!B446","v":0},{"$f":"pqidat!C446","v":0},{"$f":"pqidat!D446","v":0},{"$f":"pqidat!E446","v":0},{"$f":"pqidat!F446","v":0},{"$f":"pqidat!G446","v":0},{"$f":"pqidat!H446","v":0},{"$f":"pqidat!I446","v":0},{"$f":"pqidat!J446","v":0},{"$f":"pqidat!K446","v":0},{"$f":"pqidat!L446","v":0},{"$f":"pqidat!M446","v":0},{"$f":"pqidat!N446","v":0},{"$f":"pqidat!O446","v":0},{"$f":"pqidat!P446","v":0},0,{"$f":"pqidat!Q446","v":0},{"$f":"pqidat!R446","v":0},{"$f":"pqidat!S446","v":0},{"$f":"pqidat!T446","v":0},{"$f":"pqidat!U446","v":0}]
[{"$f":"pqidat!A447","v":0},{"$f":"pqidat!B447","v":0},{"$f":"pqidat!C447","v":0},{"$f":"pqidat!D447","v":0},{"$f":"pqidat!E447","v":0},{"$f":"pqidat!F447","v":0},{"$f":"pqidat!G447","v":0},{"$f":"pqidat!H447","v":0},{"$f":"pqidat!I447","v":0},{"$f":"pqidat!J447","v":0},{"$f":"pqidat!K447","v":0},{"$f":"pqidat!L447","v":0},{"$f":"pqidat!M447","v":0},{"$f":"pqidat!N447","v":0},{"$f":"pqidat!O447","v":0},{"$f":"pqidat!P447","v":0},0,{"$f":"pqidat!Q447","v":0},{"$f":"pqidat!R447","v":0},{"$f":"pqidat!S447","v":0},{"$f":"pqidat!T447","v":0},{"$f":"pqidat!U447","v":0}]
[{"$f":"pqidat!A448","v":0},{"$f":"pqidat!B448","v":0},{"$f":"pqidat!C448","v":0},{"$f":"pqidat!D448","v":0},{"$f":"pqidat!E448","v":0},{"$f":"pqidat!F448","v":0},{"$f":"pqidat!G448","v":0},{"$f":"pqidat!H448","v":0},{"$f":"pqidat!I448","v":0},{"$f":"pqidat!J448","v":0},{"$f":"pqidat!K448","v":0},{"$f":"pqidat!L448","v":0},{"$f":"pqidat!M448","v":0},{"$f":"pqidat!N448","v":0},{"$f":"pqidat!O448","v":0},{"$f":"pqidat!P448","v":0},0,{"$f":"pqidat!Q448","v":0},{"$f":"pqidat!R448","v":0},{"$f":"pqidat!S448","v":0},{"$f":"pqidat!T448","v":0},{"$f":"pqidat!U448","v":0}]
[{"$f":"pqidat!A449","v":0},{"$f":"pqidat!B449","v":0},{"$f":"pqidat!C449","v":0},{"$f":"pqidat!D449","v":0},{"$f":"pqidat!E449","v":0},{"$f":"pqidat!F449","v":0},{"$f":"pqidat!G449","v":0},{"$f":"pqidat!H449","v":0},{"$f":"pqidat!I449","v":0},{"$f":"pqidat!J449","v":0},{"$f":"pqidat!K449","v":0},{"$f":"pqidat!L449","v":0},{"$f":"pqidat!M449","v":0},{"$f":"pqidat!N449","v":0},{"$f":"pqidat!O449","v":0},{"$f":"pqidat!P449","v":0},0,{"$f":"pqidat!Q449","v":0},{"$f":"pqidat!R449","v":0},{"$f":"pqidat!S449","v":0},{"$f":"pqidat!T449","v":0},{"$f":"pqidat!U449","v":0}]
[{"$f":"pqidat!A450","v":0},{"$f":"pqidat!B450","v":0},{"$f":"pqidat!C450","v":0},{"$f":"pqidat!D450","v":0},{"$f":"pqidat!E450","v":0},{"$f":"pqidat!F450","v":0},{"$f":"pqidat!G450","v":0},{"$f":"pqidat!H450","v":0},{"$f":"pqidat!I450","v":0},{"$f":"pqidat!J450","v":0},{"$f":"pqidat!K450","v":0},{"$f":"pqidat!L450","v":0},{"$f":"pqidat!M450","v":0},{"$f":"pqidat!N450","v":0},{"$f":"pqidat!O450","v":0},{"$f":"pqidat!P450","v":0},0,{"$f":"pqidat!Q450","v":0},{"$f":"pqidat!R450","v":0},{"$f":"pqidat!S450","v":0},{"$f":"pqidat!T450","v":0},{"$f":"pqidat!U450","v":0}]
[{"$f":"pqidat!A451","v":0},{"$f":"pqidat!B451","v":0},{"$f":"pqidat!C451","v":0},{"$f":"pqidat!D451","v":0},{"$f":"pqidat!E451","v":0},{"$f":"pqidat!F451","v":0},{"$f":"pqidat!G451","v":0},{"$f":"pqidat!H451","v":0},{"$f":"pqidat!I451","v":0},{"$f":"pqidat!J451","v":0},{"$f":"pqidat!K451","v":0},{"$f":"pqidat!L451","v":0},{"$f":"pqidat!M451","v":0},{"$f":"pqidat!N451","v":0},{"$f":"pqidat!O451","v":0},{"$f":"pqidat!P451","v":0},0,{"$f":"pqidat!Q451","v":0},{"$f":"pqidat!R451","v":0},{"$f":"pqidat!S451","v":0},{"$f":"pqidat!T451","v":0},{"$f":"pqidat!U451","v":0}]
[{"$f":"pqidat!A452","v":0},{"$f":"pqidat!B452","v":0},{"$f":"pqidat!C452","v":0},{"$f":"pqidat!D452","v":0},{"$f":"pqidat!E452","v":0},{"$f":"pqidat!F452","v":0},{"$f":"pqidat!G452","v":0},{"$f":"pqidat!H452","v":0},{"$f":"pqidat!I452","v":0},{"$f":"pqidat!J452","v":0},{"$f":"pqidat!K452","v":0},{"$f":"pqidat!L452","v":0},{"$f":"pqidat!M452","v":0},{"$f":"pqidat!N452","v":0},{"$f":"pqidat!O452","v":0},{"$f":"pqidat!P452","v":0},0,{"$f":"pqidat!Q452","v":0},{"$f":"pqidat!R452","v":0},{"$f":"pqidat!S452","v":0},{"$f":"pqidat!T452","v":0},{"$f":"pqidat!U452","v":0}]
[{"$f":"pqidat!A453","v":0},{"$f":"pqidat!B453","v":0},{"$f":"pqidat!C453","v":0},{"$f":"pqidat!D453","v":0},{"$f":"pqidat!E453","v":0},{"$f":"pqidat!F453","v":0},{"$f":"pqidat!G453","v":0},{"$f":"pqidat!H453","v":0},{"$f":"pqidat!I453","v":0},{"$f":"pqidat!J453","v":0},{"$f":"pqidat!K453","v":0},{"$f":"pqidat!L453","v":0},{"$f":"pqidat!M453","v":0},{"$f":"pqidat!N453","v":0},{"$f":"pqidat!O453","v":0},{"$f":"pqidat!P453","v":0},{"$f":"IF(P451=0,0,IF(P451>Minimum,\"Pass\",\"Fail\"))","v":0},{"$f":"pqidat!Q453","v":0},{"$f":"pqidat!R453","v":0},{"$f":"pqidat!S453","v":0},{"$f":"pqidat!T453","v":0},{"$f":"pqidat!U453","v":0}]
[{"$f":"pqidat!A454","v":0},{"$f":"pqidat!B454","v":0},{"$f":"pqidat!C454","v":0},{"$f":"pqidat!D454","v":0},{"$f":"pqidat!E454","v":0},{"$f":"pqidat!F454","v":0},{"$f":"pqidat!G454","v":0},{"$f":"pqidat!H454","v":0},{"$f":"pqidat!I454","v":0},{"$f":"pqidat!J454","v":0},{"$f":"pqidat!K454","v":0},{"$f":"pqidat!L454","v":0},{"$f":"pqidat!M454","v":0},{"$f":"pqidat!N454","v":0},{"$f":"pqidat!O454","v":0},{"$f":"pqidat!P454","v":0},0,{"$f":"pqidat!Q454","v":0},{"$f":"pqidat!R454","v":0},{"$f":"pqidat!S454","v":0},{"$f":"pqidat!T454","v":0},{"$f":"pqidat!U454","v":0}]
[{"$f":"pqidat!A455","v":0},{"$f":"pqidat!B455","v":0},{"$f":"pqidat!C455","v":0},{"$f":"pqidat!D455","v":0},{"$f":"pqidat!E455","v":0},{"$f":"pqidat!F455","v":0},{"$f":"pqidat!G455","v":0},{"$f":"pqidat!H455","v":0},{"$f":"pqidat!I455","v":0},{"$f":"pqidat!J455","v":0},{"$f":"pqidat!K455","v":0},{"$f":"pqidat!L455","v":0},{"$f":"pqidat!M455","v":0},{"$f":"pqidat!N455","v":0},{"$f":"pqidat!O455","v":0},{"$f":"pqidat!P455","v":0},0,{"$f":"pqidat!Q455","v":0},{"$f":"pqidat!R455","v":0},{"$f":"pqidat!S455","v":0},{"$f":"pqidat!T455","v":0},{"$f":"pqidat!U455","v":0}]
[{"$f":"pqidat!A456","v":0},{"$f":"pqidat!B456","v":0},{"$f":"pqidat!C456","v":0},{"$f":"pqidat!D456","v":0},{"$f":"pqidat!E456","v":0},{"$f":"pqidat!F456","v":0},{"$f":"pqidat!G456","v":0},{"$f":"pqidat!H456","v":0},{"$f":"pqidat!I456","v":0},{"$f":"pqidat!J456","v":0},{"$f":"pqidat!K456","v":0},{"$f":"pqidat!L456","v":0},{"$f":"pqidat!M456","v":0},{"$f":"pqidat!N456","v":0},{"$f":"pqidat!O456","v":0},{"$f":"pqidat!P456","v":0},0,{"$f":"pqidat!Q456","v":0},{"$f":"pqidat!R456","v":0},{"$f":"pqidat!S456","v":0},{"$f":"pqidat!T456","v":0},{"$f":"pqidat!U456","v":0}]
[{"$f":"pqidat!A457","v":0},{"$f":"pqidat!B457","v":0},{"$f":"pqidat!C457","v":0},{"$f":"pqidat!D457","v":0},{"$f":"pqidat!E457","v":0},{"$f":"pqidat!F457","v":0},{"$f":"pqidat!G457","v":0},{"$f":"pqidat!H457","v":0},{"$f":"pqidat!I457","v":0},{"$f":"pqidat!J457","v":0},{"$f":"pqidat!K457","v":0},{"$f":"pqidat!L457","v":0},{"$f":"pqidat!M457","v":0},{"$f":"pqidat!N457","v":0},{"$f":"pqidat!O457","v":0},{"$f":"pqidat!P457","v":0},0,{"$f":"pqidat!Q457","v":0},{"$f":"pqidat!R457","v":0},{"$f":"pqidat!S457","v":0},{"$f":"pqidat!T457","v":0},{"$f":"pqidat!U457","v":0}]
[{"$f":"pqidat!A458","v":0},{"$f":"pqidat!B458","v":0},{"$f":"pqidat!C458","v":0},{"$f":"pqidat!D458","v":0},{"$f":"pqidat!E458","v":0},{"$f":"pqidat!F458","v":0},{"$f":"pqidat!G458","v":0},{"$f":"pqidat!H458","v":0},{"$f":"pqidat!I458","v":0},{"$f":"pqidat!J458","v":0},{"$f":"pqidat!K458","v":0},{"$f":"pqidat!L458","v":0},{"$f":"pqidat!M458","v":0},{"$f":"pqidat!N458","v":0},{"$f":"pqidat!O458","v":0},{"$f":"pqidat!P458","v":0},0,{"$f":"pqidat!Q458","v":0},{"$f":"pqidat!R458","v":0},{"$f":"pqidat!S458","v":0},{"$f":"pqidat!T458","v":0},{"$f":"pqidat!U458","v":0}]
[{"$f":"pqidat!A459","v":0},{"$f":"pqidat!B459","v":0},{"$f":"pqidat!C459","v":0},{"$f":"pqidat!D459","v":0},{"$f":"pqidat!E459","v":0},{"$f":"pqidat!F459","v":0},{"$f":"pqidat!G459","v":0},{"$f":"pqidat!H459","v":0},{"$f":"pqidat!I459","v":0},{"$f":"pqidat!J459","v":0},{"$f":"pqidat!K459","v":0},{"$f":"pqidat!L459","v":0},{"$f":"pqidat!M459","v":0},{"$f":"pqidat!N459","v":0},{"$f":"pqidat!O459","v":0},{"$f":"pqidat!P459","v":0},0,{"$f":"pqidat!Q459","v":0},{"$f":"pqidat!R459","v":0},{"$f":"pqidat!S459","v":0},{"$f":"pqidat!T459","v":0},{"$f":"pqidat!U459","v":0}]
[{"$f":"pqidat!A460","v":0},{"$f":"pqidat!B460","v":0},{"$f":"pqidat!C460","v":0},{"$f":"pqidat!D460","v":0},{"$f":"pqidat!E460","v":0},{"$f":"pqidat!F460","v":0},{"$f":"pqidat!G460","v":0},{"$f":"pqidat!H460","v":0},{"$f":"pqidat!I460","v":0},{"$f":"pqidat!J460","v":0},{"$f":"pqidat!K460","v":0},{"$f":"pqidat!L460","v":0},{"$f":"pqidat!M460","v":0},{"$f":"pqidat!N460","v":0},{"$f":"pqidat!O460","v":0},{"$f":"pqidat!P460","v":0},0,{"$f":"pqidat!Q460","v":0},{"$f":"pqidat!R460","v":0},{"$f":"pqidat!S460","v":0},{"$f":"pqidat!T460","v":0},{"$f":"pqidat!U460","v":0}]
[{"$f":"pqidat!A461","v":0},{"$f":"pqidat!B461","v":0},{"$f":"pqidat!C461","v":0},{"$f":"pqidat!D461","v":0},{"$f":"pqidat!E461","v":0},{"$f":"pqidat!F461","v":0},{"$f":"pqidat!G461","v":0},{"$f":"pqidat!H461","v":0},{"$f":"pqidat!I461","v":0},{"$f":"pqidat!J461","v":0},{"$f":"pqidat!K461","v":0},{"$f":"pqidat!L461","v":0},{"$f":"pqidat!M461","v":0},{"$f":"pqidat!N461","v":0},{"$f":"pqidat!O461","v":0},{"$f":"pqidat!P461","v":0},0,{"$f":"pqidat!Q461","v":0},{"$f":"pqidat!R461","v":0},{"$f":"pqidat!S461","v":0},{"$f":"pqidat!T461","v":0},{"$f":"pqidat!U461","v":0}]
[{"$f":"pqidat!A462","v":0},{"$f":"pqidat!B462","v":0},{"$f":"pqidat!C462","v":0},{"$f":"pqidat!D462","v":0},{"$f":"pqidat!E462","v":0},{"$f":"pqidat!F462","v":0},{"$f":"pqidat!G462","v":0},{"$f":"pqidat!H462","v":0},{"$f":"pqidat!I462","v":0},{"$f":"pqidat!J462","v":0},{"$f":"pqidat!K462","v":0},{"$f":"pqidat!L462","v":0},{"$f":"pqidat!M462","v":0},{"$f":"pqidat!N462","v":0},{"$f":"pqidat!O462","v":0},{"$f":"pqidat!P462","v":0},0,{"$f":"pqidat!Q462","v":0},{"$f":"pqidat!R462","v":0},{"$f":"pqidat!S462","v":0},{"$f":"pqidat!T462","v":0},{"$f":"pqidat!U462","v":0}]
[{"$f":"pqidat!A463","v":0},{"$f":"pqidat!B463","v":0},{"$f":"pqidat!C463","v":0},{"$f":"pqidat!D463","v":0},{"$f":"pqidat!E463","v":0},{"$f":"pqidat!F463","v":0},{"$f":"pqidat!G463","v":0},{"$f":"pqidat!H463","v":0},{"$f":"pqidat!I463","v":0},{"$f":"pqidat!J463","v":0},{"$f":"pqidat!K463","v":0},{"$f":"pqidat!L463","v":0},{"$f":"pqidat!M463","v":0},{"$f":"pqidat!N463","v":0},{"$f":"pqidat!O463","v":0},{"$f":"pqidat!P463","v":0},0,{"$f":"pqidat!Q463","v":0},{"$f":"pqidat!R463","v":0},{"$f":"pqidat!S463","v":0},{"$f":"pqidat!T463","v":0},{"$f":"pqidat!U463","v":0}]
[{"$f":"pqidat!A464","v":0},{"$f":"pqidat!B464","v":0},{"$f":"pqidat!C464","v":0},{"$f":"pqidat!D464","v":0},{"$f":"pqidat!E464","v":0},{"$f":"pqidat!F464","v":0},{"$f":"pqidat!G464","v":0},{"$f":"pqidat!H464","v":0},{"$f":"pqidat!I464","v":0},{"$f":"pqidat!J464","v":0},{"$f":"pqidat!K464","v":0},{"$f":"pqidat!L464","v":0},{"$f":"pqidat!M464","v":0},{"$f":"pqidat!N464","v":0},{"$f":"pqidat!O464","v":0},{"$f":"pqidat!P464","v":0},0,{"$f":"pqidat!Q464","v":0},{"$f":"pqidat!R464","v":0},{"$f":"pqidat!S464","v":0},{"$f":"pqidat!T464","v":0},{"$f":"pqidat!U464","v":0}]
[{"$f":"pqidat!A465","v":0},{"$f":"pqidat!B465","v":0},{"$f":"pqidat!C465","v":0},{"$f":"pqidat!D465","v":0},{"$f":"pqidat!E465","v":0},{"$f":"pqidat!F465","v":0},{"$f":"pqidat!G465","v":0},{"$f":"pqidat!H465","v":0},{"$f":"pqidat!I465","v":0},{"$f":"pqidat!J465","v":0},{"$f":"pqidat!K465","v":0},{"$f":"pqidat!L465","v":0},{"$f":"pqidat!M465","v":0},{"$f":"pqidat!N465","v":0},{"$f":"pqidat!O465","v":0},{"$f":"pqidat!P465","v":0},0,{"$f":"pqidat!Q465","v":0},{"$f":"pqidat!R465","v":0},{"$f":"pqidat!S465","v":0},{"$f":"pqidat!T465","v":0},{"$f":"pqidat!U465","v":0}]
[{"$f":"pqidat!A466","v":0},{"$f":"pqidat!B466","v":0},{"$f":"pqidat!C466","v":0},{"$f":"pqidat!D466","v":0},{"$f":"pqidat!E466","v":0},{"$f":"pqidat!F466","v":0},{"$f":"pqidat!G466","v":0},{"$f":"pqidat!H466","v":0},{"$f":"pqidat!I466","v":0},{"$f":"pqidat!J466","v":0},{"$f":"pqidat!K466","v":0},{"$f":"pqidat!L466","v":0},{"$f":"pqidat!M466","v":0},{"$f":"pqidat!N466","v":0},{"$f":"pqidat!O466","v":0},{"$f":"pqidat!P466","v":0},0,{"$f":"pqidat!Q466","v":0},{"$f":"pqidat!R466","v":0},{"$f":"pqidat!S466","v":0},{"$f":"pqidat!T466","v":0},{"$f":"pqidat!U466","v":0}]
[{"$f":"pqidat!A467","v":0},{"$f":"pqidat!B467","v":0},{"$f":"pqidat!C467","v":0},{"$f":"pqidat!D467","v":0},{"$f":"pqidat!E467","v":0},{"$f":"pqidat!F467","v":0},{"$f":"pqidat!G467","v":0},{"$f":"pqidat!H467","v":0},{"$f":"pqidat!I467","v":0},{"$f":"pqidat!J467","v":0},{"$f":"pqidat!K467","v":0},{"$f":"pqidat!L467","v":0},{"$f":"pqidat!M467","v":0},{"$f":"pqidat!N467","v":0},{"$f":"pqidat!O467","v":0},{"$f":"pqidat!P467","v":0},0,{"$f":"pqidat!Q467","v":0},{"$f":"pqidat!R467","v":0},{"$f":"pqidat!S467","v":0},{"$f":"pqidat!T467","v":0},{"$f":"pqidat!U467","v":0}]
[{"$f":"pqidat!A468","v":0},{"$f":"pqidat!B468","v":0},{"$f":"pqidat!C468","v":0},{"$f":"pqidat!D468","v":0},{"$f":"pqidat!E468","v":0},{"$f":"pqidat!F468","v":0},{"$f":"pqidat!G468","v":0},{"$f":"pqidat!H468","v":0},{"$f":"pqidat!I468","v":0},{"$f":"pqidat!J468","v":0},{"$f":"pqidat!K468","v":0},{"$f":"pqidat!L468","v":0},{"$f":"pqidat!M468","v":0},{"$f":"pqidat!N468","v":0},{"$f":"pqidat!O468","v":0},{"$f":"pqidat!P468","v":0},0,{"$f":"pqidat!Q468","v":0},{"$f":"pqidat!R468","v":0},{"$f":"pqidat!S468","v":0},{"$f":"pqidat!T468","v":0},{"$f":"pqidat!U468","v":0}]
[{"$f":"pqidat!A469","v":0},{"$f":"pqidat!B469","v":0},{"$f":"pqidat!C469","v":0},{"$f":"pqidat!D469","v":0},{"$f":"pqidat!E469","v":0},{"$f":"pqidat!F469","v":0},{"$f":"pqidat!G469","v":0},{"$f":"pqidat!H469","v":0},{"$f":"pqidat!I469","v":0},{"$f":"pqidat!J469","v":0},{"$f":"pqidat!K469","v":0},{"$f":"pqidat!L469","v":0},{"$f":"pqidat!M469","v":0},{"$f":"pqidat!N469","v":0},{"$f":"pqidat!O469","v":0},{"$f":"pqidat!P469","v":0},0,{"$f":"pqidat!Q469","v":0},{"$f":"pqidat!R469","v":0},{"$f":"pqidat!S469","v":0},{"$f":"pqidat!T469","v":0},{"$f":"pqidat!U469","v":0}]
[{"$f":"pqidat!A470","v":0},{"$f":"pqidat!B470","v":0},{"$f":"pqidat!C470","v":0},{"$f":"pqidat!D470","v":0},{"$f":"pqidat!E470","v":0},{"$f":"pqidat!F470","v":0},{"$f":"pqidat!G470","v":0},{"$f":"pqidat!H470","v":0},{"$f":"pqidat!I470","v":0},{"$f":"pqidat!J470","v":0},{"$f":"pqidat!K470","v":0},{"$f":"pqidat!L470","v":0},{"$f":"pqidat!M470","v":0},{"$f":"pqidat!N470","v":0},{"$f":"pqidat!O470","v":0},{"$f":"pqidat!P470","v":0},0,{"$f":"pqidat!Q470","v":0},{"$f":"pqidat!R470","v":0},{"$f":"pqidat!S470","v":0},{"$f":"pqidat!T470","v":0},{"$f":"pqidat!U470","v":0}]
[{"$f":"pqidat!A471","v":0},{"$f":"pqidat!B471","v":0},{"$f":"pqidat!C471","v":0},{"$f":"pqidat!D471","v":0},{"$f":"pqidat!E471","v":0},{"$f":"pqidat!F471","v":0},{"$f":"pqidat!G471","v":0},{"$f":"pqidat!H471","v":0},{"$f":"pqidat!I471","v":0},{"$f":"pqidat!J471","v":0},{"$f":"pqidat!K471","v":0},{"$f":"pqidat!L471","v":0},{"$f":"pqidat!M471","v":0},{"$f":"pqidat!N471","v":0},{"$f":"pqidat!O471","v":0},{"$f":"pqidat!P471","v":0},0,{"$f":"pqidat!Q471","v":0},{"$f":"pqidat!R471","v":0},{"$f":"pqidat!S471","v":0},{"$f":"pqidat!T471","v":0},{"$f":"pqidat!U471","v":0}]
[{"$f":"pqidat!A472","v":0},{"$f":"pqidat!B472","v":0},{"$f":"pqidat!C472","v":0},{"$f":"pqidat!D472","v":0},{"$f":"pqidat!E472","v":0},{"$f":"pqidat!F472","v":0},{"$f":"pqidat!G472","v":0},{"$f":"pqidat!H472","v":0},{"$f":"pqidat!I472","v":0},{"$f":"pqidat!J472","v":0},{"$f":"pqidat!K472","v":0},{"$f":"pqidat!L472","v":0},{"$f":"pqidat!M472","v":0},{"$f":"pqidat!N472","v":0},{"$f":"pqidat!O472","v":0},{"$f":"pqidat!P472","v":0},0,{"$f":"pqidat!Q472","v":0},{"$f":"pqidat!R472","v":0},{"$f":"pqidat!S472","v":0},{"$f":"pqidat!T472","v":0},{"$f":"pqidat!U472","v":0}]
[{"$f":"pqidat!A473","v":0},{"$f":"pqidat!B473","v":0},{"$f":"pqidat!C473","v":0},{"$f":"pqidat!D473","v":0},{"$f":"pqidat!E473","v":0},{"$f":"pqidat!F473","v":0},{"$f":"pqidat!G473","v":0},{"$f":"pqidat!H473","v":0},{"$f":"pqidat!I473","v":0},{"$f":"pqidat!J473","v":0},{"$f":"pqidat!K473","v":0},{"$f":"pqidat!L473","v":0},{"$f":"pqidat!M473","v":0},{"$f":"pqidat!N473","v":0},{"$f":"pqidat!O473","v":0},{"$f":"pqidat!P473","v":0},0,{"$f":"pqidat!Q473","v":0},{"$f":"pqidat!R473","v":0},{"$f":"pqidat!S473","v":0},{"$f":"pqidat!T473","v":0},{"$f":"pqidat!U473","v":0}]
[{"$f":"pqidat!A474","v":0},{"$f":"pqidat!B474","v":0},{"$f":"pqidat!C474","v":0},{"$f":"pqidat!D474","v":0},{"$f":"pqidat!E474","v":0},{"$f":"pqidat!F474","v":0},{"$f":"pqidat!G474","v":0},{"$f":"pqidat!H474","v":0},{"$f":"pqidat!I474","v":0},{"$f":"pqidat!J474","v":0},{"$f":"pqidat!K474","v":0},{"$f":"pqidat!L474","v":0},{"$f":"pqidat!M474","v":0},{"$f":"pqidat!N474","v":0},{"$f":"pqidat!O474","v":0},{"$f":"pqidat!P474","v":0},0,{"$f":"pqidat!Q474","v":0},{"$f":"pqidat!R474","v":0},{"$f":"pqidat!S474","v":0},{"$f":"pqidat!T474","v":0},{"$f":"pqidat!U474","v":0}]
[{"$f":"pqidat!A475","v":0},{"$f":"pqidat!B475","v":0},{"$f":"pqidat!C475","v":0},{"$f":"pqidat!D475","v":0},{"$f":"pqidat!E475","v":0},{"$f":"pqidat!F475","v":0},{"$f":"pqidat!G475","v":0},{"$f":"pqidat!H475","v":0},{"$f":"pqidat!I475","v":0},{"$f":"pqidat!J475","v":0},{"$f":"pqidat!K475","v":0},{"$f":"pqidat!L475","v":0},{"$f":"pqidat!M475","v":0},{"$f":"pqidat!N475","v":0},{"$f":"pqidat!O475","v":0},{"$f":"pqidat!P475","v":0},0,{"$f":"pqidat!Q475","v":0},{"$f":"pqidat!R475","v":0},{"$f":"pqidat!S475","v":0},{"$f":"pqidat!T475","v":0},{"$f":"pqidat!U475","v":0}]
[{"$f":"pqidat!A476","v":0},{"$f":"pqidat!B476","v":0},{"$f":"pqidat!C476","v":0},{"$f":"pqidat!D476","v":0},{"$f":"pqidat!E476","v":0},{"$f":"pqidat!F476","v":0},{"$f":"pqidat!G476","v":0},{"$f":"pqidat!H476","v":0},{"$f":"pqidat!I476","v":0},{"$f":"pqidat!J476","v":0},{"$f":"pqidat!K476","v":0},{"$f":"pqidat!L476","v":0},{"$f":"pqidat!M476","v":0},{"$f":"pqidat!N476","v":0},{"$f":"pqidat!O476","v":0},{"$f":"pqidat!P476","v":0},0,{"$f":"pqidat!Q476","v":0},{"$f":"pqidat!R476","v":0},{"$f":"pqidat!S476","v":0},{"$f":"pqidat!T476","v":0},{"$f":"pqidat!U476","v":0}]
[{"$f":"pqidat!A477","v":0},{"$f":"pqidat!B477","v":0},{"$f":"pqidat!C477","v":0},{"$f":"pqidat!D477","v":0},{"$f":"pqidat!E477","v":0},{"$f":"pqidat!F477","v":0},{"$f":"pqidat!G477","v":0},{"$f":"pqidat!H477","v":0},{"$f":"pqidat!I477","v":0},{"$f":"pqidat!J477","v":0},{"$f":"pqidat!K477","v":0},{"$f":"pqidat!L477","v":0},{"$f":"pqidat!M477","v":0},{"$f":"pqidat!N477","v":0},{"$f":"pqidat!O477","v":0},{"$f":"pqidat!P477","v":0},0,{"$f":"pqidat!Q477","v":0},{"$f":"pqidat!R477","v":0},{"$f":"pqidat!S477","v":0},{"$f":"pqidat!T477","v":0},{"$f":"pqidat!U477","v":0}]
[{"$f":"pqidat!A478","v":0},{"$f":"pqidat!B478","v":0},{"$f":"pqidat!C478","v":0},{"$f":"pqidat!D478","v":0},{"$f":"pqidat!E478","v":0},{"$f":"pqidat!F478","v":0},{"$f":"pqidat!G478","v":0},{"$f":"pqidat!H478","v":0},{"$f":"pqidat!I478","v":0},{"$f":"pqidat!J478","v":0},{"$f":"pqidat!K478","v":0},{"$f":"pqidat!L478","v":0},{"$f":"pqidat!M478","v":0},{"$f":"pqidat!N478","v":0},{"$f":"pqidat!O478","v":0},{"$f":"pqidat!P478","v":0},0,{"$f":"pqidat!Q478","v":0},{"$f":"pqidat!R478","v":0},{"$f":"pqidat!S478","v":0},{"$f":"pqidat!T478","v":0},{"$f":"pqidat!U478","v":0}]
[{"$f":"pqidat!A479","v":0},{"$f":"pqidat!B479","v":0},{"$f":"pqidat!C479","v":0},{"$f":"pqidat!D479","v":0},{"$f":"pqidat!E479","v":0},{"$f":"pqidat!F479","v":0},{"$f":"pqidat!G479","v":0},{"$f":"pqidat!H479","v":0},{"$f":"pqidat!I479","v":0},{"$f":"pqidat!J479","v":0},{"$f":"pqidat!K479","v":0},{"$f":"pqidat!L479","v":0},{"$f":"pqidat!M479","v":0},{"$f":"pqidat!N479","v":0},{"$f":"pqidat!O479","v":0},{"$f":"pqidat!P479","v":0},0,{"$f":"pqidat!Q479","v":0},{"$f":"pqidat!R479","v":0},{"$f":"pqidat!S479","v":0},{"$f":"pqidat!T479","v":0},{"$f":"pqidat!U479","v":0}]
[{"$f":"pqidat!A480","v":0},{"$f":"pqidat!B480","v":0},{"$f":"pqidat!C480","v":0},{"$f":"pqidat!D480","v":0},{"$f":"pqidat!E480","v":0},{"$f":"pqidat!F480","v":0},{"$f":"pqidat!G480","v":0},{"$f":"pqidat!H480","v":0},{"$f":"pqidat!I480","v":0},{"$f":"pqidat!J480","v":0},{"$f":"pqidat!K480","v":0},{"$f":"pqidat!L480","v":0},{"$f":"pqidat!M480","v":0},{"$f":"pqidat!N480","v":0},{"$f":"pqidat!O480","v":0},{"$f":"pqidat!P480","v":0},0,{"$f":"pqidat!Q480","v":0},{"$f":"pqidat!R480","v":0},{"$f":"pqidat!S480","v":0},{"$f":"pqidat!T480","v":0},{"$f":"pqidat!U480","v":0}]
[{"$f":"pqidat!A481","v":0},{"$f":"pqidat!B481","v":0},{"$f":"pqidat!C481","v":0},{"$f":"pqidat!D481","v":0},{"$f":"pqidat!E481","v":0},{"$f":"pqidat!F481","v":0},{"$f":"pqidat!G481","v":0},{"$f":"pqidat!H481","v":0},{"$f":"pqidat!I481","v":0},{"$f":"pqidat!J481","v":0},{"$f":"pqidat!K481","v":0},{"$f":"pqidat!L481","v":0},{"$f":"pqidat!M481","v":0},{"$f":"pqidat!N481","v":0},{"$f":"pqidat!O481","v":0},{"$f":"pqidat!P481","v":0},0,{"$f":"pqidat!Q481","v":0},{"$f":"pqidat!R481","v":0},{"$f":"pqidat!S481","v":0},{"$f":"pqidat!T481","v":0},{"$f":"pqidat!U481","v":0}]
[{"$f":"pqidat!A482","v":0},{"$f":"pqidat!B482","v":0},{"$f":"pqidat!C482","v":0},{"$f":"pqidat!D482","v":0},{"$f":"pqidat!E482","v":0},{"$f":"pqidat!F482","v":0},{"$f":"pqidat!G482","v":0},{"$f":"pqidat!H482","v":0},{"$f":"pqidat!I482","v":0},{"$f":"pqidat!J482","v":0},{"$f":"pqidat!K482","v":0},{"$f":"pqidat!L482","v":0},{"$f":"pqidat!M482","v":0},{"$f":"pqidat!N482","v":0},{"$f":"pqidat!O482","v":0},{"$f":"pqidat!P482","v":0},0,{"$f":"pqidat!Q482","v":0},{"$f":"pqidat!R482","v":0},{"$f":"pqidat!S482","v":0},{"$f":"pqidat!T482","v":0},{"$f":"pqidat!U482","v":0}]
[{"$f":"pqidat!A483","v":0},{"$f":"pqidat!B483","v":0},{"$f":"pqidat!C483","v":0},{"$f":"pqidat!D483","v":0},{"$f":"pqidat!E483","v":0},{"$f":"pqidat!F483","v":0},{"$f":"pqidat!G483","v":0},{"$f":"pqidat!H483","v":0},{"$f":"pqidat!I483","v":0},{"$f":"pqidat!J483","v":0},{"$f":"pqidat!K483","v":0},{"$f":"pqidat!L483","v":0},{"$f":"pqidat!M483","v":0},{"$f":"pqidat!N483","v":0},{"$f":"pqidat!O483","v":0},{"$f":"pqidat!P483","v":0},0,{"$f":"pqidat!Q483","v":0},{"$f":"pqidat!R483","v":0},{"$f":"pqidat!S483","v":0},{"$f":"pqidat!T483","v":0},{"$f":"pqidat!U483","v":0}]
[{"$f":"pqidat!A484","v":0},{"$f":"pqidat!B484","v":0},{"$f":"pqidat!C484","v":0},{"$f":"pqidat!D484","v":0},{"$f":"pqidat!E484","v":0},{"$f":"pqidat!F484","v":0},{"$f":"pqidat!G484","v":0},{"$f":"pqidat!H484","v":0},{"$f":"pqidat!I484","v":0},{"$f":"pqidat!J484","v":0},{"$f":"pqidat!K484","v":0},{"$f":"pqidat!L484","v":0},{"$f":"pqidat!M484","v":0},{"$f":"pqidat!N484","v":0},{"$f":"pqidat!O484","v":0},{"$f":"pqidat!P484","v":0},0,{"$f":"pqidat!Q484","v":0},{"$f":"pqidat!R484","v":0},{"$f":"pqidat!S484","v":0},{"$f":"pqidat!T484","v":0},{"$f":"pqidat!U484","v":0}]
[{"$f":"pqidat!A485","v":0},{"$f":"pqidat!B485","v":0},{"$f":"pqidat!C485","v":0},{"$f":"pqidat!D485","v":0},{"$f":"pqidat!E485","v":0},{"$f":"pqidat!F485","v":0},{"$f":"pqidat!G485","v":0},{"$f":"pqidat!H485","v":0},{"$f":"pqidat!I485","v":0},{"$f":"pqidat!J485","v":0},{"$f":"pqidat!K485","v":0},{"$f":"pqidat!L485","v":0},{"$f":"pqidat!M485","v":0},{"$f":"pqidat!N485","v":0},{"$f":"pqidat!O485","v":0},{"$f":"pqidat!P485","v":0},0,{"$f":"pqidat!Q485","v":0},{"$f":"pqidat!R485","v":0},{"$f":"pqidat!S485","v":0},{"$f":"pqidat!T485","v":0},{"$f":"pqidat!U485","v":0}]
[{"$f":"pqidat!A486","v":0},{"$f":"pqidat!B486","v":0},{"$f":"pqidat!C486","v":0},{"$f":"pqidat!D486","v":0},{"$f":"pqidat!E486","v":0},{"$f":"pqidat!F486","v":0},{"$f":"pqidat!G486","v":0},{"$f":"pqidat!H486","v":0},{"$f":"pqidat!I486","v":0},{"$f":"pqidat!J486","v":0},{"$f":"pqidat!K486","v":0},{"$f":"pqidat!L486","v":0},{"$f":"pqidat!M486","v":0},{"$f":"pqidat!N486","v":0},{"$f":"pqidat!O486","v":0},{"$f":"pqidat!P486","v":0},0,{"$f":"pqidat!Q486","v":0},{"$f":"pqidat!R486","v":0},{"$f":"pqidat!S486","v":0},{"$f":"pqidat!T486","v":0},{"$f":"pqidat!U486","v":0}]
[{"$f":"pqidat!A487","v":0},{"$f":"pqidat!B487","v":0},{"$f":"pqidat!C487","v":0},{"$f":"pqidat!D487","v":0},{"$f":"pqidat!E487","v":0},{"$f":"pqidat!F487","v":0},{"$f":"pqidat!G487","v":0},{"$f":"pqidat!H487","v":0},{"$f":"pqidat!I487","v":0},{"$f":"pqidat!J487","v":0},{"$f":"pqidat!K487","v":0},{"$f":"pqidat!L487","v":0},{"$f":"pqidat!M487","v":0},{"$f":"pqidat!N487","v":0},{"$f":"pqidat!O487","v":0},{"$f":"pqidat!P487","v":0},0,{"$f":"pqidat!Q487","v":0},{"$f":"pqidat!R487","v":0},{"$f":"pqidat!S487","v":0},{"$f":"pqidat!T487","v":0},{"$f":"pqidat!U487","v":0}]
[{"$f":"pqidat!A488","v":0},{"$f":"pqidat!B488","v":0},{"$f":"pqidat!C488","v":0},{"$f":"pqidat!D488","v":0},{"$f":"pqidat!E488","v":0},{"$f":"pqidat!F488","v":0},{"$f":"pqidat!G488","v":0},{"$f":"pqidat!H488","v":0},{"$f":"pqidat!I488","v":0},{"$f":"pqidat!J488","v":0},{"$f":"pqidat!K488","v":0},{"$f":"pqidat!L488","v":0},{"$f":"pqidat!M488","v":0},{"$f":"pqidat!N488","v":0},{"$f":"pqidat!O488","v":0},{"$f":"pqidat!P488","v":0},0,{"$f":"pqidat!Q488","v":0},{"$f":"pqidat!R488","v":0},{"$f":"pqidat!S488","v":0},{"$f":"pqidat!T488","v":0},{"$f":"pqidat!U488","v":0}]
[{"$f":"pqidat!A489","v":0},{"$f":"pqidat!B489","v":0},{"$f":"pqidat!C489","v":0},{"$f":"pqidat!D489","v":0},{"$f":"pqidat!E489","v":0},{"$f":"pqidat!F489","v":0},{"$f":"pqidat!G489","v":0},{"$f":"pqidat!H489","v":0},{"$f":"pqidat!I489","v":0},{"$f":"pqidat!J489","v":0},{"$f":"pqidat!K489","v":0},{"$f":"pqidat!L489","v":0},{"$f":"pqidat!M489","v":0},{"$f":"pqidat!N489","v":0},{"$f":"pqidat!O489","v":0},{"$f":"pqidat!P489","v":0},0,{"$f":"pqidat!Q489","v":0},{"$f":"pqidat!R489","v":0},{"$f":"pqidat!S489","v":0},{"$f":"pqidat!T489","v":0},{"$f":"pqidat!U489","v":0}]
[{"$f":"pqidat!A490","v":0},{"$f":"pqidat!B490","v":0},{"$f":"pqidat!C490","v":0},{"$f":"pqidat!D490","v":0},{"$f":"pqidat!E490","v":0},{"$f":"pqidat!F490","v":0},{"$f":"pqidat!G490","v":0},{"$f":"pqidat!H490","v":0},{"$f":"pqidat!I490","v":0},{"$f":"pqidat!J490","v":0},{"$f":"pqidat!K490","v":0},{"$f":"pqidat!L490","v":0},{"$f":"pqidat!M490","v":0},{"$f":"pqidat!N490","v":0},{"$f":"pqidat!O490","v":0},{"$f":"pqidat!P490","v":0},0,{"$f":"pqidat!Q490","v":0},{"$f":"pqidat!R490","v":0},{"$f":"pqidat!S490","v":0},{"$f":"pqidat!T490","v":0},{"$f":"pqidat!U490","v":0}]
[{"$f":"pqidat!A491","v":0},{"$f":"pqidat!B491","v":0},{"$f":"pqidat!C491","v":0},{"$f":"pqidat!D491","v":0},{"$f":"pqidat!E491","v":0},{"$f":"pqidat!F491","v":0},{"$f":"pqidat!G491","v":0},{"$f":"pqidat!H491","v":0},{"$f":"pqidat!I491","v":0},{"$f":"pqidat!J491","v":0},{"$f":"pqidat!K491","v":0},{"$f":"pqidat!L491","v":0},{"$f":"pqidat!M491","v":0},{"$f":"pqidat!N491","v":0},{"$f":"pqidat!O491","v":0},{"$f":"pqidat!P491","v":0},0,{"$f":"pqidat!Q491","v":0},{"$f":"pqidat!R491","v":0},{"$f":"pqidat!S491","v":0},{"$f":"pqidat!T491","v":0},{"$f":"pqidat!U491","v":0}]
[{"$f":"pqidat!A492","v":0},{"$f":"pqidat!B492","v":0},{"$f":"pqidat!C492","v":0},{"$f":"pqidat!D492","v":0},{"$f":"pqidat!E492","v":0},{"$f":"pqidat!F492","v":0},{"$f":"pqidat!G492","v":0},{"$f":"pqidat!H492","v":0},{"$f":"pqidat!I492","v":0},{"$f":"pqidat!J492","v":0},{"$f":"pqidat!K492","v":0},{"$f":"pqidat!L492","v":0},{"$f":"pqidat!M492","v":0},{"$f":"pqidat!N492","v":0},{"$f":"pqidat!O492","v":0},{"$f":"pqidat!P492","v":0},0,{"$f":"pqidat!Q492","v":0},{"$f":"pqidat!R492","v":0},{"$f":"pqidat!S492","v":0},{"$f":"pqidat!T492","v":0},{"$f":"pqidat!U492","v":0}]
[{"$f":"pqidat!A493","v":0},{"$f":"pqidat!B493","v":0},{"$f":"pqidat!C493","v":0},{"$f":"pqidat!D493","v":0},{"$f":"pqidat!E493","v":0},{"$f":"pqidat!F493","v":0},{"$f":"pqidat!G493","v":0},{"$f":"pqidat!H493","v":0},{"$f":"pqidat!I493","v":0},{"$f":"pqidat!J493","v":0},{"$f":"pqidat!K493","v":0},{"$f":"pqidat!L493","v":0},{"$f":"pqidat!M493","v":0},{"$f":"pqidat!N493","v":0},{"$f":"pqidat!O493","v":0},{"$f":"pqidat!P493","v":0},0,{"$f":"pqidat!Q493","v":0},{"$f":"pqidat!R493","v":0},{"$f":"pqidat!S493","v":0},{"$f":"pqidat!T493","v":0},{"$f":"pqidat!U493","v":0}]
[{"$f":"pqidat!A494","v":0},{"$f":"pqidat!B494","v":0},{"$f":"pqidat!C494","v":0},{"$f":"pqidat!D494","v":0},{"$f":"pqidat!E494","v":0},{"$f":"pqidat!F494","v":0},{"$f":"pqidat!G494","v":0},{"$f":"pqidat!H494","v":0},{"$f":"pqidat!I494","v":0},{"$f":"pqidat!J494","v":0},{"$f":"pqidat!K494","v":0},{"$f":"pqidat!L494","v":0},{"$f":"pqidat!M494","v":0},{"$f":"pqidat!N494","v":0},{"$f":"pqidat!O494","v":0},{"$f":"pqidat!P494","v":0},0,{"$f":"pqidat!Q494","v":0},{"$f":"pqidat!R494","v":0},{"$f":"pqidat!S494","v":0},{"$f":"pqidat!T494","v":0},{"$f":"pqidat!U494","v":0}]
[{"$f":"pqidat!A495","v":0},{"$f":"pqidat!B495","v":0},{"$f":"pqidat!C495","v":0},{"$f":"pqidat!D495","v":0},{"$f":"pqidat!E495","v":0},{"$f":"pqidat!F495","v":0},{"$f":"pqidat!G495","v":0},{"$f":"pqidat!H495","v":0},{"$f":"pqidat!I495","v":0},{"$f":"pqidat!J495","v":0},{"$f":"pqidat!K495","v":0},{"$f":"pqidat!L495","v":0},{"$f":"pqidat!M495","v":0},{"$f":"pqidat!N495","v":0},{"$f":"pqidat!O495","v":0},{"$f":"pqidat!P495","v":0},0,{"$f":"pqidat!Q495","v":0},{"$f":"pqidat!R495","v":0},{"$f":"pqidat!S495","v":0},{"$f":"pqidat!T495","v":0},{"$f":"pqidat!U495","v":0}]
[{"$f":"pqidat!A496","v":0},{"$f":"pqidat!B496","v":0},{"$f":"pqidat!C496","v":0},{"$f":"pqidat!D496","v":0},{"$f":"pqidat!E496","v":0},{"$f":"pqidat!F496","v":0},{"$f":"pqidat!G496","v":0},{"$f":"pqidat!H496","v":0},{"$f":"pqidat!I496","v":0},{"$f":"pqidat!J496","v":0},{"$f":"pqidat!K496","v":0},{"$f":"pqidat!L496","v":0},{"$f":"pqidat!M496","v":0},{"$f":"pqidat!N496","v":0},{"$f":"pqidat!O496","v":0},{"$f":"pqidat!P496","v":0},0,{"$f":"pqidat!Q496","v":0},{"$f":"pqidat!R496","v":0},{"$f":"pqidat!S496","v":0},{"$f":"pqidat!T496","v":0},{"$f":"pqidat!U496","v":0}]
[{"$f":"pqidat!A497","v":0},{"$f":"pqidat!B497","v":0},{"$f":"pqidat!C497","v":0},{"$f":"pqidat!D497","v":0},{"$f":"pqidat!E497","v":0},{"$f":"pqidat!F497","v":0},{"$f":"pqidat!G497","v":0},{"$f":"pqidat!H497","v":0},{"$f":"pqidat!I497","v":0},{"$f":"pqidat!J497","v":0},{"$f":"pqidat!K497","v":0},{"$f":"pqidat!L497","v":0},{"$f":"pqidat!M497","v":0},{"$f":"pqidat!N497","v":0},{"$f":"pqidat!O497","v":0},{"$f":"pqidat!P497","v":0},0,{"$f":"pqidat!Q497","v":0},{"$f":"pqidat!R497","v":0},{"$f":"pqidat!S497","v":0},{"$f":"pqidat!T497","v":0},{"$f":"pqidat!U497","v":0}]
[{"$f":"pqidat!A498","v":0},{"$f":"pqidat!B498","v":0},{"$f":"pqidat!C498","v":0},{"$f":"pqidat!D498","v":0},{"$f":"pqidat!E498","v":0},{"$f":"pqidat!F498","v":0},{"$f":"pqidat!G498","v":0},{"$f":"pqidat!H498","v":0},{"$f":"pqidat!I498","v":0},{"$f":"pqidat!J498","v":0},{"$f":"pqidat!K498","v":0},{"$f":"pqidat!L498","v":0},{"$f":"pqidat!M498","v":0},{"$f":"pqidat!N498","v":0},{"$f":"pqidat!O498","v":0},{"$f":"pqidat!P498","v":0},0,{"$f":"pqidat!Q498","v":0},{"$f":"pqidat!R498","v":0},{"$f":"pqidat!S498","v":0},{"$f":"pqidat!T498","v":0},{"$f":"pqidat!U498","v":0}]
[{"$f":"pqidat!A499","v":0},{"$f":"pqidat!B499","v":0},{"$f":"pqidat!C499","v":0},{"$f":"pqidat!D499","v":0},{"$f":"pqidat!E499","v":0},{"$f":"pqidat!F499","v":0},{"$f":"pqidat!G499","v":0},{"$f":"pqidat!H499","v":0},{"$f":"pqidat!I499","v":0},{"$f":"pqidat!J499","v":0},{"$f":"pqidat!K499","v":0},{"$f":"pqidat!L499","v":0},{"$f":"pqidat!M499","v":0},{"$f":"pqidat!N499","v":0},{"$f":"pqidat!O499","v":0},{"$f":"pqidat!P499","v":0},0,{"$f":"pqidat!Q499","v":0},{"$f":"pqidat!R499","v":0},{"$f":"pqidat!S499","v":0},{"$f":"pqidat!T499","v":0},{"$f":"pqidat!U499","v":0}]
[{"$f":"pqidat!A500","v":0},{"$f":"pqidat!B500","v":0},{"$f":"pqidat!C500","v":0},{"$f":"pqidat!D500","v":0},{"$f":"pqidat!E500","v":0},{"$f":"pqidat!F500","v":0},{"$f":"pqidat!G500","v":0},{"$f":"pqidat!H500","v":0},{"$f":"pqidat!I500","v":0},{"$f":"pqidat!J500","v":0},{"$f":"pqidat!K500","v":0},{"$f":"pqidat!L500","v":0},{"$f":"pqidat!M500","v":0},{"$f":"pqidat!N500","v":0},{"$f":"pqidat!O500","v":0},{"$f":"pqidat!P500","v":0},0,{"$f":"pqidat!Q500","v":0},{"$f":"pqidat!R500","v":0},{"$f":"pqidat!S500","v":0},{"$f":"pqidat!T500","v":0},{"$f":"pqidat!U500","v":0}]
[{"$f":"pqidat!A501","v":0},{"$f":"pqidat!B501","v":0},{"$f":"pqidat!C501","v":0},{"$f":"pqidat!D501","v":0},{"$f":"pqidat!E501","v":0},{"$f":"pqidat!F501","v":0},{"$f":"pqidat!G501","v":0},{"$f":"pqidat!H501","v":0},{"$f":"pqidat!I501","v":0},{"$f":"pqidat!J501","v":0},{"$f":"pqidat!K501","v":0},{"$f":"pqidat!L501","v":0},{"$f":"pqidat!M501","v":0},{"$f":"pqidat!N501","v":0},{"$f":"pqidat!O501","v":0},{"$f":"pqidat!P501","v":0},0,{"$f":"pqidat!Q501","v":0},{"$f":"pqidat!R501","v":0},{"$f":"pqidat!S501","v":0},{"$f":"pqidat!T501","v":0},{"$f":"pqidat!U501","v":0}]
[{"$f":"pqidat!A502","v":0},{"$f":"pqidat!B502","v":0},{"$f":"pqidat!C502","v":0},{"$f":"pqidat!D502","v":0},{"$f":"pqidat!E502","v":0},{"$f":"pqidat!F502","v":0},{"$f":"pqidat!G502","v":0},{"$f":"pqidat!H502","v":0},{"$f":"pqidat!I502","v":0},{"$f":"pqidat!J502","v":0},{"$f":"pqidat!K502","v":0},{"$f":"pqidat!L502","v":0},{"$f":"pqidat!M502","v":0},{"$f":"pqidat!N502","v":0},{"$f":"pqidat!O502","v":0},{"$f":"pqidat!P502","v":0},0,{"$f":"pqidat!Q502","v":0},{"$f":"pqidat!R502","v":0},{"$f":"pqidat!S502","v":0},{"$f":"pqidat!T502","v":0},{"$f":"pqidat!U502","v":0}]
[{"$f":"pqidat!A503","v":0},{"$f":"pqidat!B503","v":0},{"$f":"pqidat!C503","v":0},{"$f":"pqidat!D503","v":0},{"$f":"pqidat!E503","v":0},{"$f":"pqidat!F503","v":0},{"$f":"pqidat!G503","v":0},{"$f":"pqidat!H503","v":0},{"$f":"pqidat!I503","v":0},{"$f":"pqidat!J503","v":0},{"$f":"pqidat!K503","v":0},{"$f":"pqidat!L503","v":0},{"$f":"pqidat!M503","v":0},{"$f":"pqidat!N503","v":0},{"$f":"pqidat!O503","v":0},{"$f":"pqidat!P503","v":0},0,{"$f":"pqidat!Q503","v":0},{"$f":"pqidat!R503","v":0},{"$f":"pqidat!S503","v":0},{"$f":"pqidat!T503","v":0},{"$f":"pqidat!U503","v":0}]
[{"$f":"pqidat!A504","v":0},{"$f":"pqidat!B504","v":0},{"$f":"pqidat!C504","v":0},{"$f":"pqidat!D504","v":0},{"$f":"pqidat!E504","v":0},{"$f":"pqidat!F504","v":0},{"$f":"pqidat!G504","v":0},{"$f":"pqidat!H504","v":0},{"$f":"pqidat!I504","v":0},{"$f":"pqidat!J504","v":0},{"$f":"pqidat!K504","v":0},{"$f":"pqidat!L504","v":0},{"$f":"pqidat!M504","v":0},{"$f":"pqidat!N504","v":0},{"$f":"pqidat!O504","v":0},{"$f":"pqidat!P504","v":0},0,{"$f":"pqidat!Q504","v":0},{"$f":"pqidat!R504","v":0},{"$f":"pqidat!S504","v":0},{"$f":"pqidat!T504","v":0},{"$f":"pqidat!U504","v":0}]
[{"$f":"pqidat!A505","v":0},{"$f":"pqidat!B505","v":0},{"$f":"pqidat!C505","v":0},{"$f":"pqidat!D505","v":0},{"$f":"pqidat!E505","v":0},{"$f":"pqidat!F505","v":0},{"$f":"pqidat!G505","v":0},{"$f":"pqidat!H505","v":0},{"$f":"pqidat!I505","v":0},{"$f":"pqidat!J505","v":0},{"$f":"pqidat!K505","v":0},{"$f":"pqidat!L505","v":0},{"$f":"pqidat!M505","v":0},{"$f":"pqidat!N505","v":0},{"$f":"pqidat!O505","v":0},{"$f":"pqidat!P505","v":0},0,{"$f":"pqidat!Q505","v":0},{"$f":"pqidat!R505","v":0},{"$f":"pqidat!S505","v":0},{"$f":"pqidat!T505","v":0},{"$f":"pqidat!U505","v":0}]
[{"$f":"pqidat!A506","v":0},{"$f":"pqidat!B506","v":0},{"$f":"pqidat!C506","v":0},{"$f":"pqidat!D506","v":0},{"$f":"pqidat!E506","v":0},{"$f":"pqidat!F506","v":0},{"$f":"pqidat!G506","v":0},{"$f":"pqidat!H506","v":0},{"$f":"pqidat!I506","v":0},{"$f":"pqidat!J506","v":0},{"$f":"pqidat!K506","v":0},{"$f":"pqidat!L506","v":0},{"$f":"pqidat!M506","v":0},{"$f":"pqidat!N506","v":0},{"$f":"pqidat!O506","v":0},{"$f":"pqidat!P506","v":0},0,{"$f":"pqidat!Q506","v":0},{"$f":"pqidat!R506","v":0},{"$f":"pqidat!S506","v":0},{"$f":"pqidat!T506","v":0},{"$f":"pqidat!U506","v":0}]
[{"$f":"pqidat!A507","v":0},{"$f":"pqidat!B507","v":0},{"$f":"pqidat!C507","v":0},{"$f":"pqidat!D507","v":0},{"$f":"pqidat!E507","v":0},{"$f":"pqidat!F507","v":0},{"$f":"pqidat!G507","v":0},{"$f":"pqidat!H507","v":0},{"$f":"pqidat!I507","v":0},{"$f":"pqidat!J507","v":0},{"$f":"pqidat!K507","v":0},{"$f":"pqidat!L507","v":0},{"$f":"pqidat!M507","v":0},{"$f":"pqidat!N507","v":0},{"$f":"pqidat!O507","v":0},{"$f":"pqidat!P507","v":0},0,{"$f":"pqidat!Q507","v":0},{"$f":"pqidat!R507","v":0},{"$f":"pqidat!S507","v":0},{"$f":"pqidat!T507","v":0},{"$f":"pqidat!U507","v":0}]
[{"$f":"pqidat!A508","v":0},{"$f":"pqidat!B508","v":0},{"$f":"pqidat!C508","v":0},{"$f":"pqidat!D508","v":0},{"$f":"pqidat!E508","v":0},{"$f":"pqidat!F508","v":0},{"$f":"pqidat!G508","v":0},{"$f":"pqidat!H508","v":0},{"$f":"pqidat!I508","v":0},{"$f":"pqidat!J508","v":0},{"$f":"pqidat!K508","v":0},{"$f":"pqidat!L508","v":0},{"$f":"pqidat!M508","v":0},{"$f":"pqidat!N508","v":0},{"$f":"pqidat!O508","v":0},{"$f":"pqidat!P508","v":0},0,{"$f":"pqidat!Q508","v":0},{"$f":"pqidat!R508","v":0},{"$f":"pqidat!S508","v":0},{"$f":"pqidat!T508","v":0},{"$f":"pqidat!U508","v":0}]
[{"$f":"pqidat!A509","v":0},{"$f":"pqidat!B509","v":0},{"$f":"pqidat!C509","v":0},{"$f":"pqidat!D509","v":0},{"$f":"pqidat!E509","v":0},{"$f":"pqidat!F509","v":0},{"$f":"pqidat!G509","v":0},{"$f":"pqidat!H509","v":0},{"$f":"pqidat!I509","v":0},{"$f":"pqidat!J509","v":0},{"$f":"pqidat!K509","v":0},{"$f":"pqidat!L509","v":0},{"$f":"pqidat!M509","v":0},{"$f":"pqidat!N509","v":0},{"$f":"pqidat!O509","v":0},{"$f":"pqidat!P509","v":0},0,{"$f":"pqidat!Q509","v":0},{"$f":"pqidat!R509","v":0},{"$f":"pqidat!S509","v":0},{"$f":"pqidat!T509","v":0},{"$f":"pqidat!U509","v":0}]
[{"$f":"pqidat!A510","v":0},{"$f":"pqidat!B510","v":0},{"$f":"pqidat!C510","v":0},{"$f":"pqidat!D510","v":0},{"$f":"pqidat!E510","v":0},{"$f":"pqidat!F510","v":0},{"$f":"pqidat!G510","v":0},{"$f":"pqidat!H510","v":0},{"$f":"pqidat!I510","v":0},{"$f":"pqidat!J510","v":0},{"$f":"pqidat!K510","v":0},{"$f":"pqidat!L510","v":0},{"$f":"pqidat!M510","v":0},{"$f":"pqidat!N510","v":0},{"$f":"pqidat!O510","v":0},{"$f":"pqidat!P510","v":0},0,{"$f":"pqidat!Q510","v":0},{"$f":"pqidat!R510","v":0},{"$f":"pqidat!S510","v":0},{"$f":"pqidat!T510","v":0},{"$f":"pqidat!U510","v":0}]
[{"$f":"pqidat!A511","v":0},{"$f":"pqidat!B511","v":0},{"$f":"pqidat!C511","v":0},{"$f":"pqidat!D511","v":0},{"$f":"pqidat!E511","v":0},{"$f":"pqidat!F511","v":0},{"$f":"pqidat!G511","v":0},{"$f":"pqidat!H511","v":0},{"$f":"pqidat!I511","v":0},{"$f":"pqidat!J511","v":0},{"$f":"pqidat!K511","v":0},{"$f":"pqidat!L511","v":0},{"$f":"pqidat!M511","v":0},{"$f":"pqidat!N511","v":0},{"$f":"pqidat!O511","v":0},{"$f":"pqidat!P511","v":0},0,{"$f":"pqidat!Q511","v":0},{"$f":"pqidat!R511","v":0},{"$f":"pqidat!S511","v":0},{"$f":"pqidat!T511","v":0},{"$f":"pqidat!U511","v":0}]
[{"$f":"pqidat!A512","v":0},{"$f":"pqidat!B512","v":0},{"$f":"pqidat!C512","v":0},{"$f":"pqidat!D512","v":0},{"$f":"pqidat!E512","v":0},{"$f":"pqidat!F512","v":0},{"$f":"pqidat!G512","v":0},{"$f":"pqidat!H512","v":0},{"$f":"pqidat!I512","v":0},{"$f":"pqidat!J512","v":0},{"$f":"pqidat!K512","v":0},{"$f":"pqidat!L512","v":0},{"$f":"pqidat!M512","v":0},{"$f":"pqidat!N512","v":0},{"$f":"pqidat!O512","v":0},{"$f":"pqidat!P512","v":0},0,{"$f":"pqidat!Q512","v":0},{"$f":"pqidat!R512","v":0},{"$f":"pqidat!S512","v":0},{"$f":"pqidat!T512","v":0},{"$f":"pqidat!U512","v":0}]
[{"$f":"pqidat!A513","v":0},{"$f":"pqidat!B513","v":0},{"$f":"pqidat!C513","v":0},{"$f":"pqidat!D513","v":0},{"$f":"pqidat!E513","v":0},{"$f":"pqidat!F513","v":0},{"$f":"pqidat!G513","v":0},{"$f":"pqidat!H513","v":0},{"$f":"pqidat!I513","v":0},{"$f":"pqidat!J513","v":0},{"$f":"pqidat!K513","v":0},{"$f":"pqidat!L513","v":0},{"$f":"pqidat!M513","v":0},{"$f":"pqidat!N513","v":0},{"$f":"pqidat!O513","v":0},{"$f":"pqidat!P513","v":0},0,{"$f":"pqidat!Q513","v":0},{"$f":"pqidat!R513","v":0},{"$f":"pqidat!S513","v":0},{"$f":"pqidat!T513","v":0},{"$f":"pqidat!U513","v":0}]
[{"$f":"pqidat!A514","v":0},{"$f":"pqidat!B514","v":0},{"$f":"pqidat!C514","v":0},{"$f":"pqidat!D514","v":0},{"$f":"pqidat!E514","v":0},{"$f":"pqidat!F514","v":0},{"$f":"pqidat!G514","v":0},{"$f":"pqidat!H514","v":0},{"$f":"pqidat!I514","v":0},{"$f":"pqidat!J514","v":0},{"$f":"pqidat!K514","v":0},{"$f":"pqidat!L514","v":0},{"$f":"pqidat!M514","v":0},{"$f":"pqidat!N514","v":0},{"$f":"pqidat!O514","v":0},{"$f":"pqidat!P514","v":0},0,{"$f":"pqidat!Q514","v":0},{"$f":"pqidat!R514","v":0},{"$f":"pqidat!S514","v":0},{"$f":"pqidat!T514","v":0},{"$f":"pqidat!U514","v":0}]
[{"$f":"pqidat!A515","v":0},{"$f":"pqidat!B515","v":0},{"$f":"pqidat!C515","v":0},{"$f":"pqidat!D515","v":0},{"$f":"pqidat!E515","v":0},{"$f":"pqidat!F515","v":0},{"$f":"pqidat!G515","v":0},{"$f":"pqidat!H515","v":0},{"$f":"pqidat!I515","v":0},{"$f":"pqidat!J515","v":0},{"$f":"pqidat!K515","v":0},{"$f":"pqidat!L515","v":0},{"$f":"pqidat!M515","v":0},{"$f":"pqidat!N515","v":0},{"$f":"pqidat!O515","v":0},{"$f":"pqidat!P515","v":0},0,{"$f":"pqidat!Q515","v":0},{"$f":"pqidat!R515","v":0},{"$f":"pqidat!S515","v":0},{"$f":"pqidat!T515","v":0},{"$f":"pqidat!U515","v":0}]
[{"$f":"pqidat!A516","v":0},{"$f":"pqidat!B516","v":0},{"$f":"pqidat!C516","v":0},{"$f":"pqidat!D516","v":0},{"$f":"pqidat!E516","v":0},{"$f":"pqidat!F516","v":0},{"$f":"pqidat!G516","v":0},{"$f":"pqidat!H516","v":0},{"$f":"pqidat!I516","v":0},{"$f":"pqidat!J516","v":0},{"$f":"pqidat!K516","v":0},{"$f":"pqidat!L516","v":0},{"$f":"pqidat!M516","v":0},{"$f":"pqidat!N516","v":0},{"$f":"pqidat!O516","v":0},{"$f":"pqidat!P516","v":0},0,{"$f":"pqidat!Q516","v":0},{"$f":"pqidat!R516","v":0},{"$f":"pqidat!S516","v":0},{"$f":"pqidat!T516","v":0},{"$f":"pqidat!U516","v":0}]
[{"$f":"pqidat!A517","v":0},{"$f":"pqidat!B517","v":0},{"$f":"pqidat!C517","v":0},{"$f":"pqidat!D517","v":0},{"$f":"pqidat!E517","v":0},{"$f":"pqidat!F517","v":0},{"$f":"pqidat!G517","v":0},{"$f":"pqidat!H517","v":0},{"$f":"pqidat!I517","v":0},{"$f":"pqidat!J517","v":0},{"$f":"pqidat!K517","v":0},{"$f":"pqidat!L517","v":0},{"$f":"pqidat!M517","v":0},{"$f":"pqidat!N517","v":0},{"$f":"pqidat!O517","v":0},{"$f":"pqidat!P517","v":0},{"$f":"IF(P515=0,0,IF(P515>Minimum,\"Pass\",\"Fail\"))","v":0},{"$f":"pqidat!Q517","v":0},{"$f":"pqidat!R517","v":0},{"$f":"pqidat!S517","v":0},{"$f":"pqidat!T517","v":0},{"$f":"pqidat!U517","v":0}]
[{"$f":"pqidat!A518","v":0},{"$f":"pqidat!B518","v":0},{"$f":"pqidat!C518","v":0},{"$f":"pqidat!D518","v":0},{"$f":"pqidat!E518","v":0},{"$f":"pqidat!F518","v":0},{"$f":"pqidat!G518","v":0},{"$f":"pqidat!H518","v":0},{"$f":"pqidat!I518","v":0},{"$f":"pqidat!J518","v":0},{"$f":"pqidat!K518","v":0},{"$f":"pqidat!L518","v":0},{"$f":"pqidat!M518","v":0},{"$f":"pqidat!N518","v":0},{"$f":"pqidat!O518","v":0},{"$f":"pqidat!P518","v":0},0,{"$f":"pqidat!Q518","v":0},{"$f":"pqidat!R518","v":0},{"$f":"pqidat!S518","v":0},{"$f":"pqidat!T518","v":0},{"$f":"pqidat!U518","v":0}]
[{"$f":"pqidat!A519","v":0},{"$f":"pqidat!B519","v":0},{"$f":"pqidat!C519","v":0},{"$f":"pqidat!D519","v":0},{"$f":"pqidat!E519","v":0},{"$f":"pqidat!F519","v":0},{"$f":"pqidat!G519","v":0},{"$f":"pqidat!H519","v":0},{"$f":"pqidat!I519","v":0},{"$f":"pqidat!J519","v":0},{"$f":"pqidat!K519","v":0},{"$f":"pqidat!L519","v":0},{"$f":"pqidat!M519","v":0},{"$f":"pqidat!N519","v":0},{"$f":"pqidat!O519","v":0},{"$f":"pqidat!P519","v":0},0,{"$f":"pqidat!Q519","v":0},{"$f":"pqidat!R519","v":0},{"$f":"pqidat!S519","v":0},{"$f":"pqidat!T519","v":0},{"$f":"pqidat!U519","v":0}]
[{"$f":"pqidat!A520","v":0},{"$f":"pqidat!B520","v":0},{"$f":"pqidat!C520","v":0},{"$f":"pqidat!D520","v":0},{"$f":"pqidat!E520","v":0},{"$f":"pqidat!F520","v":0},{"$f":"pqidat!G520","v":0},{"$f":"pqidat!H520","v":0},{"$f":"pqidat!I520","v":0},{"$f":"pqidat!J520","v":0},{"$f":"pqidat!K520","v":0},{"$f":"pqidat!L520","v":0},{"$f":"pqidat!M520","v":0},{"$f":"pqidat!N520","v":0},{"$f":"pqidat!O520","v":0},{"$f":"pqidat!P520","v":0},0,{"$f":"pqidat!Q520","v":0},{"$f":"pqidat!R520","v":0},{"$f":"pqidat!S520","v":0},{"$f":"pqidat!T520","v":0},{"$f":"pqidat!U520","v":0}]
[{"$f":"pqidat!A521","v":0},{"$f":"pqidat!B521","v":0},{"$f":"pqidat!C521","v":0},{"$f":"pqidat!D521","v":0},{"$f":"pqidat!E521","v":0},{"$f":"pqidat!F521","v":0},{"$f":"pqidat!G521","v":0},{"$f":"pqidat!H521","v":0},{"$f":"pqidat!I521","v":0},{"$f":"pqidat!J521","v":0},{"$f":"pqidat!K521","v":0},{"$f":"pqidat!L521","v":0},{"$f":"pqidat!M521","v":0},{"$f":"pqidat!N521","v":0},{"$f":"pqidat!O521","v":0},{"$f":"pqidat!P521","v":0},0,{"$f":"pqidat!Q521","v":0},{"$f":"pqidat!R521","v":0},{"$f":"pqidat!S521","v":0},{"$f":"pqidat!T521","v":0},{"$f":"pqidat!U521","v":0}]
[{"$f":"pqidat!A522","v":0},{"$f":"pqidat!B522","v":0},{"$f":"pqidat!C522","v":0},{"$f":"pqidat!D522","v":0},{"$f":"pqidat!E522","v":0},{"$f":"pqidat!F522","v":0},{"$f":"pqidat!G522","v":0},{"$f":"pqidat!H522","v":0},{"$f":"pqidat!I522","v":0},{"$f":"pqidat!J522","v":0},{"$f":"pqidat!K522","v":0},{"$f":"pqidat!L522","v":0},{"$f":"pqidat!M522","v":0},{"$f":"pqidat!N522","v":0},{"$f":"pqidat!O522","v":0},{"$f":"pqidat!P522","v":0},0,{"$f":"pqidat!Q522","v":0},{"$f":"pqidat!R522","v":0},{"$f":"pqidat!S522","v":0},{"$f":"pqidat!T522","v":0},{"$f":"pqidat!U522","v":0}]
[{"$f":"pqidat!A523","v":0},{"$f":"pqidat!B523","v":0},{"$f":"pqidat!C523","v":0},{"$f":"pqidat!D523","v":0},{"$f":"pqidat!E523","v":0},{"$f":"pqidat!F523","v":0},{"$f":"pqidat!G523","v":0},{"$f":"pqidat!H523","v":0},{"$f":"pqidat!I523","v":0},{"$f":"pqidat!J523","v":0},{"$f":"pqidat!K523","v":0},{"$f":"pqidat!L523","v":0},{"$f":"pqidat!M523","v":0},{"$f":"pqidat!N523","v":0},{"$f":"pqidat!O523","v":0},{"$f":"pqidat!P523","v":0},0,{"$f":"pqidat!Q523","v":0},{"$f":"pqidat!R523","v":0},{"$f":"pqidat!S523","v":0},{"$f":"pqidat!T523","v":0},{"$f":"pqidat!U523","v":0}]
[{"$f":"pqidat!A524","v":0},{"$f":"pqidat!B524","v":0},{"$f":"pqidat!C524","v":0},{"$f":"pqidat!D524","v":0},{"$f":"pqidat!E524","v":0},{"$f":"pqidat!F524","v":0},{"$f":"pqidat!G524","v":0},{"$f":"pqidat!H524","v":0},{"$f":"pqidat!I524","v":0},{"$f":"pqidat!J524","v":0},{"$f":"pqidat!K524","v":0},{"$f":"pqidat!L524","v":0},{"$f":"pqidat!M524","v":0},{"$f":"pqidat!N524","v":0},{"$f":"pqidat!O524","v":0},{"$f":"pqidat!P524","v":0},0,{"$f":"pqidat!Q524","v":0},{"$f":"pqidat!R524","v":0},{"$f":"pqidat!S524","v":0},{"$f":"pqidat!T524","v":0},{"$f":"pqidat!U524","v":0}]
[{"$f":"pqidat!A525","v":0},{"$f":"pqidat!B525","v":0},{"$f":"pqidat!C525","v":0},{"$f":"pqidat!D525","v":0},{"$f":"pqidat!E525","v":0},{"$f":"pqidat!F525","v":0},{"$f":"pqidat!G525","v":0},{"$f":"pqidat!H525","v":0},{"$f":"pqidat!I525","v":0},{"$f":"pqidat!J525","v":0},{"$f":"pqidat!K525","v":0},{"$f":"pqidat!L525","v":0},{"$f":"pqidat!M525","v":0},{"$f":"pqidat!N525","v":0},{"$f":"pqidat!O525","v":0},{"$f":"pqidat!P525","v":0},0,{"$f":"pqidat!Q525","v":0},{"$f":"pqidat!R525","v":0},{"$f":"pqidat!S525","v":0},{"$f":"pqidat!T525","v":0},{"$f":"pqidat!U525","v":0}]
[{"$f":"pqidat!A526","v":0},{"$f":"pqidat!B526","v":0},{"$f":"pqidat!C526","v":0},{"$f":"pqidat!D526","v":0},{"$f":"pqidat!E526","v":0},{"$f":"pqidat!F526","v":0},{"$f":"pqidat!G526","v":0},{"$f":"pqidat!H526","v":0},{"$f":"pqidat!I526","v":0},{"$f":"pqidat!J526","v":0},{"$f":"pqidat!K526","v":0},{"$f":"pqidat!L526","v":0},{"$f":"pqidat!M526","v":0},{"$f":"pqidat!N526","v":0},{"$f":"pqidat!O526","v":0},{"$f":"pqidat!P526","v":0},0,{"$f":"pqidat!Q526","v":0},{"$f":"pqidat!R526","v":0},{"$f":"pqidat!S526","v":0},{"$f":"pqidat!T526","v":0},{"$f":"pqidat!U526","v":0}]
[{"$f":"pqidat!A527","v":0},{"$f":"pqidat!B527","v":0},{"$f":"pqidat!C527","v":0},{"$f":"pqidat!D527","v":0},{"$f":"pqidat!E527","v":0},{"$f":"pqidat!F527","v":0},{"$f":"pqidat!G527","v":0},{"$f":"pqidat!H527","v":0},{"$f":"pqidat!I527","v":0},{"$f":"pqidat!J527","v":0},{"$f":"pqidat!K527","v":0},{"$f":"pqidat!L527","v":0},{"$f":"pqidat!M527","v":0},{"$f":"pqidat!N527","v":0},{"$f":"pqidat!O527","v":0},{"$f":"pqidat!P527","v":0},0,{"$f":"pqidat!Q527","v":0},{"$f":"pqidat!R527","v":0},{"$f":"pqidat!S527","v":0},{"$f":"pqidat!T527","v":0},{"$f":"pqidat!U527","v":0}]
[{"$f":"pqidat!A528","v":0},{"$f":"pqidat!B528","v":0},{"$f":"pqidat!C528","v":0},{"$f":"pqidat!D528","v":0},{"$f":"pqidat!E528","v":0},{"$f":"pqidat!F528","v":0},{"$f":"pqidat!G528","v":0},{"$f":"pqidat!H528","v":0},{"$f":"pqidat!I528","v":0},{"$f":"pqidat!J528","v":0},{"$f":"pqidat!K528","v":0},{"$f":"pqidat!L528","v":0},{"$f":"pqidat!M528","v":0},{"$f":"pqidat!N528","v":0},{"$f":"pqidat!O528","v":0},{"$f":"pqidat!P528","v":0},0,{"$f":"pqidat!Q528","v":0},{"$f":"pqidat!R528","v":0},{"$f":"pqidat!S528","v":0},{"$f":"pqidat!T528","v":0},{"$f":"pqidat!U528","v":0}]
[{"$f":"pqidat!A529","v":0},{"$f":"pqidat!B529","v":0},{"$f":"pqidat!C529","v":0},{"$f":"pqidat!D529","v":0},{"$f":"pqidat!E529","v":0},{"$f":"pqidat!F529","v":0},{"$f":"pqidat!G529","v":0},{"$f":"pqidat!H529","v":0},{"$f":"pqidat!I529","v":0},{"$f":"pqidat!J529","v":0},{"$f":"pqidat!K529","v":0},{"$f":"pqidat!L529","v":0},{"$f":"pqidat!M529","v":0},{"$f":"pqidat!N529","v":0},{"$f":"pqidat!O529","v":0},{"$f":"pqidat!P529","v":0},0,{"$f":"pqidat!Q529","v":0},{"$f":"pqidat!R529","v":0},{"$f":"pqidat!S529","v":0},{"$f":"pqidat!T529","v":0},{"$f":"pqidat!U529","v":0}]
[{"$f":"pqidat!A530","v":0},{"$f":"pqidat!B530","v":0},{"$f":"pqidat!C530","v":0},{"$f":"pqidat!D530","v":0},{"$f":"pqidat!E530","v":0},{"$f":"pqidat!F530","v":0},{"$f":"pqidat!G530","v":0},{"$f":"pqidat!H530","v":0},{"$f":"pqidat!I530","v":0},{"$f":"pqidat!J530","v":0},{"$f":"pqidat!K530","v":0},{"$f":"pqidat!L530","v":0},{"$f":"pqidat!M530","v":0},{"$f":"pqidat!N530","v":0},{"$f":"pqidat!O530","v":0},{"$f":"pqidat!P530","v":0},0,{"$f":"pqidat!Q530","v":0},{"$f":"pqidat!R530","v":0},{"$f":"pqidat!S530","v":0},{"$f":"pqidat!T530","v":0},{"$f":"pqidat!U530","v":0}]
[{"$f":"pqidat!A531","v":0},{"$f":"pqidat!B531","v":0},{"$f":"pqidat!C531","v":0},{"$f":"pqidat!D531","v":0},{"$f":"pqidat!E531","v":0},{"$f":"pqidat!F531","v":0},{"$f":"pqidat!G531","v":0},{"$f":"pqidat!H531","v":0},{"$f":"pqidat!I531","v":0},{"$f":"pqidat!J531","v":0},{"$f":"pqidat!K531","v":0},{"$f":"pqidat!L531","v":0},{"$f":"pqidat!M531","v":0},{"$f":"pqidat!N531","v":0},{"$f":"pqidat!O531","v":0},{"$f":"pqidat!P531","v":0},0,{"$f":"pqidat!Q531","v":0},{"$f":"pqidat!R531","v":0},{"$f":"pqidat!S531","v":0},{"$f":"pqidat!T531","v":0},{"$f":"pqidat!U531","v":0}]
[{"$f":"pqidat!A532","v":0},{"$f":"pqidat!B532","v":0},{"$f":"pqidat!C532","v":0},{"$f":"pqidat!D532","v":0},{"$f":"pqidat!E532","v":0},{"$f":"pqidat!F532","v":0},{"$f":"pqidat!G532","v":0},{"$f":"pqidat!H532","v":0},{"$f":"pqidat!I532","v":0},{"$f":"pqidat!J532","v":0},{"$f":"pqidat!K532","v":0},{"$f":"pqidat!L532","v":0},{"$f":"pqidat!M532","v":0},{"$f":"pqidat!N532","v":0},{"$f":"pqidat!O532","v":0},{"$f":"pqidat!P532","v":0},0,{"$f":"pqidat!Q532","v":0},{"$f":"pqidat!R532","v":0},{"$f":"pqidat!S532","v":0},{"$f":"pqidat!T532","v":0},{"$f":"pqidat!U532","v":0}]
[{"$f":"pqidat!A533","v":0},{"$f":"pqidat!B533","v":0},{"$f":"pqidat!C533","v":0},{"$f":"pqidat!D533","v":0},{"$f":"pqidat!E533","v":0},{"$f":"pqidat!F533","v":0},{"$f":"pqidat!G533","v":0},{"$f":"pqidat!H533","v":0},{"$f":"pqidat!I533","v":0},{"$f":"pqidat!J533","v":0},{"$f":"pqidat!K533","v":0},{"$f":"pqidat!L533","v":0},{"$f":"pqidat!M533","v":0},{"$f":"pqidat!N533","v":0},{"$f":"pqidat!O533","v":0},{"$f":"pqidat!P533","v":0},0,{"$f":"pqidat!Q533","v":0},{"$f":"pqidat!R533","v":0},{"$f":"pqidat!S533","v":0},{"$f":"pqidat!T533","v":0},{"$f":"pqidat!U533","v":0}]
[{"$f":"pqidat!A534","v":0},{"$f":"pqidat!B534","v":0},{"$f":"pqidat!C534","v":0},{"$f":"pqidat!D534","v":0},{"$f":"pqidat!E534","v":0},{"$f":"pqidat!F534","v":0},{"$f":"pqidat!G534","v":0},{"$f":"pqidat!H534","v":0},{"$f":"pqidat!I534","v":0},{"$f":"pqidat!J534","v":0},{"$f":"pqidat!K534","v":0},{"$f":"pqidat!L534","v":0},{"$f":"pqidat!M534","v":0},{"$f":"pqidat!N534","v":0},{"$f":"pqidat!O534","v":0},{"$f":"pqidat!P534","v":0},0,{"$f":"pqidat!Q534","v":0},{"$f":"pqidat!R534","v":0},{"$f":"pqidat!S534","v":0},{"$f":"pqidat!T534","v":0},{"$f":"pqidat!U534","v":0}]
[{"$f":"pqidat!A535","v":0},{"$f":"pqidat!B535","v":0},{"$f":"pqidat!C535","v":0},{"$f":"pqidat!D535","v":0},{"$f":"pqidat!E535","v":0},{"$f":"pqidat!F535","v":0},{"$f":"pqidat!G535","v":0},{"$f":"pqidat!H535","v":0},{"$f":"pqidat!I535","v":0},{"$f":"pqidat!J535","v":0},{"$f":"pqidat!K535","v":0},{"$f":"pqidat!L535","v":0},{"$f":"pqidat!M535","v":0},{"$f":"pqidat!N535","v":0},{"$f":"pqidat!O535","v":0},{"$f":"pqidat!P535","v":0},0,{"$f":"pqidat!Q535","v":0},{"$f":"pqidat!R535","v":0},{"$f":"pqidat!S535","v":0},{"$f":"pqidat!T535","v":0},{"$f":"pqidat!U535","v":0}]
[{"$f":"pqidat!A536","v":0},{"$f":"pqidat!B536","v":0},{"$f":"pqidat!C536","v":0},{"$f":"pqidat!D536","v":0},{"$f":"pqidat!E536","v":0},{"$f":"pqidat!F536","v":0},{"$f":"pqidat!G536","v":0},{"$f":"pqidat!H536","v":0},{"$f":"pqidat!I536","v":0},{"$f":"pqidat!J536","v":0},{"$f":"pqidat!K536","v":0},{"$f":"pqidat!L536","v":0},{"$f":"pqidat!M536","v":0},{"$f":"pqidat!N536","v":0},{"$f":"pqidat!O536","v":0},{"$f":"pqidat!P536","v":0},0,{"$f":"pqidat!Q536","v":0},{"$f":"pqidat!R536","v":0},{"$f":"pqidat!S536","v":0},{"$f":"pqidat!T536","v":0},{"$f":"pqidat!U536","v":0}]
[{"$f":"pqidat!A537","v":0},{"$f":"pqidat!B537","v":0},{"$f":"pqidat!C537","v":0},{"$f":"pqidat!D537","v":0},{"$f":"pqidat!E537","v":0},{"$f":"pqidat!F537","v":0},{"$f":"pqidat!G537","v":0},{"$f":"pqidat!H537","v":0},{"$f":"pqidat!I537","v":0},{"$f":"pqidat!J537","v":0},{"$f":"pqidat!K537","v":0},{"$f":"pqidat!L537","v":0},{"$f":"pqidat!M537","v":0},{"$f":"pqidat!N537","v":0},{"$f":"pqidat!O537","v":0},{"$f":"pqidat!P537","v":0},0,{"$f":"pqidat!Q537","v":0},{"$f":"pqidat!R537","v":0},{"$f":"pqidat!S537","v":0},{"$f":"pqidat!T537","v":0},{"$f":"pqidat!U537","v":0}]
[{"$f":"pqidat!A538","v":0},{"$f":"pqidat!B538","v":0},{"$f":"pqidat!C538","v":0},{"$f":"pqidat!D538","v":0},{"$f":"pqidat!E538","v":0},{"$f":"pqidat!F538","v":0},{"$f":"pqidat!G538","v":0},{"$f":"pqidat!H538","v":0},{"$f":"pqidat!I538","v":0},{"$f":"pqidat!J538","v":0},{"$f":"pqidat!K538","v":0},{"$f":"pqidat!L538","v":0},{"$f":"pqidat!M538","v":0},{"$f":"pqidat!N538","v":0},{"$f":"pqidat!O538","v":0},{"$f":"pqidat!P538","v":0},0,{"$f":"pqidat!Q538","v":0},{"$f":"pqidat!R538","v":0},{"$f":"pqidat!S538","v":0},{"$f":"pqidat!T538","v":0},{"$f":"pqidat!U538","v":0}]
[{"$f":"pqidat!A539","v":0},{"$f":"pqidat!B539","v":0},{"$f":"pqidat!C539","v":0},{"$f":"pqidat!D539","v":0},{"$f":"pqidat!E539","v":0},{"$f":"pqidat!F539","v":0},{"$f":"pqidat!G539","v":0},{"$f":"pqidat!H539","v":0},{"$f":"pqidat!I539","v":0},{"$f":"pqidat!J539","v":0},{"$f":"pqidat!K539","v":0},{"$f":"pqidat!L539","v":0},{"$f":"pqidat!M539","v":0},{"$f":"pqidat!N539","v":0},{"$f":"pqidat!O539","v":0},{"$f":"pqidat!P539","v":0},0,{"$f":"pqidat!Q539","v":0},{"$f":"pqidat!R539","v":0},{"$f":"pqidat!S539","v":0},{"$f":"pqidat!T539","v":0},{"$f":"pqidat!U539","v":0}]
[{"$f":"pqidat!A540","v":0},{"$f":"pqidat!B540","v":0},{"$f":"pqidat!C540","v":0},{"$f":"pqidat!D540","v":0},{"$f":"pqidat!E540","v":0},{"$f":"pqidat!F540","v":0},{"$f":"pqidat!G540","v":0},{"$f":"pqidat!H540","v":0},{"$f":"pqidat!I540","v":0},{"$f":"pqidat!J540","v":0},{"$f":"pqidat!K540","v":0},{"$f":"pqidat!L540","v":0},{"$f":"pqidat!M540","v":0},{"$f":"pqidat!N540","v":0},{"$f":"pqidat!O540","v":0},{"$f":"pqidat!P540","v":0},0,{"$f":"pqidat!Q540","v":0},{"$f":"pqidat!R540","v":0},{"$f":"pqidat!S540","v":0},{"$f":"pqidat!T540","v":0},{"$f":"pqidat!U540","v":0}]
[{"$f":"pqidat!A541","v":0},{"$f":"pqidat!B541","v":0},{"$f":"pqidat!C541","v":0},{"$f":"pqidat!D541","v":0},{"$f":"pqidat!E541","v":0},{"$f":"pqidat!F541","v":0},{"$f":"pqidat!G541","v":0},{"$f":"pqidat!H541","v":0},{"$f":"pqidat!I541","v":0},{"$f":"pqidat!J541","v":0},{"$f":"pqidat!K541","v":0},{"$f":"pqidat!L541","v":0},{"$f":"pqidat!M541","v":0},{"$f":"pqidat!N541","v":0},{"$f":"pqidat!O541","v":0},{"$f":"pqidat!P541","v":0},0,{"$f":"pqidat!Q541","v":0},{"$f":"pqidat!R541","v":0},{"$f":"pqidat!S541","v":0},{"$f":"pqidat!T541","v":0},{"$f":"pqidat!U541","v":0}]
[{"$f":"pqidat!A542","v":0},{"$f":"pqidat!B542","v":0},{"$f":"pqidat!C542","v":0},{"$f":"pqidat!D542","v":0},{"$f":"pqidat!E542","v":0},{"$f":"pqidat!F542","v":0},{"$f":"pqidat!G542","v":0},{"$f":"pqidat!H542","v":0},{"$f":"pqidat!I542","v":0},{"$f":"pqidat!J542","v":0},{"$f":"pqidat!K542","v":0},{"$f":"pqidat!L542","v":0},{"$f":"pqidat!M542","v":0},{"$f":"pqidat!N542","v":0},{"$f":"pqidat!O542","v":0},{"$f":"pqidat!P542","v":0},0,{"$f":"pqidat!Q542","v":0},{"$f":"pqidat!R542","v":0},{"$f":"pqidat!S542","v":0},{"$f":"pqidat!T542","v":0},{"$f":"pqidat!U542","v":0}]
[{"$f":"pqidat!A543","v":0},{"$f":"pqidat!B543","v":0},{"$f":"pqidat!C543","v":0},{"$f":"pqidat!D543","v":0},{"$f":"pqidat!E543","v":0},{"$f":"pqidat!F543","v":0},{"$f":"pqidat!G543","v":0},{"$f":"pqidat!H543","v":0},{"$f":"pqidat!I543","v":0},{"$f":"pqidat!J543","v":0},{"$f":"pqidat!K543","v":0},{"$f":"pqidat!L543","v":0},{"$f":"pqidat!M543","v":0},{"$f":"pqidat!N543","v":0},{"$f":"pqidat!O543","v":0},{"$f":"pqidat!P543","v":0},0,{"$f":"pqidat!Q543","v":0},{"$f":"pqidat!R543","v":0},{"$f":"pqidat!S543","v":0},{"$f":"pqidat!T543","v":0},{"$f":"pqidat!U543","v":0}]
[{"$f":"pqidat!A544","v":0},{"$f":"pqidat!B544","v":0},{"$f":"pqidat!C544","v":0},{"$f":"pqidat!D544","v":0},{"$f":"pqidat!E544","v":0},{"$f":"pqidat!F544","v":0},{"$f":"pqidat!G544","v":0},{"$f":"pqidat!H544","v":0},{"$f":"pqidat!I544","v":0},{"$f":"pqidat!J544","v":0},{"$f":"pqidat!K544","v":0},{"$f":"pqidat!L544","v":0},{"$f":"pqidat!M544","v":0},{"$f":"pqidat!N544","v":0},{"$f":"pqidat!O544","v":0},{"$f":"pqidat!P544","v":0},0,{"$f":"pqidat!Q544","v":0},{"$f":"pqidat!R544","v":0},{"$f":"pqidat!S544","v":0},{"$f":"pqidat!T544","v":0},{"$f":"pqidat!U544","v":0}]
[{"$f":"pqidat!A545","v":0},{"$f":"pqidat!B545","v":0},{"$f":"pqidat!C545","v":0},{"$f":"pqidat!D545","v":0},{"$f":"pqidat!E545","v":0},{"$f":"pqidat!F545","v":0},{"$f":"pqidat!G545","v":0},{"$f":"pqidat!H545","v":0},{"$f":"pqidat!I545","v":0},{"$f":"pqidat!J545","v":0},{"$f":"pqidat!K545","v":0},{"$f":"pqidat!L545","v":0},{"$f":"pqidat!M545","v":0},{"$f":"pqidat!N545","v":0},{"$f":"pqidat!O545","v":0},{"$f":"pqidat!P545","v":0},0,{"$f":"pqidat!Q545","v":0},{"$f":"pqidat!R545","v":0},{"$f":"pqidat!S545","v":0},{"$f":"pqidat!T545","v":0},{"$f":"pqidat!U545","v":0}]
[{"$f":"pqidat!A546","v":0},{"$f":"pqidat!B546","v":0},{"$f":"pqidat!C546","v":0},{"$f":"pqidat!D546","v":0},{"$f":"pqidat!E546","v":0},{"$f":"pqidat!F546","v":0},{"$f":"pqidat!G546","v":0},{"$f":"pqidat!H546","v":0},{"$f":"pqidat!I546","v":0},{"$f":"pqidat!J546","v":0},{"$f":"pqidat!K546","v":0},{"$f":"pqidat!L546","v":0},{"$f":"pqidat!M546","v":0},{"$f":"pqidat!N546","v":0},{"$f":"pqidat!O546","v":0},{"$f":"pqidat!P546","v":0},0,{"$f":"pqidat!Q546","v":0},{"$f":"pqidat!R546","v":0},{"$f":"pqidat!S546","v":0},{"$f":"pqidat!T546","v":0},{"$f":"pqidat!U546","v":0}]
[{"$f":"pqidat!A547","v":0},{"$f":"pqidat!B547","v":0},{"$f":"pqidat!C547","v":0},{"$f":"pqidat!D547","v":0},{"$f":"pqidat!E547","v":0},{"$f":"pqidat!F547","v":0},{"$f":"pqidat!G547","v":0},{"$f":"pqidat!H547","v":0},{"$f":"pqidat!I547","v":0},{"$f":"pqidat!J547","v":0},{"$f":"pqidat!K547","v":0},{"$f":"pqidat!L547","v":0},{"$f":"pqidat!M547","v":0},{"$f":"pqidat!N547","v":0},{"$f":"pqidat!O547","v":0},{"$f":"pqidat!P547","v":0},0,{"$f":"pqidat!Q547","v":0},{"$f":"pqidat!R547","v":0},{"$f":"pqidat!S547","v":0},{"$f":"pqidat!T547","v":0},{"$f":"pqidat!U547","v":0}]
[{"$f":"pqidat!A548","v":0},{"$f":"pqidat!B548","v":0},{"$f":"pqidat!C548","v":0},{"$f":"pqidat!D548","v":0},{"$f":"pqidat!E548","v":0},{"$f":"pqidat!F548","v":0},{"$f":"pqidat!G548","v":0},{"$f":"pqidat!H548","v":0},{"$f":"pqidat!I548","v":0},{"$f":"pqidat!J548","v":0},{"$f":"pqidat!K548","v":0},{"$f":"pqidat!L548","v":0},{"$f":"pqidat!M548","v":0},{"$f":"pqidat!N548","v":0},{"$f":"pqidat!O548","v":0},{"$f":"pqidat!P548","v":0},0,{"$f":"pqidat!Q548","v":0},{"$f":"pqidat!R548","v":0},{"$f":"pqidat!S548","v":0},{"$f":"pqidat!T548","v":0},{"$f":"pqidat!U548","v":0}]
[{"$f":"pqidat!A549","v":0},{"$f":"pqidat!B549","v":0},{"$f":"pqidat!C549","v":0},{"$f":"pqidat!D549","v":0},{"$f":"pqidat!E549","v":0},{"$f":"pqidat!F549","v":0},{"$f":"pqidat!G549","v":0},{"$f":"pqidat!H549","v":0},{"$f":"pqidat!I549","v":0},{"$f":"pqidat!J549","v":0},{"$f":"pqidat!K549","v":0},{"$f":"pqidat!L549","v":0},{"$f":"pqidat!M549","v":0},{"$f":"pqidat!N549","v":0},{"$f":"pqidat!O549","v":0},{"$f":"pqidat!P549","v":0},0,{"$f":"pqidat!Q549","v":0},{"$f":"pqidat!R549","v":0},{"$f":"pqidat!S549","v":0},{"$f":"pqidat!T549","v":0},{"$f":"pqidat!U549","v":0}]
[{"$f":"pqidat!A550","v":0},{"$f":"pqidat!B550","v":0},{"$f":"pqidat!C550","v":0},{"$f":"pqidat!D550","v":0},{"$f":"pqidat!E550","v":0},{"$f":"pqidat!F550","v":0},{"$f":"pqidat!G550","v":0},{"$f":"pqidat!H550","v":0},{"$f":"pqidat!I550","v":0},{"$f":"pqidat!J550","v":0},{"$f":"pqidat!K550","v":0},{"$f":"pqidat!L550","v":0},{"$f":"pqidat!M550","v":0},{"$f":"pqidat!N550","v":0},{"$f":"pqidat!O550","v":0},{"$f":"pqidat!P550","v":0},0,{"$f":"pqidat!Q550","v":0},{"$f":"pqidat!R550","v":0},{"$f":"pqidat!S550","v":0},{"$f":"pqidat!T550","v":0},{"$f":"pqidat!U550","v":0}]
[{"$f":"pqidat!A551","v":0},{"$f":"pqidat!B551","v":0},{"$f":"pqidat!C551","v":0},{"$f":"pqidat!D551","v":0},{"$f":"pqidat!E551","v":0},{"$f":"pqidat!F551","v":0},{"$f":"pqidat!G551","v":0},{"$f":"pqidat!H551","v":0},{"$f":"pqidat!I551","v":0},{"$f":"pqidat!J551","v":0},{"$f":"pqidat!K551","v":0},{"$f":"pqidat!L551","v":0},{"$f":"pqidat!M551","v":0},{"$f":"pqidat!N551","v":0},{"$f":"pqidat!O551","v":0},{"$f":"pqidat!P551","v":0},0,{"$f":"pqidat!Q551","v":0},{"$f":"pqidat!R551","v":0},{"$f":"pqidat!S551","v":0},{"$f":"pqidat!T551","v":0},{"$f":"pqidat!U551","v":0}]
[{"$f":"pqidat!A552","v":0},{"$f":"pqidat!B552","v":0},{"$f":"pqidat!C552","v":0},{"$f":"pqidat!D552","v":0},{"$f":"pqidat!E552","v":0},{"$f":"pqidat!F552","v":0},{"$f":"pqidat!G552","v":0},{"$f":"pqidat!H552","v":0},{"$f":"pqidat!I552","v":0},{"$f":"pqidat!J552","v":0},{"$f":"pqidat!K552","v":0},{"$f":"pqidat!L552","v":0},{"$f":"pqidat!M552","v":0},{"$f":"pqidat!N552","v":0},{"$f":"pqidat!O552","v":0},{"$f":"pqidat!P552","v":0},0,{"$f":"pqidat!Q552","v":0},{"$f":"pqidat!R552","v":0},{"$f":"pqidat!S552","v":0},{"$f":"pqidat!T552","v":0},{"$f":"pqidat!U552","v":0}]
[{"$f":"pqidat!A553","v":0},{"$f":"pqidat!B553","v":0},{"$f":"pqidat!C553","v":0},{"$f":"pqidat!D553","v":0},{"$f":"pqidat!E553","v":0},{"$f":"pqidat!F553","v":0},{"$f":"pqidat!G553","v":0},{"$f":"pqidat!H553","v":0},{"$f":"pqidat!I553","v":0},{"$f":"pqidat!J553","v":0},{"$f":"pqidat!K553","v":0},{"$f":"pqidat!L553","v":0},{"$f":"pqidat!M553","v":0},{"$f":"pqidat!N553","v":0},{"$f":"pqidat!O553","v":0},{"$f":"pqidat!P553","v":0},0,{"$f":"pqidat!Q553","v":0},{"$f":"pqidat!R553","v":0},{"$f":"pqidat!S553","v":0},{"$f":"pqidat!T553","v":0},{"$f":"pqidat!U553","v":0}]
[{"$f":"pqidat!A554","v":0},{"$f":"pqidat!B554","v":0},{"$f":"pqidat!C554","v":0},{"$f":"pqidat!D554","v":0},{"$f":"pqidat!E554","v":0},{"$f":"pqidat!F554","v":0},{"$f":"pqidat!G554","v":0},{"$f":"pqidat!H554","v":0},{"$f":"pqidat!I554","v":0},{"$f":"pqidat!J554","v":0},{"$f":"pqidat!K554","v":0},{"$f":"pqidat!L554","v":0},{"$f":"pqidat!M554","v":0},{"$f":"pqidat!N554","v":0},{"$f":"pqidat!O554","v":0},{"$f":"pqidat!P554","v":0},0,{"$f":"pqidat!Q554","v":0},{"$f":"pqidat!R554","v":0},{"$f":"pqidat!S554","v":0},{"$f":"pqidat!T554","v":0},{"$f":"pqidat!U554","v":0}]
[{"$f":"pqidat!A555","v":0},{"$f":"pqidat!B555","v":0},{"$f":"pqidat!C555","v":0},{"$f":"pqidat!D555","v":0},{"$f":"pqidat!E555","v":0},{"$f":"pqidat!F555","v":0},{"$f":"pqidat!G555","v":0},{"$f":"pqidat!H555","v":0},{"$f":"pqidat!I555","v":0},{"$f":"pqidat!J555","v":0},{"$f":"pqidat!K555","v":0},{"$f":"pqidat!L555","v":0},{"$f":"pqidat!M555","v":0},{"$f":"pqidat!N555","v":0},{"$f":"pqidat!O555","v":0},{"$f":"pqidat!P555","v":0},0,{"$f":"pqidat!Q555","v":0},{"$f":"pqidat!R555","v":0},{"$f":"pqidat!S555","v":0},{"$f":"pqidat!T555","v":0},{"$f":"pqidat!U555","v":0}]
[{"$f":"pqidat!A556","v":0},{"$f":"pqidat!B556","v":0},{"$f":"pqidat!C556","v":0},{"$f":"pqidat!D556","v":0},{"$f":"pqidat!E556","v":0},{"$f":"pqidat!F556","v":0},{"$f":"pqidat!G556","v":0},{"$f":"pqidat!H556","v":0},{"$f":"pqidat!I556","v":0},{"$f":"pqidat!J556","v":0},{"$f":"pqidat!K556","v":0},{"$f":"pqidat!L556","v":0},{"$f":"pqidat!M556","v":0},{"$f":"pqidat!N556","v":0},{"$f":"pqidat!O556","v":0},{"$f":"pqidat!P556","v":0},0,{"$f":"pqidat!Q556","v":0},{"$f":"pqidat!R556","v":0},{"$f":"pqidat!S556","v":0},{"$f":"pqidat!T556","v":0},{"$f":"pqidat!U556","v":0}]
[{"$f":"pqidat!A557","v":0},{"$f":"pqidat!B557","v":0},{"$f":"pqidat!C557","v":0},{"$f":"pqidat!D557","v":0},{"$f":"pqidat!E557","v":0},{"$f":"pqidat!F557","v":0},{"$f":"pqidat!G557","v":0},{"$f":"pqidat!H557","v":0},{"$f":"pqidat!I557","v":0},{"$f":"pqidat!J557","v":0},{"$f":"pqidat!K557","v":0},{"$f":"pqidat!L557","v":0},{"$f":"pqidat!M557","v":0},{"$f":"pqidat!N557","v":0},{"$f":"pqidat!O557","v":0},{"$f":"pqidat!P557","v":0},0,{"$f":"pqidat!Q557","v":0},{"$f":"pqidat!R557","v":0},{"$f":"pqidat!S557","v":0},{"$f":"pqidat!T557","v":0},{"$f":"pqidat!U557","v":0}]
[{"$f":"pqidat!A558","v":0},{"$f":"pqidat!B558","v":0},{"$f":"pqidat!C558","v":0},{"$f":"pqidat!D558","v":0},{"$f":"pqidat!E558","v":0},{"$f":"pqidat!F558","v":0},{"$f":"pqidat!G558","v":0},{"$f":"pqidat!H558","v":0},{"$f":"pqidat!I558","v":0},{"$f":"pqidat!J558","v":0},{"$f":"pqidat!K558","v":0},{"$f":"pqidat!L558","v":0},{"$f":"pqidat!M558","v":0},{"$f":"pqidat!N558","v":0},{"$f":"pqidat!O558","v":0},{"$f":"pqidat!P558","v":0},0,{"$f":"pqidat!Q558","v":0},{"$f":"pqidat!R558","v":0},{"$f":"pqidat!S558","v":0},{"$f":"pqidat!T558","v":0},{"$f":"pqidat!U558","v":0}]
[{"$f":"pqidat!A559","v":0},{"$f":"pqidat!B559","v":0},{"$f":"pqidat!C559","v":0},{"$f":"pqidat!D559","v":0},{"$f":"pqidat!E559","v":0},{"$f":"pqidat!F559","v":0},{"$f":"pqidat!G559","v":0},{"$f":"pqidat!H559","v":0},{"$f":"pqidat!I559","v":0},{"$f":"pqidat!J559","v":0},{"$f":"pqidat!K559","v":0},{"$f":"pqidat!L559","v":0},{"$f":"pqidat!M559","v":0},{"$f":"pqidat!N559","v":0},{"$f":"pqidat!O559","v":0},{"$f":"pqidat!P559","v":0},0,{"$f":"pqidat!Q559","v":0},{"$f":"pqidat!R559","v":0},{"$f":"pqidat!S559","v":0},{"$f":"pqidat!T559","v":0},{"$f":"pqidat!U559","v":0}]
[{"$f":"pqidat!A560","v":0},{"$f":"pqidat!B560","v":0},{"$f":"pqidat!C560","v":0},{"$f":"pqidat!D560","v":0},{"$f":"pqidat!E560","v":0},{"$f":"pqidat!F560","v":0},{"$f":"pqidat!G560","v":0},{"$f":"pqidat!H560","v":0},{"$f":"pqidat!I560","v":0},{"$f":"pqidat!J560","v":0},{"$f":"pqidat!K560","v":0},{"$f":"pqidat!L560","v":0},{"$f":"pqidat!M560","v":0},{"$f":"pqidat!N560","v":0},{"$f":"pqidat!O560","v":0},{"$f":"pqidat!P560","v":0},0,{"$f":"pqidat!Q560","v":0},{"$f":"pqidat!R560","v":0},{"$f":"pqidat!S560","v":0},{"$f":"pqidat!T560","v":0},{"$f":"pqidat!U560","v":0}]
[{"$f":"pqidat!A561","v":0},{"$f":"pqidat!B561","v":0},{"$f":"pqidat!C561","v":0},{"$f":"pqidat!D561","v":0},{"$f":"pqidat!E561","v":0},{"$f":"pqidat!F561","v":0},{"$f":"pqidat!G561","v":0},{"$f":"pqidat!H561","v":0},{"$f":"pqidat!I561","v":0},{"$f":"pqidat!J561","v":0},{"$f":"pqidat!K561","v":0},{"$f":"pqidat!L561","v":0},{"$f":"pqidat!M561","v":0},{"$f":"pqidat!N561","v":0},{"$f":"pqidat!O561","v":0},{"$f":"pqidat!P561","v":0},0,{"$f":"pqidat!Q561","v":0},{"$f":"pqidat!R561","v":0},{"$f":"pqidat!S561","v":0},{"$f":"pqidat!T561","v":0},{"$f":"pqidat!U561","v":0}]
[{"$f":"pqidat!A562","v":0},{"$f":"pqidat!B562","v":0},{"$f":"pqidat!C562","v":0},{"$f":"pqidat!D562","v":0},{"$f":"pqidat!E562","v":0},{"$f":"pqidat!F562","v":0},{"$f":"pqidat!G562","v":0},{"$f":"pqidat!H562","v":0},{"$f":"pqidat!I562","v":0},{"$f":"pqidat!J562","v":0},{"$f":"pqidat!K562","v":0},{"$f":"pqidat!L562","v":0},{"$f":"pqidat!M562","v":0},{"$f":"pqidat!N562","v":0},{"$f":"pqidat!O562","v":0},{"$f":"pqidat!P562","v":0},0,{"$f":"pqidat!Q562","v":0},{"$f":"pqidat!R562","v":0},{"$f":"pqidat!S562","v":0},{"$f":"pqidat!T562","v":0},{"$f":"pqidat!U562","v":0}]
[{"$f":"pqidat!A563","v":0},{"$f":"pqidat!B563","v":0},{"$f":"pqidat!C563","v":0},{"$f":"pqidat!D563","v":0},{"$f":"pqidat!E563","v":0},{"$f":"pqidat!F563","v":0},{"$f":"pqidat!G563","v":0},{"$f":"pqidat!H563","v":0},{"$f":"pqidat!I563","v":0},{"$f":"pqidat!J563","v":0},{"$f":"pqidat!K563","v":0},{"$f":"pqidat!L563","v":0},{"$f":"pqidat!M563","v":0},{"$f":"pqidat!N563","v":0},{"$f":"pqidat!O563","v":0},{"$f":"pqidat!P563","v":0},0,{"$f":"pqidat!Q563","v":0},{"$f":"pqidat!R563","v":0},{"$f":"pqidat!S563","v":0},{"$f":"pqidat!T563","v":0},{"$f":"pqidat!U563","v":0}]
[{"$f":"pqidat!A564","v":0},{"$f":"pqidat!B564","v":0},{"$f":"pqidat!C564","v":0},{"$f":"pqidat!D564","v":0},{"$f":"pqidat!E564","v":0},{"$f":"pqidat!F564","v":0},{"$f":"pqidat!G564","v":0},{"$f":"pqidat!H564","v":0},{"$f":"pqidat!I564","v":0},{"$f":"pqidat!J564","v":0},{"$f":"pqidat!K564","v":0},{"$f":"pqidat!L564","v":0},{"$f":"pqidat!M564","v":0},{"$f":"pqidat!N564","v":0},{"$f":"pqidat!O564","v":0},{"$f":"pqidat!P564","v":0},0,{"$f":"pqidat!Q564","v":0},{"$f":"pqidat!R564","v":0},{"$f":"pqidat!S564","v":0},{"$f":"pqidat!T564","v":0},{"$f":"pqidat!U564","v":0}]
[{"$f":"pqidat!A565","v":0},{"$f":"pqidat!B565","v":0},{"$f":"pqidat!C565","v":0},{"$f":"pqidat!D565","v":0},{"$f":"pqidat!E565","v":0},{"$f":"pqidat!F565","v":0},{"$f":"pqidat!G565","v":0},{"$f":"pqidat!H565","v":0},{"$f":"pqidat!I565","v":0},{"$f":"pqidat!J565","v":0},{"$f":"pqidat!K565","v":0},{"$f":"pqidat!L565","v":0},{"$f":"pqidat!M565","v":0},{"$f":"pqidat!N565","v":0},{"$f":"pqidat!O565","v":0},{"$f":"pqidat!P565","v":0},0,{"$f":"pqidat!Q565","v":0},{"$f":"pqidat!R565","v":0},{"$f":"pqidat!S565","v":0},{"$f":"pqidat!T565","v":0},{"$f":"pqidat!U565","v":0}]
[{"$f":"pqidat!A566","v":0},{"$f":"pqidat!B566","v":0},{"$f":"pqidat!C566","v":0},{"$f":"pqidat!D566","v":0},{"$f":"pqidat!E566","v":0},{"$f":"pqidat!F566","v":0},{"$f":"pqidat!G566","v":0},{"$f":"pqidat!H566","v":0},{"$f":"pqidat!I566","v":0},{"$f":"pqidat!J566","v":0},{"$f":"pqidat!K566","v":0},{"$f":"pqidat!L566","v":0},{"$f":"pqidat!M566","v":0},{"$f":"pqidat!N566","v":0},{"$f":"pqidat!O566","v":0},{"$f":"pqidat!P566","v":0},0,{"$f":"pqidat!Q566","v":0},{"$f":"pqidat!R566","v":0},{"$f":"pqidat!S566","v":0},{"$f":"pqidat!T566","v":0},{"$f":"pqidat!U566","v":0}]
[{"$f":"pqidat!A567","v":0},{"$f":"pqidat!B567","v":0},{"$f":"pqidat!C567","v":0},{"$f":"pqidat!D567","v":0},{"$f":"pqidat!E567","v":0},{"$f":"pqidat!F567","v":0},{"$f":"pqidat!G567","v":0},{"$f":"pqidat!H567","v":0},{"$f":"pqidat!I567","v":0},{"$f":"pqidat!J567","v":0},{"$f":"pqidat!K567","v":0},{"$f":"pqidat!L567","v":0},{"$f":"pqidat!M567","v":0},{"$f":"pqidat!N567","v":0},{"$f":"pqidat!O567","v":0},{"$f":"pqidat!P567","v":0},0,{"$f":"pqidat!Q567","v":0},{"$f":"pqidat!R567","v":0},{"$f":"pqidat!S567","v":0},{"$f":"pqidat!T567","v":0},{"$f":"pqidat!U567","v":0}]
[{"$f":"pqidat!A568","v":0},{"$f":"pqidat!B568","v":0},{"$f":"pqidat!C568","v":0},{"$f":"pqidat!D568","v":0},{"$f":"pqidat!E568","v":0},{"$f":"pqidat!F568","v":0},{"$f":"pqidat!G568","v":0},{"$f":"pqidat!H568","v":0},{"$f":"pqidat!I568","v":0},{"$f":"pqidat!J568","v":0},{"$f":"pqidat!K568","v":0},{"$f":"pqidat!L568","v":0},{"$f":"pqidat!M568","v":0},{"$f":"pqidat!N568","v":0},{"$f":"pqidat!O568","v":0},{"$f":"pqidat!P568","v":0},0,{"$f":"pqidat!Q568","v":0},{"$f":"pqidat!R568","v":0},{"$f":"pqidat!S568","v":0},{"$f":"pqidat!T568","v":0},{"$f":"pqidat!U568","v":0}]
[{"$f":"pqidat!A569","v":0},{"$f":"pqidat!B569","v":0},{"$f":"pqidat!C569","v":0},{"$f":"pqidat!D569","v":0},{"$f":"pqidat!E569","v":0},{"$f":"pqidat!F569","v":0},{"$f":"pqidat!G569","v":0},{"$f":"pqidat!H569","v":0},{"$f":"pqidat!I569","v":0},{"$f":"pqidat!J569","v":0},{"$f":"pqidat!K569","v":0},{"$f":"pqidat!L569","v":0},{"$f":"pqidat!M569","v":0},{"$f":"pqidat!N569","v":0},{"$f":"pqidat!O569","v":0},{"$f":"pqidat!P569","v":0},0,{"$f":"pqidat!Q569","v":0},{"$f":"pqidat!R569","v":0},{"$f":"pqidat!S569","v":0},{"$f":"pqidat!T569","v":0},{"$f":"pqidat!U569","v":0}]
[{"$f":"pqidat!A570","v":0},{"$f":"pqidat!B570","v":0},{"$f":"pqidat!C570","v":0},{"$f":"pqidat!D570","v":0},{"$f":"pqidat!E570","v":0},{"$f":"pqidat!F570","v":0},{"$f":"pqidat!G570","v":0},{"$f":"pqidat!H570","v":0},{"$f":"pqidat!I570","v":0},{"$f":"pqidat!J570","v":0},{"$f":"pqidat!K570","v":0},{"$f":"pqidat!L570","v":0},{"$f":"pqidat!M570","v":0},{"$f":"pqidat!N570","v":0},{"$f":"pqidat!O570","v":0},{"$f":"pqidat!P570","v":0},0,{"$f":"pqidat!Q570","v":0},{"$f":"pqidat!R570","v":0},{"$f":"pqidat!S570","v":0},{"$f":"pqidat!T570","v":0},{"$f":"pqidat!U570","v":0}]
[{"$f":"pqidat!A571","v":0},{"$f":"pqidat!B571","v":0},{"$f":"pqidat!C571","v":0},{"$f":"pqidat!D571","v":0},{"$f":"pqidat!E571","v":0},{"$f":"pqidat!F571","v":0},{"$f":"pqidat!G571","v":0},{"$f":"pqidat!H571","v":0},{"$f":"pqidat!I571","v":0},{"$f":"pqidat!J571","v":0},{"$f":"pqidat!K571","v":0},{"$f":"pqidat!L571","v":0},{"$f":"pqidat!M571","v":0},{"$f":"pqidat!N571","v":0},{"$f":"pqidat!O571","v":0},{"$f":"pqidat!P571","v":0},0,{"$f":"pqidat!Q571","v":0},{"$f":"pqidat!R571","v":0},{"$f":"pqidat!S571","v":0},{"$f":"pqidat!T571","v":0},{"$f":"pqidat!U571","v":0}]
[{"$f":"pqidat!A572","v":0},{"$f":"pqidat!B572","v":0},{"$f":"pqidat!C572","v":0},{"$f":"pqidat!D572","v":0},{"$f":"pqidat!E572","v":0},{"$f":"pqidat!F572","v":0},{"$f":"pqidat!G572","v":0},{"$f":"pqidat!H572","v":0},{"$f":"pqidat!I572","v":0},{"$f":"pqidat!J572","v":0},{"$f":"pqidat!K572","v":0},{"$f":"pqidat!L572","v":0},{"$f":"pqidat!M572","v":0},{"$f":"pqidat!N572","v":0},{"$f":"pqidat!O572","v":0},{"$f":"pqidat!P572","v":0},0,{"$f":"pqidat!Q572","v":0},{"$f":"pqidat!R572","v":0},{"$f":"pqidat!S572","v":0},{"$f":"pqidat!T572","v":0},{"$f":"pqidat!U572","v":0}]
[{"$f":"pqidat!A573","v":0},{"$f":"pqidat!B573","v":0},{"$f":"pqidat!C573","v":0},{"$f":"pqidat!D573","v":0},{"$f":"pqidat!E573","v":0},{"$f":"pqidat!F573","v":0},{"$f":"pqidat!G573","v":0},{"$f":"pqidat!H573","v":0},{"$f":"pqidat!I573","v":0},{"$f":"pqidat!J573","v":0},{"$f":"pqidat!K573","v":0},{"$f":"pqidat!L573","v":0},{"$f":"pqidat!M573","v":0},{"$f":"pqidat!N573","v":0},{"$f":"pqidat!O573","v":0},{"$f":"pqidat!P573","v":0},0,{"$f":"pqidat!Q573","v":0},{"$f":"pqidat!R573","v":0},{"$f":"pqidat!S573","v":0},{"$f":"pqidat!T573","v":0},{"$f":"pqidat!U573","v":0}]
[{"$f":"pqidat!A574","v":0},{"$f":"pqidat!B574","v":0},{"$f":"pqidat!C574","v":0},{"$f":"pqidat!D574","v":0},{"$f":"pqidat!E574","v":0},{"$f":"pqidat!F574","v":0},{"$f":"pqidat!G574","v":0},{"$f":"pqidat!H574","v":0},{"$f":"pqidat!I574","v":0},{"$f":"pqidat!J574","v":0},{"$f":"pqidat!K574","v":0},{"$f":"pqidat!L574","v":0},{"$f":"pqidat!M574","v":0},{"$f":"pqidat!N574","v":0},{"$f":"pqidat!O574","v":0},{"$f":"pqidat!P574","v":0},0,{"$f":"pqidat!Q574","v":0},{"$f":"pqidat!R574","v":0},{"$f":"pqidat!S574","v":0},{"$f":"pqidat!T574","v":0},{"$f":"pqidat!U574","v":0}]
[{"$f":"pqidat!A575","v":0},{"$f":"pqidat!B575","v":0},{"$f":"pqidat!C575","v":0},{"$f":"pqidat!D575","v":0},{"$f":"pqidat!E575","v":0},{"$f":"pqidat!F575","v":0},{"$f":"pqidat!G575","v":0},{"$f":"pqidat!H575","v":0},{"$f":"pqidat!I575","v":0},{"$f":"pqidat!J575","v":0},{"$f":"pqidat!K575","v":0},{"$f":"pqidat!L575","v":0},{"$f":"pqidat!M575","v":0},{"$f":"pqidat!N575","v":0},{"$f":"pqidat!O575","v":0},{"$f":"pqidat!P575","v":0},0,{"$f":"pqidat!Q575","v":0},{"$f":"pqidat!R575","v":0},{"$f":"pqidat!S575","v":0},{"$f":"pqidat!T575","v":0},{"$f":"pqidat!U575","v":0}]

{"sheet":"pqidat","index":2,"n_rows":0,"n_cols":0,"rows_kept":0,"cut":false,"hidden":false,"merged":[]}